Workbook

Sheet Components of Increase
A1: TOWN OF STOWE ELECTRIC DEPARTMENT | F1: SED-Seavey-07
A2: COST OF SERVICE STUDY
A3: Components of Increase
A5: TEST YEAR: March 1, 2025 - February 28, 2026
A6: RATE YEAR: March 1, 2026 - February 28, 2027
A7: FILED:
D9: Revenue | E9: Percent | F9: Rate
D10: Requirement | E10: of Cost | F10: Increase
D11: Increase | E11: Increase | F11: Req'd
A13: EXPENSE ITEMS
B14: Change in Net Power Costs | D14: =+'Exh 2 - COS'!E45 -> 1819599 | E14: =+D14/$D$29 -> 0.80849414 | F14: =$D$33*E14 -> 0.11809113
B16: Change in O&M Costs | D16: =+'Exh 2 - COS'!E80+'Exh 2 - COS'!E92+'Exh 2 - COS'!E132 -> 485504.41 | E16: =+D16/$D$29 -> 0.21572197 | F16: =$D$33*E16 -> 0.031509011
B18: Change in Depreciation/Amortization | D18: =+'Exh 2 - COS'!E136 -> 124404.46 | E18: =+D18/$D$29 -> 0.055276068 | F18: =$D$33*E18 -> 0.0080737918
B20: Change in Taxes | D20: =+'Exh 2 - COS'!E141 -> 0 | E20: =+D20/$D$29 -> 0 | F20: =$D$33*E20 -> 0
B22: Change in Interest Expense | D22: =-'Exh 2 - COS'!E175 -> 207562.64 | E22: =+D22/$D$29 -> 0.092225363 | F22: =$D$33*E22 -> 0.013470719
B24: Change in Net Income | D24: =+'Exh 2 - COS'!F194-SUM('Components of Increase'!D14:D22,'Components of Increase'!D27) -> -70047.02 | E24: =+D24/$D$29 -> -0.031123674 | F24: =$D$33*E24 -> -0.0045460191
A26: REVENUE ITEMS
B27: Change in Other Income & Revenue Credits | D27: =-'Exh 2 - COS'!E154-'Exh 2 - COS'!E179 -> -316420.92 | E27: =+D27/$D$29 -> -0.14059387 | F27: =$D$33*E27 -> -0.020535571
E28: -
A29: TOTAL ADDITIONAL REVENUE REQUIREMENT | D29: =SUM(D14:D27) -> 2250602.6 | E29: =SUM(E14:E28) -> 1 | F29: =SUM(F14:F28) -> 0.14606306
A31: BASE REVENUE | D31: =+'Exh 2 - COS'!F192 -> 15408431
A33: PERCENT INCREASE | D33: =D29/D31 -> 0.14606306

Sheet Exh 3 - Summary of Adjustments
A1: TOWN OF STOWE ELECTRIC DEPARTMENT | J1: SED-Seavey-03
A2: COST OF SERVICE STUDY
A3: Summary of Adjustments
A5: TEST YEAR: March 1, 2025 - February 28, 2026
A6: RATE YEAR: March 1, 2026 - February 28, 2027
A7: FILED:
A9: Line No. | B9: Adjustments | C9: Power Supply/Gen | D9: Transm. & Dist. | E9: Cust/Sales | F9: Admin & General | G9: Deprc/Amort | H9: Interest | I9: Revenue Adjustment | J9: Total of Adjustments
A11: 1 | B11: Purchased Power Adj | C11: =+'Exh 2 - COS'!E45 -> 1819599 | J11: =SUM(C11:I11) -> 1819599
A12: 2 | B12: Labor Expense Adj | D12: =+'Exh 2 - COS'!E80 -> 235908.6 | E12: =+'Exh 2 - COS'!E92 -> 95551.69 | F12: =SUM('Exh 2 - COS'!E102:E106) -> 66651.49 | J12: =SUM(C12:I12) -> 398111.78
A13: 3 | B13: Professional Fees | F13: =+'Exh 2 - COS'!E120+'Exh 2 - COS'!E123+'Exh 2 - COS'!E125 -> 87392.63 | J13: =SUM(C13:I13) -> 87392.63
A14: 4 | B14: VELCO Dividends | I14: =-'Exh 2 - COS'!E154 -> -256654.92 | J14: =SUM(C14:I14) -> -256654.92
A15: 5 | B15: Depreciation Expense Adj | G15: =+'Exh 2 - COS'!E136 -> 124404.46 | J15: =SUM(C15:I15) -> 124404.46
A16: 6 | B16: Loss on Sale of Asset | I16: =-'Exh 2 - COS'!E179 -> -59766 | J16: =SUM(C16:I16) -> -59766
A17: 7 | B17: Interest Expense Adj. | H17: =-+'Exh 2 - COS'!E175 -> 207562.64 | J17: =SUM(C17:I17) -> 207562.64
A18: 8 | B18: TIER | I18: =+'Components of Increase'!D24 -> -70047.02 | J18: =SUM(C18:I18) -> -70047.02
B19: Totals | C19: =SUM(C11:C18) -> 1819599 | D19: =SUM(D11:D18) -> 235908.6 | E19: =SUM(E11:E18) -> 95551.69 | F19: =SUM(F11:F18) -> 154044.12 | G19: =SUM(G11:G18) -> 124404.46 | H19: =SUM(H11:H18) -> 207562.64 | I19: =SUM(I11:I18) -> -386467.94 | J19: =SUM(J11:J18) -> 2250602.6

Sheet Exh 2 - COS
A1: 1 | B1: TOWN OF STOWE ELECTRIC DEPARTMENT | G1: SED-Seavey-02
A2: 2 | B2: COST OF SERVICE STUDY
A3: 3 | B3: TEST YEAR: March 1, 2025 - February 28, 2026
A4: 4 | B4: RATE YEAR: March 1, 2026 - February 28, 2027
A5: 5 | B5: FILED:
A6: 6
A7: 7
A8: 8 | B8: ACCOUNT | C8: DESCRIPTION | D8: TEST YEAR | E8: CHANGE | F8: RATE YEAR | G8: Notes
A9: 9 | B9: OPERATING REVENUES
A10: 10
A11: 11 | B11: ELECTRIC SALES TO CUSTOMERS
A12: 12 | B12: 440.1 | C12: RESIDENTIAL - ENERGY | D12: 6752289 | E12: 0 | F12: =+D12+E12 -> 6752289
A13: 13 | B13: 440.11 | C13: NET METERING - BEHIND THE METER | D13: 348477 | E13: 0 | F13: =+D13+E13 -> 348477
A14: 14 | B14: 442.1 | C14: COML - ENERGY | D14: 5832133 | E14: 0 | F14: =+D14+E14 -> 5832133
A15: 15 | B15: 442.11 | C15: COML - DEMAND | D15: 2130163 | E15: 0 | F15: =+D15+E15 -> 2130163
A16: 16 | B16: 442.15 | C16: COML - LARGE ACCOUNTS | D16: =(10996.92*12)+(13988.69+6768.72+11913.83+12630.52+15426.49+16426.31+15240.68+6994.34+6768.72+13988.69+13988.69+12634.94) -> 278733.66 | E16: 0 | F16: =+D16+E16 -> 278733.66
A17: 17 | B17: 444.1 | C17: STREET LIGHTS | D17: 10637 | E17: 0 | F17: =+D17+E17 -> 10637
A18: 18 | B18: 444.2 | C18: CHARGING STATION REVENUE | D18: 35495 | E18: 0 | F18: =+D18+E18 -> 35495
A19: 19 | B19: 451.1 | C19: MISC CUSTOMER FEES | D19: 8268 | E19: 0 | F19: =+D19+E19 -> 8268
A20: 20 | B20: 451.15 | C20: CUSTOMER FINANCE CHARGES | D20: 12235 | E20: 0 | F20: =+D20+E20 -> 12235
A21: 21 | B21: SUBTOTAL ELECTRIC SALES TO CUSTMRS | D21: =SUM(D12:D20) -> 15408431 | E21: =SUM(E12:E20) -> 0 | F21: =SUM(F12:F20) -> 15408431
A22: 22
A23: 23 | B23: SALES OF LABOR & SUPPLIES
A24: 24 | B24: 415.1 | C24: CONTRACT WORK FEES | D24: 771960 | E24: 0 | F24: =+D24+E24 -> 771960
A25: 25 | B25: 415.11 | C25: CONTRACT TREE TRIMMING FEES | D25: 23016 | E25: 0 | F25: =+D25+E25 -> 23016
A26: 26 | B26: SUBTOTAL SALES OF LABOR & SUPPLIES | D26: =+D24+D25 -> 794976 | E26: =+E24+E25 -> 0 | F26: =+F24+F25 -> 794976
A27: 27
A28: 28 | B28: RENTAL INCOME
A29: 29 | B29: 418.15 | C29: RENTAL INCOME - TOWN GARAGE | D29: 29174 | E29: 0 | F29: =+D29+E29 -> 29174
A30: 30 | B30: 454.1 | C30: RENTAL INCOME - POLE ATTACHMNTS | D30: 23704 | E30: 0 | F30: =+D30+E30 -> 23704
A31: 31 | B31: 454.11 | C31: RENTAL INCOME - FIBER LEASING | D31: 4982 | E31: 0 | F31: =+D31+E31 -> 4982
A32: 32 | B32: SUBTOTAL RENTAL INCOME | D32: =SUM(D29:D31) -> 57860 | E32: =SUM(E29:E31) -> 0 | F32: =+D32+E32 -> 57860
A33: 33
A34: 34 | B34: TOTAL OPERATING REVENUES | D34: =+D21+D26+D32 -> 16261267 | E34: =+E21+E26+E32 -> 0 | F34: =+F21+F26+F32 -> 16261267
A35: 35
A36: 36 | B36: OPERATING EXPENSES
A37: 37
A38: 38 | B38: PURCHASED POWER
A39: 39 | B39: 555.1 | C39: PURCHASED POWER - ENERGY | D39: 6720405 | E39: =+F39-D39 -> -1441459 | F39: =7049409-1770463 -> 5278946 | G39: Per ENE (SED-MC-2.pdf)
A40: 40 | B40: 555.2 | C40: PURCHASED POWER - CAPACITY&FIXED | D40: =1147579-63840 -> 1083739 | E40: =+F40-D40 -> 1455655 | F40: =2369818-F42-F43-F44 -> 2539394 | G40: Per ENE (SED-MC-2.pdf)
...
