Workbook
Name \P: #REF!
Name \P: #REF!
Name _EXE2: #REF!
Name _EXE3: #REF!
Name ATTC: #REF!
Name ATTD: #REF!
Name ATTE3: #REF!
Name EXC: #REF!
Name EXC: #REF!
Name EXD: #REF!
Name EXD: #REF!
Name NEWPLANT: #REF!
Name NYPA: #REF!
Name NYPA2: #REF!
Name NYPA3: #REF!
Name NYPA3P: #REF!
Name PAGE1: #REF!
Name REV: #REF!
Name REV: #REF!
Name TIER: #REF!

Sheet JEC-Jurczyk-2
B1: Jacksonville Village Electric Utility | H1: JEC-Jurczyk-2
B2: Rate Case Study
B3: Cost of Service Study
B4: Test Year: | C4: 12 months ending December 31, 2025
B5: Rate Year: | C5: July 5, 2026 - July 4, 2027
B6: Filed: | C6: 46163
D7: 1/1/25 - 12/31/25 | F7: 7/5/26 - 7/4/27
C8: Forecast Year | D8: =F8-1 -> 2023 | F8: 2024
A9: Line No. | B9: FERC Accounts | C9: Description | D9: Test Year | E9: Adjustments | F9: ="Rate Year " -> Rate Year | H9: Support
C11: Operating Expenses:
A12: 1 | B12: 535 - 545 | C12: Power Generation | D12: 0 | E12: ='JEC-Jurczyk-10A'!E10+'JEC-Jurczyk-11A'!E9+'JEC-Jurczyk-12A'!E10 -> 0 | F12: =E12+D12 -> 0
A13: 1 | B13: 555 - 557 | C13: Purchased Power | D13: 820508 | E13: =F13-D13 -> 35546 | F13: 856054 | H13: Prefiled testimony Q6
A14: =A13+1 -> 2 | B14: 560 - 574 | C14: PP Direct / Misc. | D14: -10119 | E14: 0 | F14: =E14+D14 -> -10119
A15: =A13+1 -> 2 | B15: 580 - 598 | C15: Distribution | D15: 271671.64 | E15: ='JEC-Jurczyk-10A'!E12+'JEC-Jurczyk-11A'!E11+'JEC-Jurczyk-12A'!E12 -> -87.95 | F15: =E15+D15 -> 271583.69 | H15: Prefiled testimony Q8, Exhibit 11D
A16: =A15+1 -> 3 | B16: 901 - 919 | C16: Customer and Sales | D16: 18504.04 | E16: ='JEC-Jurczyk-11A'!E12+'JEC-Jurczyk-12A'!E13 -> 0 | F16: =E16+D16 -> 18504.04
A17: =A15+1 -> 3 | B17: 920 - 933 | C17: Admin and General | D17: 383956.37 | E17: ='JEC-Jurczyk-10A'!E14+'JEC-Jurczyk-11A'!E13+'JEC-Jurczyk-12A'!E14+'JEC-Jurczyk-10A'!E13 -> 118010.87 | F17: =E17+D17 -> 501967.24 | H17: Prefiled testimony Q9, Exhibits 10B, 12B-E
A18: =A17+1 -> 4 | C18: Subtotal (O&M) | D18: =SUM(D12:D17) -> 1484521.1 | E18: =SUM(E12:E17) -> 153468.92 | F18: =SUM(F12:F17) -> 1637990
A19: =A18+1 -> 5
A20: =A19+1 -> 6 | B20: 403 | C20: Depreciation | D20: 49226.8 | E20: =F20-D20 -> 0 | F20: =D20 -> 49226.8
A21: =A20+1 -> 7 | B21: 404-407 | C21: Amortization | D21: 0 | E21: 0 | F21: 0
A22: =A21+1 -> 8
A23: =A22+1 -> 9 | B23: 408 | C23: Taxes
A24: =A23+1 -> 10 | C24: Property | D24: 28977.73 | E24: ='JEC-Jurczyk-13A'!F12 -> 0 | F24: =E24+D24 -> 28977.73
A25: =A24+1 -> 11 | C25: Fuel | D25: 7109.28 | E25: =K25*$F$53 -> 1209.7957 | F25: =D25+E25 -> 8319.0757 | H25: Prefiled testimony Q10 | K25: 0.005 | M25: =K25*$F$53 -> 1209.7957 | N25: =M25-E25 -> 0
A26: =A25+1 -> 12 | C26: Childcare | D26: 8705.76 | E26: ='10B'!D37 -> 56.332437 | F26: =E26+D26 -> 8762.0924 | H26: Prefiled testimony Q11, Exhibit 10B
A27: =A26+1 -> 13 | C27: Gross Revenue | D27: 6814.3 | E27: =K27*$F$53 -> 1270.2854 | F27: =E27+D27 -> 8084.5854 | H27: Prefiled testimony Q12 | K27: 0.00525 | M27: =K27*$F$53 -> 1270.2854 | N27: =M27-E27 -> 0
A28: =A27+1 -> 14 | C28: Payroll | D28: 20167.63 | E28: ='10B'!D36 -> 1000.5644 | F28: =E28+D28 -> 21168.194 | H28: Prefiled testimony Q13, Exhibit 10B
A29: =A28+1 -> 15 | C29: Subtotal | D29: =SUM(D24:D28) -> 71774.7 | E29: =SUM(E24:E28) -> 3536.9779 | F29: =SUM(F24:F28) -> 75311.678
A30: =A29+1 -> 16
A31: =A30+1 -> 17 | C31: Total Operating Expenses | D31: =SUM(D29,D20,D18) -> 1605522.6 | E31: =SUM(E29,E20,E18) -> 157005.89 | F31: =SUM(F29,F20,F18) -> 1762528.4
A32: =A31+1 -> 18
A33: =A32+1 -> 19 | C33: Interest Expense
A34: =A33+1 -> 20 | C34: Patronage Capital | D34: 0 | F34: 0
A35: =A34+1 -> 21 | C35: Interest and Other Income | D35: 0 | F35: 0
A36: =A33+1 -> 20 | B36: 431 | C36: Interest On Long Term Debt | D36: 17204.58 | E36: =F36-D36 -> -13330.277 | F36: ='JEC-Jurczyk-4'!$I$16 -> 3874.3031 | H36: Prefiled testimony Q15, Exhibit 4, Exhibit 14
A37: =A36+1 -> 21 | B37: 431 | C37: Short-term Interest | D37: 20499.61 | E37: =F37-D37 -> 0 | F37: =D37 -> 20499.61
A38: =A37+1 -> 22 | B38: 431 | C38: Miscellaneous | D38: 0 | E38: =F38-D38 -> 0 | F38: 0
A39: =A38+1 -> 23 | C39: Net Income/Tier | D39: -204077.81 | E39: =F39-D39 -> 204077.81 | F39: 0 | H39: Prefiled testimony Q16, Exhibit 4
A40: =A39+1 -> 24 | C40: Operating Reserve | D40: 0 | E40: ='JEC-Jurczyk-16'!$E$27*0 -> 0 | F40: =E40+D40 -> 0 | H40: Prefiled testimony Q18, Exhibit 17
A41: =A39+1 -> 24 | C41: Subtotal | D41: =SUM(D36:D40) -> -166373.62 | E41: =SUM(E36:E40) -> 190747.53 | F41: =SUM(F36:F40) -> 24373.913
...

Sheet JEC-Jurczyk-3
B1: ='JEC-Jurczyk-2'!B1 -> Jacksonville Village Electric Utility | J1: JEC-Jurczyk-3
B2: ='JEC-Jurczyk-2'!B2 -> Rate Case Study
B3: Summary of Adjustments
B4: Test Year: | C4: ='JEC-Jurczyk-2'!C4 -> 12 months ending December 31, 2025
B5: Rate Year: | C5: ='JEC-Jurczyk-2'!C5 -> July 5, 2026 - July 4, 2027
B6: Filed: | C6: ='JEC-Jurczyk-2'!C6 -> 46163
A8: Line No. | B8: Adjustments | C8: Power Supply/Gen | D8: Distrib. | E8: Cust/Sales | F8: Admin & General | G8: Taxes | H8: Interest | I8: Revenues | J8: Total of Adjustments
A10: 1 | B10: Purchased Power Adj | C10: ='JEC-Jurczyk-2'!E13 -> 35546 | J10: =SUM(C10:I10) -> 35546
A11: =A10+1 -> 2 | B11: Labor Expense Adj | F11: ='JEC-Jurczyk-10A'!E14+'JEC-Jurczyk-10A'!E13 -> 12802.827 | J11: =SUM(C11:I11) -> 12802.827
A12: =A11+1 -> 3 | B12: Materials, Maintenance, Other Expense Adj | D12: ='JEC-Jurczyk-11A'!E11 -> -87.95 | F12: ='JEC-Jurczyk-11A'!D13 -> 107141.38 | J12: =SUM(C12:I12) -> 107053.43
A13: =A12+1 -> 4 | B13: Insurance/Benefits Adj | F13: ='JEC-Jurczyk-12A'!E14 -> -1933.34 | J13: =SUM(C13:I13) -> -1933.34
A14: =A13+1 -> 5 | B14: Gross Revenue Tax | G14: ='JEC-Jurczyk-2'!E27 -> 1270.2854 | J14: =SUM(C14:I14) -> 1270.2854
A15: =A14+1 -> 6 | B15: Payroll Tax | G15: ='10B'!D36 -> 1000.5644 | J15: =SUM(C15:I15) -> 1000.5644
A16: =A15+1 -> 7 | B16: Fuel Tax | G16: ='JEC-Jurczyk-2'!E25 -> 1209.7957 | J16: =SUM(C16:I16) -> 1209.7957
A17: =A16+1 -> 8 | B17: Childcare Tax | G17: ='10B'!D37 -> 56.332437 | J17: =SUM(C17:I17) -> 56.332437
A18: =A17+1 -> 9 | B18: Interest Expense Adj. | H18: ='JEC-Jurczyk-2'!E36 -> -13330.277 | J18: =SUM(C18:I18) -> -13330.277
A19: =A18+1 -> 10 | B19: Tier | H19: ='JEC-Jurczyk-2'!E39 -> 204077.81 | J19: =SUM(C19:I19) -> 204077.81
A20: =A19+1 -> 11 | B20: Operating Reserve | J20: =SUM(C20:I20) -> 0
A21: 11 | B21: Partial Rate Case Adjustment | I21: ='JEC-Jurczyk-2'!D51-'JEC-Jurczyk-2'!F51 -> -105794.1 | J21: =SUM(C21:I21) -> -105794.1
A22: =A21+1 -> 12 | B22: Totals | C22: =SUM(C10:C21) -> 35546 | D22: =SUM(D10:D21) -> -87.95 | E22: =SUM(E10:E21) -> 0 | F22: =SUM(F10:F21) -> 118010.87 | G22: =SUM(G10:G21) -> 3536.9779 | H22: =SUM(H10:H21) -> 190747.53 | I22: =SUM(I10:I21) -> -105794.1 | J22: =SUM(J10:J21) -> 241959.32
J24: ='JEC-Jurczyk-2'!F53 -> 241959.13
J25: =J22-J24 -> 0.19

Sheet JEC-Jurczyk-4
B1: ='JEC-Jurczyk-2'!B1 -> Jacksonville Village Electric Utility | I1: JEC-Jurczyk-4
B2: ='JEC-Jurczyk-2'!B2 -> Rate Case Study
B3: Debt Service Summary
B4: Test Year: | C4: ='JEC-Jurczyk-2'!C4 -> 12 months ending December 31, 2025
B5: Rate Year: | C5: ='JEC-Jurczyk-2'!C5 -> July 5, 2026 - July 4, 2027
B6: Filed: | C6: ='JEC-Jurczyk-2'!C6 -> 46163
B9: Source of Capital | C9: Outstanding Principal 12/31/2025 | D9: Maturity Date | E9: Rate Year Interest Rate | F9: Rate Year Months Outstanding | G9: Outsanding Principal 6/30/2027 | H9: Rate Year Principal Payment | I9: Rate Year Interest
A10: 1 | B10: Community Bank Bucket Truck | C10: =SUM(C45:C87) -> 60766.062 | D10: 47270 | E10: =D23 -> 0.0855 | F10: 12 | G10: =SUM(C63:C116) -> 36099.457 | H10: =SUM(C51:C62) -> 16792.065 | I10: =SUM(D51:D62) -> 3874.3031
A11: =A10+1 -> 2
A12: =A11+1 -> 3
A13: =A12+1 -> 4
A14: =A13+1 -> 5
A15: =A14+1 -> 6
A16: =A15+1 -> 7 | B16: Total LT Bonds/Notes | C16: =SUM(C10:C13) -> 60766.062 | H16: =SUM(H10:H13) -> 16792.065 | I16: =SUM(I10:I13) -> 3874.3031
S18: Check
S19: =SUM(S31:S87) -> 364566.99
G21: Treated as Expense in Rate Year
C22: Bucket Truck - Community Bank | G22: Jacksonville Member Credit Financing | S22: ELECTRIC TOTAL
D23: 0.0855 | H23: 0.055
C24: Principal | D24: Interest | E24: Total | G24: Principal | H24: Interest | I24: Total | S24: Principal | T24: Interest | U24: Total
B26: 45444 | C26: 1126.5473 | D26: 595.65 | E26: =C26+D26 -> 1722.1973 | S26: =C26+G26+K26+O26 -> 1126.5473 | T26: =D26+H26+L26+P26 -> 595.65 | U26: =S26+T26 -> 1722.1973
B27: 45474 | C27: 1134.574 | D27: 587.62335 | E27: =C27+D27 -> 1722.1973 | S27: =C27+G27+K27+O27 -> 1134.574 | T27: =D27+H27+L27+P27 -> 587.62335 | U27: =S27+T27 -> 1722.1973
B28: 45505 | C28: 1142.6578 | D28: 579.53951 | E28: =C28+D28 -> 1722.1973 | S28: =C28+G28+K28+O28 -> 1142.6578 | T28: =D28+H28+L28+P28 -> 579.53951 | U28: =S28+T28 -> 1722.1973
B29: 45536 | C29: 1150.7993 | D29: 571.39807 | E29: =C29+D29 -> 1722.1973 | S29: =C29+G29+K29+O29 -> 1150.7993 | T29: =D29+H29+L29+P29 -> 571.39807 | U29: =S29+T29 -> 1722.1973
B30: 45566 | C30: 1158.9987 | D30: 563.19863 | E30: =C30+D30 -> 1722.1973 | S30: =C30+G30+K30+O30 -> 1158.9987 | T30: =D30+H30+L30+P30 -> 563.19863 | U30: =S30+T30 -> 1722.1973
B31: 45597 | C31: 1167.2566 | D31: 554.94076 | E31: =C31+D31 -> 1722.1973 | S31: =C31+G31+K31+O31 -> 1167.2566 | T31: =D31+H31+L31+P31 -> 554.94076 | U31: =S31+T31 -> 1722.1973
B32: 45627 | C32: 1175.5733 | D32: 546.62406 | E32: =C32+D32 -> 1722.1973 | S32: =C32+G32+K32+O32 -> 1175.5733 | T32: =D32+H32+L32+P32 -> 546.62406 | U32: =S32+T32 -> 1722.1973
B33: 45658 | C33: 1183.9492 | D33: 538.2481 | E33: =C33+D33 -> 1722.1973 | S33: =C33+G33+K33+O33 -> 1183.9492 | T33: =D33+H33+L33+P33 -> 538.2481 | U33: =S33+T33 -> 1722.1973
B34: 45689 | C34: 1192.3849 | D34: 529.81246 | E34: =C34+D34 -> 1722.1973 | S34: =C34+G34+K34+O34 -> 1192.3849 | T34: =D34+H34+L34+P34 -> 529.81246 | U34: =S34+T34 -> 1722.1973
B35: 45717 | C35: 1200.8806 | D35: 521.31672 | E35: =C35+D35 -> 1722.1973 | S35: =C35+G35+K35+O35 -> 1200.8806 | T35: =D35+H35+L35+P35 -> 521.31672 | U35: =S35+T35 -> 1722.1973
B36: 45748 | C36: 1209.4369 | D36: 512.76045 | E36: =C36+D36 -> 1722.1973 | S36: =C36+G36+K36+O36 -> 1209.4369 | T36: =D36+H36+L36+P36 -> 512.76045 | U36: =S36+T36 -> 1722.1973
B37: 45778 | C37: 1218.0541 | D37: 504.14321 | E37: =C37+D37 -> 1722.1973 | S37: =C37+G37+K37+O37 -> 1218.0541 | T37: =D37+H37+L37+P37 -> 504.14321 | U37: =S37+T37 -> 1722.1973
... B40: 45870 | C40: 1244.276 | D40: 477.92136 | E40: =C40+D40 -> 1722.1973 | S40: =C40+G40+K40+O40 -> 1244.276 | T40: =D40+H40+L40+P40 -> 477.92136 | U40: =S40+T40 -> 1722.1973
B41: 45901 | C41: 1253.1414 | D41: 469.05589 | E41: =C41+D41 -> 1722.1973 | G41: 0 | H41: 2782.49 | I41: 2782.49 | S41: =C41+G41+K41+O41 -> 1253.1414 | T41: =D41+H41+L41+P41 -> 3251.5459 | U41: =S41+T41 -> 4504.6873
B42: 45931 | C42: 1262.0701 | D42: 460.12726 | E42: =C42+D42 -> 1722.1973 | G42: 0 | H42: 2875.24 | I42: 2875.24 | S42: =C42+G42+K42+O42 -> 1262.0701 | T42: =D42+H42+L42+P42 -> 3335.3673 | U42: =S42+T42 -> 4597.4373
B43: 45962 | C43: 1271.0623 | D43: 451.13501 | E43: =C43+D43 -> 1722.1973 | G43: 0 | H43: 2782.49 | I43: 2782.49 | S43: =C43+G43+K43+O43 -> 1271.0623 | T43: =D43+H43+L43+P43 -> 3233.625 | U43: =S43+T43 -> 4504.6873
B44: 45992 | C44: 1280.1186 | D44: 442.07869 | E44: =C44+D44 -> 1722.1973 | G44: 0 | H44: 2875.24 | I44: 2875.24 | S44: =C44+G44+K44+O44 -> 1280.1186 | T44: =D44+H44+L44+P44 -> 3317.3187 | U44: =S44+T44 -> 4597.4373
B45: 46023 | C45: 1289.2395 | D45: 432.95784 | E45: =C45+D45 -> 1722.1973 | G45: 0 | H45: 2875.24 | I45: 11307.02 | S45: =C45+G45+K45+O45 -> 1289.2395 | T45: =D45+H45+L45+P45 -> 3308.1978 | U45: =S45+T45 -> 4597.4373
B46: 46054 | C46: 1298.4253 | D46: 423.77201 | E46: =C46+D46 -> 1722.1973 | G46: 0 | H46: 2596.99 | I46: 10992.7 | S46: =C46+G46+K46+O46 -> 1298.4253 | T46: =D46+H46+L46+P46 -> 3020.762 | U46: =S46+T46 -> 4319.1873
B47: 46082 | C47: 1307.6766 | D47: 414.52073 | E47: =C47+D47 -> 1722.1973 | G47: 0 | H47: 2875.24 | I47: 11227.15 | S47: =C47+G47+K47+O47 -> 1307.6766 | T47: =D47+H47+L47+P47 -> 3289.7607 | U47: =S47+T47 -> 4597.4373
...

Sheet JEC-Jurczyk-5
B1: ='JEC-Jurczyk-2'!B1 -> Jacksonville Village Electric Utility | G1: JEC-Jurczyk-5
B2: ='JEC-Jurczyk-2'!B2 -> Rate Case Study
B3: Reserve Estimate Calculation
B4: Test Year: | C4: ='JEC-Jurczyk-2'!C4 -> 12 months ending December 31, 2025
B5: Rate Year: | C5: ='JEC-Jurczyk-2'!C5 -> July 5, 2026 - July 4, 2027
B6: Filed: | C6: ='JEC-Jurczyk-2'!C6 -> 46163
A8: Line No. | B8: JEC Village Net Revenue per Bond Resolution | D8: Rate Year | E8: Rate Year | F8: Rate Year | G8: Rate Year
D9: Principal | E9: Interest | F9: Debt Service | G9: Required
A10: 1 | B10: ='JEC-Jurczyk-4'!B10 -> Community Bank Bucket Truck | C10: 1 | D10: ='JEC-Jurczyk-4'!H10 -> 16792.065 | E10: ='JEC-Jurczyk-4'!I10 -> 3874.3031 | F10: =E10+D10 -> 20666.368 | G10: =F10*C10 -> 20666.368
A11: =A10+1 -> 2 | B11: ='JEC-Jurczyk-4'!B11 -> 0 | C11: 1 | D11: ='JEC-Jurczyk-4'!H11 -> 0 | E11: ='JEC-Jurczyk-4'!I11 -> 0 | F11: =E11+D11 -> 0 | G11: =F11*C11 -> 0
A12: =A11+1 -> 3 | B12: ='JEC-Jurczyk-4'!B12 -> 0 | C12: 1 | D12: ='JEC-Jurczyk-4'!K31 -> 0 | E12: ='JEC-Jurczyk-4'!L31 -> 0 | F12: =E12+D12 -> 0 | G12: =F12*C12 -> 0
A13: =A12+1 -> 4 | B13: ='JEC-Jurczyk-4'!B13 -> 0 | C13: 1 | D13: ='JEC-Jurczyk-4'!O31 -> 0 | E13: ='JEC-Jurczyk-4'!P31 -> 0 | F13: =E13+D13 -> 0 | G13: =F13*C13 -> 0
A14: =A13+1 -> 5
A15: =A14+1 -> 6 | B15: Required Debt Service Coverage (Net Revenue) | D15: =SUM(D10:D13) -> 16792.065 | E15: =SUM(E10:E13) -> 3874.3031 | F15: =SUM(F10:F13) -> 20666.368 | G15: =SUM(G10:G13) -> 20666.368
A16: =A15+1 -> 7 | B16: LESS
A17: =A16+1 -> 8 | B17: Interest in COS | G17: ='JEC-Jurczyk-2'!F36 -> 3874.3031
A18: =A17+1 -> 9 | B18: Less: Depreciation in COS | G18: ='JEC-Jurczyk-2'!F20 -> 49226.8
A19: =A18+1 -> 10
A20: =A19+1 -> 11 | B20: = Required Net Income | G20: 0
A21: =A20+1 -> 12
A22: =A21+1 -> 13 | B22: EBIT: | G22: =G17+G20 -> 3874.3031
A23: =A22+1 -> 14
A24: =A23+1 -> 15 | B24: Indicated Interest Coverage ratio per bond documents | G24: =G22/G17 -> 1
A25: =A24+1 -> 16
A26: =A25+1 -> 17
A27: =A26+1 -> 18 | B27: EBIT | G27: =G22 -> 3874.3031
A28: =A27+1 -> 19 | B28: TIER Ratio | G28: =G22/G17 -> 1
A29: =A28+1 -> 20
A30: =A29+1 -> 21 | B30: EBITDA | G30: ='JEC-Jurczyk-2'!F39+'JEC-Jurczyk-2'!F36+'JEC-Jurczyk-2'!F20 -> 53101.103
A31: =A30+1 -> 22 | B31: Debt Service | G31: =D15+E15 -> 20666.368
A32: =A31+1 -> 23 | B32: Debt Service Coverage | G32: =G30/G31 -> 2.5694454
A33: =A32+1 -> 24
A34: =A33+1 -> 25
A35: =A34+1 -> 26 | B35: Cash Left for working capital and contingency | G35: =G30-G31+78228 -> 110662.74
A36: =A35+1 -> 27 | B36: 60 days O&M | F36: =('JEC-Jurczyk-2'!F18)/365*60 -> 269258.62
A37: =A36+1 -> 28 | B37: Contingency as % of 60 days O&M | G37: =G35/F36 -> 0.41099049
A38: =A37+1 -> 29 | B38: Number of Days Cash | G38: =G35/(F36/60) -> 24.65943

Sheet JEC-Jurczyk-6
B1: Village of Jacksonville | J1: JEC-Jurczyk-6
B2: Rate Case Study
B3: Comparison of Present and Proposed Tariffs
B4: Test Year: | C4: ='JEC-Jurczyk-2'!C4 -> 12 months ending December 31, 2025
B5: Rate Year: | C5: ='JEC-Jurczyk-2'!C5 -> July 5, 2026 - July 4, 2027
B6: Filed: | C6: ='JEC-Jurczyk-2'!C6 -> 46163
D7: Last Change: 12.479% | E7: 45901
C8: Present | E8: 2025 | F8: Present | G8: Proposed | I8: Proposed | J8: Percent
B9: Description | C9: Rates | D9: Units | E9: Billing Units | F9: Revenues | G9: Rates | H9: Units | I9: Revenues | J9: Increase | K9: (Check)
A10: 1 | B10: Residential Service
A11: =A10+1 -> 2 | B11: Customers (Meters) | C11: 11.2 | D11: Cust/mo | E11: 8120 | F11: =E11*C11 -> 90944 | G11: =C11*(1+J11) -> 13.184751 | H11: Cust/mo | I11: =G11*E11 -> 107060.18 | J11: ='JEC-Jurczyk-2'!F54 -> 0.17720989 | K11: =IFERROR(I11/F11-1,0) -> 0.17720989
A12: =A11+1 -> 3 | B12: First 175 kWh | C12: 0.10871 | D12: kWh | E12: 1187459 | F12: =E12*C12 -> 129088.67 | G12: =C12*(1+J12) -> 0.12797449 | H12: kWh | I12: =G12*E12 -> 151964.46 | J12: =$J$11 -> 0.17720989 | K12: =IFERROR(I12/F12-1,0) -> 0.17720989
A13: =A12+1 -> 4 | B13: Excess | C13: 0.26136 | D13: kWh | E13: 3227818 | F13: =E13*C13 -> 843622.51 | G13: =C13*(1+J13) -> 0.30767558 | H13: kWh | I13: =G13*E13 -> 993120.77 | J13: =$J$11 -> 0.17720989 | K13: =IFERROR(I13/F13-1,0) -> 0.17720989
A14: =A13+1 -> 5 | B14: Other Misc | C14: 0 | I14: =G14*E14 -> 0 | J14: =$J$11 -> 0.17720989 | K14: =IFERROR(I14/F14-1,0) -> 0
A15: =A14+1 -> 6 | B15: Net metering credits ($) | C15: 1 | E15: 0 | F15: =E15 -> 0 | I15: =F15*(1+J15) -> 0 | J15: =$J$11 -> 0.17720989 | K15: =IFERROR(I15/F15-1,0) -> 0
A16: =A15+1 -> 7 | B16: Small Commercial Service
A17: =A16+1 -> 8 | B17: Customers (Meters) | C17: 9.57 | D17: Cust/mo | E17: 623 | F17: =E17*C17 -> 5962.11 | G17: =C17*(1+J17) -> 11.265899 | H17: Cust/mo | I17: =G17*E17 -> 7018.6549 | J17: =$J$11 -> 0.17720989 | K17: =IFERROR(I17/F17-1,0) -> 0.17720989
A18: =A17+1 -> 9 | B18: All Energy | C18: 0.23174 | D18: kWh | E18: 893907 | F18: =E18*C18 -> 207154.01 | G18: =ROUNDDOWN(C18*(1+J18),4) -> 0.2728 | H18: kWh | I18: =G18*E18 -> 243857.83 | J18: =$J$11 -> 0.17720989 | K18: =IFERROR(I18/F18-1,0) -> 0.17718132
A19: =A18+1 -> 10 | B19: Other Misc | C19: 0 | I19: =G19*E19 -> 0 | J19: =$J$11 -> 0.17720989 | K19: =IFERROR(I19/F19-1,0) -> 0
A20: =A19+1 -> 11 | B20: Primary Metering Discount ($) (2.5%) | C20: 1 | F20: =E20 -> 0 | I20: =G20*E20 -> 0 | J20: =$J$11 -> 0.17720989 | K20: =IFERROR(I20/F20-1,0) -> 0
A21: =A20+1 -> 12 | B21: Net metering credits ($) | C21: 1 | E21: 0 | F21: =E21 -> 0 | I21: =F21*(1+J21) -> 0 | J21: =$J$11 -> 0.17720989 | K21: =IFERROR(I21/F21-1,0) -> 0
A22: =A21+1 -> 13 | B22: Jacksonville-Owned Street Lighting on Jacksonville Poles
A23: =A22+1 -> 14 | B23: Customers (Meters) | C23: 0 | D23: # | H23: #
A24: =A23+1 -> 15 | B24: 175 Watt | C24: 16.74 | D24: fixture | E24: 0 | F24: =E24*C24 -> 0 | G24: =C24*(1+J24) -> 19.706494 | H24: fixture | I24: =G24*E24 -> 0 | J24: =$J$11 -> 0.17720989
A25: =A24+1 -> 16 | B25: 250 Watt | C25: 24.69 | D25: fixture | F25: =E25*C25 -> 0 | G25: =C25*(1+J25) -> 29.065312 | H25: fixture | I25: =G25*E25 -> 0 | J25: =$J$11 -> 0.17720989
A26: =A25+1 -> 17 | B26: 400 Watt | C26: 32.05 | D26: fixture | F26: =E26*C26 -> 0 | G26: =C26*(1+J26) -> 37.729577 | H26: fixture | I26: =G26*E26 -> 0 | J26: =$J$11 -> 0.17720989
A27: =A26+1 -> 18 | B27: 20 Watt LED | C27: 4.8703244 | D27: fixture | E27: 941 | F27: =E27*C27 -> 4582.9752 | G27: =C27*(1+J27) -> 5.733394 | H27: fixture | I27: =G27*E27 -> 5395.1238 | J27: =$J$11 -> 0.17720989 | K27: =IFERROR(I27/F27-1,0) -> 0.17720989
A28: =A27+1 -> 19 | B28: 40 Watt LED | C28: 7.9634865 | D28: fixture | F28: =E28*C28 -> 0 | G28: =C28*(1+J28) -> 9.3746951 | H28: fixture | I28: =G28*E28 -> 0 | J28: =$J$11 -> 0.17720989
A29: =A28+1 -> 20 | B29: Customer Owned Street Light on Customer Owned Poles
A30: =A29+1 -> 21 | B30: All Energy | C30: 0.14527739 | D30: fixture | E30: 0 | F30: =E30*C30 -> 0 | G30: =C30*(1+J30) -> 0.17102198 | H30: fixture | I30: =G30*E30 -> 0 | J30: =$J$11 -> 0.17720989
A31: =A30+1 -> 22 | B31: Customer Owned Street Light on Jacksonville Owned Poles | H31: # | I31: =G31*E31 -> 0
A32: =A31+1 -> 23 | B32: All Energy | C32: 0.14527739 | D32: fixture | E32: 0 | F32: =E32*C32 -> 0 | G32: =C32*(1+J32) -> 0.17102198 | H32: fixture | I32: =G32*E32 -> 0 | J32: =$J$11 -> 0.17720989
A33: =A32+1 -> 24 | B33: Industrial Service
A34: =A33+1 -> 25 | B34: Customers (Meters) | C34: 28.850767 | D34: Cust/mo | E34: 48 | F34: =E34*C34 -> 1384.8368 | G34: =C34*(1+J34) -> 33.963408 | H34: Cust/mo | I34: =G34*E34 -> 1630.2436 | J34: =$J$11 -> 0.17720989 | K34: =IFERROR(I34/F34-1,0) -> 0.17720989
A35: =A34+1 -> 26 | B35: All Energy | C35: 0.13849 | D35: kWh | E35: 525300 | F35: =E35*C35 -> 72748.797 | G35: =C35*(1+J35) -> 0.1630318 | H35: kWh | I35: =G35*E35 -> 85640.603 | J35: =$J$11 -> 0.17720989 | K35: =IFERROR(I35/F35-1,0) -> 0.17720989
A36: =A35+1 -> 27 | B36: Billed Demand | C36: 18.930152 | D36: kW | E36: 2674 | F36: =E36*C36 -> 50619.227 | G36: =C36*(1+J36) -> 22.284762 | H36: kW | I36: =G36*E36 -> 59589.455 | J36: =$J$11 -> 0.17720989 | K36: =IFERROR(I36/F36-1,0) -> 0.17720989
A37: =A36+1 -> 28 | B37: Other Misc | C37: 0 | I37: =G37*E37 -> 0 | J37: =$J$11 -> 0.17720989 | K37: =IFERROR(I37/F37-1,0) -> 0
A38: =A37+1 -> 29
A39: =A38+1 -> 30 | B39: Unbilled & Misc | E39: -40725.49 | F39: =E39 -> -40725.49 | I39: =E39*(1+J39) -> -47942.45 | J39: =$J$11 -> 0.17720989
A40: =A39+1 -> 31 | B40: Grand Total
...

Sheet JEC-Jurczyk-7
A3: Notice of proposed Tariff charges - Word Doc

Sheet JEC-Jurczyk-8
A3: Revised Tariff Sheets via Word

Sheet JEC-Jurczyk-9
A3: Redline Tariff Sheets via Word

Sheet JEC-Jurczyk-10A
B1: ='JEC-Jurczyk-2'!B1 -> Jacksonville Village Electric Utility | H1: JEC-Jurczyk-10A
B2: ='JEC-Jurczyk-2'!B2 -> Rate Case Study
B3: Labor Adjustment Summary
B4: Test Year: | C4: ='JEC-Jurczyk-2'!C4 -> 12 months ending December 31, 2025
B5: Rate Year: | C5: ='JEC-Jurczyk-2'!C5 -> July 5, 2026 - July 4, 2027
B6: Filed: | C6: ='JEC-Jurczyk-2'!C6 -> 46163
C8: Test | D8: Rate | E8: Labor
C9: Year | D9: Year | E9: Change | H9: Support
A10: 1 | B10: POWER GENERATION | C10: ='10B'!D11 -> 0 | D10: ='10B'!I11 -> 0 | E10: =D10-C10 -> 0
A11: =A10+1 -> 2 | B11: TRANSMISSION | C11: ='10B'!D12 -> 0 | D11: ='10B'!I12 -> 0 | E11: =D11-C11 -> 0
A12: =A11+1 -> 3 | B12: DISTRIBUTION | C12: ='10B'!D13 -> 79220.48 | D12: ='10B'!I13 -> 79220.48 | E12: =D12-C12 -> 0
A13: =A12+1 -> 4 | B13: CUSTOMER & SALES | C13: 0 | D13: =C13 -> 0 | E13: =D13-C13 -> 0
A14: =A13+1 -> 5 | B14: ADMIN & GENERAL | C14: ='10B'!D15+'10B'!D14 -> 122590.52 | D14: ='10B'!I15+'10B'!I14 -> 135393.35 | E14: =D14-C14 -> 12802.827 | H14: 10B & 10C
A15: =A14+1 -> 6 | B15: Total | E15: =SUM(E10:E14) -> 12802.827

Sheet 10B
B1: ='JEC-Jurczyk-10A'!B1 -> Jacksonville Village Electric Utility | J1: JEC-Jurczyk-10B
B2: ='JEC-Jurczyk-10A'!B2 -> Rate Case Study
B3: Labor Adjustment Support
B4: Test Year: | C4: ='JEC-Jurczyk-10A'!C4 -> 12 months ending December 31, 2025
B5: Rate Year: | C5: ='JEC-Jurczyk-10A'!C5 -> July 5, 2026 - July 4, 2027
B6: Filed: | C6: ='JEC-Jurczyk-10A'!C6 -> 46163
J8: 7/5/2026 - 7/4/2027
D9: 2025 Wage | E9: 2026 wage rate increase | F9: 2026 | G9: 2027 wage rate increase | H9: 2027 | I9: RATE YEAR | J9: RATE YEAR
A10: 1 | D10: Base | E10: 46084 | G10: 46449 | I10: AMOUNT | J10: ADJUSTMENT
A11: =A10+1 -> 2 | B11: GENERATION-HYDRO | E11: 0 | F11: =(1+E11)*D11 -> 0 | G11: 0 | H11: =(1+G11)*F11 -> 0 | I11: =2/12*D11+10/12*F11 -> 0 | J11: =I11-D11 -> 0
A12: =A11+1 -> 3 | B12: TRANSMISSION | E12: 0 | F12: =(1+E12)*D12 -> 0 | G12: 0 | H12: =(1+G12)*F12 -> 0 | I12: =2/12*D12+10/12*F12 -> 0 | J12: =I12-D12 -> 0
A13: =A12+1 -> 4 | B13: DISTRIBUTION | D13: =201811-D14-D15 -> 79220.48 | E13: 0 | F13: =(1+E13)*D13 -> 79220.48 | G13: 0 | H13: =(1+G13)*F13 -> 79220.48 | I13: =F13 -> 79220.48 | J13: =I13-D13 -> 0
A14: =A13+1 -> 5 | B14: A&G - Office | D14: 43409.08 | E14: =1273.42/D14 -> 0.029335337 | F14: =(1+E14)*D14 -> 44682.5 | G14: =1273.42/F14 -> 0.028499301 | H14: =(1+G14)*F14 -> 45955.92 | I14: =F14/12*8+H14/12*4 -> 45106.973 | J14: =I14-D14 -> 1697.8933
A15: =A14+1 -> 6 | B15: A&G - Manager | D15: 79181.44 | E15: =8328.7/D15 -> 0.105185 | F15: =(1+E15)*D15 -> 87510.14 | G15: =8328.7/F15 -> 0.095174114 | H15: =(1+G15)*F15 -> 95838.84 | I15: =F15/12*8+H15/12*4 -> 90286.373 | J15: =I15-D15 -> 11104.933
A16: =A15+1 -> 7 | B16: Subtotal | D16: =SUM(D11:D15) -> 201811 | E16: 0 | F16: =SUM(F11:F15) -> 211413.12 | G16: 0 | H16: =SUM(H11:H15) -> 221015.24 | I16: =SUM(I11:I15) -> 214613.83 | J16: =SUM(J11:J15) -> 12802.827
A17: =A16+1 -> 8
A18: =A17+1 -> 9
A19: =A18+1 -> 10
A20: =A19+1 -> 11
A21: =A20+1 -> 12
A22: =A21+1 -> 13 | B22: Payroll Expense | D22: =SUM(D16:D20) -> 201811 | F22: =SUM(F16:F20) -> 211413.12 | H22: =SUM(H16:H20) -> 221015.24 | I22: =SUM(I16:I20) -> 214613.83 | J22: =SUM(J16:J20) -> 12802.827
A23: =A22+1 -> 14
A24: =A23+1 -> 15
A25: =A24+1 -> 16 | H25: Adjustment Category Summary:
A26: =A25+1 -> 17 | H26: GENERATION-HYDRO | J26: =J11 -> 0
A27: =A26+1 -> 18 | H27: TRANSMISSION | J27: =J12 -> 0
A28: =A27+1 -> 19 | H28: DISTRIBUTION | J28: =J13+J18+J19 -> 0
A29: =A28+1 -> 20 | H29: CUSTOMER ACCT | J29: =J14 -> 1697.8933
A30: =A29+1 -> 21 | H30: A&G | J30: =J15 -> 11104.933
A31: =A30+1 -> 22 | I31: Total | J31: =SUM(J26:J30) -> 12802.827
A32: =A31+1 -> 23
A33: =A32+1 -> 24 | B33: Payroll Tax (Test Year) | D33: =E50/D16 -> 0.078151835
A34: =A33+1 -> 25 | B34: Payroll Tax rate | D34: =SUM(D50:D54)/$D$22 -> 0.078151835
A35: =A34+1 -> 26 | B35: Childcare Tax Rate | D35: 0.0044
A36: =A35+1 -> 27 | B36: Payroll Tax Adj | D36: =D34*J31 -> 1000.5644
A37: =A36+1 -> 28 | B37: Childcare Tax Adj | D37: =D35*$J$31 -> 56.332437
D45: Amount
D46: 11610.53
D47: 12502.64
D48: 2924.08
...

Sheet 10C
A1: ='JEC-Jurczyk-10A'!B1 -> Jacksonville Village Electric Utility | E1: JEC-Jurczyk-10C
A2: ='JEC-Jurczyk-10A'!B2 -> Rate Case Study
A3: Labor Adjustment Support
A4: Test Year: | B4: ='JEC-Jurczyk-10A'!C4 -> 12 months ending December 31, 2025
A5: Rate Year: | B5: ='JEC-Jurczyk-10A'!C5 -> July 5, 2026 - July 4, 2027
A6: Filed: | B6: ='JEC-Jurczyk-10A'!C6 -> 46163

Sheet JEC-Jurczyk-11A
B1: ='JEC-Jurczyk-2'!B1 -> Jacksonville Village Electric Utility | H1: JEC-Jurczyk-11A
B2: ='JEC-Jurczyk-2'!B2 -> Rate Case Study
B3: Materials, Maintenance, Other Adjustment Summary
B4: Test Year: | C4: ='JEC-Jurczyk-2'!C4 -> 12 months ending December 31, 2025
B5: Rate Year: | C5: ='JEC-Jurczyk-2'!C5 -> July 5, 2026 - July 4, 2027
B6: Filed: | C6: ='JEC-Jurczyk-2'!C6 -> 46163
C7: Test | D7: Rate | E7: Materials | H7: Support
C8: Year | D8: Year | E8: Change
A9: 1 | B9: POWER GENERATION | C9: =SUMIF($B$20:$B$24,$B9,$E$20:$E$24) -> 0 | D9: =SUMIF($B$20:$B$24,$B9,$F$20:$F$24) -> 0 | E9: =G20 -> 0
A10: =A9+1 -> 2 | B10: TRANSMISSION | C10: =SUMIF($B$20:$B$24,$B10,$E$20:$E$24) -> 0 | D10: =SUMIF($B$20:$B$24,$B10,$F$20:$F$24) -> 0 | E10: =G21 -> 0
A11: =A10+1 -> 3 | B11: DISTRIBUTION | C11: ='11B'!C15 -> 120087.95 | D11: ='11B'!C13 -> 120000 | E11: =D11-C11 -> -87.95 | H11: Exhibits 11B, 11C, 11D
A12: =A11+1 -> 4 | B12: CUSTOMER & SALES | C12: =SUMIF($B$20:$B$24,$B12,$E$20:$E$24) -> 0 | D12: =SUMIF($B$20:$B$24,$B12,$F$20:$F$24) -> 0 | E12: =G23 -> 0
A13: =A12+1 -> 5 | B13: ADMIN & GENERAL | C13: =SUMIF($B$20:$B$24,$B13,$E$20:$E$24) -> 0 | D13: =SUM('11E'!C15:D26) -> 107141.38 | E13: =D13-C13 -> 107141.38 | H13: Exhibit 11E
A14: =A13+1 -> 6 | B14: Total | E14: =SUM(E9:E13) -> 107053.43
A15: =A14+1 -> 7

Sheet 11B
B1: ='JEC-Jurczyk-2'!B1 -> Jacksonville Village Electric Utility | D1: JEC-Jurczyk-11B
B2: ='JEC-Jurczyk-2'!B2 -> Rate Case Study
B3: Tree Trimming Summary
B4: Test Year: | C4: ='JEC-Jurczyk-2'!C4 -> 12 months ending December 31, 2025
B5: Rate Year: | C5: ='JEC-Jurczyk-2'!C5 -> July 5, 2026 - July 4, 2027
B6: Filed: | C6: ='JEC-Jurczyk-2'!C6 -> 46163
A9: 1 | B9: Tree Trimming Breakdown | C9: Cost | D9: Support
A10: =A9+1 -> 2 | B10: Havreluk Tree | C10: 72000 | D10: Exhibit 11C
A11: =A10+1 -> 3 | B11: Additional Tree Trimming per Vegetation Management Plan | C11: =100000-C10 -> 28000 | D11: Exhibit 11D
A12: =A11+1 -> 4 | B12: Danger Trees per Vegetation Management Plan | C12: 20000 | D12: Exhibit 11D
A13: =A12+1 -> 5 | B13: Total Tree Trimming | C13: =SUM(C10:C12) -> 120000
A14: =A13+1 -> 6
A15: =A14+1 -> 7 | B15: Test Year - Tree Trimming | C15: 120087.95
A16: =A15+1 -> 8
A17: =A16+1 -> 9 | B17: Adjustment | C17: =C13-C15 -> -87.95

Sheet 11C
B1: ='JEC-Jurczyk-2'!B1 -> Jacksonville Village Electric Utility | D1: JEC-Jurczyk-11C
B2: ='JEC-Jurczyk-2'!B2 -> Rate Case Study
B3: Tree Trimming Contract
B4: Test Year: | C4: ='JEC-Jurczyk-2'!C4 -> 12 months ending December 31, 2025
B5: Rate Year: | C5: ='JEC-Jurczyk-2'!C5 -> July 5, 2026 - July 4, 2027
B6: Filed: | C6: ='JEC-Jurczyk-2'!C6 -> 46163
B7: Contract pages 1 & 7 (Pricing and signatures)

Sheet 11D
B1: ='JEC-Jurczyk-2'!B1 -> Jacksonville Village Electric Utility | D1: JEC-Jurczyk-11D
B2: ='JEC-Jurczyk-2'!B2 -> Rate Case Study
B3: Vegetation Management Plan
B4: Test Year: | C4: ='JEC-Jurczyk-2'!C4 -> 12 months ending December 31, 2025
B5: Rate Year: | C5: ='JEC-Jurczyk-2'!C5 -> July 5, 2026 - July 4, 2027
B6: Filed: | C6: ='JEC-Jurczyk-2'!C6 -> 46163

Sheet 11E
B1: ='JEC-Jurczyk-2'!B1 -> Jacksonville Village Electric Utility | E1: JEC-Jurczyk-11E
B2: ='JEC-Jurczyk-2'!B2 -> Rate Case Study
B3: Reclassification of Power Supply Reimbursement
B4: Test Year: | C4: ='JEC-Jurczyk-2'!C4 -> 12 months ending December 31, 2025
B5: Rate Year: | C5: ='JEC-Jurczyk-2'!C5 -> July 5, 2026 - July 4, 2027
B6: Filed: | C6: ='JEC-Jurczyk-2'!C6 -> 46163
C8: =C13 -> Principal | D8: =D13 -> Interest | E8: Rate Year Total
B9: Adjustment | C9: =SUM(C15:C26) -> 75886.02 | D9: =SUM(D15:D26) -> 31255.36 | E9: =SUM(C9:D9) -> 107141.38
A11: 1 | C11: Jacksonville Power Supply Reimbursement (Operating Expense)
A12: =A11+1 -> 2 | D12: 0.055
A13: =A12+1 -> 3 | C13: Principal | D13: Interest | E13: Total
A14: =A13+1 -> 4
A15: =A14+1 -> 5 | B15: 46204 | D15: 2875.24 | E15: =SUM(C15:D15) -> 2875.24
A16: =A15+1 -> 6 | B16: 46235 | D16: 2560.92 | E16: =SUM(C16:D16) -> 2560.92
A17: =A16+1 -> 7 | B17: 46266 | D17: 2795.37 | E17: =SUM(C17:D17) -> 2795.37
A18: =A17+1 -> 8 | B18: 46296 | C18: 8431.78 | D18: 2666.55 | E18: =SUM(C18:D18) -> 11098.33
A19: =A18+1 -> 9 | B19: 46327 | C19: 8431.78 | D19: 2715.51 | E19: =SUM(C19:D19) -> 11147.29
A20: =A19+1 -> 10 | B20: 46357 | C20: 8431.78 | D20: 2589.26 | E20: =SUM(C20:D20) -> 11021.04
A21: =A20+1 -> 11 | B21: 46388 | C21: 8431.78 | D21: 2635.64 | E21: =SUM(C21:D21) -> 11067.42
A22: =A21+1 -> 12 | B22: 46419 | C22: 8431.78 | D22: 2595.7 | E22: =SUM(C22:D22) -> 11027.48
A23: =A22+1 -> 13 | B23: 46447 | C23: 8431.78 | D23: 2473.33 | E23: =SUM(C23:D23) -> 10905.11
A24: =A23+1 -> 14 | B24: 46478 | C24: 8431.78 | D24: 2515.84 | E24: =SUM(C24:D24) -> 10947.62
A25: =A24+1 -> 15 | B25: 46508 | C25: 8431.78 | D25: 2396.03 | E25: =SUM(C25:D25) -> 10827.81
A26: =A25+1 -> 16 | B26: 46539 | C26: 8431.78 | D26: 2435.97 | E26: =SUM(C26:D26) -> 10867.75

Sheet 11F
B1: ='JEC-Jurczyk-2'!B1 -> Jacksonville Village Electric Utility | E1: JEC-Jurczyk-11F
B2: ='JEC-Jurczyk-2'!B2 -> Rate Case Study
B3: Agreement for Advance Funding
B4: Test Year: | C4: ='JEC-Jurczyk-2'!C4 -> 12 months ending December 31, 2025
B5: Rate Year: | C5: ='JEC-Jurczyk-2'!C5 -> July 5, 2026 - July 4, 2027
B6: Filed: | C6: ='JEC-Jurczyk-2'!C6 -> 46163

Sheet JEC-Jurczyk-12A
B1: ='JEC-Jurczyk-2'!B1 -> Jacksonville Village Electric Utility | F1: JEC-Jurczyk-12A
B2: ='JEC-Jurczyk-2'!B2 -> Rate Case Study
B3: Insurance and Benefits Adjustment Summary
B4: Test Year: | C4: ='JEC-Jurczyk-2'!C4 -> 12 months ending December 31, 2025
B5: Rate Year: | C5: ='JEC-Jurczyk-2'!C5 -> July 5, 2026 - July 4, 2027
B6: Filed: | C6: ='JEC-Jurczyk-2'!C6 -> 46163
C8: Test | D8: Rate | E8: Insurance and Benefits | F8: Support
C9: Year | D9: Year | E9: Change
A10: 1 | B10: POWER GENERATION | C10: =SUMIF($B$21:$B$21,$B10,E$21:E$21) -> 0 | D10: 0 | E10: =D10-C10 -> 0
A11: =A10+1 -> 2 | B11: TRANSMISSION | C11: =SUMIF($B$21:$B$21,$B11,E$21:E$21) -> 0 | D11: 0 | E11: =D11-C11 -> 0
A12: =A11+1 -> 3 | B12: DISTRIBUTION | C12: =SUMIF($B$21:$B$21,$B12,E$21:E$21) -> 0 | D12: 0 | E12: =D12-C12 -> 0
A13: =A12+1 -> 4 | B13: CUSTOMER & SALES | C13: =SUMIF($B$21:$B$21,$B13,E$21:E$21) -> 0 | D13: 0 | E13: =D13-C13 -> 0
A14: =A13+1 -> 5 | B14: ADMIN & GENERAL | C14: 41033.06 | D14: =SUM('12B'!D10:D12) -> 39099.72 | E14: =D14-C14 -> -1933.34 | F14: Exhibit 12B
A15: =A14+1 -> 6 | B15: Total | E15: =SUM(E10:E14) -> -1933.34
A16: =A15+1 -> 7

Sheet 12B
B1: ='JEC-Jurczyk-2'!B1 -> Jacksonville Village Electric Utility | F1: JEC-Jurczyk-12B
B2: ='JEC-Jurczyk-2'!B2 -> Rate Case Study
B3: Summary of Providers
B4: Test Year: | C4: ='JEC-Jurczyk-2'!C4 -> 12 months ending December 31, 2025
B5: Rate Year: | C5: ='JEC-Jurczyk-2'!C5 -> July 5, 2026 - July 4, 2027
B6: Filed: | C6: ='JEC-Jurczyk-2'!C6 -> 46163
C9: Monthly | D9: Annual | E9: Adjustment | F9: Support
A10: 1 | B10: MVP | C10: 3017.21 | D10: =C10*12 -> 36206.52 | F10: Exhibit 12C
A11: 2 | B11: DeltaDental | C11: 207.3 | D11: =C11*12 -> 2487.6 | F11: Exhibit 12D
A12: 3 | B12: DeltaVision | C12: 33.8 | D12: =C12*12 -> 405.6 | F12: Exhibit 12E
A13: 4 | B13: Total Rate Year Benefits | D13: =SUM(D10:D12) -> 39099.72 | E13: =D13-D14 -> -1933.34
A14: 5 | B14: Total Test Year Benefits (926.1) | D14: 41033.06

Sheet 12C
B1: ='JEC-Jurczyk-2'!B1 -> Jacksonville Village Electric Utility | D1: JEC-Jurczyk-12C
B2: ='JEC-Jurczyk-2'!B2 -> Rate Case Study
B3: MVP Health Care
B4: Test Year: | C4: ='JEC-Jurczyk-2'!C4 -> 12 months ending December 31, 2025
B5: Rate Year: | C5: ='JEC-Jurczyk-2'!C5 -> July 5, 2026 - July 4, 2027
B6: Filed: | C6: ='JEC-Jurczyk-2'!C6 -> 46163

Sheet 12D
B1: ='JEC-Jurczyk-2'!B1 -> Jacksonville Village Electric Utility | D1: JEC-Jurczyk-12D
B2: ='JEC-Jurczyk-2'!B2 -> Rate Case Study
B3: Delta Dental
B4: Test Year: | C4: ='JEC-Jurczyk-2'!C4 -> 12 months ending December 31, 2025
B5: Rate Year: | C5: ='JEC-Jurczyk-2'!C5 -> July 5, 2026 - July 4, 2027
B6: Filed: | C6: ='JEC-Jurczyk-2'!C6 -> 46163

Sheet 12E
B1: ='JEC-Jurczyk-2'!B1 -> Jacksonville Village Electric Utility | D1: JEC-Jurczyk-12E
B2: ='JEC-Jurczyk-2'!B2 -> Rate Case Study
B3: DeltaVision
B4: Test Year: | C4: ='JEC-Jurczyk-2'!C4 -> 12 months ending December 31, 2025
B5: Rate Year: | C5: ='JEC-Jurczyk-2'!C5 -> July 5, 2026 - July 4, 2027
B6: Filed: | C6: ='JEC-Jurczyk-2'!C6 -> 46163

Sheet JEC-Jurczyk-13A
B1: ='JEC-Jurczyk-2'!B1 -> Jacksonville Village Electric Utility | F1: JEC-Jurczyk-13A
B2: ='JEC-Jurczyk-2'!B2 -> Rate Case Study
B3: Property Tax Adjustment Summary
B4: Test Year: | C4: ='JEC-Jurczyk-2'!C4 -> 12 months ending December 31, 2025
B5: Rate Year: | C5: ='JEC-Jurczyk-2'!C5 -> July 5, 2026 - July 4, 2027
B6: Filed: | C6: ='JEC-Jurczyk-2'!C6 -> 46163
C9: Tax year | D9: Test Year | E9: Rate Year | F9: Adjustment
A10: 1 | B10: Town of Whitingham | C10: 2025 | D10: 28977.73 | E10: =D10 -> 28977.73 | F10: =E10-D10 -> 0
A11: 2 | F11: =E11-D11 -> 0
A12: 3 | B12: Total | D12: =SUM(D10:D11) -> 28977.73 | E12: =SUM(E10:E11) -> 28977.73 | F12: =E12-D12 -> 0

Sheet 13B
B1: ='JEC-Jurczyk-2'!B1 -> Jacksonville Village Electric Utility | E1: JEC-Jurczyk-13B
B2: ='JEC-Jurczyk-2'!B2 -> Rate Case Study
B3: Property Tax Adjustment Summary
B4: Test Year: | C4: ='JEC-Jurczyk-2'!C4 -> 12 months ending December 31, 2025
B5: Rate Year: | C5: ='JEC-Jurczyk-2'!C5 -> July 5, 2026 - July 4, 2027
B6: Filed: | C6: ='JEC-Jurczyk-2'!C6 -> 46163

Sheet JEC-Jurczyk-14
B1: ='JEC-Jurczyk-2'!B1 -> Jacksonville Village Electric Utility | Q1: JEC-Jurczyk-14
B2: ='JEC-Jurczyk-2'!B2 -> Rate Case Study
B3: Debt Service
B4: Test Year: | C4: ='JEC-Jurczyk-2'!C4 -> 12 months ending December 31, 2025
B5: Rate Year: | C5: ='JEC-Jurczyk-2'!C5 -> July 5, 2026 - July 4, 2027
B6: Filed: | C6: ='JEC-Jurczyk-2'!C6 -> 46163
B9: Source of Capital | C9: Outstanding Principal 12/31/2022 | D9: Maturity Date | E9: Rate Year Interest Rate | F9: Rate Year Months Outstanding
A10: 1 | B10: =C22 -> Bucket Truck - Community Bank | C10: =#REF! -> #REF! | D10: =B44 -> 46023 | E10: =D23 -> 0.0855 | F10: 12
A11: =A10+1 -> 2 | B11: =G22 -> 0 | C11: =#REF! -> #REF! | D11: =B33 -> 45689 | E11: =H23 -> 0 | F11: 12
A12: =A11+1 -> 3 | B12: =K22 -> 0 | C12: =#REF! -> #REF! | D12: =B35 -> 45748 | E12: =L30/SUM(K30:K35) -> #DIV/0! | F12: 12
A13: =A12+1 -> 4 | B13: =O22 -> Jacksonville Member Credit Financing (Reclassified acct 923) | C13: =#REF! -> #REF! | D13: =B48 -> 46143 | E13: =P30/SUM(O30:O48) -> #DIV/0! | F13: 12
A14: =A13+1 -> 5
A15: =A14+1 -> 6
A16: =A15+1 -> 7 | B16: Total LT Bonds/Notes | C16: =SUM(C10:C13) -> #REF!
S18: Check
S19: =SUM(S30:S64) -> 147394.73
A22: 1 | C22: Bucket Truck - Community Bank | O22: Jacksonville Member Credit Financing (Reclassified acct 923) | S22: ELECTRIC TOTAL
A23: =A22+1 -> 2 | D23: 0.0855 | P23: 0.055
A24: =A23+1 -> 3 | C24: Principal | D24: Interest | E24: Total | O24: Principal | P24: Interest | Q24: Total | S24: Principal | T24: Interest | U24: Total
A25: =A24+1 -> 4 | B25: 45444 | C25: 1126.5473 | D25: 595.65 | E25: =C25+D25 -> 1722.1973 | S25: =C25+G25+K25+O25 -> 1126.5473 | T25: =D25+H25+L25+P25 -> 595.65 | U25: =S25+T25 -> 1722.1973
A26: =A25+1 -> 5 | B26: 45474 | C26: 1134.574 | D26: 587.62335 | E26: =C26+D26 -> 1722.1973 | S26: =C26+G26+K26+O26 -> 1134.574 | T26: =D26+H26+L26+P26 -> 587.62335 | U26: =S26+T26 -> 1722.1973
A27: =A26+1 -> 6 | B27: 45505 | C27: 1142.6578 | D27: 579.53951 | E27: =C27+D27 -> 1722.1973 | S27: =C27+G27+K27+O27 -> 1142.6578 | T27: =D27+H27+L27+P27 -> 579.53951 | U27: =S27+T27 -> 1722.1973
A28: =A27+1 -> 7 | B28: 45536 | C28: 1150.7993 | D28: 571.39807 | E28: =C28+D28 -> 1722.1973 | S28: =C28+G28+K28+O28 -> 1150.7993 | T28: =D28+H28+L28+P28 -> 571.39807 | U28: =S28+T28 -> 1722.1973
A29: =A28+1 -> 8 | B29: 45566 | C29: 1158.9987 | D29: 563.19863 | E29: =C29+D29 -> 1722.1973 | S29: =C29+G29+K29+O29 -> 1158.9987 | T29: =D29+H29+L29+P29 -> 563.19863 | U29: =S29+T29 -> 1722.1973
A30: =A29+1 -> 9 | B30: 45597 | C30: 1167.2566 | D30: 554.94076 | E30: =C30+D30 -> 1722.1973 | S30: =C30+G30+K30+O30 -> 1167.2566 | T30: =D30+H30+L30+P30 -> 554.94076 | U30: =S30+T30 -> 1722.1973
A31: =A30+1 -> 10 | B31: 45627 | C31: 1175.5733 | D31: 546.62406 | E31: =C31+D31 -> 1722.1973 | S31: =C31+G31+K31+O31 -> 1175.5733 | T31: =D31+H31+L31+P31 -> 546.62406 | U31: =S31+T31 -> 1722.1973
A32: =A31+1 -> 11 | B32: 45658 | C32: 1183.9492 | D32: 538.2481 | E32: =C32+D32 -> 1722.1973 | S32: =C32+G32+K32+O32 -> 1183.9492 | T32: =D32+H32+L32+P32 -> 538.2481 | U32: =S32+T32 -> 1722.1973
A33: =A32+1 -> 12 | B33: 45689 | C33: 1192.3849 | D33: 529.81246 | E33: =C33+D33 -> 1722.1973 | S33: =C33+G33+K33+O33 -> 1192.3849 | T33: =D33+H33+L33+P33 -> 529.81246 | U33: =S33+T33 -> 1722.1973
A34: =A33+1 -> 13 | B34: 45717 | C34: 1200.8806 | D34: 521.31672 | E34: =C34+D34 -> 1722.1973 | S34: =C34+G34+K34+O34 -> 1200.8806 | T34: =D34+H34+L34+P34 -> 521.31672 | U34: =S34+T34 -> 1722.1973
A35: =A34+1 -> 14 | B35: 45748 | C35: 1209.4369 | D35: 512.76045 | E35: =C35+D35 -> 1722.1973 | S35: =C35+G35+K35+O35 -> 1209.4369 | T35: =D35+H35+L35+P35 -> 512.76045 | U35: =S35+T35 -> 1722.1973
A36: =A35+1 -> 15 | B36: 45778 | C36: 1218.0541 | D36: 504.14321 | E36: =C36+D36 -> 1722.1973 | S36: =C36+G36+K36+O36 -> 1218.0541 | T36: =D36+H36+L36+P36 -> 504.14321 | U36: =S36+T36 -> 1722.1973
... A39: =A38+1 -> 18 | B39: 45870 | C39: 1244.276 | D39: 477.92136 | E39: =C39+D39 -> 1722.1973 | S39: =C39+G39+K39+O39 -> 1244.276 | T39: =D39+H39+L39+P39 -> 477.92136 | U39: =S39+T39 -> 1722.1973
A40: =A39+1 -> 19 | B40: 45901 | C40: 1253.1414 | D40: 469.05589 | E40: =C40+D40 -> 1722.1973 | O40: 0 | P40: 2782.49 | Q40: 2782.49 | S40: =C40+G40+K40+O40 -> 1253.1414 | T40: =D40+H40+L40+P40 -> 3251.5459 | U40: =S40+T40 -> 4504.6873
A41: =A40+1 -> 20 | B41: 45931 | C41: 1262.0701 | D41: 460.12726 | E41: =C41+D41 -> 1722.1973 | O41: 0 | P41: 2875.24 | Q41: 2875.24 | S41: =C41+G41+K41+O41 -> 1262.0701 | T41: =D41+H41+L41+P41 -> 3335.3673 | U41: =S41+T41 -> 4597.4373
A42: =A41+1 -> 21 | B42: 45962 | C42: 1271.0623 | D42: 451.13501 | E42: =C42+D42 -> 1722.1973 | O42: 0 | P42: 2782.49 | Q42: 2782.49 | S42: =C42+G42+K42+O42 -> 1271.0623 | T42: =D42+H42+L42+P42 -> 3233.625 | U42: =S42+T42 -> 4504.6873
A43: =A42+1 -> 22 | B43: 45992 | C43: 1280.1186 | D43: 442.07869 | E43: =C43+D43 -> 1722.1973 | O43: 0 | P43: 2875.24 | Q43: 2875.24 | S43: =C43+G43+K43+O43 -> 1280.1186 | T43: =D43+H43+L43+P43 -> 3317.3187 | U43: =S43+T43 -> 4597.4373
A44: =A43+1 -> 23 | B44: 46023 | C44: 1289.2395 | D44: 432.95784 | E44: =C44+D44 -> 1722.1973 | O44: 0 | P44: 2875.24 | Q44: 11307.02 | S44: =C44+G44+K44+O44 -> 1289.2395 | T44: =D44+H44+L44+P44 -> 3308.1978 | U44: =S44+T44 -> 4597.4373
A45: =A44+1 -> 24 | B45: 46054 | C45: 1298.4253 | D45: 423.77201 | E45: =C45+D45 -> 1722.1973 | O45: 0 | P45: 2596.9907 | Q45: 10992.7 | S45: =C45+G45+K45+O45 -> 1298.4253 | T45: =D45+H45+L45+P45 -> 3020.7627 | U45: =S45+T45 -> 4319.188
A46: =A45+1 -> 25 | B46: 46082 | C46: 1307.6766 | D46: 414.52073 | E46: =C46+D46 -> 1722.1973 | O46: 0 | P46: 2875.24 | Q46: 11227.15 | S46: =C46+G46+K46+O46 -> 1307.6766 | T46: =D46+H46+L46+P46 -> 3289.7607 | U46: =S46+T46 -> 4597.4373
A47: =A46+1 -> 26 | B47: 46113 | C47: 1316.9938 | D47: 405.20354 | E47: =C47+D47 -> 1722.1973 | O47: 0 | P47: 2782.49 | Q47: 11098.33 | S47: =C47+G47+K47+O47 -> 1316.9938 | T47: =D47+H47+L47+P47 -> 3187.6935 | U47: =S47+T47 -> 4504.6873
...

Sheet JEC-Jurczyk-15
A1: ='JEC-Jurczyk-2'!B1 -> Jacksonville Village Electric Utility | E1: JEC-Jurczyk-15
A2: ='JEC-Jurczyk-2'!B2 -> Rate Case Study
A3: Electric Fund Captial Projects
A4: Test Year: | B4: ='JEC-Jurczyk-2'!C4 -> 12 months ending December 31, 2025
A5: Rate Year: | B5: ='JEC-Jurczyk-2'!C5 -> July 5, 2026 - July 4, 2027
A6: Filed: | B6: ='JEC-Jurczyk-2'!C6 -> 46163

Sheet JEC-Jurczyk-16
A1: ='JEC-Jurczyk-2'!B1 -> Jacksonville Village Electric Utility | F1: JEC-Jurczyk-16
A2: ='JEC-Jurczyk-2'!B2 -> Rate Case Study
A3: Operating Reserve Adjustment
A4: Test Year: | B4: ='JEC-Jurczyk-2'!C4 -> 12 months ending December 31, 2025
A5: Rate Year: | B5: ='JEC-Jurczyk-2'!C5 -> July 5, 2026 - July 4, 2027
A6: Filed: | B6: ='JEC-Jurczyk-2'!C6 -> 46163
A9: 1 | B9: Operating Reserve adjustment | E9: Rate Year | F9: Formulas | H9: Scenarios
A10: =A9+1 -> 2
A11: =A10+1 -> 3 | B11: Days of O&M Target Reserve | C11: 30 | D11: ---> | E11: =('JEC-Jurczyk-2'!D18)/365*C11 -> 122015.43 | F11: a | H11: 120 | I11: 60 | J11: 30
A12: =A11+1 -> 4
A13: =A12+1 -> 5 | B13: Beginning cash/reserve | D13: 59513 | F13: b
A14: =A13+1 -> 6 | B14: Depreciation & Amortization | C14: ='JEC-Jurczyk-2'!D20 -> 49226.8 | F14: c
A15: =A14+1 -> 7 | B15: Net Income ( standard TIER 2.0x) | C15: ='JEC-Jurczyk-2'!F39 -> 0 | F15: d
A16: =A15+1 -> 8 | B16: Incremental external financing | C16: 0
A17: =A16+1 -> 9 | B17: Subtotal sources | D17: =SUM(C14:C16) -> 49226.8 | F17: c + d = e
A18: =A17+1 -> 10
A19: =A18+1 -> 11 | B19: Bond Amortization | C19: ='JEC-Jurczyk-4'!H16 -> 16792.065 | F19: f
A20: =A19+1 -> 12 | B20: Cap Ex | C20: 114083 | F20: g
A21: =A20+1 -> 13 | B21: Subtotal Uses | D21: =SUM(C19:C20) -> 130875.06 | F21: f + g = h
A22: =A21+1 -> 14
A23: =A22+1 -> 15 | B23: Current Reserve Balance | E23: =D13+D17-D21 -> -22135.265 | F23: b + e - h = i
A24: =A23+1 -> 16
A25: =A24+1 -> 17 | B25: Reserve Target Shortfall | E25: =E11-E23 -> 144150.69 | F25: a - I = j
A26: =A25+1 -> 18
A27: =A26+1 -> 19 | B27: Reserve Adjustment | C27: 0.1 | E27: =E25*C27 -> 14415.069 | F27: 10% * j | H27: 0.05 | I27: 0.1 | J27: 0.2
B29: Total Cash Reserve | E29: =SUM(E27,D13) -> 73928.069
B30: Days Cash on Hand (Rate Year) | E30: =ROUND(E29/(('JEC-Jurczyk-2'!D18)/365),0) -> 18
B31: COS Percent Adjustment | E31: ='JEC-Jurczyk-2'!F54 -> 0.17720989

Sheet END

Sheet Historic
A1: JEC Account | B1: Description | C1: 2019 | D1: 2020 | E1: 2021 | F1: 2022 | G1: 2023 | H1: 2024 | I1: Test Year - 2025
B3: Expenses
A4: 545 | B4: Purchased Power | C4: 568137.94 | D4: 558685.18 | E4: 587504.72 | F4: 679141.39 | G4: 614692.25 | H4: 692647.6 | I4: 810389.19
A5: 546 | B5: Project 10 Expense (546) | C5: 0 | D5: 0 | E5: 0 | F5: 0 | G5: 79595 | H5: 0 | I5: 0
A6: 562 | B6: Line & Station Supplies/Exp | C6: 5093.69 | D6: 3128.83 | E6: 28397.69 | F6: 8724.92 | G6: 9533.78 | H6: -9730.65 | I6: 50553.86
A7: 566 | B7: Meter Expense | C7: 630 | D7: 560 | E7: 0 | F7: 1065 | G7: 225 | H7: 280 | I7: 170
A8: 567 | B8: Line Extension Labor | C8: 0 | D8: 3860.62 | E8: 0 | F8: 0 | G8: 0 | H8: 5361.01 | I8: 1749.21
A9: 571 | B9: Maint. of Structures & Equip | C9: 0 | D9: 0 | E9: 0 | F9: 7941.36 | G9: 2872.81 | H9: 0 | I9: 11343.99
A10: 572 | B10: Maint. of Lines | C10: 155701.55 | D10: 109376.46 | E10: 163685.04 | F10: 131348.58 | G10: 122493.35 | H10: 123790.7 | I10: 196953.34
A11: 622 | B11: Utilities | C11: 4636.98 | D11: 4000.79 | E11: 36258.5 | F11: 5424.1 | G11: 4340.58 | H11: 4970.17 | I11: 7009.34
A12: 652 | B12: Telephone & Internet Expense | C12: 909.36 | D12: 960.63 | E12: 1104.13 | F12: 1249.51 | G12: 1568.74 | H12: 2226.19 | I12: 3061.75
A13: 901 | B13: Meter Reading Labor | C13: 8172 | D13: 7970 | E13: 8215.5 | F13: 10200.75 | G13: 8739.5 | H13: 10293.75 | I13: 10135.33
A14: 902 | B14: Accounting/Collecting Labor | C14: 29068 | D14: 32476.35 | E14: 47453.96 | F14: 48850.15 | G14: 45044.32 | H14: 34370.91 | I14: 8324.72
A15: 903 | B15: Supplies and Expenses | C15: 0 | D15: 0 | E15: 0 | F15: 0 | G15: 3546.76 | H15: 281 | I15: 43.99
... A28: 935 | B28: Maint. of General Plant | C28: 3643.24 | D28: 2896 | E28: 3661.71 | F28: 1871 | G28: 1813.58 | H28: 10896.64 | I28: 4766.77
B29: Total Expense | C29: 947771.67 | D29: 905838.62 | E29: 1046260.1 | F29: 1086853 | G29: 1150249.2 | H29: 1270902 | I29: 1605522.7
B30: REVENUES
A31: 419 | B31: Interest & Dividend Income | C31: -25678.47 | D31: -26974.15 | E31: -27334.64 | F31: -10610.1 | G31: -31036.69 | H31: -34554.9 | I31: -8596.69
A32: 420 | B32: Interest Income - Other | C32: -184.74 | D32: -62.8 | E32: -33.26 | F32: -18.85 | G32: -39.38 | H32: -930.26 | I32: -2605.47
A33: 421 | B33: Misc Non-Operating Income | C33: 0 | D33: 0 | E33: -300 | F33: 140 | G33: 0 | H33: -254.89 | I33: 0
A34: 440-451 | B34: Electric Sales | C34: -838916.27 | D34: -858876.93 | E34: -904478.82 | F34: -978461.88 | G34: -946745.87 | H34: -972046.78 | I34: -1259784.5
A35: 458 | B35: Line Extension & Rents | C35: -12995.84 | D35: -13104.32 | E35: -14403.45 | F35: -1367.5 | G35: -37289.04 | H35: -39144.08 | I35: -106942.95
A36: 459 | B36: Misc Income, Transco/Velco | C36: -35045.36 | D36: -50379.31 | E36: -68326.65 | F36: -52989.81 | G36: -41348.99 | H36: -29901.43 | I36: -61416.47
A37: 427-431 | B37: Interest Expense | C37: 0 | D37: 0 | E37: 0 | F37: 0 | G37: 22061.85 | H37: 27838.37 | I37: 37901.19
B38: Total Revenue | C38: -912820.68 | D38: -949397.51 | E38: -1014876.8 | F38: -1043308.1 | G38: -1034398.1 | H38: -1048994 | I38: -1401444.9
B39: Net Income (Loss) | C39: =-C38-C29 -> -34950.99 | D39: =-D38-D29 -> 43558.89 | E39: =-E38-E29 -> -31383.29 | F39: =-F38-F29 -> -43544.82 | G39: =-G38-G29 -> -115851.09 | H39: =-H38-H29 -> -221908.01 | I39: =-I38-I29 -> -204077.81
