Workbook
Name BatterySizekWh: [1]RTE2!$N$3

Sheet Res Package
E1: Unit | F1: notes
C2: Rate Escalation | D2: 0.02
C3: Rate 1 2024 | D3: 0.18989 | E3: per kWh
C4: Rate 74 | D4: 0.15212 | E4: per kWh
C5: Customer Charge | D5: 0.554 | E5: per Day
C6: Annual Consumption | D6: =1200*12 -> 14400 | E6: kWh | F6: All Electric Home Consumption (No EV) | I6: =D6/12 -> 1200
C7: Annual EV Consumption | D7: 3000 | E7: kWh
C8: Typical Residential Average | D8: =550*12 -> 6600 | E8: kWh | F8: Average residential monthly consumption
C9: Additional EV Consumption | D9: 3000 | E9: kWh | F9: Annual EV consumption - use if wanting to add a 2nd EV to the home
C10: Customers with EV | D10: =5/23 -> 0.2173913
C11: Power Supply Margin | D11: 0.07 | F11: Estimated marginal cost of Rate 01 above the variable Power Supply Components
C12: 3PW System cost | D12: 65 | F12: Monthly Lease for 3 Powerwall System
C13: 2PW System cost | D13: 55 | F13: Monthly Lease for 2 Powerwall System
C14: Solar Fee Addition | D14: 20 | F14: Solar Component Monthly Fee
C15: NPV Of 3 PW System | D15: 3000 | F15: NPV of just the Battery System over life at the Fee listed
C16: Solar Annual Output Yr 1 | D16: 8060 | E16: kWh | F16: Based on 8kW Rooftop System with 14% Capacity Factor
C17: Degradation Factor | D17: 0.005 | F17: Annual Degradation of Solar
C19: Levelized Solar Value | D19: 0.12 | E19: /kWh | F19: Current GMP forecast for levelized avoided value of Solar including REC
C20: Levelized Solar Cost | D20: 0.17 | E20: /kWh | F20: Based on GMP Ownership Model including PTC
C22: Levelized Cost of Net Metering | D22: 0.2 | E22: /kWh | F22: Based on 2023 net Metering rates going out 25 years
C24: Monthly Flexible Load Credit | D24: 0 | F24: This is the credit provided for flexible loads in the home, mostly the EV.
C26: Customer Marginal Contribution | D26: =((D6-D8)*D11)*25*12 -> 163800 | F26: Amount that an all electric home contributes above and beyond the average home to our marginal costs (above power supply costs) over 25 years
D29: Year | F29: 2024 | G29: 2025 | H29: 2026 | I29: 2027 | J29: 2028 | K29: 2029 | L29: 2030 | M29: 2031 | N29: 2032 | O29: 2033 | P29: 2034 | Q29: 2035 | R29: 2036 | S29: 2037 | T29: 2038 | U29: 2039 | V29: 2040 | W29: 2041 | X29: 2042 | Y29: 2043 | Z29: 2044 | AA29: 2045 | AB29: 2046 | AC29: 2047 | AD29: 2048 | AE29: 2049
D31: Rate 1 | F31: =D3 -> 0.18989 | G31: =F31*(1+$D$2) -> 0.1936878 | H31: =G31*(1+$D$2) -> 0.19756156 | I31: =H31*(1+$D$2) -> 0.20151279 | J31: =I31*(1+$D$2) -> 0.20554304 | K31: =J31*(1+$D$2) -> 0.2096539 | L31: =K31*(1+$D$2) -> 0.21384698 | M31: =L31*(1+$D$2) -> 0.21812392 | N31: =M31*(1+$D$2) -> 0.2224864 | ... AE31: =AD31*(1+$D$2) -> 0.31153467
D32: Rate 72 | F32: =D4 -> 0.15212 | G32: =F32*(1+$D$2) -> 0.1551624 | H32: =G32*(1+$D$2) -> 0.15826565 | I32: =H32*(1+$D$2) -> 0.16143096 | J32: =I32*(1+$D$2) -> 0.16465958 | K32: =J32*(1+$D$2) -> 0.16795277 | L32: =K32*(1+$D$2) -> 0.17131183 | M32: =L32*(1+$D$2) -> 0.17473806 | N32: =M32*(1+$D$2) -> 0.17823283 | ... AE32: =AD32*(1+$D$2) -> 0.24956898
D33: Annual Cust Charge | F33: =D5*365 -> 202.21 | G33: =F33*(1+$D$2) -> 206.2542 | H33: =G33*(1+$D$2) -> 210.37928 | I33: =H33*(1+$D$2) -> 214.58687 | J33: =I33*(1+$D$2) -> 218.87861 | K33: =J33*(1+$D$2) -> 223.25618 | L33: =K33*(1+$D$2) -> 227.7213 | M33: =L33*(1+$D$2) -> 232.27573 | N33: =M33*(1+$D$2) -> 236.92124 | ... AE33: =AD33*(1+$D$2) -> 331.74694
D34: Annual Cust Usage | F34: =D6 -> 14400 | G34: =F34 -> 14400 | H34: =G34 -> 14400 | I34: =H34 -> 14400 | J34: =I34 -> 14400 | K34: =J34 -> 14400 | L34: =K34 -> 14400 | M34: =L34 -> 14400 | N34: =M34 -> 14400 | ... AE34: =AD34 -> 14400
D35: Annual Cust EV Usage | F35: =D7 -> 3000 | G35: =F35 -> 3000 | H35: =G35 -> 3000 | I35: =H35 -> 3000 | J35: =I35 -> 3000 | K35: =J35 -> 3000 | L35: =K35 -> 3000 | M35: =L35 -> 3000 | N35: =M35 -> 3000 | ... AE35: =AD35 -> 3000
D36: Solar Production | F36: =D16 -> 8060 | G36: =F36-(F36*$D$17) -> 8019.7 | H36: =G36-(G36*$D$17) -> 7979.6015 | I36: =H36-(H36*$D$17) -> 7939.7035 | J36: =I36-(I36*$D$17) -> 7900.005 | K36: =J36-(J36*$D$17) -> 7860.505 | L36: =K36-(K36*$D$17) -> 7821.2024 | M36: =L36-(L36*$D$17) -> 7782.0964 | N36: =M36-(M36*$D$17) -> 7743.1859 | ... AE36: =AD36-(AD36*$D$17) -> 7110.6952
D38: Avoided Value of Solar | F38: =F36*$D$19 -> 967.2 | G38: =G36*$D$19 -> 962.364 | H38: =H36*$D$19 -> 957.55218 | I38: =I36*$D$19 -> 952.76442 | J38: =J36*$D$19 -> 948.0006 | K38: =K36*$D$19 -> 943.26059 | L38: =L36*$D$19 -> 938.54429 | M38: =M36*$D$19 -> 933.85157 | ... AE38: =AE36*$D$19 -> 853.28342
D39: NEM Cost of Solar | F39: =-(F36*$D$22) -> -1612 | G39: =-(G36*$D$22) -> -1603.94 | H39: =-(H36*$D$22) -> -1595.9203 | I39: =-(I36*$D$22) -> -1587.9407 | J39: =-(J36*$D$22) -> -1580.001 | K39: =-(K36*$D$22) -> -1572.101 | L39: =-(L36*$D$22) -> -1564.2405 | M39: =-(M36*$D$22) -> -1556.4193 | ... AE39: =-(AE36*$D$22) -> -1422.139
D41: Non Participant Impact | F41: =F39+F38 -> -644.8 | G41: =G39+G38 -> -641.576 | H41: =H39+H38 -> -638.36812 | I41: =I39+I38 -> -635.17628 | J41: =J39+J38 -> -632.0004 | K41: =K39+K38 -> -628.8404 | L41: =L39+L38 -> -625.69619 | M41: =M39+M38 -> -622.56771 | ... AE41: =AE39+AE38 -> -568.85561
D43: GMP Solar Cost | F43: =-(F36*$D$20) -> -1370.2 | G43: =-(G36*$D$20) -> -1363.349 | H43: =-(H36*$D$20) -> -1356.5323 | I43: =-(I36*$D$20) -> -1349.7496 | J43: =-(J36*$D$20) -> -1343.0008 | K43: =-(K36*$D$20) -> -1336.2858 | L43: =-(L36*$D$20) -> -1329.6044 | M43: =-(M36*$D$20) -> -1322.9564 | ... AE43: =-(AE36*$D$20) -> -1208.8182
D45: GMP Solar NP Impact | F45: =F43+F38 -> -403 | G45: =G43+G38 -> -400.985 | H45: =H43+H38 -> -398.98008 | I45: =I43+I38 -> -396.98517 | J45: =J43+J38 -> -395.00025 | K45: =K43+K38 -> -393.02525 | L45: =L43+L38 -> -391.06012 | M45: =M43+M38 -> -389.10482 | ... AE45: =AE43+AE38 -> -355.53476
C47: Stop customer payments after yr 10 | D47: Battery Fee | F47: =D12*12 -> 780 | G47: =$F$47 -> 780 | H47: =$F$47 -> 780 | I47: =$F$47 -> 780 | J47: =$F$47 -> 780 | K47: =$F$47 -> 780 | L47: =$F$47 -> 780 | M47: =$F$47 -> 780 | N47: =$F$47 -> 780 | O47: =$F$47 -> 780 | P47: 0 | Q47: =P47 -> 0 | R47: =Q47 -> 0 | S47: =R47 -> 0 | T47: =S47 -> 0 | U47: =T47 -> 0 | V47: =U47 -> 0 | W47: =V47 -> 0 | X47: =W47 -> 0 | ... AE47: =AD47 -> 0
D48: Solar Add On Fee | F48: =D14*12 -> 240 | G48: =F48 -> 240 | H48: =G48 -> 240 | I48: =H48 -> 240 | J48: =I48 -> 240 | K48: =J48 -> 240 | L48: =K48 -> 240 | M48: =L48 -> 240 | N48: =M48 -> 240 | ... AE48: =AD48 -> 240
D50: Annual Customer Cost | F50: =(F33)+(F34*F31)+F47+F48+(F32*F35) -> 4412.986 | G50: =(G33)+(G34*G31)+G47+G48+(G32*G35) -> 4480.8457 | H50: =(H33)+(H34*H31)+H47+H48+(H32*H35) -> 4550.0626 | I50: =(I33)+(I34*I31)+I47+I48+(I32*I35) -> 4620.6639 | J50: =(J33)+(J34*J31)+J47+J48+(J32*J35) -> 4692.6772 | K50: =(K33)+(K34*K31)+K47+K48+(K32*K35) -> 4766.1307 | L50: =(L33)+(L34*L31)+L47+L48+(L32*L35) -> 4841.0533 | M50: =(M33)+(M34*M31)+M47+M48+(M32*M35) -> 4917.4744 | ... AE50: =(AE33)+(AE34*AE31)+AE47+AE48+(AE32*AE35) -> 5806.5532
D51: Annual Flex Load/EV Credit | F51: =D24*12 -> 0 | G51: =F51*(1+$D$2) -> 0 | H51: =G51*(1+$D$2) -> 0 | I51: =H51*(1+$D$2) -> 0 | J51: =I51*(1+$D$2) -> 0 | K51: =J51*(1+$D$2) -> 0 | L51: =K51*(1+$D$2) -> 0 | M51: =L51*(1+$D$2) -> 0 | N51: =M51*(1+$D$2) -> 0 | ... AE51: =AD51*(1+$D$2) -> 0
D52: Annual Net Cost | F52: =F50-F51 -> 4412.986 | G52: =G50-G51 -> 4480.8457 | H52: =H50-H51 -> 4550.0626 | I52: =I50-I51 -> 4620.6639 | J52: =J50-J51 -> 4692.6772 | K52: =K50-K51 -> 4766.1307 | L52: =L50-L51 -> 4841.0533 | M52: =M50-M51 -> 4917.4744 | ... AE52: =AE50-AE51 -> 5806.5532
D53: Monthly Cost | F53: =F52/12 -> 367.74883 | G53: =G52/12 -> 373.40381 | H53: =H52/12 -> 379.17189 | I53: =I52/12 -> 385.05532 | J53: =J52/12 -> 391.05643 | K53: =K52/12 -> 397.17756 | L53: =L52/12 -> 403.42111 | M53: =M52/12 -> 409.78953 | ... AE53: =AE52/12 -> 483.87943
...

Sheet Proforma
A1: Discount Rate | B1: 0.05738825
A2: Span Panel | B2: 2000 | C2: <--Incremental cost over traditional 200amp Panel
A3: Span Drive | B3: 850
C4: Year | D4: 1 | E4: 2 | F4: 3 | G4: 4 | H4: 5 | I4: 6 | J4: 7 | K4: 8 | L4: 9 | M4: 10 | N4: 11 | O4: 12 | P4: 13 | Q4: 14 | R4: 15 | S4: 16 | T4: 17 | U4: 18 | V4: 19 | W4: 20 | X4: 21 | Y4: 22 | Z4: 23 | AA4: 24 | AB4: 25 | AC4: 26
C5: Customers | D5: 7 | E5: 16
C7: Costs | AD7: Lifetime NPV
C8: Powerwall System Costs Yr 1 | D8: ='[2]Full Program'!D10+'[3]Full Program'!D10 -> -26597.302 | E8: ='[2]Full Program'!E10+'[3]Full Program'!E10 -> -24768.802 | F8: ='[2]Full Program'!F10+'[3]Full Program'!F10 -> -22885.082 | G8: ='[2]Full Program'!G10+'[3]Full Program'!G10 -> -21219.046 | H8: ='[2]Full Program'!H10+'[3]Full Program'!H10 -> -19693.906 | I8: ='[2]Full Program'!I10+'[3]Full Program'!I10 -> -18239.305 | J8: ='[2]Full Program'!J10+'[3]Full Program'!J10 -> -16781.674 | K8: ='[2]Full Program'!K10+'[3]Full Program'!K10 -> -15408.14 | ... M8: ='[2]Full Program'!M10+'[3]Full Program'!M10 -> -13053.56 | AD8: =NPV($B$1,D8:AB8) -> -148861.71
C9: Powerwall System Costs Yr 2 | E9: ='[2]Full Program'!E11+'[3]Full Program'!E11 -> -60999.536 | F9: ='[2]Full Program'!F11+'[3]Full Program'!F11 -> -56806.012 | G9: ='[2]Full Program'!G11+'[3]Full Program'!G11 -> -52485.776 | H9: ='[2]Full Program'!H11+'[3]Full Program'!H11 -> -48664.699 | I9: ='[2]Full Program'!I11+'[3]Full Program'!I11 -> -45166.895 | J9: ='[2]Full Program'!J11+'[3]Full Program'!J11 -> -41831 | K9: ='[2]Full Program'!K11+'[3]Full Program'!K11 -> -38488.034 | L9: ='[2]Full Program'!L11+'[3]Full Program'!L11 -> -35337.777 | ... N9: ='[2]Full Program'!N11+'[3]Full Program'!N11 -> -29937.822 | AD9: =NPV($B$1,D9:AB9) -> -341406.87
C10: Powerwall System Costs | D10: =SUM(D8:D9) -> -26597.302 | E10: =SUM(E8:E9) -> -85768.339 | F10: =SUM(F8:F9) -> -79691.094 | G10: =SUM(G8:G9) -> -73704.821 | H10: =SUM(H8:H9) -> -68358.605 | I10: =SUM(I8:I9) -> -63406.2 | J10: =SUM(J8:J9) -> -58612.673 | K10: =SUM(K8:K9) -> -53896.173 | ... N10: =SUM(N8:N9) -> -29937.822 | AD10: =NPV($B$1,D10:AC10) -> -471739.2
C11: Powerwall Software Fees Yr 1 | D11: ='[2]Full Program'!D14+'[3]Full Program'!D14 -> -168 | E11: ='[2]Full Program'!E14+'[3]Full Program'!E14 -> -168 | F11: ='[2]Full Program'!F14+'[3]Full Program'!F14 -> -168 | G11: ='[2]Full Program'!G14+'[3]Full Program'!G14 -> -168 | H11: ='[2]Full Program'!H14+'[3]Full Program'!H14 -> -168 | I11: ='[2]Full Program'!I14+'[3]Full Program'!I14 -> -168 | J11: ='[2]Full Program'!J14+'[3]Full Program'!J14 -> -168 | K11: ='[2]Full Program'!K14+'[3]Full Program'!K14 -> -168 | ... R11: ='[2]Full Program'!R14+'[3]Full Program'!R14 -> -168 | AD11: =NPV($B$1,D11:AC11) -> -1659.8668
C12: Powerwall Software Fees Yr 2 | E12: ='[2]Full Program'!E15+'[3]Full Program'!E15 -> -384 | F12: ='[2]Full Program'!F15+'[3]Full Program'!F15 -> -384 | G12: ='[2]Full Program'!G15+'[3]Full Program'!G15 -> -384 | H12: ='[2]Full Program'!H15+'[3]Full Program'!H15 -> -384 | I12: ='[2]Full Program'!I15+'[3]Full Program'!I15 -> -384 | J12: ='[2]Full Program'!J15+'[3]Full Program'!J15 -> -384 | K12: ='[2]Full Program'!K15+'[3]Full Program'!K15 -> -384 | L12: ='[2]Full Program'!L15+'[3]Full Program'!L15 -> -384 | ... S12: ='[2]Full Program'!S15+'[3]Full Program'!S15 -> -384 | AD12: =NPV($B$1,D12:AC12) -> -3793.9814
C13: Powerwall Software Fees | D13: =SUM(D11:D12) -> -168 | E13: =SUM(E11:E12) -> -552 | F13: =SUM(F11:F12) -> -552 | G13: =SUM(G11:G12) -> -552 | H13: =SUM(H11:H12) -> -552 | I13: =SUM(I11:I12) -> -552 | J13: =SUM(J11:J12) -> -552 | K13: =SUM(K11:K12) -> -552 | ... S13: =SUM(S11:S12) -> -384 | AD13: =NPV($B$1,D13:AC13) -> -5247.9352
C14: Span Package (Panel + Drive) Yr 1 | D14: ='Res Package'!F65*$D$5 -> -3743.2084 | E14: ='Res Package'!G65*$D$5 -> -3523.9642 | F14: ='Res Package'!H65*$D$5 -> -3312.8884 | G14: ='Res Package'!I65*$D$5 -> -3117.1405 | H14: ='Res Package'!J65*$D$5 -> -2937.3703 | I14: ='Res Package'!K65*$D$5 -> -2778.4049 | J14: ='Res Package'!L65*$D$5 -> -2612.3689 | K14: ='Res Package'!M65*$D$5 -> -2461.7284 | ... M14: ='Res Package'!O65*$D$5 -> -2202.1086 | AD14: =NPV($B$1,D14:AC14) -> -22209.775
C15: Span Package (Panel + Drive) Yr 2 | E15: ='Res Package'!F65*$E$5 -> -8555.9048 | F15: ='Res Package'!G65*$E$5 -> -8054.7752 | G15: ='Res Package'!H65*$E$5 -> -7572.3165 | H15: ='Res Package'!I65*$E$5 -> -7124.8927 | I15: ='Res Package'!J65*$E$5 -> -6713.9892 | J15: ='Res Package'!K65*$E$5 -> -6350.6399 | K15: ='Res Package'!L65*$E$5 -> -5971.129 | L15: ='Res Package'!M65*$E$5 -> -5626.8078 | ... N15: ='Res Package'!O65*$E$5 -> -5033.3911 | AD15: =NPV($B$1,D15:AC15) -> -50765.2
C16: Span Package (Panel + Drive) | D16: =D14+D15 -> -3743.2084 | E16: =E14+E15 -> -12079.869 | F16: =F14+F15 -> -11367.664 | G16: =G14+G15 -> -10689.457 | H16: =H14+H15 -> -10062.263 | I16: =I14+I15 -> -9492.3941 | J16: =J14+J15 -> -8963.0088 | K16: =K14+K15 -> -8432.8574 | ... N16: =N14+N15 -> -5033.3911 | AD16: =NPV($B$1,D16:AC16) -> -70219.765
C17: Cost of Solar Yr 1 | D17: =$D$5*'Res Package'!F43 -> -9591.4 | E17: =$D$5*'Res Package'!G43 -> -9543.443 | F17: =$D$5*'Res Package'!H43 -> -9495.7258 | G17: =$D$5*'Res Package'!I43 -> -9448.2472 | H17: =$D$5*'Res Package'!J43 -> -9401.0059 | I17: =$D$5*'Res Package'!K43 -> -9354.0009 | J17: =$D$5*'Res Package'!L43 -> -9307.2309 | K17: =$D$5*'Res Package'!M43 -> -9260.6947 | ... AB17: =$D$5*'Res Package'!AD43 -> -8504.2485 | AD17: =NPV($B$1,D17:AC17) -> -120125.29
C18: Cost of Solar Yr 2 | E18: =$E$5*'Res Package'!F43 -> -21923.2 | F18: =$E$5*'Res Package'!G43 -> -21813.584 | G18: =$E$5*'Res Package'!H43 -> -21704.516 | H18: =$E$5*'Res Package'!I43 -> -21595.993 | I18: =$E$5*'Res Package'!J43 -> -21488.014 | J18: =$E$5*'Res Package'!K43 -> -21380.573 | K18: =$E$5*'Res Package'!L43 -> -21273.671 | L18: =$E$5*'Res Package'!M43 -> -21167.302 | ... AC18: =$E$5*'Res Package'!AD43 -> -19438.282 | AD18: =NPV($B$1,D18:AC18) -> -274572.1
C19: Cost of Solar | D19: =D17+D18 -> -9591.4 | E19: =E17+E18 -> -31466.643 | F19: =F17+F18 -> -31309.31 | G19: =G17+G18 -> -31152.763 | H19: =H17+H18 -> -30996.999 | I19: =I17+I18 -> -30842.014 | J19: =J17+J18 -> -30687.804 | K19: =K17+K18 -> -30534.365 | ... AC19: =AC17+AC18 -> -19438.282 | AD19: =NPV($B$1,D19:AC19) -> -379795.38
C20: Total Costs | D20: =SUM(D10,D13,D16,D19) -> -40099.91 | E20: =SUM(E10,E13,E16,E19) -> -129866.85 | F20: =SUM(F10,F13,F16,F19) -> -122920.07 | G20: =SUM(G10,G13,G16,G19) -> -116099.04 | H20: =SUM(H10,H13,H16,H19) -> -109969.87 | I20: =SUM(I10,I13,I16,I19) -> -104292.61 | J20: =SUM(J10,J13,J16,J19) -> -98815.486 | K20: =SUM(K10,K13,K16,K19) -> -93415.396 | ... AC20: =SUM(AC10,AC13,AC16,AC19) -> -19438.282 | AD20: =NPV($B$1,D20:AC20) -> -927002.28
C21: Revenues
C22: Powerwall Power Supply Value Yr 1 | D22: ='[2]Full Program'!D20+'[3]Full Program'!D20+('[4]Frequency Reg'!L16*'[4]Frequency Reg'!L17) -> 3670.3332 | E22: ='[2]Full Program'!E20+'[3]Full Program'!E20+('[4]Frequency Reg'!M16*'[4]Frequency Reg'!M17) -> 12428.963 | F22: ='[2]Full Program'!F20+'[3]Full Program'!F20+('[4]Frequency Reg'!N16*'[4]Frequency Reg'!N17) -> 13768.307 | G22: ='[2]Full Program'!G20+'[3]Full Program'!G20+('[4]Frequency Reg'!O16*'[4]Frequency Reg'!O17) -> 15805.273 | H22: ='[2]Full Program'!H20+'[3]Full Program'!H20+('[4]Frequency Reg'!P16*'[4]Frequency Reg'!P17) -> 16671.543 | I22: ='[2]Full Program'!I20+'[3]Full Program'!I20+('[4]Frequency Reg'!Q16*'[4]Frequency Reg'!Q17) -> 18182.762 | J22: ='[2]Full Program'!J20+'[3]Full Program'!J20+('[4]Frequency Reg'!R16*'[4]Frequency Reg'!R17) -> 19549.167 | K22: ='[2]Full Program'!K20+'[3]Full Program'!K20+('[4]Frequency Reg'!S16*'[4]Frequency Reg'!S17) -> 20053.824 | ... S22: ='[2]Full Program'!S20+'[3]Full Program'!S20+('[4]Frequency Reg'!AA16*'[4]Frequency Reg'!AA17) -> 127.74 | AD22: =NPV($B$1,D22:AC22) -> 143099.69
C23: Powerwall Power Supply Value Yr 2 | E23: ='[2]Full Program'!E21+'[3]Full Program'!E21+('[4]Frequency Reg'!N16*'[4]Frequency Reg'!N17) -> 8516.4269 | F23: ='[2]Full Program'!F21+'[3]Full Program'!F21+('[4]Frequency Reg'!O16*'[4]Frequency Reg'!O17) -> 23284.433 | G23: ='[2]Full Program'!G21+'[3]Full Program'!G21+('[4]Frequency Reg'!P16*'[4]Frequency Reg'!P17) -> 27526.293 | H23: ='[2]Full Program'!H21+'[3]Full Program'!H21+('[4]Frequency Reg'!Q16*'[4]Frequency Reg'!Q17) -> 32280.862 | I23: ='[2]Full Program'!I21+'[3]Full Program'!I21+('[4]Frequency Reg'!R16*'[4]Frequency Reg'!R17) -> 34347.867 | J23: ='[2]Full Program'!J21+'[3]Full Program'!J21+('[4]Frequency Reg'!S16*'[4]Frequency Reg'!S17) -> 37890.224 | K23: ='[2]Full Program'!K21+'[3]Full Program'!K21+('[4]Frequency Reg'!T16*'[4]Frequency Reg'!T17) -> 41098.06 | L23: ='[2]Full Program'!L21+'[3]Full Program'!L21+('[4]Frequency Reg'!U16*'[4]Frequency Reg'!U17) -> 42329.884 | ... T23: ='[2]Full Program'!T21+'[3]Full Program'!T21+('[4]Frequency Reg'!AC16*'[4]Frequency Reg'!AC17) -> 293.05 | AD23: =NPV($B$1,D23:AC23) -> 297648.5
C24: Powerwall Power Supply Value | D24: =D22+D23 -> 3670.3332 | E24: =E22+E23 -> 20945.39 | F24: =F22+F23 -> 37052.74 | G24: =G22+G23 -> 43331.566 | H24: =H22+H23 -> 48952.405 | I24: =I22+I23 -> 52530.628 | J24: =J22+J23 -> 57439.39 | K24: =K22+K23 -> 61151.884 | ... T24: =T22+T23 -> 293.05 | AD24: =NPV($B$1,D24:AC24) -> 424593.75
C25: Powerwall Tier 3 Value | D25: ='[3]Full Program'!D24+'[2]Full Program'!D24 -> 4074 | E25: ='[3]Full Program'!E24+'[2]Full Program'!E24 -> 9312 | AD25: =NPV($B$1,D25:AC25) -> 12181.528
C26: Powerwall Capitalized A&G | D26: ='[3]Full Program'!D25+'[2]Full Program'!D25 -> 10810.8 | E26: ='[3]Full Program'!E25+'[2]Full Program'!E25 -> 24794 | AD26: =NPV($B$1,D26:AC26) -> 32399.774
C27: Resiliency Package Payments Yr 1 | D27: ='[2]Full Program'!D27+'[3]Full Program'!D27+($D$5*'Res Package'!F48) -> 6660 | E27: ='[2]Full Program'!E27+'[3]Full Program'!E27+($D$5*'Res Package'!G48) -> 6660 | F27: ='[2]Full Program'!F27+'[3]Full Program'!F27+($D$5*'Res Package'!H48) -> 6660 | G27: ='[2]Full Program'!G27+'[3]Full Program'!G27+($D$5*'Res Package'!I48) -> 6660 | H27: ='[2]Full Program'!H27+'[3]Full Program'!H27+($D$5*'Res Package'!J48) -> 6660 | I27: ='[2]Full Program'!I27+'[3]Full Program'!I27+($D$5*'Res Package'!K48) -> 6660 | J27: ='[2]Full Program'!J27+'[3]Full Program'!J27+($D$5*'Res Package'!L48) -> 6660 | K27: ='[2]Full Program'!K27+'[3]Full Program'!K27+($D$5*'Res Package'!M48) -> 6660 | ... M27: ='[2]Full Program'!M27+'[3]Full Program'!M27+($D$5*'Res Package'!O48) -> 6660 | N27: =($D$5*'Res Package'!P48) -> 1680 | O27: =($D$5*'Res Package'!Q48) -> 1680 | P27: =($D$5*'Res Package'!R48) -> 1680 | Q27: =($D$5*'Res Package'!S48) -> 1680 | R27: =($D$5*'Res Package'!T48) -> 1680 | S27: =($D$5*'Res Package'!U48) -> 1680 | T27: =($D$5*'Res Package'!V48) -> 1680 | U27: =($D$5*'Res Package'!W48) -> 1680 | ... AB27: =($D$5*'Res Package'!AD48) -> 1680 | AD27: =NPV($B$1,D27:AC27) -> 59130.578
C28: Resiliency Package Payments Yr 2 | E28: ='[3]Full Program'!E28+'[2]Full Program'!E28+($E$5*'Res Package'!F48) -> 15240 | F28: ='[3]Full Program'!F28+'[2]Full Program'!F28+($E$5*'Res Package'!G48) -> 15240 | G28: ='[3]Full Program'!G28+'[2]Full Program'!G28+($E$5*'Res Package'!H48) -> 15240 | H28: ='[3]Full Program'!H28+'[2]Full Program'!H28+($E$5*'Res Package'!I48) -> 15240 | I28: ='[3]Full Program'!I28+'[2]Full Program'!I28+($E$5*'Res Package'!J48) -> 15240 | J28: ='[3]Full Program'!J28+'[2]Full Program'!J28+($E$5*'Res Package'!K48) -> 15240 | K28: ='[3]Full Program'!K28+'[2]Full Program'!K28+($E$5*'Res Package'!L48) -> 15240 | L28: ='[3]Full Program'!L28+'[2]Full Program'!L28+($E$5*'Res Package'!M48) -> 15240 | ... N28: ='[3]Full Program'!N28+'[2]Full Program'!N28+($E$5*'Res Package'!O48) -> 15240 | O28: =($E$5*'Res Package'!P48) -> 3840 | P28: =($E$5*'Res Package'!Q48) -> 3840 | Q28: =($E$5*'Res Package'!R48) -> 3840 | R28: =($E$5*'Res Package'!S48) -> 3840 | S28: =($E$5*'Res Package'!T48) -> 3840 | T28: =($E$5*'Res Package'!U48) -> 3840 | U28: =($E$5*'Res Package'!V48) -> 3840 | V28: =($E$5*'Res Package'!W48) -> 3840 | ... AC28: =($E$5*'Res Package'!AD48) -> 3840 | AD28: =NPV($B$1,D28:AC28) -> 135283.36
C29: Resiliency Package Payments | D29: =D27+D28 -> 6660 | E29: =E27+E28 -> 21900 | F29: =F27+F28 -> 21900 | G29: =G27+G28 -> 21900 | H29: =H27+H28 -> 21900 | I29: =I27+I28 -> 21900 | J29: =J27+J28 -> 21900 | K29: =K27+K28 -> 21900 | ... AC29: =AC27+AC28 -> 3840 | AD29: =NPV($B$1,D29:AC29) -> 187071.62
C30: All Electric Cust. Marginal Contribution Yr 1 | D30: ='Res Package'!F63*$D$5 -> 8387.2174 | E30: ='Res Package'!G63*$D$5 -> 8387.2174 | F30: ='Res Package'!H63*$D$5 -> 8387.2174 | G30: ='Res Package'!I63*$D$5 -> 8387.2174 | H30: ='Res Package'!J63*$D$5 -> 8387.2174 | I30: ='Res Package'!K63*$D$5 -> 8387.2174 | J30: ='Res Package'!L63*$D$5 -> 8387.2174 | K30: ='Res Package'!M63*$D$5 -> 8387.2174 | ... AB30: ='Res Package'!AD63*$D$5 -> 8387.2174 | AD30: =NPV($B$1,D30:AC30) -> 109929.98
C31: All Electric Cust. Marginal Contribution Yr 2 | E31: ='Res Package'!F63*$E$5 -> 19170.783 | F31: ='Res Package'!G63*$E$5 -> 19170.783 | G31: ='Res Package'!H63*$E$5 -> 19170.783 | H31: ='Res Package'!I63*$E$5 -> 19170.783 | I31: ='Res Package'!J63*$E$5 -> 19170.783 | J31: ='Res Package'!K63*$E$5 -> 19170.783 | K31: ='Res Package'!L63*$E$5 -> 19170.783 | L31: ='Res Package'!M63*$E$5 -> 19170.783 | ... AC31: ='Res Package'!AD63*$E$5 -> 19170.783 | AD31: =NPV($B$1,D31:AC31) -> 251268.53
C32: All Electric Cust. Marginal Contribution | D32: =D30+D31 -> 8387.2174 | E32: =E30+E31 -> 27558 | F32: =F30+F31 -> 27558 | G32: =G30+G31 -> 27558 | H32: =H30+H31 -> 27558 | I32: =I30+I31 -> 27558 | J32: =J30+J31 -> 27558 | K32: =K30+K31 -> 27558 | ... AC32: =AC30+AC31 -> 19170.783 | AD32: =NPV($B$1,D32:AC32) -> 347561.27
C33: Value of Solar Yr 1 | D33: =$D$5*'Res Package'!F38 -> 6770.4 | E33: =$D$5*'Res Package'!G38 -> 6736.548 | F33: =$D$5*'Res Package'!H38 -> 6702.8653 | G33: =$D$5*'Res Package'!I38 -> 6669.3509 | H33: =$D$5*'Res Package'!J38 -> 6636.0042 | I33: =$D$5*'Res Package'!K38 -> 6602.8242 | J33: =$D$5*'Res Package'!L38 -> 6569.81 | K33: =$D$5*'Res Package'!M38 -> 6536.961 | ... AB33: =$D$5*'Res Package'!AD38 -> 6002.9989 | AD33: =NPV($B$1,D33:AC33) -> 84794.324
C34: Value of Solar Yr 2 | E34: =$E$5*'Res Package'!F38 -> 15475.2 | F34: =$E$5*'Res Package'!G38 -> 15397.824 | G34: =$E$5*'Res Package'!H38 -> 15320.835 | H34: =$E$5*'Res Package'!I38 -> 15244.231 | I34: =$E$5*'Res Package'!J38 -> 15168.01 | J34: =$E$5*'Res Package'!K38 -> 15092.17 | K34: =$E$5*'Res Package'!L38 -> 15016.709 | L34: =$E$5*'Res Package'!M38 -> 14941.625 | ... AC34: =$E$5*'Res Package'!AD38 -> 13721.14 | AD34: =NPV($B$1,D34:AC34) -> 193815.6
C35: Value of Solar | D35: =D33+D34 -> 6770.4 | E35: =E33+E34 -> 22211.748 | F35: =F33+F34 -> 22100.689 | G35: =G33+G34 -> 21990.186 | H35: =H33+H34 -> 21880.235 | I35: =I33+I34 -> 21770.834 | J35: =J33+J34 -> 21661.98 | K35: =K33+K34 -> 21553.67 | ... AC35: =AC33+AC34 -> 13721.14 | AD35: =NPV($B$1,D35:AC35) -> 268090.86
C36: Total Revenue | D36: =SUM(D24,D25,D26,D29,D32,D35) -> 40372.751 | E36: =SUM(E24,E25,E26,E29,E32,E35) -> 126721.14 | F36: =SUM(F24,F25,F26,F29,F32,F35) -> 108611.43 | G36: =SUM(G24,G25,G26,G29,G32,G35) -> 114779.75 | H36: =SUM(H24,H25,H26,H29,H32,H35) -> 120290.64 | I36: =SUM(I24,I25,I26,I29,I32,I35) -> 123759.46 | J36: =SUM(J24,J25,J26,J29,J32,J35) -> 128559.37 | K36: =SUM(K24,K25,K26,K29,K32,K35) -> 132163.55 | ... AC36: =SUM(AC24,AC25,AC26,AC29,AC32,AC35) -> 36731.923 | AD36: =NPV($B$1,D36:AC36) -> 1271898.8
C37: Net Benefit | D37: =D20+D36 -> 272.84014 | E37: =E20+E36 -> -3145.7125 | F37: =F20+F36 -> -14308.639 | G37: =G20+G36 -> -1319.2902 | H37: =H20+H36 -> 10320.772 | I37: =I20+I36 -> 19466.854 | J37: =J20+J36 -> 29743.884 | K37: =K20+K36 -> 38748.157 | ... AC37: =AC20+AC36 -> 17293.641 | AD37: =NPV($B$1,D37:AC37) -> 344896.51
C40: Total Net Present Benefit | D40: =AD37 -> 344896.51
