Workbook
Name INT: #REF!
Name JANDATA: #REF!

Sheet S1 VEC Master Summary
A1: EXHIBIT: VEC-CCM 1 | C1: This document is being submitted electronically via ePUC.
A2: SCHEDULE 1
A3: REVENUE REQUIREMENTS SUMMARY | C3: Vermont Electric Cooperative, Inc.
C4: Test Year | D4: Pro Forma | E4: ADJ Test Year
A5: LINE | B5: DESCRIPTION | C5: 7/1/24-6/30/25 | D5: Adjustments | E5: 2026
A6: 1 | B6: NET PURCHASED POWER (INCLUDES REC's & SFR) | C6: 41664893 | D6: 1315965 | E6: =+C6+D6 -> 42980858
A7: =A6+1 -> 2 | B7: TRANSMISSION | C7: 16985782 | D7: 2488886.7 | E7: =C7+D7 -> 19474668
A8: =A7+1 -> 3 | B8: DISTRIBUTION OPERATION | C8: 9934565.6 | D8: -693102.29 | E8: =C8+D8 -> 9241463.3
A9: =A8+1 -> 4 | B9: DISTRIBUTION MAINTENANCE | C9: 10372037 | D9: 1601825.5 | E9: =C9+D9 -> 11973862
A10: =A9+1 -> 5 | B10: CUSTOMER ACCOUNTS | C10: 3343981.3 | D10: 264056.56 | E10: =C10+D10 -> 3608037.8
A11: =A10+1 -> 6 | B11: ADMINISTRATIVE & GENERAL | C11: 5412847.8 | D11: 531362.41 | E11: =C11+D11 -> 5944210.2
A12: =A11+1 -> 7
A13: =A12+1 -> 8 | B13: TOTAL O&M | C13: =SUM(C6:C11) -> 87714105 | D13: =SUM(D6:D11) -> 5508993.8 | E13: =SUM(E6:E11) -> 93223099
A14: =A13+1 -> 9
A15: =A14+1 -> 10 | B15: DEPRECIATION EXPENSE | C15: 6756201.1 | D15: 400163.93 | E15: =C15+D15 -> 7156365
A16: =A15+1 -> 11 | B16: AMORTIZATION EXPENSE | C16: 0 | D16: 0 | E16: =C16+D16 -> 0
A17: =A16+1 -> 12 | B17: GROSS FUEL ELECTRIC TAX | C17: 486137.12 | D17: -486137.12 | E17: =C17+D17 -> 0
A18: =A17+1 -> 13 | B18: GROSS REVENUE TAX | C18: 553035.36 | D18: -553035.36 | E18: =C18+D18 -> 0
A19: =A18+1 -> 14 | B19: INTEREST ON LT DEBT | C19: 4582639.2 | D19: 620833.19 | E19: =C19+D19 -> 5203472.4
A20: =A19+1 -> 15 | B20: OTHER INTEREST | C20: 814973.88 | D20: -10199.27 | E20: =C20+D20 -> 804774.61
A21: =A20+1 -> 16 | B21: OTHER DEDUCTIONS | C21: 9374.13 | D21: -1994.13 | E21: 7380
A22: =A21+1 -> 17
A23: =A22+1 -> 18 | B23: TOTAL COST OF SERVICE | C23: =SUM(C13:C22) -> 1.0091647e+08 | D23: =SUM(D13:D22) -> 5478625 | E23: =SUM(E13:E22) -> 1.0639509e+08
A24: =A23+1 -> 19
A25: =A24+1 -> 20 | B25: INTEREST & DIVIDEND INCOME | C25: -5918186.9 | D25: -515423.46 | E25: =C25+D25 -> -6433610.3
A26: =A25+1 -> 21 | B26: OTHER REVENUES (Pole Attachments, Wheeling, Jobbing) | C26: -2774328.3 | D26: -531766.56 | E26: =C26+D26 -> -3306094.8
A27: =A26+1 -> 22 | B27: OTHER CAPITAL CREDITS | C27: -663581.43 | D27: -22.37 | E27: =C27+D27 -> -663603.8
A28: =A27+1 -> 23 | B28: OTHER CAPITAL CREDITS (Adjustment for Non-Cash Patronage) | C28: 273022.95 | D28: 0 | E28: =C28+D28 -> 273022.95
A29: =A28+1 -> 24
A30: =A29+1 -> 25 | B30: NET COST OF SERVICE | C30: =SUM(C23:C28) -> 91833393 | D30: =SUM(D23:D28) -> 4431412.6 | E30: =SUM(E23:E28) -> 96264805
A31: =A30+1 -> 26 | I31: Revenue Requirement | J31: Amount
A32: =A31+1 -> 27 | B32: REVENUE AT EXISTING RATES | C32: 98104769 | D32: 2272823.4 | E32: =C32+D32 -> 100377592 | I32: Cost of Service Adjustment | J32: =+D30+D39 -> 5535703.3
A33: =A32+1 -> 28 | B33: REVENUE LESS EXPENSES (MARGIN) | C33: =C32-C30 -> 6271376 | E33: =E32-E30 -> 4112786.7 | I33: Test Year Revenue Windfall | J33: =+C37 -> -873762.89
A34: =A33+1 -> 29 | I34: 2.0 TIER Adjustment | J34: =+D19+D20 -> 610633.92
A35: =A34+1 -> 30 | B35: TOTAL REQUIRED MARGIN; 2.0 TIER | C35: =1*(C19+C20) -> 5397613.1 | E35: =1*(E19+E20) -> 6008247 | I35: Base Revenue Adjustment | J35: =-D32 -> -2272823.4
A36: =A35+1 -> 31 | I36: Revenue Requirement | J36: =SUM(J32:J35) -> 2999750.9
A37: =A36+1 -> 32 | B37: REQ'D ADDITIONAL REVENUE (PRE-TAX) | C37: =+C35-C33 -> -873762.89 | E37: =+E35-E33 -> 1895460.3
A38: =A37+1 -> 33
A39: =A38+1 -> 34 | B39: GROSS RECEIPTS & GROSS REVENUE TAX | C39: 0 | D39: =+E39-C39 -> 1104290.6 | E39: 1104290.6
A40: =A39+1 -> 35 | B40: TOTAL REQUIRED ADDITIONAL REVENUE | E40: =+E37+E39 -> 2999750.9
...

Sheet S1-1.5 TIER
A1: EXHIBIT: VEC-MLB-3
A2: SCHEDULE 2
A3: REVENUE REQUIREMENTS SUMMARY (1.5 TIER)
C5: 5/04-4/05
C6: TEST YEAR | E6: ADJUSTED | F6: REF
A7: LINE | B7: DESCRIPTION | C7: AMOUNT | D7: ADJUSTMENTS | E7: TEST YEAR | F7: SCHED
A8: 1 | B8: PURCHASED POWER | C8: =#REF! -> #REF! | D8: =+#REF! -> #REF! | E8: =+C8+D8 -> #REF! | F8: 2, 2A
A9: =A8+1 -> 2 | B9: TRANSMISSION | C9: =#REF! -> #REF! | D9: =+#REF! -> #REF! | E9: =+#REF! -> #REF! | F9: 3
A10: =A9+1 -> 3 | B10: DISTRIBUTION OPERATION | C10: =#REF! -> #REF! | D10: =#REF! -> #REF! | E10: =C10+D10 -> #REF! | F10: 4
A11: =A10+1 -> 4 | B11: DISTRIBUTION MAINTENANCE | C11: =#REF! -> #REF! | D11: =#REF! -> #REF! | E11: =C11+D11 -> #REF! | F11: 4
A12: =A11+1 -> 5 | B12: CUSTOMER ACCOUNTS | C12: =#REF! -> #REF! | D12: =#REF! -> #REF! | E12: =C12+D12 -> #REF! | F12: 5
A13: =A12+1 -> 6 | B13: ADMIN. & GENERAL | C13: =#REF!+#REF!+#REF! -> #REF! | D13: =#REF! -> #REF! | E13: =C13+D13 -> #REF! | F13: 6
A14: =A13+1 -> 7 | B14: DSM EXPENSE excluding amortization | C14: =#REF! -> #REF! | D14: =#REF! -> #REF! | E14: =D14+C14 -> #REF! | F14: 7
A15: 8
A16: 9 | B16: TOTAL O&M | C16: =SUM(C8:C14) -> #REF! | D16: =SUM(D8:D14) -> #REF! | E16: =SUM(E8:E14) -> #REF!
A17: =A16+1 -> 10
A18: =A17+1 -> 11 | B18: DEPRECIATION EXPENSE | C18: =#REF! -> #REF! | D18: =+#REF! -> #REF! | E18: =C18+D18+0.02 -> #REF! | F18: 8
A19: =A18+1 -> 12 | B19: AMORTIZATION EXPENSE - ACQ | C19: =+#REF! -> #REF! | D19: =+E19-C19 -> #REF! | E19: =-#REF! -> #REF! | F19: 8
A20: =A19+1 -> 13 | B20: AMORTIZATION EXPENSE - DSM, DEBT & MISC | C20: =+#REF!+#REF!+#REF! -> #REF! | D20: =+E20-C20 -> #REF! | E20: =-#REF! -> #REF! | F20: 8
A21: =A20+1 -> 14 | B21: PROPERTY TAXES - per FERC instructions-follows property | C21: =#REF! -> #REF! | D21: 0 | E21: =C21+D21 -> #REF! | F21: 9
A22: =A21+1 -> 15 | B22: Gross Receipts Tax | C22: =#REF!-#REF! -> #REF! | D22: =-C22 -> #REF! | E22: =C22+D22 -> #REF! | F22: line 34
A23: =A22+1 -> 16 | B23: GROSS REVENUE TAX | C23: =#REF! -> #REF! | D23: =-C23 -> #REF! | E23: =C23+D23 -> #REF! | F23: line 34
A24: =A23+1 -> 17
A25: =A24+1 -> 18 | B25: INTEREST ON LT DEBT - blend | C25: =#REF! -> #REF! | D25: =+#REF! -> #REF! | E25: =C25+D25 -> #REF! | F25: 10
A26: =A25+1 -> 19 | B26: OTHER INTEREST | C26: =#REF!+#REF! -> #REF! | D26: =+#REF! -> #REF! | E26: =C26+D26 -> #REF! | F26: 11
A27: =A26+1 -> 20 | B27: RETURN (x.x TIER) see line 32
A28: =A27+1 -> 21 | B28: OTHER DEDUCTIONS | C28: =#REF! -> #REF! | D28: =+#REF! -> #REF! | E28: =C28+D28 -> #REF! | F28: 11
A29: =A28+1 -> 22
A30: =A29+1 -> 23 | B30: TOTAL COST OF SERVICE | C30: =SUM(C16:C28) -> #REF! | D30: =SUM(D16:D28) -> #REF! | E30: =SUM(E16:E28) -> #REF!
A31: =A30+1 -> 24
A32: =A31+1 -> 25 | B32: INTEREST & DIVIDEND INCOME 419's | C32: =#REF! -> #REF! | D32: =-#REF! -> #REF! | E32: =C32+D32 -> #REF! | F32: 12
A33: =A32+1 -> 26 | B33: OTHER REVENUES--Transm; SFRO, Jobbing, bldg income | C33: =#REF!+SUM(#REF!) -> #REF! | D33: =+#REF! -> #REF! | E33: =C33+D33 -> #REF! | F33: 13
A34: =A33+1 -> 27 | B34: OTHER CAPITAL CREDITS | C34: =#REF! -> #REF! | D34: =+#REF! -> #REF! | E34: =C34+D34 -> #REF! | F34: 12
A35: =A34+1 -> 28 | B35: EXTRAORDINARY ITEMS (Gain Disp Prop-Extra-ord Ded) | C35: =(#REF!+#REF!) -> #REF! | D35: 6058 | E35: 0 | F35: 12
A36: =A35+1 -> 29 | B36: TOTAL REVENUE REQUIREMENT | C36: =SUM(C30:C35) -> #REF! | D36: =SUM(D30:D35) -> #REF! | E36: =SUM(E30:E35)-0.15 -> #REF!
A37: =A36+1 -> 30 | B37: REVENUE AT EXISTING RATES | C37: =-SUM(#REF!) -> #REF! | D37: =-#REF!+0.25 -> #REF! | E37: =C37+D37 -> #REF! | F37: 13
A38: =A37+1 -> 31 | B38: REVENUE LESS EXPENSES | C38: =C37-C36 -> #REF! | E38: =E37-E36+0.17 -> #REF!
B39: REVENUE LESS EXPENSES - TEST YR VS. ADJ TEST YR | C39: =+C38 -> #REF! | D39: =+E39-C39 -> #REF! | E39: =+E40 -> #REF!
A40: =A38+1 -> 32 | B40: TOTAL Req'd Margin = 0.5 TIER | C40: =0.5*C25 -> #REF! | E40: =0.5*E25 -> #REF!
A41: =A40+1 -> 33 | B41: RETURN (1 plus Margin) - additional required | C41: =+C40-C38 -> #REF! | D41: =+D36+D39 -> #REF! | E41: =+E40-E38-0.23 -> #REF!
...

Sheet S1A Chart of Major Items
A1: EXHIBIT: VEC-CCM 1
A2: SCHEDULE 1A
A31: Description | B31: % | C31: Amount
A32: Net Revenue Increases | B32: =+C32/$C$48 -> -1.0233661 | C32: =-'S1B Major Items of Change'!D11 -> -3069843.4
A33: Property Tax | B33: =+C33/$C$48 -> -0.48426194 | C33: =-'S1B Major Items of Change'!D12 -> -1452665.2 | F33: Revenue @ Existing Rates | I33: =+'S1 VEC Master Summary'!E32 -> 100377592
A34: VELCO Dividend Income | B34: =+C34/$C$48 -> -0.17182954 | C34: =-'S1B Major Items of Change'!D13 -> -515445.83
A35: Maint/ Ops Storm Costs | B35: =+C35/$C$48 -> -0.066917336 | C35: =-'S1B Major Items of Change'!D14 -> -200735.34 | F35: Increase Expected | I35: =+'S1 VEC Master Summary'!E40 -> 2999750.9
A36: Gross Revenue Taxes | B36: =+C36/$C$48 -> 0.021043079 | C36: =-'S1B Major Items of Change'!D29 -> 63123.996
A37: ='S1B Major Items of Change'!B28 -> Financial Services | B37: =+C37/$C$48 -> 0.037145751 | C37: =-'S1B Major Items of Change'!D28 -> 111428 | F37: Percentage Increase | I37: =+I35/I33 -> 0.029884667
A38: Asset Inspection & Pole Testing | B38: =+C38/$C$48 -> 0.03761279 | C38: =-'S1B Major Items of Change'!D27 -> 112829
A39: Transportation Costs | B39: =+C39/$C$48 -> 0.055823352 | C39: =-'S1B Major Items of Change'!D26 -> 167456.15
A40: Software, IT & Communication Costs | B40: =+C40/$C$48 -> 0.10018773 | C40: =-'S1B Major Items of Change'!D25 -> 300538.25
A41: Depreciation | B41: =+C41/$C$48 -> 0.13339905 | C41: =-'S1B Major Items of Change'!D24 -> 400163.93
A42: Vegetative Maintenance | B42: =+C42/$C$48 -> 0.14565576 | C42: =-'S1B Major Items of Change'!D23 -> 436931
A43: Interest Expense | B43: =+C43/$C$48 -> 0.20356154 | C43: =-'S1B Major Items of Change'!D22 -> 610633.92
A44: Non-Recurring Grant Revenue | B44: =+C44/$C$48 -> 0.301099 | C44: =-'S1B Major Items of Change'!D21 -> 903222
A45: Salary/Payroll + Benefits & Training | B45: =+C45/$C$48 -> 0.42640902 | C45: =-'S1B Major Items of Change'!D20 -> 1279120.9
A46: Power Supply Costs | B46: =+C46/$C$48 -> 0.43869142 | C46: =-'S1B Major Items of Change'!D19 -> 1315965
A47: Transmission Costs | B47: =+C47/$C$48 -> 0.84574641 | C47: =-'S1B Major Items of Change'!D18 -> 2537028.6
A48: Total Increase in Rates | B48: =SUM(B32:B47) -> 1 | C48: =SUM(C32:C47) -> 2999750.9

Sheet S1B Major Items of Change
B1: EXHIBIT: VEC-CCM 1
B2: SCHEDULE 1B
B3: TEST YEAR TO 2026 RATE YEAR
B4: KEY DRIVERS
D7: Net Rate Impact | G7: CCM
D8: Test Year vs 2026
B9: Material Savings and Revenue Improvements
B11: Operating Revenue | D11: 3069843.4 | F11: Increased load, Increased Wheeling & net adjustments to 2.0 TIER | G11: =-#REF!-'S1 VEC Master Summary'!$C$40-'S1 VEC Master Summary'!$D$19-'S1 VEC Master Summary'!$D$20-#REF!-#REF! -> #REF!
B12: Property Taxes | D12: 1452665.2 | F12: Decreases recognized in actual 2025 Property Taxes | G12: =-#REF!-#REF!-#REF!-#REF! -> #REF!
B13: Dividend Income from VELCO | D13: 515445.83 | F13: Additional Dividends from 2024 + 2025 TRANSCO Investments | G13: =+#REF!+#REF! -> #REF!
B14: Maint / Ops Storm Costs | D14: 200735.34 | F14: Hurricane Debby Major Storm in Test Year | G14: =-#REF!-#REF! -> #REF!
B15: Subtotal Savings and Revenue Improvements | D15: =SUM(D11:D14) -> 5238689.8 | G15: =SUM(G11:G14) -> #REF!
B17: Material Cost Increases and Revenue Decreases
B18: Transmission By Others | D18: -2537028.6 | F18: Increases for Velco Transmission Costs + 2025 ISO-NE RNS Rates | G18: =-#REF! -> #REF!
B19: Power Supply (Net of Sales for Resale & Renewable Energy Credits) | D19: -1315965 | F19: Load Increased, Price Increases for HQ, Market Prices and Day Ahead Ancillary Services | G19: =-#REF! -> #REF!
B20: Salary & Benefits & Training | D20: -1279120.9 | F20: Salary + Benefit Increases Reduced by Vacancy Factor | G20: =-#REF!-#REF!-#REF!-#REF!-#REF!-#REF! -> #REF!
B21: Non-Recurring Grant Revenues | D21: -903222 | F21: Non-Recurring FEMA Storm Reimbursements | G21: =-#REF!-#REF! -> #REF!
B22: Interest Expense for Credit Facilities + Debt | D22: -610633.92 | F22: Higher Interest Rates for New Debt and Debt Facilities | G22: =-#REF!-#REF! -> #REF!
B23: Vegetative Maintenance Cost Increase | D23: -436931 | F23: Higher 2025 spending + 2026 project costs | G23: =-#REF! -> #REF!
B24: Depreciation | D24: -400163.93 | F24: New Utility Plant placed in service | G24: =-#REF!-#REF! -> #REF!
B25: Operations Software, IT & Communication Costs | D25: -300538.25 | F25: SCADA, Weather Analytics, Storm Mgmt & Misc / Inflationary increases | G25: =-#REF!-#REF!-#REF!-#REF! -> #REF!
B26: Transportation | D26: -167456.15 | F26: Depreciation on new bucket trucks placed in service in 2025 | G26: =-#REF!-#REF!-#REF!-#REF!-#REF!-#REF! -> #REF!
B27: Continuation of Asset Inspection Program + Pole Testing | D27: -112829 | F27: Higher 2025 Pole Testing and inflationary increases | G27: =-#REF! -> #REF!
B28: Financial Services | D28: -111428 | F28: Audit Fees, Cost of Service Study and other Professional Services
B29: Gross Revenue Taxes | D29: -63123.996 | F29: Higher Gross Revenue Taxes from higher revenue | G29: =-'S1 VEC Master Summary'!$E$39-'S1 VEC Master Summary'!$D$17-'S1 VEC Master Summary'!$D$18-'S1 VEC Master Summary'!$D$21 -> -63123.996
B30: Subtotal of Material Cost Increases and Revenue Decreases | D30: =SUM(D18:D29) -> -8238440.7 | G30: =SUM(G18:G29) -> #REF!
B32: Net Increase Requested | D32: =-D15-D30 -> 2999750.9 | G32: =-G30-G15 -> #REF!
G33: =+D32-'S1 VEC Master Summary'!E40 -> -2.8871e-08
G34: xchk
