Workbook

Sheet BED & McN 50% combined
A1: PREPARED 09/11/2024, | C1: 16:22:33 | G1: DETAIL | H1: TRIAL BALANCE | I1: PAGE | J1: 1 | N1: McN only
A2: PROGRAM: GM270L
A3: BURLINGTON ELECTRIC | C3: DEPARTMENT | G3: AS OF | H3: 45473 | I3: ACCOUNTING | J3: PERIOD | K3: 13/2024
A4: ------------------------------------------------------------------------------------------------------------------------------------
A5: FUND 101 BED-Operating | D5: BED | E5: McN | F5: Combined | G5: BED | H5: McN | I5: Combined
D6: DEBIT | E6: DEBIT | F6: DEBIT | G6: CREDIT | H6: CREDIT | I6: CREDIT
A7: ACCOUNT | B7: DESCRIPTION | D7: BALANCE | E7: BALANCE | F7: BALANCE | G7: BALANCE | H7: BALANCE | I7: BALANCE
A8: 0000-107.01-00 | B8: Utility Plant / Constr. Work in Progress | D8: 5845966.2 | E8: =_xlfn.IFNA(VLOOKUP(A8,'McNeil 50% only'!$A$8:$D$233,3,FALSE),0) -> 66496.75 | F8: =+D8+E8 -> 5912462.9 | H8: =_xlfn.IFNA(VLOOKUP(A8,'McNeil 50% only'!$A$8:$D$233,4,FALSE),0) -> 0 | I8: =+G8+H8 -> 0
A9: 0000-108.11-00 | B9: Accumulated Depreciation / Steam Prod-Struct/Imprvmt | E9: =_xlfn.IFNA(VLOOKUP(A9,'McNeil 50% only'!$A$8:$D$233,3,FALSE),0) -> 0 | F9: =+D9+E9 -> 0 | H9: =_xlfn.IFNA(VLOOKUP(A9,'McNeil 50% only'!$A$8:$D$233,4,FALSE),0) -> 8765412.9 | I9: =+G9+H9 -> 8765412.9
A10: 0000-108.12-00 | B10: Accumulated Depreciation / Steam Prod-Blr Plt Equip | E10: =_xlfn.IFNA(VLOOKUP(A10,'McNeil 50% only'!$A$8:$D$233,3,FALSE),0) -> 0 | F10: =+D10+E10 -> 0 | H10: =_xlfn.IFNA(VLOOKUP(A10,'McNeil 50% only'!$A$8:$D$233,4,FALSE),0) -> 27041715 | I10: =+G10+H10 -> 27041715
A11: 0000-108.14-00 | B11: Accumulated Depreciation / Steam Prod-Turbogen Units | E11: =_xlfn.IFNA(VLOOKUP(A11,'McNeil 50% only'!$A$8:$D$233,3,FALSE),0) -> 0 | F11: =+D11+E11 -> 0 | H11: =_xlfn.IFNA(VLOOKUP(A11,'McNeil 50% only'!$A$8:$D$233,4,FALSE),0) -> 6409583.9 | I11: =+G11+H11 -> 6409583.9
A12: 0000-108.15-00 | B12: Accumulated Depreciation / Steam Prod-Access Elec Eq | E12: =_xlfn.IFNA(VLOOKUP(A12,'McNeil 50% only'!$A$8:$D$233,3,FALSE),0) -> 0 | F12: =+D12+E12 -> 0 | H12: =_xlfn.IFNA(VLOOKUP(A12,'McNeil 50% only'!$A$8:$D$233,4,FALSE),0) -> 1141894.2 | I12: =+G12+H12 -> 1141894.2
A13: 0000-108.16-00 | B13: Accumulated Depreciation / Steam Prod-Misc Plant Eq | E13: =_xlfn.IFNA(VLOOKUP(A13,'McNeil 50% only'!$A$8:$D$233,3,FALSE),0) -> 0 | F13: =+D13+E13 -> 0 | H13: =_xlfn.IFNA(VLOOKUP(A13,'McNeil 50% only'!$A$8:$D$233,4,FALSE),0) -> 785373.98 | I13: =+G13+H13 -> 785373.98
A14: 0000-108.31-00 | B14: Accumulated Depreciation / Hydro-Struct/Imprvm | E14: =_xlfn.IFNA(VLOOKUP(A14,'McNeil 50% only'!$A$8:$D$233,3,FALSE),0) -> 0 | F14: =+D14+E14 -> 0 | G14: 1020938.9 | H14: =_xlfn.IFNA(VLOOKUP(A14,'McNeil 50% only'!$A$8:$D$233,4,FALSE),0) -> 0 | I14: =+G14+H14 -> 1020938.9
A15: 0000-108.32-00 | B15: Accumulated Depreciation / Hydro-Reservoirs/Dams/Wat | E15: =_xlfn.IFNA(VLOOKUP(A15,'McNeil 50% only'!$A$8:$D$233,3,FALSE),0) -> 0 | F15: =+D15+E15 -> 0 | G15: 663095.1 | H15: =_xlfn.IFNA(VLOOKUP(A15,'McNeil 50% only'!$A$8:$D$233,4,FALSE),0) -> 0 | I15: =+G15+H15 -> 663095.1
A16: 0000-108.33-00 | B16: Accumulated Depreciation / Hydro-Water Wheels/Turb/G | E16: =_xlfn.IFNA(VLOOKUP(A16,'McNeil 50% only'!$A$8:$D$233,3,FALSE),0) -> 0 | F16: =+D16+E16 -> 0 | G16: 1077931.2 | H16: =_xlfn.IFNA(VLOOKUP(A16,'McNeil 50% only'!$A$8:$D$233,4,FALSE),0) -> 0 | I16: =+G16+H16 -> 1077931.2
A17: 0000-108.34-00 | B17: Accumulated Depreciation / Hydro-Access Elect Equip | E17: =_xlfn.IFNA(VLOOKUP(A17,'McNeil 50% only'!$A$8:$D$233,3,FALSE),0) -> 0 | F17: =+D17+E17 -> 0 | G17: 418698.71 | H17: =_xlfn.IFNA(VLOOKUP(A17,'McNeil 50% only'!$A$8:$D$233,4,FALSE),0) -> 0 | I17: =+G17+H17 -> 418698.71
A18: 0000-108.35-00 | B18: Accumulated Depreciation / Hydro-Misc Plant Equip | E18: =_xlfn.IFNA(VLOOKUP(A18,'McNeil 50% only'!$A$8:$D$233,3,FALSE),0) -> 0 | F18: =+D18+E18 -> 0 | G18: 55348.93 | H18: =_xlfn.IFNA(VLOOKUP(A18,'McNeil 50% only'!$A$8:$D$233,4,FALSE),0) -> 0 | I18: =+G18+H18 -> 55348.93
A19: 0000-108.36-00 | B19: Accumulated Depreciation / Hydro-Roads/RR/Bridges | E19: =_xlfn.IFNA(VLOOKUP(A19,'McNeil 50% only'!$A$8:$D$233,3,FALSE),0) -> 0 | F19: =+D19+E19 -> 0 | G19: 17709.44 | H19: =_xlfn.IFNA(VLOOKUP(A19,'McNeil 50% only'!$A$8:$D$233,4,FALSE),0) -> 0 | I19: =+G19+H19 -> 17709.44
A20: 0000-108.41-00 | B20: Accumulated Depreciation / Other Prod-Struct/Imprvmt | E20: =_xlfn.IFNA(VLOOKUP(A20,'McNeil 50% only'!$A$8:$D$233,3,FALSE),0) -> 0 | F20: =+D20+E20 -> 0 | G20: 493786.41 | H20: =_xlfn.IFNA(VLOOKUP(A20,'McNeil 50% only'!$A$8:$D$233,4,FALSE),0) -> 0 | I20: =+G20+H20 -> 493786.41
A21: 0000-108.41-10 | B21: Other Prod-Struct/Imprvmt / Wind Turbine | E21: =_xlfn.IFNA(VLOOKUP(A21,'McNeil 50% only'!$A$8:$D$233,3,FALSE),0) -> 0 | F21: =+D21+E21 -> 0 | G21: 44124.95 | H21: =_xlfn.IFNA(VLOOKUP(A21,'McNeil 50% only'!$A$8:$D$233,4,FALSE),0) -> 0 | I21: =+G21+H21 -> 44124.95
A22: 0000-108.41-20 | B22: Other Prod-Struct/Imprvmt / Solar Facilities | E22: =_xlfn.IFNA(VLOOKUP(A22,'McNeil 50% only'!$A$8:$D$233,3,FALSE),0) -> 0 | F22: =+D22+E22 -> 0 | G22: 780846.42 | H22: =_xlfn.IFNA(VLOOKUP(A22,'McNeil 50% only'!$A$8:$D$233,4,FALSE),0) -> 0 | I22: =+G22+H22 -> 780846.42
A23: 0000-108.42-00 | B23: Other Prod-Struct/Imprvmt / Solar Facilities | E23: =_xlfn.IFNA(VLOOKUP(A23,'McNeil 50% only'!$A$8:$D$233,3,FALSE),0) -> 0 | F23: =+D23+E23 -> 0 | G23: 142461.06 | H23: =_xlfn.IFNA(VLOOKUP(A23,'McNeil 50% only'!$A$8:$D$233,4,FALSE),0) -> 0 | I23: =+G23+H23 -> 142461.06
A24: 0000-108.43-00 | B24: Accumulated Depreciation / Other Prod-Prime Movers | E24: =_xlfn.IFNA(VLOOKUP(A24,'McNeil 50% only'!$A$8:$D$233,3,FALSE),0) -> 0 | F24: =+D24+E24 -> 0 | G24: 2036713.5 | H24: =_xlfn.IFNA(VLOOKUP(A24,'McNeil 50% only'!$A$8:$D$233,4,FALSE),0) -> 0 | I24: =+G24+H24 -> 2036713.5
A25: 0000-108.43-10 | B25: Other Prod-Prime Movers / Wind Turbine | E25: =_xlfn.IFNA(VLOOKUP(A25,'McNeil 50% only'!$A$8:$D$233,3,FALSE),0) -> 0 | F25: =+D25+E25 -> 0 | G25: 75379.18 | H25: =_xlfn.IFNA(VLOOKUP(A25,'McNeil 50% only'!$A$8:$D$233,4,FALSE),0) -> 0 | I25: =+G25+H25 -> 75379.18
... A53: 0000-111.30-00 | B53: Accumulated Amortization / Intangible Plant | E53: =_xlfn.IFNA(VLOOKUP(A53,'McNeil 50% only'!$A$8:$D$233,3,FALSE),0) -> 0 | F53: =+D53+E53 -> 0 | G53: 5969160.2 | H53: =_xlfn.IFNA(VLOOKUP(A53,'McNeil 50% only'!$A$8:$D$233,4,FALSE),0) -> 382982.59 | I53: =+G53+H53 -> 6352142.8
A54: 0000-114.01-00 | B54: Electric Plant Acquire / Adjustment Acct | D54: 7414351.5 | E54: =_xlfn.IFNA(VLOOKUP(A54,'McNeil 50% only'!$A$8:$D$233,3,FALSE),0) -> 0 | F54: =+D54+E54 -> 7414351.5 | H54: =_xlfn.IFNA(VLOOKUP(A54,'McNeil 50% only'!$A$8:$D$233,4,FALSE),0) -> 0 | I54: =+G54+H54 -> 0
A55: 0000-123.02-00 | B55: Investment in Assoc Co / VELCO-Class B Comm Stock | D55: 1403800 | E55: =_xlfn.IFNA(VLOOKUP(A55,'McNeil 50% only'!$A$8:$D$233,3,FALSE),0) -> 0 | F55: =+D55+E55 -> 1403800 | H55: =_xlfn.IFNA(VLOOKUP(A55,'McNeil 50% only'!$A$8:$D$233,4,FALSE),0) -> 0 | I55: =+G55+H55 -> 0
A56: 0000-123.03-00 | B56: Investment in Assoc Co / VELCO-Class C Prefer Stck | D56: 11196 | E56: =_xlfn.IFNA(VLOOKUP(A56,'McNeil 50% only'!$A$8:$D$233,3,FALSE),0) -> 0 | F56: =+D56+E56 -> 11196 | H56: =_xlfn.IFNA(VLOOKUP(A56,'McNeil 50% only'!$A$8:$D$233,4,FALSE),0) -> 0 | I56: =+G56+H56 -> 0
A57: 0000-123.04-00 | B57: Investment in Assoc Co / VELCO-Class C Comm Stock | D57: 39200 | E57: =_xlfn.IFNA(VLOOKUP(A57,'McNeil 50% only'!$A$8:$D$233,3,FALSE),0) -> 0 | F57: =+D57+E57 -> 39200 | H57: =_xlfn.IFNA(VLOOKUP(A57,'McNeil 50% only'!$A$8:$D$233,4,FALSE),0) -> 0 | I57: =+G57+H57 -> 0
A58: 0000-123.05-00 | B58: Investment in Assoc Co / Vt Transco LLC-Cl A Units | D58: 14892751 | E58: =_xlfn.IFNA(VLOOKUP(A58,'McNeil 50% only'!$A$8:$D$233,3,FALSE),0) -> 0 | F58: =+D58+E58 -> 14892751 | H58: =_xlfn.IFNA(VLOOKUP(A58,'McNeil 50% only'!$A$8:$D$233,4,FALSE),0) -> 0 | I58: =+G58+H58 -> 0
A59: 0000-123.06-00 | B59: Investment in Assoc Co / Vt Transco LLC-Cl B Units | D59: 18954389 | E59: =_xlfn.IFNA(VLOOKUP(A59,'McNeil 50% only'!$A$8:$D$233,3,FALSE),0) -> 0 | F59: =+D59+E59 -> 18954389 | H59: =_xlfn.IFNA(VLOOKUP(A59,'McNeil 50% only'!$A$8:$D$233,4,FALSE),0) -> 0 | I59: =+G59+H59 -> 0
A60: 0000-125.32-00 | B60: Sinking Funds /2014A Prin Holding-Zions | D60: 570000 | E60: =_xlfn.IFNA(VLOOKUP(A60,'McNeil 50% only'!$A$8:$D$233,3,FALSE),0) -> 0 | F60: =+D60+E60 -> 570000 | H60: =_xlfn.IFNA(VLOOKUP(A60,'McNeil 50% only'!$A$8:$D$233,4,FALSE),0) -> 0 | I60: =+G60+H60 -> 0
A61: 0000-125.34-00 | B61: Sinking Funds /2014B Prin Holding-Zions | D61: 665000 | E61: =_xlfn.IFNA(VLOOKUP(A61,'McNeil 50% only'!$A$8:$D$233,3,FALSE),0) -> 0 | F61: =+D61+E61 -> 665000 | H61: =_xlfn.IFNA(VLOOKUP(A61,'McNeil 50% only'!$A$8:$D$233,4,FALSE),0) -> 0 | I61: =+G61+H61 -> 0
A62: 0000-125.36-00 | B62: Sinking Funds /2017A Rev Bd Prin-Zions | D62: 350000 | E62: =_xlfn.IFNA(VLOOKUP(A62,'McNeil 50% only'!$A$8:$D$233,3,FALSE),0) -> 0 | F62: =+D62+E62 -> 350000 | H62: =_xlfn.IFNA(VLOOKUP(A62,'McNeil 50% only'!$A$8:$D$233,4,FALSE),0) -> 0 | I62: =+G62+H62 -> 0
A63: 0000-125.37-00 | B63: Sinking Funds /2017B Rev Bd Prin-Zions | D63: 415000 | E63: =_xlfn.IFNA(VLOOKUP(A63,'McNeil 50% only'!$A$8:$D$233,3,FALSE),0) -> 0 | F63: =+D63+E63 -> 415000 | H63: =_xlfn.IFNA(VLOOKUP(A63,'McNeil 50% only'!$A$8:$D$233,4,FALSE),0) -> 0 | I63: =+G63+H63 -> 0
A64: 0000-128.02-00 | B64: Other Special Funds / Renewal & Replacement | D64: 867000 | E64: =_xlfn.IFNA(VLOOKUP(A64,'McNeil 50% only'!$A$8:$D$233,3,FALSE),0) -> 0 | F64: =+D64+E64 -> 867000 | H64: =_xlfn.IFNA(VLOOKUP(A64,'McNeil 50% only'!$A$8:$D$233,4,FALSE),0) -> 0 | I64: =+G64+H64 -> 0
A65: 0000-128.21-00 | B65: Other Special Funds / Debt Service Reserve-Cash | D65: 3507936.6 | E65: =_xlfn.IFNA(VLOOKUP(A65,'McNeil 50% only'!$A$8:$D$233,3,FALSE),0) -> 0 | F65: =+D65+E65 -> 3507936.6 | H65: =_xlfn.IFNA(VLOOKUP(A65,'McNeil 50% only'!$A$8:$D$233,4,FALSE),0) -> 0 | I65: =+G65+H65 -> 0
... A91: 0000-142.21-00 | B91: Customer Accts Receivable / Customer Service Fees | D91: 97125.1 | E91: =_xlfn.IFNA(VLOOKUP(A91,'McNeil 50% only'!$A$8:$D$233,3,FALSE),0) -> 0 | F91: =+D91+E91 -> 97125.1 | H91: =_xlfn.IFNA(VLOOKUP(A91,'McNeil 50% only'!$A$8:$D$233,4,FALSE),0) -> 0 | I91: =+G91+H91 -> 0
A92: 0000-142.22-00 | B92: Customer Accts Receivable / Billing Service Fees | E92: =_xlfn.IFNA(VLOOKUP(A92,'McNeil 50% only'!$A$8:$D$233,3,FALSE),0) -> 0 | F92: =+D92+E92 -> 0 | G92: 158.26 | H92: =_xlfn.IFNA(VLOOKUP(A92,'McNeil 50% only'!$A$8:$D$233,4,FALSE),0) -> 0 | I92: =+G92+H92 -> 158.26
...

Sheet BED only
A1: PREPARED 09/11/2024, | C1: 16:22:33 | E1: DETAIL | F1: TRIAL BALANCE | G1: PAGE | H1: 1
A2: PROGRAM: GM270L
A3: BURLINGTON ELECTRIC | C3: DEPARTMENT | E3: AS OF | F3: 45473 | G3: ACCOUNTING | H3: PERIOD | I3: 13/2024
A4: ------------------------------------------------------------------------------------------------------------------------------------
A5: FUND 101 BED-Operating
D6: DEBIT | E6: CREDIT
A7: ACCOUNT | B7: DESCRIPTION | D7: BALANCE | E7: BALANCE
A8: 0000-107.01-00 | B8: Utility Plant / Constr. Work in Progress | D8: 5845966.2
A9: 0000-108.31-00 | B9: Accumulated Depreciation / Hydro-Struct/Imprvm | E9: 1020938.9
A10: 0000-108.32-00 | B10: Accumulated Depreciation / Hydro-Reservoirs/Dams/Wat | E10: 663095.1
A11: 0000-108.33-00 | B11: Accumulated Depreciation / Hydro-Water Wheels/Turb/G | E11: 1077931.2
A12: 0000-108.34-00 | B12: Accumulated Depreciation / Hydro-Access Elect Equip | E12: 418698.71
A13: 0000-108.35-00 | B13: Accumulated Depreciation / Hydro-Misc Plant Equip | E13: 55348.93
A14: 0000-108.36-00 | B14: Accumulated Depreciation / Hydro-Roads/RR/Bridges | E14: 17709.44
A15: 0000-108.41-00 | B15: Accumulated Depreciation / Other Prod-Struct/Imprvmt | E15: 493786.41
A16: 0000-108.41-10 | B16: Other Prod-Struct/Imprvmt / Wind Turbine | E16: 44124.95
A17: 0000-108.41-20 | B17: Other Prod-Struct/Imprvmt / Solar Facilities | E17: 780846.42
A18: 0000-108.42-00 | B18: Other Prod-Struct/Imprvmt / Solar Facilities | E18: 142461.06
A19: 0000-108.43-00 | B19: Accumulated Depreciation / Other Prod-Prime Movers | E19: 2036713.5
A20: 0000-108.43-10 | B20: Other Prod-Prime Movers / Wind Turbine | E20: 75379.18
... A48: 0000-111.30-00 | B48: Accumulated Amortization / Intangible Plant | E48: 5969160.2
A49: 0000-114.01-00 | B49: Electric Plant Acquire / Adjustment Acct | D49: 7414351.5
A50: 0000-123.02-00 | B50: Investment in Assoc Co / VELCO-Class B Comm Stock | D50: 1403800
A51: 0000-123.03-00 | B51: Investment in Assoc Co / VELCO-Class C Prefer Stck | D51: 11196
A52: 0000-123.04-00 | B52: Investment in Assoc Co / VELCO-Class C Comm Stock | D52: 39200
A53: 0000-123.05-00 | B53: Investment in Assoc Co / Vt Transco LLC-Cl A Units | D53: 14892751
A54: 0000-123.06-00 | B54: Investment in Assoc Co / Vt Transco LLC-Cl B Units | D54: 18954389
A55: 0000-125.32-00 | B55: Sinking Funds /2014A Prin Holding-Zions | D55: 570000
A56: 0000-125.34-00 | B56: Sinking Funds /2014B Prin Holding-Zions | D56: 665000
A57: 0000-125.36-00 | B57: Sinking Funds /2017A Rev Bd Prin-Zions | D57: 350000
A58: 0000-125.37-00 | B58: Sinking Funds /2017B Rev Bd Prin-Zions | D58: 415000
A59: 0000-128.02-00 | B59: Other Special Funds / Renewal & Replacement | D59: 867000
A60: 0000-128.21-00 | B60: Other Special Funds / Debt Service Reserve-Cash | D60: 3507936.6
... A86: 0000-142.21-00 | B86: Customer Accts Receivable / Customer Service Fees | D86: 97125.1
A87: 0000-142.22-00 | B87: Customer Accts Receivable / Billing Service Fees | E87: 158.26
A88: 0000-142.40-00 | B88: Customer Accts Receivable / Construction Projects | D88: 352152.59
A89: 0000-142.41-00 | B89: Customer Accts Receivable / Allowance - Doubtful Acct | E89: 136548.1
A90: 0000-142.75-00 | B90: Customer Accts Receivable / Warmth Program | D90: 199
A91: 0000-142.81-00 | B91: Customer Accts Receivable / Cust Accts Rec RLF Loans | D91: 1555.58
A92: 0000-142.82-00 | B92: Customer Accts Receivable / Cust Accts Rec PACE ST | D92: 10997.41
...

Sheet McNeil 50% only
A1: PREPARED 09/05/2024, | E1: 14:24:50 | F1: DETAIL | H1: TRIAL BALANCE | I1: PAGE | J1: 1
A2: PROGRAM: GM270L
A3: BURLINGTON ELECTRIC | D3: DEPARTMENT | F3: AS | H3: OF 06/30/2024 | I3: ACCOUNTING | J3: PERIOD | K3: 12/2024
A4: ------------------------------------------------------------------------------------------------------------------------------------
A5: FUND 150 BED-McNeil | D5: 0.5
C6: DEBIT | D6: CREDIT
A7: ACCOUNT | B7: DESCRIPTION | C7: BALANCE | D7: BALANCE
A8: 0000-107.01-00 | B8: Utility Plant / Constr. Work in Progress | C8: 66496.75 | E8: =VLOOKUP(A8,'BED only'!$A$8:$B$808,2,FALSE) -> Utility Plant / Constr. Work in Progress
A9: 0000-108.11-00 | B9: Accumulated Depreciation / Steam Prod-Struct/Imprvmt | D9: 8765412.9 | E9: =VLOOKUP(A9,'BED only'!$A$8:$B$808,2,FALSE) -> #N/A
A10: 0000-108.12-00 | B10: Accumulated Depreciation / Steam Prod-Blr Plt Equip | D10: 27041715 | E10: =VLOOKUP(A10,'BED only'!$A$8:$B$808,2,FALSE) -> #N/A
A11: 0000-108.14-00 | B11: Accumulated Depreciation / Steam Prod-Turbogen Units | D11: 6409583.9 | E11: =VLOOKUP(A11,'BED only'!$A$8:$B$808,2,FALSE) -> #N/A
A12: 0000-108.15-00 | B12: Accumulated Depreciation / Steam Prod-Access Elec Eq | D12: 1141894.2 | E12: =VLOOKUP(A12,'BED only'!$A$8:$B$808,2,FALSE) -> #N/A
A13: 0000-108.16-00 | B13: Accumulated Depreciation / Steam Prod-Misc Plant Eq | D13: 785373.98 | E13: =VLOOKUP(A13,'BED only'!$A$8:$B$808,2,FALSE) -> #N/A
A14: 0000-108.91-00 | B14: Accumulated Depreciation / Genl Plt-Office Furn/Eq | D14: 19943 | E14: =VLOOKUP(A14,'BED only'!$A$8:$B$808,2,FALSE) -> Accumulated Depreciation / Genl Plt-Office Furn/Eq
A15: 0000-108.92-00 | B15: Accumulated Depreciation / Genl Plt-Transport Eq | D15: 119202.2 | E15: =VLOOKUP(A15,'BED only'!$A$8:$B$808,2,FALSE) -> Accumulated Depreciation / Genl Plt-Transport Eq
A16: 0000-108.98-00 | B16: Accumulated Depreciation / Genl Plt-Misc Equip | D16: 9321.74 | E16: =VLOOKUP(A16,'BED only'!$A$8:$B$808,2,FALSE) -> Accumulated Depreciation / Genl Plt-Misc Equip
A17: 0000-111.30-00 | B17: Accumulated Amortization / Intangible Plant | D17: 382982.59 | E17: =VLOOKUP(A17,'BED only'!$A$8:$B$808,2,FALSE) -> Accumulated Amortization / Intangible Plant
A18: 0000-131.01-00 | B18: Cash / Checking | C18: 571757.59 | E18: =VLOOKUP(A18,'BED only'!$A$8:$B$808,2,FALSE) -> Cash / Checking
A19: 0000-131.04-00 | B19: Cash / Payroll | C19: 0.14 | E19: =VLOOKUP(A19,'BED only'!$A$8:$B$808,2,FALSE) -> Cash / Payroll
A20: 0000-135.01-00 | B20: Working Funds / Petty Cash | C20: 325 | E20: =VLOOKUP(A20,'BED only'!$A$8:$B$808,2,FALSE) -> Working Funds / Petty Cash
A21: 0000-143.05-00 | B21: OtherAccounts Receivable / Miscellaneous | C21: 1449.15 | E21: =VLOOKUP(A21,'BED only'!$A$8:$B$808,2,FALSE) -> Other Accounts Receivable / Miscellaneous
A22: 0000-146.01-00 | B22: AcctsRec From Assoc Comp / McNeil50 | D22: 72794.56 | E22: =VLOOKUP(A22,'BED only'!$A$8:$B$808,2,FALSE) -> #N/A
A23: 0000-151.10-00 | B23: Fuel Inventory /Oil | C23: 54602.43 | E23: =VLOOKUP(A23,'BED only'!$A$8:$B$808,2,FALSE) -> Fuel Inventory / Oil
A24: 0000-151.21-00 | B24: Fuel Inventory /Woodchips-McNeil | C24: 667281.43 | E24: =VLOOKUP(A24,'BED only'!$A$8:$B$808,2,FALSE) -> #N/A
A25: 0000-151.22-00 | B25: Fuel Inventory /Woodchips-Swanton | C25: 373944.18 | E25: =VLOOKUP(A25,'BED only'!$A$8:$B$808,2,FALSE) -> #N/A
A26: 0000-151.29-00 | B26: Fuel Inventory /Roundwood-McNeil | C26: 3500.67 | E26: =VLOOKUP(A26,'BED only'!$A$8:$B$808,2,FALSE) -> #N/A
A27: 0000-152.01-00 | B27: Fuel Stk Exp Undistribute / McNeil | C27: 119359.03 | E27: =VLOOKUP(A27,'BED only'!$A$8:$B$808,2,FALSE) -> #N/A
A28: 0000-152.02-00 | B28: Fuel Stk Exp Undistribute / Swanton | C28: 68166.59 | E28: =VLOOKUP(A28,'BED only'!$A$8:$B$808,2,FALSE) -> #N/A
A29: 0000-152.03-00 | B29: Fuel Stk Exp Undistribute / Waste Wood | C29: 9005.67 | E29: =VLOOKUP(A29,'BED only'!$A$8:$B$808,2,FALSE) -> #N/A
A30: 0000-154.07-00 | B30: PlantMaterial &Supplies / Spare Parts | C30: 2607584.2 | E30: =VLOOKUP(A30,'BED only'!$A$8:$B$808,2,FALSE) -> #N/A
A31: 0000-165.12-00 | B31: Prepayments / Boiler & Machinery Ins | C31: 102397.08 | E31: =VLOOKUP(A31,'BED only'!$A$8:$B$808,2,FALSE) -> Prepayments / Boiler & Machinery Ins
A32: 0000-165.13-00 | B32: Prepayments / Excess Liability Ins | C32: 3135.82 | E32: =VLOOKUP(A32,'BED only'!$A$8:$B$808,2,FALSE) -> Prepayments / Excess Liability Ins
A33: 0000-165.14-00 | B33: Prepayments / Primary Liability Ins | C33: 3171.83 | E33: =VLOOKUP(A33,'BED only'!$A$8:$B$808,2,FALSE) -> Prepayments / Primary Liability Ins
A34: 0000-165.21-00 | B34: Prepayments / Agency Commission | C34: 1717.9 | E34: =VLOOKUP(A34,'BED only'!$A$8:$B$808,2,FALSE) -> Prepayments / Agency Commission
... A42: 0000-182.30-00 | B42: Misc Deferred / Other Regulatory Assets | C42: 21760.08 | E42: =VLOOKUP(A42,'BED only'!$A$8:$B$808,2,FALSE) -> Misc Deferred / Other Regulatory Assets
A43: 0000-186.09-00 | B43: Misc Deferred Debits / Depreciation Expense | D43: 2650950.6 | E43: =VLOOKUP(A43,'BED only'!$A$8:$B$808,2,FALSE) -> Misc Deferred Debits / Depreciation Expense
A44: 0000-186.10-00 | B44: Misc Deferred Debits / Excess Defrd SF Deprec | C44: 1054383.6 | E44: =VLOOKUP(A44,'BED only'!$A$8:$B$808,2,FALSE) -> #N/A
A45: 0000-192.05-00 | B45: Transfer To Operating / McNeil | C45: 89045766 | E45: =VLOOKUP(A45,'BED only'!$A$8:$B$808,2,FALSE) -> #N/A
A46: 0000-193.05-00 | B46: Transfer to Others / McNeil | C46: 2346263.4 | E46: =VLOOKUP(A46,'BED only'!$A$8:$B$808,2,FALSE) -> #N/A
A47: 0000-216.01-00 | B47: Capitalization /Retained Earnings | C47: 1.94037e+08 | E47: =VLOOKUP(A47,'BED only'!$A$8:$B$808,2,FALSE) -> Capitalization / Retained Earnings
...
