Workbook
Name \A: #REF!
Name \P: #REF!
Name AUG: #REF!
Name OCT: #REF!
Name SEPT: #REF!

Sheet 5-Year Plan Data
C3: 2013 | D3: 2014 | E3: 2015 | F3: 2016 | G3: 2017 | H3: 2018 | I3: 2019 | J3: 2020 | K3: 2021
B4: Purchased kWh | C4: =+MWH!#REF!*1000 -> #REF! | D4: =+MWH!#REF!*1000 -> #REF! | E4: =+MWH!#REF!*1000 -> #REF! | F4: =+MWH!#REF!*1000 -> #REF! | G4: =+MWH!#REF!*1000 -> #REF! | H4: =+MWH!#REF!*1000 -> #REF! | I4: =+MWH!#REF!*1000 -> #REF! | J4: =+MWH!#REF!*1000 -> #REF! | K4: =+MWH!#REF!*1000 -> #REF!
B5: Sales for Resales kWh | C5: =-MWH!#REF!*1000 -> #REF! | D5: =-MWH!#REF!*1000 -> #REF! | E5: =-MWH!#REF!*1000 -> #REF! | F5: =-MWH!#REF!*1000 -> #REF! | G5: =-MWH!#REF!*1000 -> #REF! | H5: =-MWH!#REF!*1000 -> #REF! | I5: =-MWH!#REF!*1000 -> #REF! | J5: =-MWH!#REF!*1000 -> #REF! | K5: =-MWH!#REF!*1000 -> #REF!
B6: Net kWh | C6: =+MWH!#REF!*1000 -> #REF! | D6: =+MWH!#REF!*1000 -> #REF! | E6: =+MWH!#REF!*1000 -> #REF! | F6: =+MWH!#REF!*1000 -> #REF! | G6: =+MWH!#REF!*1000 -> #REF! | H6: =+MWH!#REF!*1000 -> #REF! | I6: =+MWH!#REF!*1000 -> #REF! | J6: =+MWH!#REF!*1000 -> #REF! | K6: =+MWH!#REF!*1000 -> #REF!
B7: Grossed Purchase Power $ | C7: =+'$'!#REF!-'$'!#REF! -> #REF! | D7: =+'$'!#REF!-'$'!#REF! -> #REF! | E7: =+'$'!#REF!-'$'!#REF! -> #REF! | F7: =+'$'!#REF!-'$'!#REF! -> #REF! | G7: =+'$'!#REF!-'$'!#REF! -> #REF! | H7: =+'$'!#REF!-'$'!#REF! -> #REF! | I7: =+'$'!#REF!-'$'!#REF! -> #REF! | J7: =+'$'!#REF!-'$'!#REF! -> #REF! | K7: =+'$'!#REF!-'$'!#REF! -> #REF!
B8: Sales for Resales $ | C8: =-'$'!#REF! -> #REF! | D8: =-'$'!#REF! -> #REF! | E8: =-'$'!#REF! -> #REF! | F8: =-'$'!#REF! -> #REF! | G8: =-'$'!#REF! -> #REF! | H8: =-'$'!#REF! -> #REF! | I8: =-'$'!#REF! -> #REF! | J8: =-'$'!#REF! -> #REF! | K8: =-'$'!#REF! -> #REF!
B9: REC $ | C9: =+'$'!#REF! -> #REF! | D9: =+'$'!#REF! -> #REF! | E9: =+'$'!#REF! -> #REF! | F9: =+'$'!#REF! -> #REF! | G9: =+'$'!#REF! -> #REF! | H9: =+'$'!#REF! -> #REF! | I9: =+'$'!#REF! -> #REF! | J9: =+'$'!#REF! -> #REF! | K9: =+'$'!#REF! -> #REF!
B10: REC Broker Fees | C10: 10000 | D10: 10000 | E10: 10000 | F10: 10000 | G10: 10000 | H10: 10000 | I10: 10000 | J10: 10000 | K10: 10000
B11: Net $ | C11: =+SUM(C7:C10) -> #REF! | D11: =+SUM(D7:D10) -> #REF! | E11: =+SUM(E7:E10) -> #REF! | F11: =+SUM(F7:F10) -> #REF! | G11: =+SUM(G7:G10) -> #REF! | H11: =+SUM(H7:H10) -> #REF! | I11: =+SUM(I7:I10) -> #REF! | J11: =+SUM(J7:J10) -> #REF! | K11: =+SUM(K7:K10) -> #REF!
B16: Changes from 4/22/15 version
B17: 1 | C17: Capacity for NextEra 3 -=year deal entered 1/2015 for 6/2018-5/2021 was changed from 3.0 MW to 5.0 MW.
B18: 2 | C18: Capcity for NextEra 5-year deal entered 9/2013 for 6/2017-5/2022 was change from 5.0 MW to 10 MW.
B19: 3 | C19: Capacity and $ for NextEra Amendment entered 1/2015 was added to the spreadsheet
B20: 4 | C20: Changed share of ISO peak to account for impact of SPEED Standard Offer and Tier II, beginning in June 2017
B21: 5 | C21: Sale of 10k RECs per year at $48.75 per REC for 2015-2017.

Sheet $
A1: Exhibit - VEC-DP -1 - ATY Power Cost Projections - Final | E1: This document is being submitted electronically via ePUC.
C2: Generation
D3: Energy
C6: Purchase Power | E6: =+'Detailed Assumps'!O2 -> 45673 | F6: =+'Detailed Assumps'!P2 -> 45704 | G6: =+'Detailed Assumps'!Q2 -> 45732 | H6: =+'Detailed Assumps'!R2 -> 45763 | I6: =+'Detailed Assumps'!S2 -> 45793 | J6: =+'Detailed Assumps'!T2 -> 45824 | K6: =+'Detailed Assumps'!U2 -> 45854 | L6: =+'Detailed Assumps'!V2 -> 45885 | ... P6: =+'Detailed Assumps'!Z2 -> 46007 | Q6: 2025
C7: =+'Detailed Assumps'!A388 -> Delvin Warner | E7: =+'Detailed Assumps'!O391 -> 455.08023 | F7: =+'Detailed Assumps'!P391 -> 392.46332 | G7: =+'Detailed Assumps'!Q391 -> 654.96701 | H7: =+'Detailed Assumps'!R391 -> 625.20921 | I7: =+'Detailed Assumps'!S391 -> 261.9868 | J7: =+'Detailed Assumps'!T391 -> 357.31515 | K7: =+'Detailed Assumps'!U391 -> 484.46883 | L7: =+'Detailed Assumps'!V391 -> 201.58511 | ... P7: =+'Detailed Assumps'!Z391 -> 277.41951 | Q7: =SUM(E7:P7) -> 4727.6508
C8: =+'Detailed Assumps'!A393 -> Arlon Warner | E8: =+'Detailed Assumps'!O396 -> 204.61258 | F8: =+'Detailed Assumps'!P396 -> 90.528698 | G8: =+'Detailed Assumps'!Q396 -> 487.93935 | H8: =+'Detailed Assumps'!R396 -> 643.8909 | I8: =+'Detailed Assumps'!S396 -> 422.22112 | J8: =+'Detailed Assumps'!T396 -> 640.34655 | K8: =+'Detailed Assumps'!U396 -> 685.2417 | L8: =+'Detailed Assumps'!V396 -> 740.0315 | ... P8: =+'Detailed Assumps'!Z396 -> 791.42462 | Q8: =SUM(E8:P8) -> 6960.8889
C9: =+'Detailed Assumps'!A369 -> Total SPEED $ | D9: Energy | E9: =+'Detailed Assumps'!O373 -> 0 | F9: =+'Detailed Assumps'!P373 -> 0 | G9: =+'Detailed Assumps'!Q373 -> 0 | H9: =+'Detailed Assumps'!R373 -> 0 | I9: =+'Detailed Assumps'!S373 -> 0 | J9: =+'Detailed Assumps'!T373 -> 0 | K9: =+'Detailed Assumps'!U373 -> 0 | L9: =+'Detailed Assumps'!V373 -> 0 | ... P9: =+'Detailed Assumps'!Z373 -> 0 | Q9: =SUM(E9:P9) -> 0
C10: =+'Detailed Assumps'!A399 -> Encore - Alburgh | E10: =+'Detailed Assumps'!O404 -> 3867.0979 | F10: =+'Detailed Assumps'!P404 -> 11601.294 | G10: =+'Detailed Assumps'!Q404 -> 15790.65 | H10: =+'Detailed Assumps'!R404 -> 17724.199 | I10: =+'Detailed Assumps'!S404 -> 22558.071 | J10: =+'Detailed Assumps'!T404 -> 20946.78 | K10: =+'Detailed Assumps'!U404 -> 19657.747 | L10: =+'Detailed Assumps'!V404 -> 20302.264 | ... P10: =+'Detailed Assumps'!Z404 -> 3905.7688 | Q10: =SUM(E10:P10) -> 173091.3
C11: =+'Detailed Assumps'!A406 -> Encore - Magee Hill | E11: =+'Detailed Assumps'!O410 -> 2166.312 | F11: =+'Detailed Assumps'!P410 -> 10744.84 | G11: =+'Detailed Assumps'!Q410 -> 12972.906 | H11: =+'Detailed Assumps'!R410 -> 18343.275 | I11: =+'Detailed Assumps'!S410 -> 22956.563 | J11: =+'Detailed Assumps'!T410 -> 23475.316 | K11: =+'Detailed Assumps'!U410 -> 25456.368 | L11: =+'Detailed Assumps'!V410 -> 23279.562 | ... P11: =+'Detailed Assumps'!Z410 -> 3322.5155 | Q11: =SUM(E11:P11) -> 184180.03
C12: =+'Detailed Assumps'!A412 -> Bullrock - Grand Isle | E12: =+'Detailed Assumps'!O416 -> 15238.56 | F12: =+'Detailed Assumps'!P416 -> 52328.64 | G12: =+'Detailed Assumps'!Q416 -> 69867.36 | H12: =+'Detailed Assumps'!R416 -> 73605.12 | I12: =+'Detailed Assumps'!S416 -> 104082.24 | J12: =+'Detailed Assumps'!T416 -> 92581.44 | K12: =+'Detailed Assumps'!U416 -> 94881.6 | L12: =+'Detailed Assumps'!V416 -> 89706.24 | ... P12: =+'Detailed Assumps'!Z416 -> 15238.56 | Q12: =SUM(E12:P12) -> 769116
C13: =+'Detailed Assumps'!A677 -> Encore -Jericho - Gravel Pit | E13: =+'Detailed Assumps'!O423 -> 2145.4302 | F13: =+'Detailed Assumps'!P423 -> 15699.631 | G13: =+'Detailed Assumps'!Q423 -> 19170.767 | H13: =+'Detailed Assumps'!R423 -> 20913.914 | I13: =+'Detailed Assumps'!S423 -> 36388.224 | J13: =+'Detailed Assumps'!T423 -> 34980.232 | K13: =+'Detailed Assumps'!U423 -> 35131.69 | L13: =+'Detailed Assumps'!V423 -> 35131.69 | ... P13: =+'Detailed Assumps'!Z423 -> 5140.2987 | Q13: =SUM(E13:P13) -> 263338.38
C14: =+'Detailed Assumps'!A678 -> Encore - Jericho - Landfill | E14: =+'Detailed Assumps'!O429 -> 1353.3948 | F14: =+'Detailed Assumps'!P429 -> 12898.535 | G14: =+'Detailed Assumps'!Q429 -> 14912.707 | H14: =+'Detailed Assumps'!R429 -> 10642.804 | I14: =+'Detailed Assumps'!S429 -> 23862.724 | J14: =+'Detailed Assumps'!T429 -> 27849.233 | K14: =+'Detailed Assumps'!U429 -> 3599.6832 | L14: =+'Detailed Assumps'!V429 -> 20708.939 | ... P14: =+'Detailed Assumps'!Z429 -> 509.472 | Q14: =SUM(E14:P14) -> 149032.09
C15: =+'Detailed Assumps'!A376 -> Kingdom Community Wind | D15: Energy | E15: =+'Detailed Assumps'!O382 -> 232123 | F15: =+'Detailed Assumps'!P382 -> 232123 | G15: =+'Detailed Assumps'!Q382 -> 232123 | H15: =+'Detailed Assumps'!R382 -> 232123 | I15: =+'Detailed Assumps'!S382 -> 232123 | J15: =+'Detailed Assumps'!T382 -> 232123 | K15: =+'Detailed Assumps'!U382 -> 232123 | L15: =+'Detailed Assumps'!V382 -> 232123 | ... P15: =+'Detailed Assumps'!Z382 -> 228641 | Q15: =SUM(E15:P15) -> 2775030
C16: Kingdom Community Wind - FCM | D16: Demand | E16: =+'Detailed Assumps'!O755 -> -6319.8942 | F16: =+'Detailed Assumps'!P755 -> -6319.8942 | G16: =+'Detailed Assumps'!Q755 -> -6319.8942 | H16: =+'Detailed Assumps'!R755 -> -6319.5734 | I16: =+'Detailed Assumps'!S755 -> -6319.8942 | J16: =+'Detailed Assumps'!T755 -> -3768.3869 | K16: =+'Detailed Assumps'!U755 -> -3768.3869 | L16: =+'Detailed Assumps'!V755 -> -3768.3869 | ... P16: =+'Detailed Assumps'!Z755 -> -6273.3537 | Q16: =SUM(E16:P16) -> -65492.759
C17: First Wind - Index to Market | D17: Energy | E17: =+'Detailed Assumps'!O232 -> 120516.9 | F17: =+'Detailed Assumps'!P232 -> 183584.33 | G17: =+'Detailed Assumps'!Q232 -> 170392.49 | H17: =+'Detailed Assumps'!R232 -> 104271.68 | I17: =+'Detailed Assumps'!S232 -> 56148.59 | J17: =+'Detailed Assumps'!T232 -> 62232.426 | K17: =+'Detailed Assumps'!U232 -> 56029.653 | L17: =+'Detailed Assumps'!V232 -> 90201.546 | ... P17: =+'Detailed Assumps'!Z232 -> 153205.11 | Q17: =SUM(E17:P17) -> 1230765.4
C18: First Wind - Fixed Price - Energy | D18: Energy | E18: =+'Detailed Assumps'!O239 -> 47463.264 | F18: =+'Detailed Assumps'!P239 -> 82179.719 | G18: =+'Detailed Assumps'!Q239 -> 122646.35 | H18: =+'Detailed Assumps'!R239 -> 92793.681 | I18: =+'Detailed Assumps'!S239 -> 55841.789 | J18: =+'Detailed Assumps'!T239 -> 56702.006 | K18: =+'Detailed Assumps'!U239 -> 37022.038 | L18: =+'Detailed Assumps'!V239 -> 60558.877 | ... P18: =+'Detailed Assumps'!Z239 -> 76188.258 | Q18: =SUM(E18:P18) -> 822031.79
C19: First Wind - Fixed Price - FCM | D19: Demand | E19: =+'Detailed Assumps'!O754 -> 0 | F19: =+'Detailed Assumps'!P754 -> 0 | G19: =+'Detailed Assumps'!Q754 -> 0 | H19: =+'Detailed Assumps'!R754 -> 0 | I19: =+'Detailed Assumps'!S754 -> 0 | J19: =+'Detailed Assumps'!T754 -> 0 | K19: =+'Detailed Assumps'!U754 -> 0 | L19: =+'Detailed Assumps'!V754 -> 0 | ... P19: =+'Detailed Assumps'!Z754 -> 0 | Q19: =SUM(E19:P19) -> 0
C20: Howard Wind | E20: =+'Detailed Assumps'!O541 -> 519105.4 | F20: =+'Detailed Assumps'!P541 -> 468518.58 | G20: =+'Detailed Assumps'!Q541 -> 717383.99 | H20: =+'Detailed Assumps'!R541 -> 293184.15 | I20: =+'Detailed Assumps'!S541 -> 172034.3 | J20: =+'Detailed Assumps'!T541 -> 189232.83 | K20: =+'Detailed Assumps'!U541 -> 97238.395 | L20: =+'Detailed Assumps'!V541 -> 158129.04 | ... P20: =+'Detailed Assumps'!Z541 -> 357971.91 | Q20: =SUM(E20:P20) -> 3733473.2
C21: HQUS | D21: Energy | E21: =+'Detailed Assumps'!O183 -> 733286.4 | F21: =+'Detailed Assumps'!P183 -> 662323.2 | G21: =+'Detailed Assumps'!Q183 -> 733286.4 | H21: =+'Detailed Assumps'!R183 -> 709632 | I21: =+'Detailed Assumps'!S183 -> 733286.4 | J21: =+'Detailed Assumps'!T183 -> 709632 | K21: =+'Detailed Assumps'!U183 -> 733286.4 | L21: =+'Detailed Assumps'!V183 -> 733286.4 | ... P21: =+'Detailed Assumps'!Z183 -> 755284.99 | Q21: =SUM(E21:P21) -> 8677143.6
C22: Hydro Quebec ASE | D22: Energy | E22: =+'Detailed Assumps'!O205 -> 501701.31 | F22: =+'Detailed Assumps'!P205 -> 455990.06 | G22: =+'Detailed Assumps'!Q205 -> 304123.93 | H22: =+'Detailed Assumps'!R205 -> 175232.55 | I22: =+'Detailed Assumps'!S205 -> 231953.73 | J22: =+'Detailed Assumps'!T205 -> 449778.28 | K22: =+'Detailed Assumps'!U205 -> 762890.21 | L22: =+'Detailed Assumps'!V205 -> 611805.32 | ... P22: =+'Detailed Assumps'!Z205 -> 159046.8 | Q22: =SUM(E22:P22) -> 4922750.3
C23: HQ 2021-2023 | D23: Energy | Q23: =SUM(E23:P23) -> 0
C24: VEPPI | D24: Energy | E24: =+'Detailed Assumps'!O340 -> 0 | F24: =+'Detailed Assumps'!P340 -> 0 | G24: =+'Detailed Assumps'!Q340 -> 0 | H24: =+'Detailed Assumps'!R340 -> 0 | I24: =+'Detailed Assumps'!S340 -> 0 | J24: =+'Detailed Assumps'!T340 -> 0 | K24: =+'Detailed Assumps'!U340 -> 0 | L24: =+'Detailed Assumps'!V340 -> 0 | ... P24: =+'Detailed Assumps'!Z340 -> 0 | Q24: =SUM(E24:P24) -> 0
C25: VEPPI FCM Settlement | D25: Demand | E25: =+'Detailed Assumps'!O749 -> 0 | F25: =+'Detailed Assumps'!P749 -> 0 | G25: =+'Detailed Assumps'!Q749 -> 0 | H25: =+'Detailed Assumps'!R749 -> 0 | I25: =+'Detailed Assumps'!S749 -> 0 | J25: =+'Detailed Assumps'!T749 -> 0 | K25: =+'Detailed Assumps'!U749 -> 0 | L25: =+'Detailed Assumps'!V749 -> 0 | ... P25: =+'Detailed Assumps'!Z749 -> 0 | Q25: =SUM(E25:P25) -> 0
C26: SPEED FIT | D26: Energy | E26: =+'Detailed Assumps'!O356 -> 173078.18 | F26: =+'Detailed Assumps'!P356 -> 192065.03 | G26: =+'Detailed Assumps'!Q356 -> 336241.23 | H26: =+'Detailed Assumps'!R356 -> 427845.92 | I26: =+'Detailed Assumps'!S356 -> 411992.41 | J26: =+'Detailed Assumps'!T356 -> 406609.52 | K26: =+'Detailed Assumps'!U356 -> 392751.22 | L26: =+'Detailed Assumps'!V356 -> 383666.44 | ... P26: =+'Detailed Assumps'!Z356 -> 187372.7 | Q26: =SUM(E26:P26) -> 3858120
C27: SPEED FIT - FCM Settlement | E27: =+'Detailed Assumps'!O750 -> 0 | F27: =+'Detailed Assumps'!P750 -> 0 | G27: =+'Detailed Assumps'!Q750 -> 0 | H27: =+'Detailed Assumps'!R750 -> 0 | I27: =+'Detailed Assumps'!S750 -> 0 | J27: =+'Detailed Assumps'!T750 -> 0 | K27: =+'Detailed Assumps'!U750 -> 0 | L27: =+'Detailed Assumps'!V750 -> 0 | ... P27: =+'Detailed Assumps'!Z750 -> 0 | Q27: =SUM(E27:P27) -> 0
C28: Ryegate | E28: =+'Detailed Assumps'!O364 -> 94114.683 | F28: =+'Detailed Assumps'!P364 -> 133832.89 | G28: =+'Detailed Assumps'!Q364 -> 147738.9 | H28: =+'Detailed Assumps'!R364 -> 121181.64 | I28: =+'Detailed Assumps'!S364 -> 129674.46 | J28: =+'Detailed Assumps'!T364 -> 135016.33 | K28: =+'Detailed Assumps'!U364 -> 145863.77 | L28: =+'Detailed Assumps'!V364 -> 144930.51 | ... P28: =+'Detailed Assumps'!Z364 -> 117807.79 | Q28: =SUM(E28:P28) -> 1469062.2
C29: Boltonville | D29: Energy | E29: =+'Detailed Assumps'!O328 -> 0 | F29: =+'Detailed Assumps'!P328 -> 0 | G29: =+'Detailed Assumps'!Q328 -> 0 | H29: =+'Detailed Assumps'!R328 -> 0 | I29: =+'Detailed Assumps'!S328 -> 0 | J29: =+'Detailed Assumps'!T328 -> 0 | K29: =+'Detailed Assumps'!U328 -> 0 | L29: =+'Detailed Assumps'!V328 -> 0 | ... P29: =+'Detailed Assumps'!Z328 -> 0 | Q29: =SUM(E29:P29) -> 0
C30: Newport Hydro | D30: Energy | E30: =+'Detailed Assumps'!O319 -> 121050.38 | F30: =+'Detailed Assumps'!P319 -> 59361.728 | G30: =+'Detailed Assumps'!Q319 -> 193951.87 | H30: =+'Detailed Assumps'!R319 -> 185557.36 | I30: =+'Detailed Assumps'!S319 -> 174331.03 | J30: =+'Detailed Assumps'!T319 -> 112561.25 | K30: =+'Detailed Assumps'!U319 -> 166570.15 | L30: =+'Detailed Assumps'!V319 -> 107353.82 | ... P30: =+'Detailed Assumps'!Z319 -> 181056.56 | Q30: =SUM(E30:P30) -> 1584570.9
C31: St Lawrence | D31: Energy | E31: =+'Detailed Assumps'!O274 -> 2715.66 | F31: =+'Detailed Assumps'!P274 -> 3605.3 | G31: =+'Detailed Assumps'!Q274 -> 2185.08 | H31: =+'Detailed Assumps'!R274 -> 1782.13 | I31: =+'Detailed Assumps'!S274 -> 2511.94 | J31: =+'Detailed Assumps'!T274 -> 2322.09 | K31: =+'Detailed Assumps'!U274 -> 3564.0079 | L31: =+'Detailed Assumps'!V274 -> 2121.2099 | ... P31: =+'Detailed Assumps'!Z274 -> 3488.18 | Q31: =SUM(E31:P31) -> 30599.468
C32: Niagara | D32: Energy | E32: =+'Detailed Assumps'!O288 -> 112069.99 | F32: =+'Detailed Assumps'!P288 -> 134646.43 | G32: =+'Detailed Assumps'!Q288 -> 87582.25 | H32: =+'Detailed Assumps'!R288 -> 82035.46 | I32: =+'Detailed Assumps'!S288 -> 103989.92 | J32: =+'Detailed Assumps'!T288 -> 85444.53 | K32: =+'Detailed Assumps'!U288 -> 103219.31 | L32: =+'Detailed Assumps'!V288 -> 75538.277 | ... P32: =+'Detailed Assumps'!Z288 -> 115868.44 | Q32: =SUM(E32:P32) -> 1112825.4
C33: PSEG | D33: Capacity | E33: =+'Detailed Assumps'!O443 -> 0 | F33: =+'Detailed Assumps'!P443 -> 0 | G33: =+'Detailed Assumps'!Q443 -> 0 | H33: =+'Detailed Assumps'!R443 -> 0 | I33: =+'Detailed Assumps'!S443 -> 0 | J33: =+'Detailed Assumps'!T443 -> 0 | K33: =+'Detailed Assumps'!U443 -> 0 | L33: =+'Detailed Assumps'!V443 -> 0 | ... P33: =+'Detailed Assumps'!Z443 -> 0 | Q33: =SUM(E33:P33) -> 0
C34: =+'Detailed Assumps'!A483 -> EDF | E34: =+'Detailed Assumps'!O488 -> 0 | F34: =+'Detailed Assumps'!P488 -> 0 | G34: =+'Detailed Assumps'!Q488 -> 0 | H34: =+'Detailed Assumps'!R488 -> 0 | I34: =+'Detailed Assumps'!S488 -> 0 | J34: =+'Detailed Assumps'!T488 -> 0 | K34: =+'Detailed Assumps'!U488 -> 0 | L34: =+'Detailed Assumps'!V488 -> 0 | ... P34: =+'Detailed Assumps'!Z488 -> 0 | Q34: =SUM(E34:P34) -> 0
C35: NextEra - 2022-2025 - Energy | E35: =+'Detailed Assumps'!O614 -> 517555.15 | F35: =+'Detailed Assumps'!P614 -> 516458.85 | G35: =+'Detailed Assumps'!Q614 -> 353296.42 | H35: =+'Detailed Assumps'!R614 -> 184777.06 | I35: =+'Detailed Assumps'!S614 -> 154479.2 | J35: =+'Detailed Assumps'!T614 -> 262514.98 | K35: =+'Detailed Assumps'!U614 -> 415150.39 | L35: =+'Detailed Assumps'!V614 -> 284590.55 | ... P35: =+'Detailed Assumps'!Z614 -> 427209.74 | Q35: =SUM(E35:P35) -> 3835251.4
C36: Emera | E36: ='Detailed Assumps'!O644 -> 0 | F36: ='Detailed Assumps'!P644 -> 0 | G36: ='Detailed Assumps'!Q644 -> 0 | H36: ='Detailed Assumps'!R644 -> 0 | I36: ='Detailed Assumps'!S644 -> 0 | J36: ='Detailed Assumps'!T644 -> 0 | K36: ='Detailed Assumps'!U644 -> 0 | L36: ='Detailed Assumps'!V644 -> 0 | ... P36: ='Detailed Assumps'!Z644 -> 0 | Q36: =SUM(E36:P36) -> 0
C37: Merrill Lynch | E37: =+'Detailed Assumps'!O628 -> 0 | F37: =+'Detailed Assumps'!P628 -> 0 | G37: =+'Detailed Assumps'!Q628 -> 0 | H37: =+'Detailed Assumps'!R628 -> 0 | I37: =+'Detailed Assumps'!S628 -> 0 | J37: =+'Detailed Assumps'!T628 -> 0 | K37: =+'Detailed Assumps'!U628 -> 0 | L37: =+'Detailed Assumps'!V628 -> 0 | ... P37: =+'Detailed Assumps'!Z628 -> 0 | Q37: =SUM(E37:P37) -> 0
C38: NextEra Energy | E38: =+'Detailed Assumps'!O550 -> 0 | F38: =+'Detailed Assumps'!P550 -> 0 | G38: =+'Detailed Assumps'!Q550 -> 0 | H38: =+'Detailed Assumps'!R550 -> 0 | I38: =+'Detailed Assumps'!S550 -> 0 | J38: =+'Detailed Assumps'!T550 -> 0 | K38: =+'Detailed Assumps'!U550 -> 0 | L38: =+'Detailed Assumps'!V550 -> 0 | ... P38: =+'Detailed Assumps'!Z550 -> 0 | Q38: =SUM(E38:P38) -> 0
A39: =+'$'!C39 -> NextEra - Capacity | B39: =+'$'!D39 -> Demand | C39: NextEra - Capacity | D39: Demand | E39: =+'Detailed Assumps'!O581 -> 0 | F39: =+'Detailed Assumps'!P581 -> 0 | G39: =+'Detailed Assumps'!Q581 -> 0 | H39: =+'Detailed Assumps'!R581 -> 0 | I39: =+'Detailed Assumps'!S581 -> 0 | J39: =+'Detailed Assumps'!T581 -> 0 | K39: =+'Detailed Assumps'!U581 -> 0 | L39: =+'Detailed Assumps'!V581 -> 0 | ... P39: =+'Detailed Assumps'!Z581 -> 0 | Q39: =SUM(E39:P39) -> 0
C40: NextEra - Seabrook - Energy | E40: =+'Detailed Assumps'!O561 -> 551691.51 | F40: =+'Detailed Assumps'!P561 -> 498302.01 | G40: =+'Detailed Assumps'!Q561 -> 475820.45 | H40: =+'Detailed Assumps'!R561 -> 436823.19 | I40: =+'Detailed Assumps'!S561 -> 451383.96 | J40: =+'Detailed Assumps'!T561 -> 485359.1 | K40: =+'Detailed Assumps'!U561 -> 551691.51 | L40: =+'Detailed Assumps'!V561 -> 551691.51 | ... P40: =+'Detailed Assumps'!Z561 -> 551691.51 | Q40: =SUM(E40:P40) -> 5904393.5
C41: NextEra - Seabrook - Capacity | E41: =+'Detailed Assumps'!O568 -> 126503.37 | F41: =+'Detailed Assumps'!P568 -> 126503.37 | G41: =+'Detailed Assumps'!Q568 -> 126503.37 | H41: =+'Detailed Assumps'!R568 -> 126503.37 | I41: =+'Detailed Assumps'!S568 -> 126503.37 | J41: =+'Detailed Assumps'!T568 -> 129161.21 | K41: =+'Detailed Assumps'!U568 -> 129161.21 | L41: =+'Detailed Assumps'!V568 -> 129161.21 | ... P41: =+'Detailed Assumps'!Z568 -> 129161.21 | Q41: =SUM(E41:P41) -> 1536645.3
C42: =+'Detailed Assumps'!A632 -> JP Morgan | E42: =+'Detailed Assumps'!O637 -> 0 | F42: =+'Detailed Assumps'!P637 -> 0 | G42: =+'Detailed Assumps'!Q637 -> 0 | H42: =+'Detailed Assumps'!R637 -> 0 | I42: =+'Detailed Assumps'!S637 -> 0 | J42: =+'Detailed Assumps'!T637 -> 0 | K42: =+'Detailed Assumps'!U637 -> 0 | L42: =+'Detailed Assumps'!V637 -> 0 | ... P42: =+'Detailed Assumps'!Z637 -> 0 | Q42: =SUM(E42:P42) -> 0
...

Sheet MWH
A2: Generation
B3: Energy
A6: Purchase Power | C6: =+'Detailed Assumps'!C2 -> 45307 | D6: =+'Detailed Assumps'!D2 -> 45338 | E6: =+'Detailed Assumps'!E2 -> 45366 | F6: =+'Detailed Assumps'!F2 -> 45397 | G6: =+'Detailed Assumps'!G2 -> 45427 | H6: =+'Detailed Assumps'!H2 -> 45458 | I6: =+'Detailed Assumps'!I2 -> 45488 | J6: =+'Detailed Assumps'!J2 -> 45519 | ... Z6: =+'Detailed Assumps'!Z2 -> 46007 | AA6: 2025
A7: =+'$'!C7 -> Delvin Warner | C7: =+'Detailed Assumps'!C389 -> 6.599 | D7: =+'Detailed Assumps'!D389 -> 5.57 | E7: =+'Detailed Assumps'!E389 -> 6.602 | F7: =+'Detailed Assumps'!F389 -> 8.814 | G7: =+'Detailed Assumps'!G389 -> 3.2 | H7: =+'Detailed Assumps'!H389 -> 5.164 | I7: =+'Detailed Assumps'!I389 -> 2.874 | J7: =+'Detailed Assumps'!J389 -> 1.964 | ... Z7: =+'Detailed Assumps'!Z389 -> 3.757 | AA7: =SUM(O7:Z7) -> 64.025
A8: =+'$'!C8 -> Arlon Warner | C8: =+'Detailed Assumps'!C394 -> 6.636 | D8: =+'Detailed Assumps'!D394 -> 7.011 | E8: =+'Detailed Assumps'!E394 -> 8.72 | F8: =+'Detailed Assumps'!F394 -> 13.277 | G8: =+'Detailed Assumps'!G394 -> 7.443 | H8: =+'Detailed Assumps'!H394 -> 3.942 | I8: =+'Detailed Assumps'!I394 -> 7.266 | J8: =+'Detailed Assumps'!J394 -> 0.211 | ... Z8: =+'Detailed Assumps'!Z394 -> 10.718 | AA8: =SUM(O8:Z8) -> 94.269
A9: =+'$'!C9 -> Total SPEED $ | B9: Energy | C9: =+'Detailed Assumps'!C371 -> 0 | D9: =+'Detailed Assumps'!D371 -> 0 | E9: =+'Detailed Assumps'!E371 -> 0 | F9: =+'Detailed Assumps'!F371 -> 0 | G9: =+'Detailed Assumps'!G371 -> 0 | H9: =+'Detailed Assumps'!H371 -> 0 | I9: =+'Detailed Assumps'!I371 -> 0 | J9: =+'Detailed Assumps'!J371 -> 0 | ... Z9: =+'Detailed Assumps'!Z371 -> 0 | AA9: =SUM(O9:Z9) -> 0
A10: =+'$'!C10 -> Encore - Alburgh | C10: =+'Detailed Assumps'!C402 -> 82.368815 | D10: =+'Detailed Assumps'!D402 -> 102.47427 | E10: =+'Detailed Assumps'!E402 -> 142.61874 | F10: =+'Detailed Assumps'!F402 -> 152.29776 | G10: =+'Detailed Assumps'!G402 -> 175.3939 | H10: =+'Detailed Assumps'!H402 -> 170.52825 | I10: =+'Detailed Assumps'!I402 -> 172.49898 | J10: =+'Detailed Assumps'!J402 -> 163.71495 | ... Z10: =+'Detailed Assumps'!Z402 -> 28.8 | AA10: =SUM(O10:Z10) -> 1288.8
A11: =+'$'!C11 -> Encore - Magee Hill | C11: =+'Detailed Assumps'!C408 -> 107.61759 | D11: =+'Detailed Assumps'!D408 -> 133.88596 | E11: =+'Detailed Assumps'!E408 -> 186.33599 | F11: =+'Detailed Assumps'!F408 -> 198.98198 | G11: =+'Detailed Assumps'!G408 -> 229.15782 | H11: =+'Detailed Assumps'!H408 -> 222.80073 | I11: =+'Detailed Assumps'!I408 -> 225.37548 | J11: =+'Detailed Assumps'!J408 -> 213.89892 | ... Z11: =+'Detailed Assumps'!Z408 -> 27.007 | AA11: =SUM(O11:Z11) -> 1525.367
A12: =+'$'!C12 -> Bullrock - Grand Isle | C12: =+'Detailed Assumps'!C414 -> 389.4101 | D12: =+'Detailed Assumps'!D414 -> 484.46119 | E12: =+'Detailed Assumps'!E414 -> 674.24963 | F12: =+'Detailed Assumps'!F414 -> 720.00863 | G12: =+'Detailed Assumps'!G414 -> 829.19875 | H12: =+'Detailed Assumps'!H414 -> 806.19586 | I12: =+'Detailed Assumps'!I414 -> 815.51249 | J12: =+'Detailed Assumps'!J414 -> 773.98501 | ... Z12: =+'Detailed Assumps'!Z414 -> 127.2 | AA12: =SUM(O12:Z12) -> 6420
A13: =+'$'!C13 -> Encore -Jericho - Gravel Pit | C13: =+'Detailed Assumps'!C421 -> 133.13048 | D13: =+'Detailed Assumps'!D421 -> 170.7571 | E13: =+'Detailed Assumps'!E421 -> 225.99297 | F13: =+'Detailed Assumps'!F421 -> 250.23892 | G13: =+'Detailed Assumps'!G421 -> 258.62013 | H13: =+'Detailed Assumps'!H421 -> 270.70539 | I13: =+'Detailed Assumps'!I421 -> 279.70806 | J13: =+'Detailed Assumps'!J421 -> 265.47145 | ... Z13: =+'Detailed Assumps'!Z421 -> 42.729 | AA13: =SUM(O13:Z13) -> 2189.014
A14: =+'$'!C14 -> Encore - Jericho - Landfill | C14: =+'Detailed Assumps'!C427 -> 152.16399 | D14: =+'Detailed Assumps'!D427 -> 184.21139 | E14: =+'Detailed Assumps'!E427 -> 262.62458 | F14: =+'Detailed Assumps'!F427 -> 268.6992 | G14: =+'Detailed Assumps'!G427 -> 307.28473 | H14: =+'Detailed Assumps'!H427 -> 299.24975 | I14: =+'Detailed Assumps'!I427 -> 307.67837 | J14: =+'Detailed Assumps'!J427 -> 286.28921 | ... Z14: =+'Detailed Assumps'!Z427 -> 4.64 | AA14: =SUM(O14:Z14) -> 1357.305
A15: =+'Detailed Assumps'!A376 -> Kingdom Community Wind | C15: =+'Detailed Assumps'!C380 -> 691.912 | D15: =+'Detailed Assumps'!D380 -> 1694.293 | E15: =+'Detailed Assumps'!E380 -> 2173.275 | F15: =+'Detailed Assumps'!F380 -> 2531.733 | G15: =+'Detailed Assumps'!G380 -> 2238.457 | H15: =+'Detailed Assumps'!H380 -> 1195.811 | I15: =+'Detailed Assumps'!I380 -> 1633.923 | J15: =+'Detailed Assumps'!J380 -> 1031.057 | ... Z15: =+'Detailed Assumps'!Z380 -> 1510.501 | AA15: =SUM(O15:Z15) -> 19840.7
A16: =+'$'!C16 -> Kingdom Community Wind - FCM | AA16: =SUM(O16:Z16) -> 0
A17: =+'$'!C17 -> First Wind - Index to Market | B17: Energy | C17: =+'Detailed Assumps'!C229 -> 778.49 | D17: =+'Detailed Assumps'!D229 -> 1634.17 | E17: =+'Detailed Assumps'!E229 -> 2934.03 | F17: =+'Detailed Assumps'!F229 -> 3083.91 | G17: =+'Detailed Assumps'!G229 -> 2571.83 | H17: =+'Detailed Assumps'!H229 -> 1007.513 | I17: =+'Detailed Assumps'!I229 -> 1530.3825 | J17: =+'Detailed Assumps'!J229 -> 1003.995 | ... Z17: =+'Detailed Assumps'!Z229 -> 2227.943 | AA17: =SUM(O17:Z17) -> 24038.379
A18: =+'$'!C18 -> First Wind - Fixed Price - Energy | B18: =+'$'!D18 -> Energy | C18: =+'Detailed Assumps'!C237 -> 259.5 | D18: =+'Detailed Assumps'!D237 -> 544.72 | E18: =+'Detailed Assumps'!E237 -> 978.01 | F18: =+'Detailed Assumps'!F237 -> 1027.97 | G18: =+'Detailed Assumps'!G237 -> 857.28 | H18: =+'Detailed Assumps'!H237 -> 335.838 | I18: =+'Detailed Assumps'!I237 -> 510.1275 | J18: =+'Detailed Assumps'!J237 -> 334.665 | ... Z18: =+'Detailed Assumps'!Z237 -> 742.648 | AA18: =SUM(O18:Z18) -> 8012.7868
A19: =+'$'!C19 -> First Wind - Fixed Price - FCM | AA19: =SUM(O19:Z19) -> 0
A20: =+'$'!C20 -> Howard Wind | C20: =+'Detailed Assumps'!C538 -> 2662 | D20: =+'Detailed Assumps'!D538 -> 5586 | E20: =+'Detailed Assumps'!E538 -> 5605 | F20: =+'Detailed Assumps'!F538 -> 4108 | G20: =+'Detailed Assumps'!G538 -> 2070 | H20: =+'Detailed Assumps'!H538 -> 1853 | I20: =+'Detailed Assumps'!I538 -> 2214 | J20: =+'Detailed Assumps'!J538 -> 2210.8 | ... Z20: =+'Detailed Assumps'!Z538 -> 3416 | AA20: =SUM(O20:Z20) -> 41832
A21: =+'$'!C21 -> HQUS | B21: Energy | C21: =+'Detailed Assumps'!C178+'Detailed Assumps'!C179 -> 10912 | D21: =+'Detailed Assumps'!D178+'Detailed Assumps'!D179 -> 10208 | E21: =+'Detailed Assumps'!E178+'Detailed Assumps'!E179 -> 10912 | F21: =+'Detailed Assumps'!F178+'Detailed Assumps'!F179 -> 10560 | G21: =+'Detailed Assumps'!G178+'Detailed Assumps'!G179 -> 10912 | H21: =+'Detailed Assumps'!H178+'Detailed Assumps'!H179 -> 10560 | I21: =+'Detailed Assumps'!I178+'Detailed Assumps'!I179 -> 10912 | J21: =+'Detailed Assumps'!J178+'Detailed Assumps'!J179 -> 10912 | ... Z21: =+'Detailed Assumps'!Z178+'Detailed Assumps'!Z179 -> 10912 | AA21: =SUM(O21:Z21) -> 128480
A22: =+'$'!C22 -> Hydro Quebec ASE | B22: Energy | C22: =+'Detailed Assumps'!C191 -> 2703 | D22: =+'Detailed Assumps'!D191 -> 2764 | E22: =+'Detailed Assumps'!E191 -> 1498 | F22: =+'Detailed Assumps'!F191 -> 5820 | G22: =+'Detailed Assumps'!G191 -> 4239 | H22: =+'Detailed Assumps'!H191 -> 2282 | I22: =+'Detailed Assumps'!I191 -> 10464 | J22: =+'Detailed Assumps'!J191 -> 8542 | ... Z22: =+'Detailed Assumps'!Z191 -> 1795 | AA22: =SUM(O22:Z22) -> 81848.5
A23: HQ VJO Replacement - 5/1/20 | B23: Energy | AA23: =SUM(O23:Z23) -> 0
A24: =+'$'!C24 -> VEPPI | B24: Energy | C24: =+'Detailed Assumps'!C339 -> 0 | D24: =+'Detailed Assumps'!D339 -> 0 | E24: =+'Detailed Assumps'!E339 -> 0 | F24: =+'Detailed Assumps'!F339 -> 0 | G24: =+'Detailed Assumps'!G339 -> 0 | H24: =+'Detailed Assumps'!H339 -> 0 | I24: =+'Detailed Assumps'!I339 -> 0 | J24: =+'Detailed Assumps'!J339 -> 0 | ... Z24: =+'Detailed Assumps'!Z339 -> 0 | AA24: =SUM(O24:Z24) -> 0
A25: =+'$'!C25 -> VEPPI FCM Settlement | AA25: =SUM(O25:Z25) -> 0
A26: =+'$'!C26 -> SPEED FIT | B26: Energy | C26: =+'Detailed Assumps'!C352 -> 822.79416 | D26: =+'Detailed Assumps'!D352 -> 896.6939 | E26: =+'Detailed Assumps'!E352 -> 1503.0575 | F26: =+'Detailed Assumps'!F352 -> 1958.6891 | G26: =+'Detailed Assumps'!G352 -> 1874.6041 | H26: =+'Detailed Assumps'!H352 -> 1846.6793 | I26: =+'Detailed Assumps'!I352 -> 1982.2212 | J26: =+'Detailed Assumps'!J352 -> 1994.7742 | ... Z26: =+'Detailed Assumps'!Z352 -> 1033 | AA26: =SUM(O26:Z26) -> 22798
A27: =+'$'!C27 -> SPEED FIT - FCM Settlement | AA27: =SUM(O27:Z27) -> 0
A28: =+'$'!C28 -> Ryegate | C28: =+'Detailed Assumps'!C362 -> 1279.4499 | D28: =+'Detailed Assumps'!D362 -> 1174.4549 | E28: =+'Detailed Assumps'!E362 -> 1324.6302 | F28: =+'Detailed Assumps'!F362 -> 1159.0357 | G28: =+'Detailed Assumps'!G362 -> 1210.9737 | H28: =+'Detailed Assumps'!H362 -> 1146.5785 | I28: =+'Detailed Assumps'!I362 -> 1303.2021 | J28: =+'Detailed Assumps'!J362 -> 1298.7328 | ... Z28: =+'Detailed Assumps'!Z362 -> 1070.9799 | AA28: =SUM(O28:Z28) -> 13355.11
A29: =+'$'!C29 -> Boltonville | C29: =+'Detailed Assumps'!C323 -> 0 | D29: =+'Detailed Assumps'!D323 -> 0 | E29: =+'Detailed Assumps'!E323 -> 0 | F29: =+'Detailed Assumps'!F323 -> 0 | G29: =+'Detailed Assumps'!G323 -> 0 | H29: =+'Detailed Assumps'!H323 -> 0 | I29: =+'Detailed Assumps'!I323 -> 0 | J29: =+'Detailed Assumps'!J323 -> 0 | ... Z29: =+'Detailed Assumps'!Z323 -> 0 | AA29: =SUM(O29:Z29) -> 0
A30: =+'$'!C30 -> Newport Hydro | C30: =+'Detailed Assumps'!C310 -> 2116.775 | D30: =+'Detailed Assumps'!D310 -> 949.295 | E30: =+'Detailed Assumps'!E310 -> 976.235 | F30: =+'Detailed Assumps'!F310 -> 2749.237 | G30: =+'Detailed Assumps'!G310 -> 1539.579 | H30: =+'Detailed Assumps'!H310 -> 758.069 | I30: =+'Detailed Assumps'!I310 -> 395.347 | J30: =+'Detailed Assumps'!J310 -> 155.542 | ... Z30: =+'Detailed Assumps'!Z310 -> 2616.897 | AA30: =SUM(O30:Z30) -> 23307.525
A31: =+'$'!C31 -> St Lawrence | C31: =+'Detailed Assumps'!C265 -> 96.057 | D31: =+'Detailed Assumps'!D265 -> 89.973 | E31: =+'Detailed Assumps'!E265 -> 100.035 | F31: =+'Detailed Assumps'!F265 -> 106.821 | G31: =+'Detailed Assumps'!G265 -> 117.234 | H31: =+'Detailed Assumps'!H265 -> 100.269 | I31: =+'Detailed Assumps'!I265 -> 94.419 | J31: =+'Detailed Assumps'!J265 -> 75.231 | ... Z31: =+'Detailed Assumps'!Z265 -> 105.066 | AA31: =SUM(O31:Z31) -> 1269.216
A32: =+'$'!C32 -> Niagara | C32: =+'Detailed Assumps'!C279 -> 3090.077 | D32: =+'Detailed Assumps'!D279 -> 2857.499 | E32: =+'Detailed Assumps'!E279 -> 3358.71 | F32: =+'Detailed Assumps'!F279 -> 2880.48 | G32: =+'Detailed Assumps'!G279 -> 3203.791 | H32: =+'Detailed Assumps'!H279 -> 3008.853 | I32: =+'Detailed Assumps'!I279 -> 3041.739 | J32: =+'Detailed Assumps'!J279 -> 2837.292 | ... Z32: =+'Detailed Assumps'!Z279 -> 3218.847 | AA32: =SUM(O32:Z32) -> 37813.129
A33: =+'$'!C33 -> PSEG | AA33: =SUM(O33:Z33) -> 0
A34: =+'$'!C34 -> EDF | C34: =+'Detailed Assumps'!C486 -> 0 | D34: =+'Detailed Assumps'!D486 -> 0 | E34: =+'Detailed Assumps'!E486 -> 0 | F34: =+'Detailed Assumps'!F486 -> 0 | G34: =+'Detailed Assumps'!G486 -> 0 | H34: =+'Detailed Assumps'!H486 -> 0 | I34: =+'Detailed Assumps'!I486 -> 0 | J34: =+'Detailed Assumps'!J486 -> 0 | ... Z34: =+'Detailed Assumps'!Z486 -> 0 | AA34: =SUM(O34:Z34) -> 0
A35: =+'$'!C35 -> NextEra - 2022-2025 - Energy | C35: =+'Detailed Assumps'!C612 -> 8308.8 | D35: =+'Detailed Assumps'!D612 -> 8596 | E35: =+'Detailed Assumps'!E612 -> 5671.8 | F35: =+'Detailed Assumps'!F612 -> 2966.4 | G35: =+'Detailed Assumps'!G612 -> 2480 | H35: =+'Detailed Assumps'!H612 -> 4160 | I35: =+'Detailed Assumps'!I612 -> 6664.8 | J35: =+'Detailed Assumps'!J612 -> 4610.4 | ... Z35: =+'Detailed Assumps'!Z612 -> 6858.4 | AA35: =SUM(O35:Z35) -> 61570.9
A36: Emera | C36: ='Detailed Assumps'!C642 -> 0 | D36: ='Detailed Assumps'!D642 -> 0 | E36: ='Detailed Assumps'!E642 -> 0 | F36: ='Detailed Assumps'!F642 -> 0 | G36: ='Detailed Assumps'!G642 -> 0 | H36: ='Detailed Assumps'!H642 -> 0 | I36: ='Detailed Assumps'!I642 -> 0 | J36: ='Detailed Assumps'!J642 -> 0 | ... Z36: ='Detailed Assumps'!Z642 -> 0 | AA36: =SUM(O36:Z36) -> 0
A37: =+'$'!C37 -> Merrill Lynch | C37: =+'Detailed Assumps'!C627 -> 0 | D37: =+'Detailed Assumps'!D627 -> 0 | E37: =+'Detailed Assumps'!E627 -> 0 | F37: =+'Detailed Assumps'!F627 -> 0 | G37: =+'Detailed Assumps'!G627 -> 0 | H37: =+'Detailed Assumps'!H627 -> 0 | I37: =+'Detailed Assumps'!I627 -> 0 | J37: =+'Detailed Assumps'!J627 -> 0 | ... Z37: =+'Detailed Assumps'!Z627 -> 0 | AA37: =SUM(O37:Z37) -> 0
A38: =+'$'!C38 -> NextEra Energy | C38: =+'Detailed Assumps'!C547 -> 0 | D38: =+'Detailed Assumps'!D547 -> 0 | E38: =+'Detailed Assumps'!E547 -> 0 | F38: =+'Detailed Assumps'!F547 -> 0 | G38: =+'Detailed Assumps'!G547 -> 0 | H38: =+'Detailed Assumps'!H547 -> 0 | I38: =+'Detailed Assumps'!I547 -> 0 | J38: =+'Detailed Assumps'!J547 -> 0 | ... Z38: =+'Detailed Assumps'!Z547 -> 0 | AA38: =SUM(O38:Z38) -> 0
A39: =+'$'!C39 -> NextEra - Capacity | B39: =+'$'!D39 -> Demand | AA39: =SUM(O39:Z39) -> 0
A40: =+'$'!C40 -> NextEra - Seabrook - Energy | C40: =+'Detailed Assumps'!C555 -> 7254 | D40: =+'Detailed Assumps'!D555 -> 6786 | E40: =+'Detailed Assumps'!E555 -> 7244.25 | F40: =+'Detailed Assumps'!F555 -> 7020 | G40: =+'Detailed Assumps'!G555 -> 7254 | H40: =+'Detailed Assumps'!H555 -> 7020 | I40: =+'Detailed Assumps'!I555 -> 7254 | J40: =+'Detailed Assumps'!J555 -> 7254 | ... Z40: =+'Detailed Assumps'!Z555 -> 7254 | AA40: =SUM(O40:Z40) -> 85410
A41: =+'$'!C41 -> NextEra - Seabrook - Capacity | AA41: =SUM(O41:Z41) -> 0
A42: =+'$'!C42 -> JP Morgan | C42: =+'Detailed Assumps'!C635 -> 0 | D42: =+'Detailed Assumps'!D635 -> 0 | E42: =+'Detailed Assumps'!E635 -> 0 | F42: =+'Detailed Assumps'!F635 -> 0 | G42: =+'Detailed Assumps'!G635 -> 0 | H42: =+'Detailed Assumps'!H635 -> 0 | I42: =+'Detailed Assumps'!I635 -> 0 | J42: =+'Detailed Assumps'!J635 -> 0 | ... Z42: =+'Detailed Assumps'!Z635 -> 0 | AA42: =SUM(O42:Z42) -> 0
A43: =+'$'!C43 -> BP Energy | C43: =+'Detailed Assumps'!C597 -> 0 | D43: =+'Detailed Assumps'!D597 -> 0 | E43: =+'Detailed Assumps'!E597 -> 0 | F43: =+'Detailed Assumps'!F597 -> 0 | G43: =+'Detailed Assumps'!G597 -> 0 | H43: =+'Detailed Assumps'!H597 -> 0 | I43: =+'Detailed Assumps'!I597 -> 0 | J43: =+'Detailed Assumps'!J597 -> 0 | ... Z43: =+'Detailed Assumps'!Z597 -> 0 | AA43: =SUM(O43:Z43) -> 0
...

Sheet Detailed Assumps
A1: GENERAL ASSUMPTIONS
A2: Months of Study | C2: 45307 | D2: 45338 | E2: 45366 | F2: 45397 | G2: 45427 | H2: 45458 | I2: 45488 | J2: 45519 | K2: 45550 | L2: 45580 | M2: 45611 | N2: 45641 | O2: =+C2+366 -> 45673 | P2: =+D2+366 -> 45704 | Q2: =+E2+366 -> 45732 | R2: =+F2+366 -> 45763 | S2: =+G2+366 -> 45793 | T2: =+H2+366 -> 45824 | U2: =+I2+366 -> 45854 | V2: =+J2+366 -> 45885 | ... Z2: =+N2+366 -> 46007
A3: NYMEX $/mmbtu as of | B3: 45601 | C3: 2.619 | D3: 2.49 | E3: 1.615 | F3: 1.659 | G3: 1.812 | H3: 2.032 | I3: 2.337 | J3: 2.433 | K3: 2.433 | L3: 2.526 | M3: 2.914 | N3: 3.406 | O3: 3.439 | P3: 3.296 | Q3: 2.964 | R3: 2.832 | S3: 2.876 | T3: 3.022 | U3: 3.183 | V3: 3.218 | W3: 3.186 | X3: 3.25 | Y3: 3.527 | Z3: 3.935
A4: NYMEX Annual Increase Multiplier | C4: 0.55616904 | D4: 0.80090061 | E4: 0.65891473 | F4: 0.65237908 | G4: 0.6753634 | H4: 0.9508657 | I4: 1.0068936 | J4: 1.0120632 | K4: 1.01375 | L4: 0.92595308 | M4: 0.97100966 | N4: 1.0017647 | O4: =+O3/C3 -> 1.3130966 | P4: =+P3/D3 -> 1.3236948 | Q4: =+Q3/E3 -> 1.8352941 | R4: =+R3/F3 -> 1.7070524 | S4: =+S3/G3 -> 1.5871965 | T4: =+T3/H3 -> 1.4872047 | U4: =+U3/I3 -> 1.3620026 | V4: =+V3/J3 -> 1.3226469 | ... Z4: =+Z3/N3 -> 1.1553142
A5: Power Conversion Multiplier - ATC | C5: 10.434777 | D5: 22.306059 | E5: 14.289808 | F5: 14.457594 | G5: 11.821767 | H5: 15.368957 | I5: 14.444581 | J5: 11.459513 | K5: 7.1880962 | L5: 7.7132729 | M5: 11.913694 | N5: 17.208566 | O5: 26.909044 | P5: 14.692771 | Q5: 14.995004 | R5: 16.205961 | S5: 16.871786 | T5: 14.094776 | U5: 16.283276 | V5: 10.81164 | W5: 11.846864 | X5: 9.5247557 | Y5: 12.528875 | Z5: 14.094898
A6: Power Conversion Multiplier - Peak | C6: 11.241082 | D6: 23.288652 | E6: 15.297344 | F6: 15.477252 | G6: 12.554989 | H6: 16.622536 | I6: 16.163987 | J6: 12.681876 | K6: 7.5860441 | L6: 8.1665496 | M6: 12.572061 | N6: 18.316508 | O6: 29.567648 | P6: 15.56654 | Q6: 16.292091 | R6: 17.85671 | S6: 18.716205 | T6: 18.118732 | U6: 21.075769 | V6: 11.707464 | W6: 14.581389 | X6: 10.942423 | Y6: 13.811969 | Z6: 16.843115
A7: Power Conversion Multiplier - Off Peak | C7: 8.8221679 | D7: 20.340874 | E7: 12.266579 | F7: 12.418278 | G7: 10.355323 | H7: 12.861799 | I7: 11.00577 | J7: 9.0147866 | K7: 6.3922004 | L7: 6.8067193 | M7: 10.59696 | N7: 14.992683 | O7: 24.521725 | P7: 13.877253 | Q7: 13.92419 | R7: 14.626984 | S7: 15.215572 | T7: 10.875612 | U7: 12.666301 | V7: 9.9348767 | W7: 9.659243 | X7: 8.2517481 | Y7: 11.409083 | Z7: 12.020771
A8: Power Conversion Multiplier - WE Peak | C8: 9.9697093 | D8: 29.628925 | E8: 15.225068 | F8: 14.607515 | G8: 10.696888 | H8: 14.500587 | I8: 14.017112 | J8: 10.635765 | K8: 7.2122497 | L8: 7.3013068 | M8: 11.523573 | N8: 17.802547 | O8: 25.95451 | P8: 14.427491 | Q8: 14.579837 | R8: 15.605208 | S8: 16.837567 | T8: 11.658569 | U8: 13.964816 | V8: 10.693783 | W8: 10.905541 | X8: 9.6627523 | Y8: 12.339712 | Z8: 11.857026
A9: Power Conversion Multiplier - Early AM | C9: 8.8221679 | D9: 20.340874 | E9: 12.266579 | F9: 12.418278 | G9: 10.355323 | H9: 12.861799 | I9: 11.00577 | J9: 9.0147866 | K9: 6.3922004 | L9: 6.8067193 | M9: 10.59696 | N9: 14.992683 | O9: 23.637878 | P9: 13.662591 | Q9: 13.540735 | R9: 14.093575 | S9: 14.11917 | T9: 10.146658 | U9: 11.413435 | V9: 9.4128492 | W9: 8.7106714 | X9: 7.3835922 | Y9: 10.821383 | Z9: 12.08562
A10: ATC Market Price at Hub | C10: 123.59937 | D10: 111.63253 | E10: 24.231502 | F10: 26.108624 | G10: 27.023895 | H10: 39.849638 | I10: 57.46024 | J10: 48.207774 | K10: 39.417751 | L10: 38.015961 | M10: 51.551209 | N10: 76.617146 | O10: =O11*O5/O6 -> 89.188232 | P10: =P11*P5/P6 -> 80.134459 | Q10: =Q11*Q5/Q6 -> 48.550335 | R10: =R11*R5/R6 -> 39.569434 | S10: =S11*S5/S6 -> 35.472189 | T10: =T11*T5/T6 -> 38.11768 | U10: =U11*U5/U6 -> 53.773413 | V10: =V11*V5/V6 -> 52.638513 | ... Z10: =Z11*Z5/Z6 -> 70.838031
A11: Peak Market Price at Hub | B11: =+B3 -> 45601 | C11: 133.15 | D11: 116.55 | E11: 25.94 | F11: 27.95 | G11: 28.7 | H11: 43.1 | I11: 64.3 | J11: 53.35 | K11: 41.6 | L11: 40.25 | M11: 54.4 | N11: 81.55 | O11: 98 | P11: 84.9 | Q11: 52.75 | R11: 43.6 | S11: 39.35 | T11: 49 | U11: 69.6 | V11: 57 | W11: 45.75 | X11: 41.75 | Y11: 56.8 | Z11: 84.65
A12: Off-Peak Market Price at Hub | B12: =+B3 -> 45601 | C12: 122.15 | D12: 107.3 | E12: 22.74 | F12: 24.5 | G12: 23.9 | H12: 32.15 | I12: 40.35 | J12: 35.05 | K12: 31 | L12: 31.9 | M12: 47.15 | N12: 72.8 | O12: 88.6 | P12: 74.65 | Q12: 46.45 | R12: 36.1 | S12: 32.05 | T12: 35.9 | U12: 44.9 | V12: 36.75 | W12: 33.15 | X12: 32.5 | Y12: 48.7 | Z12: 77.05
A13: WE Peak Market Price at Hub | C13: 128.25 | D13: 112.55 | E13: 24.49 | F13: 24.05 | G13: 22.75 | H13: 37.7 | I13: 56.1 | J13: 45.55 | K13: 34.6 | L13: 33.35 | M13: 44.2 | N13: 70.9 | O13: 80.4 | P13: 68.45 | Q13: 44.2 | R13: 33.45 | S13: 30.9 | T13: 39.8 | U13: 57.05 | V13: 45.15 | W13: 35.7 | X13: 32.55 | Y13: 46.6 | Z13: 72.7
A14: Early AM Market Price at Hub | C14: 104.4981 | D14: 101.7976 | E14: 20.800673 | F14: 22.425872 | G14: 23.671686 | H14: 33.348915 | I14: 43.78072 | J14: 37.923321 | K14: 35.053254 | L14: 33.547883 | M14: 45.853628 | N14: 66.751439 | O14: =+O$11*O9/O$6 -> 78.346173 | P14: =+P$11*P9/P$6 -> 74.515853 | Q14: =+Q$11*Q9/Q$6 -> 43.841751 | R14: =+R$11*R9/R$6 -> 34.411707 | S14: =+S$11*S9/S$6 -> 29.684937 | T14: =+T$11*T9/T$6 -> 27.440455 | U14: =+U$11*U9/U$6 -> 37.691392 | V14: =+V$11*V9/V$6 -> 45.828235 | ... Z14: =+Z$11*Z9/Z$6 -> 60.739816
A15: Super Peak Index - Applied to Peak Avg | C15: 1.1588681 | D15: 1.0330875 | E15: 1.1713522 | F15: 1.2696426 | G15: 1.2394527 | H15: 1.2136324 | I15: 1.3206068 | J15: 1.293172 | K15: 1.1652007 | L15: 1.1955782 | M15: 1.1898061 | N15: 1.1777288 | O15: 1.07669 | P15: 1.1349301 | Q15: 1.1139954 | R15: 1.1516918 | S15: 1.2026182 | T15: 1.3892606 | U15: 1.3911309 | V15: 1.1723259 | W15: 1.3093845 | X15: 1.2493153 | Y15: 1.1805355 | Z15: 1.1547723
A16: Sub-Peak Index - Applied to Peak Avg | C16: 0.99508673 | D16: 0.8265618 | E16: 0.92450302 | F16: 0.91830394 | G16: 0.96603379 | H16: 0.97041429 | I16: 0.94626506 | J16: 0.94836724 | K16: 0.95097102 | L16: 0.98448582 | M16: 0.95783599 | N16: 0.93591104 | O16: 1.0187397 | P16: 1.082979 | Q16: 1.0676288 | R16: 1.1225646 | S16: 1.153287 | T16: 1.2363168 | U16: 1.2307934 | V16: 1.1100587 | W16: 1.1594781 | X16: 1.135215 | Y16: 1.0924233 | Z16: 1.095242
A17: Early AM Index - Applied to Off-Peak Avg | C17: 1 | D17: 1 | E17: 1 | F17: 1 | G17: 1 | H17: 1 | I17: 1 | J17: 1 | K17: 1 | L17: 1 | M17: 1 | N17: 1 | O17: 0.96395659 | P17: 0.98453136 | Q17: 0.9724612 | R17: 0.96353254 | S17: 0.92794212 | T17: 0.93297357 | U17: 0.90108668 | V17: 0.94745506 | W17: 0.90179649 | X17: 0.89479128 | Y17: 0.94848847 | Z17: 1.0053947
A18: WE Super Peak Index - Applied to Off-Peak Avg | C18: 1.4328083 | D18: 1.5488116 | E18: 1.4514782 | F18: 1.3861876 | G18: 1.3323013 | H18: 1.3368764 | I18: 1.6316522 | J18: 1.4325108 | K18: 1.3802379 | L18: 1.2975419 | M18: 1.3657968 | N18: 1.4774589 | O18: 1.2236991 | P18: 1.28983 | Q18: 1.2367456 | R18: 1.3166685 | S18: 1.3252744 | T18: 1.2947637 | U18: 1.3477533 | V18: 1.3763489 | W18: 1.4601468 | X18: 1.4909986 | Y18: 1.4025946 | Z18: 1.1365241
A19: WE Sub-Peak Index - Applied to Off-Peak Avg | C19: 0.99246859 | D19: 1.4147148 | E19: 1.1455941 | F19: 1.0808842 | G19: 0.89693148 | H19: 1.0322055 | I19: 1.1108707 | J19: 1.0649508 | K19: 1.0137668 | L19: 0.97044336 | M19: 0.96091627 | N19: 1.0555779 | O19: 1.0041052 | P19: 1.0256554 | Q19: 1.0174272 | R19: 1.0244915 | S19: 1.0087872 | T19: 1.0175302 | U19: 1.0073994 | V19: 1.0222878 | W19: 1.0114694 | X19: 0.99567678 | Y19: 1.0262929 | Z19: 1.0214529
A20: Hub Super Peak $/MWH | C20: 154.30329 | D20: 120.40635 | E20: 30.384877 | F20: 35.48651 | G20: 35.572294 | H20: 52.307558 | I20: 84.915018 | J20: 68.990728 | K20: 48.47235 | L20: 48.122024 | M20: 64.72545 | N20: 96.043784 | O20: =+O15*O11 -> 105.51562 | P20: =+P15*P11 -> 96.355564 | Q20: =+Q15*Q11 -> 58.763259 | R20: =+R15*R11 -> 50.213761 | S20: =+S15*S11 -> 47.323027 | T20: =+T15*T11 -> 68.073768 | U20: =+U15*U11 -> 96.822711 | V20: =+V15*V11 -> 66.822577 | ... Z20: =+Z15*Z11 -> 97.751478
A21: Hub Sub-Peak $/MWH | C21: 132.4958 | D21: 96.335778 | E21: 23.981608 | F21: 25.666595 | G21: 27.72517 | H21: 41.824856 | I21: 60.844843 | J21: 50.595392 | K21: 39.560395 | L21: 39.625554 | M21: 52.106278 | N21: 76.323546 | O21: =+O16*O11 -> 99.836493 | P21: =+P16*P11 -> 91.944916 | Q21: =+Q16*Q11 -> 56.317419 | R21: =+R16*R11 -> 48.943816 | S21: =+S16*S11 -> 45.381844 | T21: =+T16*T11 -> 60.579522 | U21: =+U16*U11 -> 85.66322 | V21: =+V16*V11 -> 63.273346 | ... Z21: =+Z16*Z11 -> 92.712234
A22: Hub Early AM $/MWH | C22: 122.15 | D22: 107.3 | E22: 22.74 | F22: 24.5 | G22: 23.9 | H22: 32.15 | I22: 40.35 | J22: 35.05 | K22: 31 | L22: 31.9 | M22: 47.15 | N22: 72.8 | O22: =+O17*O12 -> 85.406554 | P22: =+P17*P12 -> 73.495266 | Q22: =+Q17*Q12 -> 45.170823 | R22: =+R17*R12 -> 34.783525 | S22: =+S17*S12 -> 29.740545 | T22: =+T17*T12 -> 33.493751 | U22: =+U17*U12 -> 40.458792 | V22: =+V17*V12 -> 34.818974 | ... Z22: =+Z17*Z12 -> 77.46566
A23: Hub WE Super Peak $/MWH | C23: 175.01754 | D23: 166.18748 | E23: 33.006614 | F23: 33.961597 | G23: 31.842002 | H23: 42.980577 | I23: 65.837167 | J23: 50.209503 | K23: 42.787376 | L23: 41.391586 | M23: 64.397318 | N23: 107.55901 | O23: =+O18*O12 -> 108.41974 | P23: =+P18*P12 -> 96.285806 | Q23: =+Q18*Q12 -> 57.446833 | R23: =+R18*R12 -> 47.531732 | S23: =+S18*S12 -> 42.475043 | T23: =+T18*T12 -> 46.482019 | U23: =+U18*U12 -> 60.514124 | V23: =+V18*V12 -> 50.580821 | ... Z23: =+Z18*Z12 -> 87.56918
A24: Hub WE Sub-Peak $/MWH | C24: 121.23004 | D24: 151.7989 | E24: 26.05081 | F24: 26.481663 | G24: 21.436662 | H24: 33.185408 | I24: 44.823631 | J24: 37.326525 | K24: 31.426772 | L24: 30.957143 | M24: 45.307202 | N24: 76.846069 | O24: =+O19*O12 -> 88.963722 | P24: =+P19*P12 -> 76.565178 | Q24: =+Q19*Q12 -> 47.259495 | R24: =+R19*R12 -> 36.984143 | S24: =+S19*S12 -> 32.331631 | T24: =+T19*T12 -> 36.529333 | U24: =+U19*U12 -> 45.232233 | V24: =+V19*V12 -> 37.569075 | ... Z24: =+Z19*Z12 -> 78.702943
A25: VT $/MWH - ATC | C25: 121.10808 | D25: 109.78721 | E25: 23.929362 | F25: 25.492903 | G25: 26.955019 | H25: 39.326907 | I25: 56.988129 | J25: 48.110274 | K25: 38.954016 | L25: 37.510053 | M25: 50.84293 | N25: 74.954532 | O25: =+O10*(1+AVERAGE(O$772:O$773)+AVERAGE(O$830:O$831)) -> 88.040126 | P25: =+P10*(1+AVERAGE(P$772:P$773)+AVERAGE(P$830:P$831)) -> 79.826621 | Q25: =+Q10*(1+AVERAGE(Q$772:Q$773)+AVERAGE(Q$830:Q$831)) -> 48.203773 | R25: =+R10*(1+AVERAGE(R$772:R$773)+AVERAGE(R$830:R$831)) -> 39.347586 | S25: =+S10*(1+AVERAGE(S$772:S$773)+AVERAGE(S$830:S$831)) -> 35.462512 | T25: =+T10*(1+AVERAGE(T$772:T$773)+AVERAGE(T$830:T$831)) -> 38.013753 | U25: =+U10*(1+AVERAGE(U$772:U$773)+AVERAGE(U$830:U$831)) -> 53.354454 | V25: =+V10*(1+AVERAGE(V$772:V$773)+AVERAGE(V$830:V$831)) -> 52.570681 | ... Z25: =+Z10*(1+AVERAGE(Z$772:Z$773)+AVERAGE(Z$830:Z$831)) -> 70.09695
A26: VT Peak $/MWH | C26: 130.71652 | D26: 114.8133 | E26: 25.666823 | F26: 27.270681 | G26: 28.560952 | H26: 42.318245 | I26: 63.791415 | J26: 53.380263 | K26: 41.179183 | L26: 39.68134 | M26: 53.814894 | N26: 79.756419 | O26: =+O11*(1+O$772+O$830) -> 96.925397 | P26: =+P11*(1+P$772+P$830) -> 84.407755 | Q26: =+Q11*(1+Q$772+Q$830) -> 52.361747 | R26: =+R11*(1+R$772+R$830) -> 43.323199 | S26: =+S11*(1+S$772+S$830) -> 39.338885 | T26: =+T11*(1+T$772+T$830) -> 48.736735 | U26: =+U11*(1+U$772+U$830) -> 68.59156 | V26: =+V11*(1+V$772+V$830) -> 56.625925 | ... Z26: =+Z11*(1+Z$772+Z$830) -> 83.551443
A27: VT Off Peak $/MWH | C27: 119.45829 | D27: 105.35147 | E27: 22.412391 | F27: 23.939898 | G27: 23.893963 | H27: 31.889681 | I27: 40.006095 | J27: 34.888341 | K27: 30.584183 | L27: 31.501653 | M27: 46.361508 | N27: 71.241574 | O27: =+O12*(1+O$773+O$831) -> 87.290462 | P27: =+P12*(1+P$773+P$831) -> 74.509276 | Q27: =+Q12*(1+Q$773+Q$831) -> 46.128743 | R27: =+R12*(1+R$773+R$831) -> 35.924393 | S27: =+S12*(1+S$773+S$831) -> 32.041566 | T27: =+T12*(1+T$773+T$831) -> 35.89712 | U27: =+U12*(1+U$773+U$831) -> 44.850911 | V27: =+V12*(1+V$773+V$831) -> 36.896465 | ... Z27: =+Z12*(1+Z$773+Z$831) -> 76.437792
A28: VT Super Peak $/MWH | C28: 151.4832 | D28: 118.61218 | E28: 30.06489 | F28: 34.624017 | G28: 35.399951 | H28: 51.358796 | I28: 84.243378 | J28: 69.029863 | K28: 47.982013 | L28: 47.442146 | M28: 64.029287 | N28: 93.931432 | O28: =+O20*(1+O$772+O$830) -> 104.3586 | P28: =+P20*(1+P$772+P$830) -> 95.7969 | Q28: =+Q20*(1+Q$772+Q$830) -> 58.330747 | R28: =+R20*(1+R$772+R$830) -> 49.894972 | S28: =+S20*(1+S$772+S$830) -> 47.30966 | T28: =+T20*(1+T$772+T$830) -> 67.708024 | U28: =+U20*(1+U$772+U$830) -> 95.419838 | V28: =+V20*(1+V$772+V$830) -> 66.384039 | ... Z28: =+Z20*(1+Z$772+Z$830) -> 96.482894
A29: VT Sub-Peak $/MWH | C29: 130.07427 | D29: 94.900288 | E29: 23.729056 | F29: 25.042774 | G29: 27.590845 | H29: 41.06623 | I29: 60.363588 | J29: 50.624093 | K29: 39.16021 | L29: 39.065716 | M29: 51.545842 | N29: 74.644913 | O29: =+O21*(1+O$772+O$830) -> 98.741752 | P29: =+P21*(1+P$772+P$830) -> 91.411825 | Q29: =+Q21*(1+Q$772+Q$830) -> 55.902909 | R29: =+R21*(1+R$772+R$830) -> 48.633089 | S29: =+S21*(1+S$772+S$830) -> 45.369025 | T29: =+T21*(1+T$772+T$830) -> 60.254043 | U29: =+U21*(1+U$772+U$830) -> 84.422039 | V29: =+V21*(1+V$772+V$830) -> 62.858101 | ... Z29: =+Z21*(1+Z$772+Z$830) -> 91.509047
A30: VT Early AM $/MWH | C30: 102.19537 | D30: 99.948986 | E30: 20.501004 | F30: 21.913187 | G30: 23.665706 | H30: 33.078888 | I30: 43.407574 | J30: 37.74841 | K30: 34.583069 | L30: 33.128959 | M30: 45.086815 | N30: 65.322494 | O30: =+O14*(1+O$773+O$831) -> 77.188191 | P30: =+P14*(1+P$773+P$831) -> 74.375382 | Q30: =+Q14*(1+Q$773+Q$831) -> 43.538533 | R30: =+R14*(1+R$773+R$831) -> 34.244313 | S30: =+S14*(1+S$773+S$831) -> 29.677125 | T30: =+T14*(1+T$773+T$831) -> 27.438253 | U30: =+U14*(1+U$773+U$831) -> 37.650184 | V30: =+V14*(1+V$773+V$831) -> 46.01088 | ... Z30: =+Z14*(1+Z$773+Z$831) -> 60.257202
A31: VT WE Super Peak $/MWH | C31: 171.16084 | D31: 163.16957 | E31: 32.531097 | F31: 33.18519 | G31: 31.833958 | H31: 42.632562 | I31: 65.276033 | J31: 49.977926 | K31: 42.213449 | L31: 40.874715 | M31: 63.320398 | N31: 105.2565 | O31: =+O23*(1+O$773+O$831) -> 106.81726 | P31: =+P23*(1+P$773+P$831) -> 96.104296 | Q31: =+Q23*(1+Q$773+Q$831) -> 57.049519 | R31: =+R23*(1+R$773+R$831) -> 47.300515 | S31: =+S23*(1+S$773+S$831) -> 42.463866 | T31: =+T23*(1+T$773+T$831) -> 46.47829 | U31: =+U23*(1+U$773+U$831) -> 60.447964 | V31: =+V23*(1+V$773+V$831) -> 50.782407 | ... Z31: =+Z23*(1+Z$773+Z$831) -> 86.873391
A32: VT WE Sub Peak $/MWH | C32: 118.5586 | D32: 149.04228 | E32: 25.675503 | F32: 25.876257 | G32: 21.431247 | H32: 32.916705 | I32: 44.441597 | J32: 37.154366 | K32: 31.005231 | L32: 30.57057 | M32: 44.549527 | N32: 75.201029 | O32: =+O24*(1+O$773+O$831) -> 87.648809 | P32: =+P24*(1+P$773+P$831) -> 76.420844 | Q32: =+Q24*(1+Q$773+Q$831) -> 46.93264 | R32: =+R24*(1+R$773+R$831) -> 36.804235 | S32: =+S24*(1+S$773+S$831) -> 32.323122 | T32: =+T24*(1+T$773+T$831) -> 36.526402 | U32: =+U24*(1+U$773+U$831) -> 45.18278 | V32: =+V24*(1+V$773+V$831) -> 37.718804 | ... Z32: =+Z24*(1+Z$773+Z$831) -> 78.077602
A33: Hours per month | C33: 744 | D33: 696 | E33: 743 | F33: 720 | G33: 744 | H33: 720 | I33: 744 | J33: 744 | K33: 720 | L33: 744 | M33: 721 | N33: 744 | O33: =+O34+O35 -> 744 | P33: =+P34+P35 -> 672 | Q33: =+Q34+Q35 -> 743 | R33: =+R34+R35 -> 720 | S33: =+S34+S35 -> 744 | T33: =+T34+T35 -> 720 | U33: =+U34+U35 -> 744 | V33: =+V34+V35 -> 744 | ... Z33: =+Z34+Z35 -> 744
A34: Peak Hours | C34: 352 | D34: 336 | E34: 336 | F34: 352 | G34: 352 | H34: 320 | I34: 352 | J34: 352 | K34: 320 | L34: 368 | M34: 320 | N34: 336 | O34: =16*O38 -> 352 | P34: =16*P38 -> 320 | Q34: =16*Q38 -> 336 | R34: =16*R38 -> 352 | S34: =16*S38 -> 336 | T34: =16*T38 -> 336 | U34: =16*U38 -> 352 | V34: =16*V38 -> 336 | ... Z34: =16*Z38 -> 352
A35: Off-Peak Hours | C35: 392 | D35: 360 | E35: 407 | F35: 368 | G35: 392 | H35: 400 | I35: 392 | J35: 392 | K35: 400 | L35: 376 | M35: 401 | N35: 408 | O35: =+O36+O37 -> 392 | P35: =+P36+P37 -> 352 | Q35: =+Q36+Q37 -> 407 | R35: =+R36+R37 -> 368 | S35: =+S36+S37 -> 408 | T35: =+T36+T37 -> 384 | U35: =+U36+U37 -> 392 | V35: =+V36+V37 -> 408 | ... Z35: =+Z36+Z37 -> 392
A36: Early AM Hours | C36: 248 | D36: 232 | E36: 247 | F36: 240 | G36: 248 | H36: 240 | I36: 248 | J36: 248 | K36: 240 | L36: 248 | M36: 241 | N36: 248 | O36: =+(O38+O39)*8 -> 248 | P36: =+(P38+P39)*8 -> 224 | Q36: =+(Q38+Q39)*8-1 -> 247 | R36: =+(R38+R39)*8 -> 240 | S36: =+(S38+S39)*8 -> 248 | T36: =+(T38+T39)*8 -> 240 | U36: =+(U38+U39)*8 -> 248 | V36: =+(V38+V39)*8 -> 248 | W36: =+(W38+W39)*8 -> 240 | X36: =+(X38+X39)*8 -> 248 | Y36: =+(Y38+Y39)*8+1 -> 241 | Z36: =+(Z38+Z39)*8 -> 248
A37: WE Peak Hours | C37: 144 | D37: 128 | E37: 160 | F37: 128 | G37: 144 | H37: 160 | I37: 144 | J37: 144 | K37: 160 | L37: 128 | M37: 160 | N37: 160 | O37: =+O39*16 -> 144 | P37: =+P39*16 -> 128 | Q37: =+Q39*16 -> 160 | R37: =+R39*16 -> 128 | S37: =+S39*16 -> 160 | T37: =+T39*16 -> 144 | U37: =+U39*16 -> 144 | V37: =+V39*16 -> 160 | ... Z37: =+Z39*16 -> 144
A38: Weekdays | C38: 22 | D38: 21 | E38: 21 | F38: 22 | G38: 22 | H38: 20 | I38: 22 | J38: 22 | K38: 20 | L38: 23 | M38: 20 | N38: 21 | O38: 22 | P38: 20 | Q38: 21 | R38: 22 | S38: 21 | T38: 21 | U38: 22 | V38: 21 | W38: 21 | X38: 23 | Y38: 19 | Z38: 22
A39: Weekend/Holiday Days | C39: 9 | D39: 8 | E39: 10 | F39: 8 | G39: 9 | H39: 10 | I39: 9 | J39: 9 | K39: 10 | L39: 8 | M39: 10 | N39: 10 | O39: =31-O38 -> 9 | P39: =28-P38 -> 8 | Q39: =31-Q38 -> 10 | R39: =30-R38 -> 8 | S39: =31-S38 -> 10 | T39: =30-T38 -> 9 | U39: =31-U38 -> 9 | V39: =31-V38 -> 10 | W39: =30-W38 -> 9 | X39: =31-X38 -> 8 | Y39: =30-Y38 -> 11 | Z39: =31-Z38 -> 9
A40: Base Year Loads | C40: 46714 | D40: 45492.714 | E40: 44762 | F40: 37336 | G40: 35681 | H40: 39148 | I40: 42902 | J40: 44070 | K40: 36965 | L40: 36234 | M40: 39210 | N40: 45849 | O40: 49302 | P40: =44391*(28/29) -> 42860.276 | Q40: 46956 | R40: 38448 | S40: 36690 | T40: =36820+3776 -> 40596 | U40: 45107 | V40: 38832 | W40: 36186 | X40: 38206 | Y40: 42395 | Z40: 46510
...

Sheet ACCT 447 Est
A1: Need to adjust sales to ISO to net out ASE so we are consistent with our FERC reporting.
A2: Take MWHs Sold-to and Purchased-from ISO for each time frame and adjust by ratio of Total MWHs sold-vs-ASE to get a net #
A4: MWH Purchases | B4: ='Detailed Assumps'!C2 -> 45307 | C4: ='Detailed Assumps'!D2 -> 45338 | D4: ='Detailed Assumps'!E2 -> 45366 | E4: ='Detailed Assumps'!F2 -> 45397 | F4: ='Detailed Assumps'!G2 -> 45427 | G4: ='Detailed Assumps'!H2 -> 45458 | H4: ='Detailed Assumps'!I2 -> 45488 | I4: ='Detailed Assumps'!J2 -> 45519 | ... Y4: ='Detailed Assumps'!Z2 -> 46007
A5: Super Peak | B5: =+IF('Detailed Assumps'!C724>0,'Detailed Assumps'!C724,0) -> 1004.1312 | C5: =+IF('Detailed Assumps'!D724>0,'Detailed Assumps'!D724,0) -> 0 | D5: =+IF('Detailed Assumps'!E724>0,'Detailed Assumps'!E724,0) -> 623.30889 | E5: =+IF('Detailed Assumps'!F724>0,'Detailed Assumps'!F724,0) -> 0 | F5: =+IF('Detailed Assumps'!G724>0,'Detailed Assumps'!G724,0) -> 0 | G5: =+IF('Detailed Assumps'!H724>0,'Detailed Assumps'!H724,0) -> 2636.7071 | H5: =+IF('Detailed Assumps'!I724>0,'Detailed Assumps'!I724,0) -> 0 | I5: =+IF('Detailed Assumps'!J724>0,'Detailed Assumps'!J724,0) -> 608.63388 | ... Y5: =+IF('Detailed Assumps'!Z724>0,'Detailed Assumps'!Z724,0) -> 904.63507
A6: Sub-Peak | B6: =+IF('Detailed Assumps'!C725>0,'Detailed Assumps'!C725,0) -> 0 | C6: =+IF('Detailed Assumps'!D725>0,'Detailed Assumps'!D725,0) -> 1177.8865 | D6: =+IF('Detailed Assumps'!E725>0,'Detailed Assumps'!E725,0) -> 0 | E6: =+IF('Detailed Assumps'!F725>0,'Detailed Assumps'!F725,0) -> 0 | F6: =+IF('Detailed Assumps'!G725>0,'Detailed Assumps'!G725,0) -> 0 | G6: =+IF('Detailed Assumps'!H725>0,'Detailed Assumps'!H725,0) -> 0 | H6: =+IF('Detailed Assumps'!I725>0,'Detailed Assumps'!I725,0) -> 0 | I6: =+IF('Detailed Assumps'!J725>0,'Detailed Assumps'!J725,0) -> 0 | ... Y6: =+IF('Detailed Assumps'!Z725>0,'Detailed Assumps'!Z725,0) -> 203.3057
A7: Early AM | B7: =+IF('Detailed Assumps'!C726>0,'Detailed Assumps'!C726,0) -> 2540.6985 | C7: =+IF('Detailed Assumps'!D726>0,'Detailed Assumps'!D726,0) -> 0 | D7: =+IF('Detailed Assumps'!E726>0,'Detailed Assumps'!E726,0) -> 1804.5755 | E7: =+IF('Detailed Assumps'!F726>0,'Detailed Assumps'!F726,0) -> 0 | F7: =+IF('Detailed Assumps'!G726>0,'Detailed Assumps'!G726,0) -> 0 | G7: =+IF('Detailed Assumps'!H726>0,'Detailed Assumps'!H726,0) -> 7586.8827 | H7: =+IF('Detailed Assumps'!I726>0,'Detailed Assumps'!I726,0) -> 0 | I7: =+IF('Detailed Assumps'!J726>0,'Detailed Assumps'!J726,0) -> 1875.2724 | ... Y7: =+IF('Detailed Assumps'!Z726>0,'Detailed Assumps'!Z726,0) -> 1848.7179
A8: WE Super Peak | B8: =+IF('Detailed Assumps'!C727>0,'Detailed Assumps'!C727,0) -> 527.38157 | C8: =+IF('Detailed Assumps'!D727>0,'Detailed Assumps'!D727,0) -> 0 | D8: =+IF('Detailed Assumps'!E727>0,'Detailed Assumps'!E727,0) -> 548.04146 | E8: =+IF('Detailed Assumps'!F727>0,'Detailed Assumps'!F727,0) -> 0 | F8: =+IF('Detailed Assumps'!G727>0,'Detailed Assumps'!G727,0) -> 0 | G8: =+IF('Detailed Assumps'!H727>0,'Detailed Assumps'!H727,0) -> 1919.9908 | H8: =+IF('Detailed Assumps'!I727>0,'Detailed Assumps'!I727,0) -> 0 | I8: =+IF('Detailed Assumps'!J727>0,'Detailed Assumps'!J727,0) -> 235.28425 | ... Y8: =+IF('Detailed Assumps'!Z727>0,'Detailed Assumps'!Z727,0) -> 261.33888
A9: WE Sub-Peak | B9: =+IF('Detailed Assumps'!C728>0,'Detailed Assumps'!C728,0) -> 370.98725 | C9: =+IF('Detailed Assumps'!D728>0,'Detailed Assumps'!D728,0) -> 582.11426 | D9: =+IF('Detailed Assumps'!E728>0,'Detailed Assumps'!E728,0) -> 0 | E9: =+IF('Detailed Assumps'!F728>0,'Detailed Assumps'!F728,0) -> 0 | F9: =+IF('Detailed Assumps'!G728>0,'Detailed Assumps'!G728,0) -> 0 | G9: =+IF('Detailed Assumps'!H728>0,'Detailed Assumps'!H728,0) -> 0 | H9: =+IF('Detailed Assumps'!I728>0,'Detailed Assumps'!I728,0) -> 0 | I9: =+IF('Detailed Assumps'!J728>0,'Detailed Assumps'!J728,0) -> 0 | ... Y9: =+IF('Detailed Assumps'!Z728>0,'Detailed Assumps'!Z728,0) -> 0
A10: Total MWH | B10: =+SUM(B5:B9) -> 4443.1985 | C10: =+SUM(C5:C9) -> 1760.0007 | D10: =+SUM(D5:D9) -> 2975.9258 | E10: =+SUM(E5:E9) -> 0 | F10: =+SUM(F5:F9) -> 0 | G10: =+SUM(G5:G9) -> 12143.581 | H10: =+SUM(H5:H9) -> 0 | I10: =+SUM(I5:I9) -> 2719.1906 | ... Y10: =+SUM(Y5:Y9) -> 3217.9975
A12: MWH Sales | B12: =+B4 -> 45307 | C12: =+C4 -> 45338 | D12: =+D4 -> 45366 | E12: =+E4 -> 45397 | F12: =+F4 -> 45427 | G12: =+G4 -> 45458 | H12: =+H4 -> 45488 | I12: =+I4 -> 45519 | ... Y12: =+Y4 -> 46007
A13: Super Peak | B13: =+IF('Detailed Assumps'!C724<0,'Detailed Assumps'!C724,0) -> 0 | C13: =+IF('Detailed Assumps'!D724<0,'Detailed Assumps'!D724,0) -> -379.45194 | D13: =+IF('Detailed Assumps'!E724<0,'Detailed Assumps'!E724,0) -> 0 | E13: =+IF('Detailed Assumps'!F724<0,'Detailed Assumps'!F724,0) -> -1291.7827 | F13: =+IF('Detailed Assumps'!G724<0,'Detailed Assumps'!G724,0) -> -878.55881 | G13: =+IF('Detailed Assumps'!H724<0,'Detailed Assumps'!H724,0) -> 0 | H13: =+IF('Detailed Assumps'!I724<0,'Detailed Assumps'!I724,0) -> -967.13129 | I13: =+IF('Detailed Assumps'!J724<0,'Detailed Assumps'!J724,0) -> 0 | ... Y13: =+IF('Detailed Assumps'!Z724<0,'Detailed Assumps'!Z724,0) -> 0
A14: Sub-Peak | B14: =+IF('Detailed Assumps'!C725<0,'Detailed Assumps'!C725,0) -> -13.704558 | C14: =+IF('Detailed Assumps'!D725<0,'Detailed Assumps'!D725,0) -> 0 | D14: =+IF('Detailed Assumps'!E725<0,'Detailed Assumps'!E725,0) -> -3907.8515 | E14: =+IF('Detailed Assumps'!F725<0,'Detailed Assumps'!F725,0) -> -5924.5902 | F14: =+IF('Detailed Assumps'!G725<0,'Detailed Assumps'!G725,0) -> -4866.353 | G14: =+IF('Detailed Assumps'!H725<0,'Detailed Assumps'!H725,0) -> -10145.149 | H14: =+IF('Detailed Assumps'!I725<0,'Detailed Assumps'!I725,0) -> -4913.093 | I14: =+IF('Detailed Assumps'!J725<0,'Detailed Assumps'!J725,0) -> -3365.1086 | ... Y14: =+IF('Detailed Assumps'!Z725<0,'Detailed Assumps'!Z725,0) -> 0
A15: Early AM | B15: =+IF('Detailed Assumps'!C726<0,'Detailed Assumps'!C726,0) -> 0 | C15: =+IF('Detailed Assumps'!D726<0,'Detailed Assumps'!D726,0) -> -1061.6397 | D15: =+IF('Detailed Assumps'!E726<0,'Detailed Assumps'!E726,0) -> 0 | E15: =+IF('Detailed Assumps'!F726<0,'Detailed Assumps'!F726,0) -> -1678.5681 | F15: =+IF('Detailed Assumps'!G726<0,'Detailed Assumps'!G726,0) -> -665.90467 | G15: =+IF('Detailed Assumps'!H726<0,'Detailed Assumps'!H726,0) -> 0 | H15: =+IF('Detailed Assumps'!I726<0,'Detailed Assumps'!I726,0) -> -1123.5859 | I15: =+IF('Detailed Assumps'!J726<0,'Detailed Assumps'!J726,0) -> 0 | ... Y15: =+IF('Detailed Assumps'!Z726<0,'Detailed Assumps'!Z726,0) -> 0
A16: WE Super Peak | B16: =+IF('Detailed Assumps'!C727<0,'Detailed Assumps'!C727,0) -> 0 | C16: =+IF('Detailed Assumps'!D727<0,'Detailed Assumps'!D727,0) -> -90.977504 | D16: =+IF('Detailed Assumps'!E727<0,'Detailed Assumps'!E727,0) -> 0 | E16: =+IF('Detailed Assumps'!F727<0,'Detailed Assumps'!F727,0) -> -520.71091 | F16: =+IF('Detailed Assumps'!G727<0,'Detailed Assumps'!G727,0) -> -393.81869 | G16: =+IF('Detailed Assumps'!H727<0,'Detailed Assumps'!H727,0) -> 0 | H16: =+IF('Detailed Assumps'!I727<0,'Detailed Assumps'!I727,0) -> -356.93681 | I16: =+IF('Detailed Assumps'!J727<0,'Detailed Assumps'!J727,0) -> 0 | ... Y16: =+IF('Detailed Assumps'!Z727<0,'Detailed Assumps'!Z727,0) -> 0
