Workbook

Sheet Cost of service
B2: Woodstock Aqueduct Company
B3: Cost of Service
B4: Test Year ending 12/31/2023
G5: Department Adjustments
B6: Operating Expenses
B7: Category | C7: 2023 | D7: Change | E7: Rate year | G7: PSD | H7: Rate year
D8: AS FILED | E8: AS FILED | G8: Adj to "As Filed" | H8: Adjusted
B9: Salaries and wages | C9: 128420 | D9: 137842 | E9: =+D9+C9 -> 266262 | G9: 0 | H9: =+E9+G9 -> 266262
B10: Payroll taxes | C10: 10090 | D10: 11009 | E10: =+D10+C10 -> 21099 | G10: 0 | H10: =+E10+G10 -> 21099
B11: Pension plan | C11: 0 | D11: 26626 | E11: =+D11+C11 -> 26626 | G11: 0 | H11: =+E11+G11 -> 26626
B12: Employee benefits - Health Insurance | C12: 7751 | D12: 12635.62 | E12: =+D12+C12 -> 20386.62 | G12: 0 | H12: =+E12+G12 -> 20386.62
B13: Backhoe expenses | C13: 324 | D13: 0 | E13: =+D13+C13 -> 324 | G13: 254 | H13: =+E13+G13 -> 578
B14: Equipment rental | C14: 5734 | D14: 1062 | E14: =+D14+C14 -> 6796 | G14: 0 | H14: =+E14+G14 -> 6796
B15: Equipment insurance | C15: 1270 | D15: 0 | E15: =+D15+C15 -> 1270 | G15: 0 | H15: =+E15+G15 -> 1270
B16: Heat | C16: 2347 | D16: 0 | E16: =+D16+C16 -> 2347 | G16: -626 | H16: =+E16+G16 -> 1721
B17: Electricity | C17: 21660 | D17: 0 | E17: =+D17+C17 -> 21660 | G17: -11787 | H17: =+E17+G17 -> 9873
B18: Operating supplies | C18: 31270 | D18: 0 | E18: =+D18+C18 -> 31270 | G18: -10895 | H18: =+E18+G18 -> 20375
B19: Property and other taxes | C19: 34668 | D19: 0 | E19: =+D19+C19 -> 34668 | G19: 0 | H19: =+E19+G19 -> 34668
B20: Rent | C20: 10450 | D20: 0 | E20: =+D20+C20 -> 10450 | G20: 0 | H20: =+E20+G20 -> 10450
B21: Repairs and maintenance | C21: 27236 | D21: 0 | E21: =+D21+C21 -> 27236 | G21: 2140 | H21: =+E21+G21 -> 29376
B22: ANR required planned pipe replacement | D22: 150000 | E22: =+D22+C22 -> 150000 | G22: -150000 | H22: =+E22+G22 -> 0
B23: Repairs and maintenance - flood damage | C23: 146054 | D23: -146054 | E23: =+D23+C23 -> 0 | G23: 0 | H23: =+E23+G23 -> 0
B24: Truck and travel expenses | C24: 9921 | D24: 79 | E24: =+D24+C24 -> 10000 | G24: -243 | H24: =+E24+G24 -> 9757
B25: SCADA System | D25: 45300 | E25: 45300 | G25: -45300 | H25: =+E25+G25 -> 0
B27: Total Operating Expenses Total | C27: =SUM(C9:C26) -> 437195 | D27: =SUM(D9:D26) -> 238499.62 | E27: =SUM(E9:E25) -> 675694.62 | G27: =SUM(G9:G26) -> -216457 | H27: =SUM(H9:H26) -> 459237.62
B30: Administrative and General Expenses
B32: Officer salaries | C32: 43000 | D32: -43000 | E32: =+D32+C32 -> 0 | G32: 0 | H32: =+E32+G32 -> 0
B33: Payroll taxes | C33: 3461 | D33: -3461 | E33: =+D33+C33 -> 0 | G33: 0 | H33: =+E33+G33 -> 0
B34: Pension plan | C34: 0 | D34: 0 | E34: =+D34+C34 -> 0 | G34: 0 | H34: =+E34+G34 -> 0
B35: Employee benefits | C35: 1996 | D35: -1996 | E35: =+D35+C35 -> 0 | G35: 0 | H35: =+E35+G35 -> 0
B36: Insurance | C36: 22209 | D36: 0 | E36: =+D36+C36 -> 22209 | G36: 0 | H36: =+G36+E36 -> 22209
B37: Miscellaneous | C37: 127 | D37: -127 | E37: =+D37+C37 -> 0 | G37: 1390 | H37: =+G37+E37 -> 1390
B38: Land management | C38: 0 | D38: 0 | E38: =+D38+C38 -> 0 | G38: 0
B39: Office supplies and expenses | C39: 10045 | D39: 0 | E39: =+D39+C39 -> 10045 | G39: -4116 | H39: =+G39+E39 -> 5929
B40: Professional services | C40: 19609 | D40: 40000 | E40: =+D40+C40 -> 59609 | G40: -7649 | H40: =+E40+G40 -> 51960
B42: Telephone | C42: 6748 | D42: 1000 | E42: =+D42+C42 -> 7748 | G42: =+H42-E42 -> -233 | H42: 7515
B43: Depreciation & Amortization | C43: 0 | D43: 0 | E43: =+D43+C43 -> 0 | G43: =+'Cost of Debt'!C36 -> 53457.08 | H43: =+G43+E43 -> 53457.08
B44: Administrative & General Expenses Total | C44: =SUM(C32:C43) -> 107195 | D44: =SUM(D32:D43) -> -7584 | E44: =SUM(E32:E42) -> 99611 | G44: =SUM(G31:G43) -> 42849.08 | H44: =SUM(H31:H43) -> 142460.08
B46: Annual Cost of debt | E46: 160218.24 | G46: =+'Cost of Debt'!I21 -> -130515.56 | H46: =+G46+E46 -> 29702.68
B48: Total Cost of Service | E48: =+E46+E44+E27 -> 935523.86 | G48: =G27+G44+G46 -> -304123.48 | H48: =H27+H44+H46 -> 631400.38
...

Sheet Cost of Debt
B3: Woodstock Aqueduct Company
B4: Debt Expenses
C5: 45291 | D5: 2024 | E5: 2024
C6: Principal | D6: Monthly Payment | E6: Annual payments | I6: Department
I7: Adjusted
B8: Mascoma Mortgage Note | C8: 161904 | D8: 2227 | E8: 26724 | F8: 17-2934-PET | H8: ok | I8: =3325.58+458.54+452.72+403.64+440.89+420.98 -> 5502.35 | J8: (Annualized from 7-months)
B9: Solar Trackers Mascoma | C9: 53739 | D9: 1263 | E9: 15156 | F9: 17-2934-PET | H9: ok | I9: =991.62+133.62+129.79+113.75+122.04+114.35 -> 1605.17 | J9: (Annualized from 7-months)
B10: Kubota Equipment loan | C10: 38494 | D10: 1480 | E10: 17760 | F10: 20-3640-PET | H10: ok | I10: 0 | J10: ('0% interest)
B11: VEDA West End Line loan | C11: 359967 | D11: 2442 | E11: 29304 | F11: 17-2934-PET | H11: ok | I11: 11334.26 | J11: (From amortization schedule)
B12: Flood loan Mascoma | C12: 150000 | D12: 695 | E12: 8340 | F12: 23-2798-PET | H12: ok | I12: 9010.9 | J12: (From amortization schedule)
B13: VEDA Lead Line inventory | C13: 46000 | D13: 0 | E13: 0 | F13: 22-5462-PET 0% interest | I13: 0 | J13: ('0% interest)
B14: VEDA PER | C14: 33000 | D14: 0 | E14: 0 | F14: 22-5462-PET 0% interest | I14: 0 | J14: ('0% interest)
B15: Line of credit | C15: 15000 | D15: 90 | E15: 1080 | I15: =25000*0.09 -> 2250 | J15: (Estimated on $25,000.00)
B16: Accounts payable | C16: 50000 | E16: 0 | I16: 0
B17: Elm Street river crossing | C17: 664602.42 | D17: 5154.52 | E17: =D17*12 -> 61854.24 | F17: Not filed for approval yet | I17: 0 | J17: (From amortization schedule)
B19: Total | C19: =SUM(C8:C18) -> 1572706.4 | D19: =SUM(D8:D18) -> 13351.52 | E19: =SUM(E8:E18) -> 160218.24 | I19: =SUM(I8:I18) -> 29702.68 | J19: (Department Total)
I21: =I19-E19 -> -130515.56 | J21: (Total Adjustment)
B22: DEC Deficiency Fund Requirement | C22: 0 | D22: 0 | E22: =D22*12 -> 0 | F22: Hydrants - not filed for approval yet
E23: 0 | F23: Interest only
E24: =E23-E22 -> 0 | F24: Principal adjusted out
B26: As Filed
B27: DEC Deficiency Fund Requirement | C27: 4398980 | D27: 24396.64
B31: Depreciation | C31: 2024
B32: Book | C32: 50457.08
B33: Flood loan Mascoma | C33: =+C12/50 -> 3000
C34: 0
C36: =SUM(C32:C34) -> 53457.08

Sheet Rate Change Determination
B1: Department Adjusted
C2: Woodstock Aqueduct Company
C3: Rate Change Determination
B4: TEST YEAR | D4: Base Charge (per meter) | E4: Variable Charge (per/cb/ft) | F4: Capacity Charge | G4: Hydrant Charges | H4: Total
C5: Test Year Rate | D5: 240 | E5: 0.02961 | G5: 360
C6: Unit (meters, volume, hydrants) | D6: 992 | E6: 5548269 | G6: 96
C7: Revenue | D7: =D6*D5 -> 238080 | E7: =E6*E5 -> 164284.25 | F7: 9300.8 | G7: =G6*G5 -> 34560 | H7: =SUM(D7:G7) -> 446225.05
C8: Contribution % | D8: =D7/H7 -> 0.53354244 | E8: =E7/H7 -> 0.36816455 | F8: =F7/H7 -> 0.020843294 | G8: =G7/H7 -> 0.077449709 | H8: =SUM(D8:G8) -> 1
C10: Contribution Adjustments | D10: =D8 -> 0.53354244 | E10: =E8+F8 -> 0.38900785 | F10: =0 -> 0 | G10: =G8 -> 0.077449709 | H10: =SUM(D10:G10) -> 1
B11: RATE YEAR
C12: Cost of Service Revenue Requirement | H12: ='Cost of service'!H48 -> 631400.38
C13: Revenue Requirement Per Rate Class | D13: =D10*H12 -> 336878.9 | E13: =E10*H12 -> 245619.7 | F13: =F10*H12 -> 0 | G13: =G10*H12 -> 48901.776
C14: Unit (meters, volume, hydrants) | D14: =D6 -> 992 | E14: =E6 -> 5548269 | F14: =F6 -> 0 | G14: =G6 -> 96
C15: Cost of Service Rates | D15: =D13/D14 -> 339.59567 | E15: =E13/E14 -> 0.04426961 | F15: =F13 -> 0 | G15: =G13/G14 -> 509.3935
C16: DEC Deficiency Fund Requirement | H16: ='Cost of Debt'!$E$23 -> 0
C17: Deficiency Fund Allocation % | D17: =0 -> 0 | E17: 0 | F17: 0 | G17: 1
D18: =D17*H16 -> 0 | E18: =E17*H16 -> 0 | F18: =F17*H16 -> 0 | G18: =G17*H16 -> 0
C19: DEC Deficiency Fund Rate Change | D19: =D18/D14 -> 0 | E19: =E18/E14 -> 0 | F19: =F18 -> 0 | G19: =G18/G14 -> 0
C21: Rate Year Rates | D21: =D19+D15 -> 339.59567 | E21: =E19+E15 -> 0.04426961 | F21: =F19+F15 -> 0 | G21: =G19+G15 -> 509.3935
