Workbook

Sheet Dashboard
B3: 1st Full Month with Devices Connected | C3: 45444
B4: Assumed Device Lifetime - Years | C4: 10
B5: Monthly Per Device Fee | C5: 2
B6: Annual Inflator of Fees | C6: 0
B8: Average Power draw per charger when in use (kW) | C8: 1
B9: Usable Capacity (kWh) | C9: 0
B10: Assumed kW Reduction per Particpant (VT Peaks) | C10: =C8 -> 1
B11: Assumed kW Reduction per Particpant (ISO Peaks) | C11: =C8 -> 1
B12: Hours utilized per dispatch | C12: 4
B13: Assumed kWh moved per event per participant | C13: =C12*C10 -> 4
B14: Assumed monthly API fee to Manufacturer | C14: 0
B16: # of Devices Initially Enrolled | C16: 1
B18: Round Trip Losses | C18: 0
B19: Input kWh | C19: =+C13*(1+$C$18) -> 4
B20: FCM Reserve Margin | C20: 0.35
B22: Success Rate in predicting ISO-NE Annual Peak | C22: 0.8
B23: Success rate in predicting VT Monthly Peak | C23: 0.75
B24: Success rate in predicting GMP Monthly Peak | C24: 0.8
B25: % of Devices that affect GMP Wheeling Load | C25: 0.5
B26: Impact on GMP Monthly Peak | C26: =+C24*C25 -> 0.4
B27: Success in predicting VEC Annual Peak | C27: 0.5
B28: Success in predicting VT Annual Peak | C28: 0.83333333
B30: Long-term Capacity Annual escalation | C30: 0
B31: Long-term NEPOOL OATT Annual Esclation | C31: 0.05
B32: Long-Term GMP Transmission $/kw-month | C32: 0.05
B34: Line Losses from Meter to NEPOOL PTF | C34: 0.062
B35: Line Losses from Meter to GMP Metering Point | C35: =+C34 -> 0.062
B36: VEC WACC | C36: 0.0397
B38: # of Events per Month | C38: 10
B39: Ratio of LMP in Hours Charged vs Hours Discharged | C39: =42.21/57.24 -> 0.73742138
B41: Net Cumulative NPV ($) - Before Member Incentive | C41: =SUMIFS(Analysis!J49:J67,Analysis!F49:F67,Dashboard!C4) -> 1753.3226
B42: % of Savings to go Member | C42: 0.5475
B43: Amount VEC willing to pay customer each month - $ | C43: =(C41*C42)/(12*C4) -> 7.9995342
F45: 0.025 | I45: -0.02 | J45: 0 | K45: 0.01 | L45: 0.025
B46: Start Date | C46: End Date | D46: Net Regional Clearing Price | E46: NEPOOL RNS Rate | F46: Average LMP in Hours Dispatched | G46: Average LMP in Hours Charged | H46: GMP Transmission Rate ($/kW) | I46: Regulation $/MWh | J46: Forward Reserve $/MWh | K46: VELCO Transmission Rate | L46: Various Network-Load-based ISO Tariff Expenses
B47: 43252 | C47: =+B47+364 -> 43616 | D47: 9.55 | E47: =+(110.42843+1.57556)/12 -> 9.3336658 | F47: 48 | G47: =+F47*$C$39 -> 35.396226 | H47: 3.3 | I47: 0.2265 | J47: 0.2978 | K47: 1.52 | L47: 0.45
B48: =1+C47 -> 43617 | C48: =+B48+365 -> 43982 | D48: 7.07 | E48: =+(111.94087+1.59341)/12 -> 9.46119 | F48: =+F47*(1+$F$45) -> 49.2 | G48: =+F48*$C$39 -> 36.281132 | H48: =+H47*(1+$C$32) -> 3.465 | I48: =+I47*(1+$I$45) -> 0.22197 | J48: =+J47*(1+$J$45) -> 0.2978 | K48: =+K47*(1+$K$45) -> 1.5352 | L48: =+L47*(1+$L$45) -> 0.46125
B49: =1+C48 -> 43983 | C49: =+B49+364 -> 44347 | D49: 5.267 | E49: 10.91726 | F49: =+F48*(1+$F$45) -> 50.43 | G49: =+F49*$C$39 -> 37.18816 | H49: =+H48*(1+$C$32) -> 3.63825 | I49: =+I48*(1+$I$45) -> 0.2175306 | J49: =+J48*(1+$J$45) -> 0.2978 | K49: =+K48*(1+$K$45) -> 1.550552 | L49: =+L48*(1+$L$45) -> 0.47278125
B50: =1+C49 -> 44348 | C50: =+B50+364 -> 44712 | D50: 4.612 | E50: 11.90521 | F50: =+F49*(1+$F$45) -> 51.69075 | G50: =+F50*$C$39 -> 38.117864 | H50: =+H49*(1+$C$32) -> 3.8201625 | I50: =+I49*(1+$I$45) -> 0.21317999 | J50: =+J49*(1+$J$45) -> 0.2978 | K50: =+K49*(1+$K$45) -> 1.5660575 | L50: =+L49*(1+$L$45) -> 0.48460078
B51: =1+C50 -> 44713 | C51: =+B51+364 -> 45077 | D51: 3.8 | E51: 12.0442 | F51: =+F50*(1+$F$45) -> 52.983019 | G51: =+F51*$C$39 -> 39.070811 | H51: =+H50*(1+$C$32) -> 4.0111706 | I51: =+I50*(1+$I$45) -> 0.20891639 | J51: =+J50*(1+$J$45) -> 0.2978 | K51: =+K50*(1+$K$45) -> 1.5817181 | L51: =+L50*(1+$L$45) -> 0.4967158
...

Sheet Analysis
B2: =+MONTH(B4) -> 1 | C2: =+MONTH(C4) -> 2 | D2: =+MONTH(D4) -> 3 | E2: =+MONTH(E4) -> 4 | F2: =+MONTH(F4) -> 5 | G2: =+MONTH(G4) -> 6 | H2: =+MONTH(H4) -> 7 | I2: =+MONTH(I4) -> 8 | ... JM2: =+MONTH(JM4) -> 8
B3: =+YEAR(B4) -> 2019 | C3: =+YEAR(C4) -> 2019 | D3: =+YEAR(D4) -> 2019 | E3: =+YEAR(E4) -> 2019 | F3: =+YEAR(F4) -> 2019 | G3: =+YEAR(G4) -> 2019 | H3: =+YEAR(H4) -> 2019 | I3: =+YEAR(I4) -> 2019 | ... JM3: =+YEAR(JM4) -> 2041
B4: 43466 | C4: 43497 | D4: 43525 | E4: 43556 | F4: 43586 | G4: 43617 | H4: 43647 | I4: 43678 | J4: 43709 | K4: 43739 | L4: 43770 | M4: 43800 | N4: 43831 | O4: 43862 | P4: 43891 | Q4: 43922 | R4: 43952 | S4: 43983 | T4: 44013 | U4: 44044 | V4: 44075 | W4: 44105 | X4: 44136 | Y4: 44166 | Z4: 44197 | AA4: 44228 | AB4: 44256 | AC4: 44287 | AD4: 44317 | AE4: 44348 | AF4: 44378 | AG4: 44409 | AH4: 44440 | AI4: 44470 | AJ4: 44501 | AK4: 44531 | AL4: 44562 | AM4: 44593 | AN4: 44621 | AO4: 44652 | AP4: 44682 | AQ4: 44713 | AR4: 44743 | AS4: 44774 | AT4: 44805 | AU4: 44835 | AV4: 44866 | AW4: 44896 | AX4: 44927 | AY4: 44958 | AZ4: 44986 | BA4: 45017 | BB4: 45047 | BC4: 45078 | BD4: 45108 | BE4: 45139 | BF4: 45170 | BG4: 45200 | BH4: 45231 | BI4: 45261 | BJ4: 45292 | BK4: 45323 | BL4: 45352 | BM4: 45383 | BN4: 45413 | BO4: 45444 | BP4: 45474 | BQ4: 45505 | BR4: 45536 | BS4: 45566 | BT4: 45597 | BU4: 45627 | BV4: 45658 | BW4: 45689 | BX4: 45717 | BY4: 45748 | BZ4: 45778 | CA4: 45809 | CB4: 45839 | CC4: 45870 | CD4: 45901 | CE4: 45931 | CF4: 45962 | CG4: 45992 | CH4: 46023 | CI4: 46054 | CJ4: 46082 | CK4: 46113 | CL4: 46143 | CM4: 46174 | CN4: 46204 | CO4: 46235 | CP4: 46266 | CQ4: 46296 | CR4: 46327 | CS4: 46357 | CT4: 46388 | CU4: 46419 | CV4: 46447 | CW4: 46478 | CX4: 46508 | CY4: 46539 | CZ4: 46569 | DA4: 46600 | DB4: 46631 | DC4: 46661 | DD4: 46692 | DE4: 46722 | DF4: 46753 | DG4: 46784 | DH4: 46813 | DI4: 46844 | DJ4: 46874 | DK4: 46905 | DL4: 46935 | DM4: 46966 | DN4: 46997 | DO4: 47027 | DP4: 47058 | DQ4: 47088 | DR4: 47119 | DS4: 47150 | DT4: 47178 | DU4: 47209 | DV4: 47239 | DW4: 47270 | DX4: 47300 | DY4: 47331 | DZ4: 47362 | EA4: 47392 | EB4: 47423 | EC4: 47453 | ED4: 47484 | EE4: 47515 | EF4: 47543 | EG4: 47574 | EH4: 47604 | EI4: 47635 | EJ4: 47665 | EK4: 47696 | EL4: 47727 | EM4: 47757 | EN4: 47788 | EO4: 47818 | EP4: 47849 | EQ4: 47880 | ER4: 47908 | ES4: 47939 | ET4: 47969 | EU4: 48000 | EV4: 48030 | EW4: 48061 | EX4: 48092 | EY4: 48122 | EZ4: 48153 | FA4: 48183 | FB4: 48214 | FC4: 48245 | FD4: 48274 | FE4: 48305 | FF4: 48335 | FG4: 48366 | FH4: 48396 | FI4: 48427 | FJ4: 48458 | FK4: 48488 | FL4: 48519 | FM4: 48549 | FN4: 48580 | FO4: 48611 | FP4: 48639 | FQ4: 48670 | FR4: 48700 | FS4: 48731 | FT4: 48761 | FU4: 48792 | FV4: 48823 | FW4: 48853 | FX4: 48884 | FY4: 48914 | FZ4: 48945 | GA4: 48976 | GB4: 49004 | GC4: 49035 | GD4: 49065 | GE4: 49096 | GF4: 49126 | GG4: 49157 | GH4: 49188 | GI4: 49218 | GJ4: 49249 | GK4: 49279 | GL4: 49310 | GM4: 49341 | GN4: 49369 | GO4: 49400 | GP4: 49430 | GQ4: 49461 | GR4: 49491 | GS4: 49522 | GT4: 49553 | GU4: 49583 | GV4: 49614 | GW4: 49644 | GX4: 49675 | GY4: 49706 | GZ4: 49735 | HA4: 49766 | HB4: 49796 | HC4: 49827 | HD4: 49857 | HE4: 49888 | HF4: 49919 | HG4: 49949 | HH4: 49980 | HI4: 50010 | HJ4: 50041 | HK4: 50072 | HL4: 50100 | HM4: 50131 | HN4: 50161 | HO4: 50192 | HP4: 50222 | HQ4: 50253 | HR4: 50284 | HS4: 50314 | HT4: 50345 | HU4: 50375 | HV4: 50406 | HW4: 50437 | HX4: 50465 | HY4: 50496 | HZ4: 50526 | IA4: 50557 | IB4: 50587 | IC4: 50618 | ID4: 50649 | IE4: 50679 | IF4: 50710 | IG4: 50740 | IH4: 50771 | II4: 50802 | IJ4: 50830 | IK4: 50861 | IL4: 50891 | IM4: 50922 | IN4: 50952 | IO4: 50983 | IP4: 51014 | IQ4: 51044 | IR4: 51075 | IS4: 51105 | IT4: 51136 | IU4: 51167 | IV4: 51196 | IW4: 51227 | IX4: 51257 | IY4: 51288 | IZ4: 51318 | JA4: 51349 | JB4: 51380 | JC4: 51410 | JD4: 51441 | JE4: 51471 | JF4: 51502 | JG4: 51533 | JH4: 51561 | JI4: 51592 | JJ4: 51622 | JK4: 51653 | JL4: 51683 | JM4: 51714
A5: Annual NEPOOL Peak coincidence factor | S5: =IF(S4-Dashboard!$C$3<275,0,IF(Analysis!S4-Dashboard!$C$3<306,0.3,IF(Analysis!S4-Dashboard!$C$3<337,0.85,1))) -> 0 | T5: =+S5 -> 0 | U5: =+T5 -> 0 | V5: =+U5 -> 0 | W5: =+V5 -> 0 | X5: =+W5 -> 0 | Y5: =+X5 -> 0 | Z5: =+Y5 -> 0 | AA5: =+Z5 -> 0 | ... AD5: =+AC5 -> 0 | AE5: =IF(AE4-Dashboard!$C$3<274,0,IF(Analysis!AE4-Dashboard!$C$3<305,0.3,IF(Analysis!AE4-Dashboard!$C$3<336,0.85,1))) -> 0 | AF5: =+AE5 -> 0 | AG5: =+AF5 -> 0 | AH5: =+AG5 -> 0 | AI5: =+AH5 -> 0 | AJ5: =+AI5 -> 0 | AK5: =+AJ5 -> 0 | AL5: =+AK5 -> 0 | AM5: =+AL5 -> 0 | ... AP5: =+AO5 -> 0 | AQ5: =IF(AQ4-Dashboard!$C$3<274,0,IF(Analysis!AQ4-Dashboard!$C$3<305,0.3,IF(Analysis!AQ4-Dashboard!$C$3<336,0.85,1))) -> 0 | AR5: =+AQ5 -> 0 | AS5: =+AR5 -> 0 | AT5: =+AS5 -> 0 | AU5: =+AT5 -> 0 | AV5: =+AU5 -> 0 | AW5: =+AV5 -> 0 | AX5: =+AW5 -> 0 | AY5: =+AX5 -> 0 | ... BB5: =+BA5 -> 0 | BC5: =IF(BC4-Dashboard!$C$3<274,0,IF(Analysis!BC4-Dashboard!$C$3<305,0.3,IF(Analysis!BC4-Dashboard!$C$3<336,0.85,1))) -> 0 | BD5: =+BC5 -> 0 | BE5: =+BD5 -> 0 | BF5: =+BE5 -> 0 | BG5: =+BF5 -> 0 | BH5: =+BG5 -> 0 | BI5: =+BH5 -> 0 | BJ5: =+BI5 -> 0 | BK5: =+BJ5 -> 0 | ... BN5: =+BM5 -> 0 | BO5: =IF(BO4-Dashboard!$C$3<275,0,IF(Analysis!BO4-Dashboard!$C$3<306,0.3,IF(Analysis!BO4-Dashboard!$C$3<337,0.85,1))) -> 0 | BP5: =+BO5 -> 0 | BQ5: =+BP5 -> 0 | BR5: =+BQ5 -> 0 | BS5: =+BR5 -> 0 | BT5: =+BS5 -> 0 | BU5: =+BT5 -> 0 | BV5: =+BU5 -> 0 | BW5: =+BV5 -> 0 | ... BZ5: =+BY5 -> 0 | CA5: =IF(CA4-Dashboard!$C$3<274,0,IF(Analysis!CA4-Dashboard!$C$3<305,0.3,IF(Analysis!CA4-Dashboard!$C$3<336,0.85,1))) -> 1 | CB5: =+CA5 -> 1 | CC5: =+CB5 -> 1 | CD5: =+CC5 -> 1 | CE5: =+CD5 -> 1 | CF5: =+CE5 -> 1 | CG5: =+CF5 -> 1 | CH5: =+CG5 -> 1 | CI5: =+CH5 -> 1 | ... CL5: =+CK5 -> 1 | CM5: =IF(CM4-Dashboard!$C$3<274,0,IF(Analysis!CM4-Dashboard!$C$3<305,0.3,IF(Analysis!CM4-Dashboard!$C$3<336,0.85,1))) -> 1 | CN5: =+CL5 -> 1 | CO5: =+CM5 -> 1 | CP5: =+CN5 -> 1 | CQ5: =+CO5 -> 1 | CR5: =+CP5 -> 1 | CS5: =+CQ5 -> 1 | CT5: =+CR5 -> 1 | CU5: =+CS5 -> 1 | ... CX5: =+CV5 -> 1 | CY5: =IF(CY4-Dashboard!$C$3<274,0,IF(Analysis!CY4-Dashboard!$C$3<305,0.3,IF(Analysis!CY4-Dashboard!$C$3<336,0.85,1))) -> 1 | CZ5: =+CY5 -> 1 | DA5: =+CZ5 -> 1 | DB5: =+DA5 -> 1 | DC5: =+DB5 -> 1 | DD5: =+DC5 -> 1 | DE5: =+DD5 -> 1 | DF5: =+DE5 -> 1 | DG5: =+DF5 -> 1 | ... DJ5: =+DI5 -> 1 | DK5: =IF(DK4-Dashboard!$C$3<275,0,IF(Analysis!DK4-Dashboard!$C$3<306,0.3,IF(Analysis!DK4-Dashboard!$C$3<337,0.85,1))) -> 1 | DL5: =+DK5 -> 1 | DM5: =+DL5 -> 1 | DN5: =+DM5 -> 1 | DO5: =+DN5 -> 1 | DP5: =+DO5 -> 1 | DQ5: =+DP5 -> 1 | DR5: =+DQ5 -> 1 | DS5: =+DR5 -> 1 | ... DV5: =+DU5 -> 1 | DW5: =IF(DW4-Dashboard!$C$3<274,0,IF(Analysis!DW4-Dashboard!$C$3<305,0.3,IF(Analysis!DW4-Dashboard!$C$3<336,0.85,1))) -> 1 | DX5: =+DW5 -> 1 | DY5: =+DX5 -> 1 | DZ5: =+DY5 -> 1 | EA5: =+DZ5 -> 1 | EB5: =+EA5 -> 1 | EC5: =+EB5 -> 1 | ED5: =+EC5 -> 1 | EE5: =+ED5 -> 1 | ... EH5: =+EG5 -> 1 | EI5: =IF(EI4-Dashboard!$C$3<274,0,IF(Analysis!EI4-Dashboard!$C$3<305,0.3,IF(Analysis!EI4-Dashboard!$C$3<336,0.85,1))) -> 1 | EJ5: =+EI5 -> 1 | EK5: =+EJ5 -> 1 | EL5: =+EK5 -> 1 | EM5: =+EL5 -> 1 | EN5: =+EM5 -> 1 | EO5: =+EN5 -> 1 | EP5: =+EO5 -> 1 | EQ5: =+EP5 -> 1 | ... JM5: =+JL5 -> 1
A6: # of Devices Enrolled | B6: =IF(B4<Dashboard!$C$3,0,Dashboard!$C$16) -> 0 | C6: =IF(C4<Dashboard!$C$3,0,Dashboard!$C$16) -> 0 | D6: =IF(D4<Dashboard!$C$3,0,Dashboard!$C$16) -> 0 | E6: =IF(E4<Dashboard!$C$3,0,Dashboard!$C$16) -> 0 | F6: =IF(F4<Dashboard!$C$3,0,Dashboard!$C$16) -> 0 | G6: =IF(G4<Dashboard!$C$3,0,Dashboard!$C$16) -> 0 | H6: =IF(H4<Dashboard!$C$3,0,Dashboard!$C$16) -> 0 | I6: =IF(I4<Dashboard!$C$3,0,Dashboard!$C$16) -> 0 | ... JM6: =IF(JM4<Dashboard!$C$3,0,Dashboard!$C$16) -> 1
A8: Reduction in Forward Capacity Market Load Obligation (kW) | B8: =+Dashboard!$C$11*AVERAGE($G$6:$J$6)*Dashboard!$C$22*(1+Dashboard!$C$20)*(1+Dashboard!$C$34)*B5 -> 0 | C8: =+Dashboard!$C$11*AVERAGE($G$6:$J$6)*Dashboard!$C$22*(1+Dashboard!$C$20)*(1+Dashboard!$C$34)*C5 -> 0 | D8: =+Dashboard!$C$11*AVERAGE($G$6:$J$6)*Dashboard!$C$22*(1+Dashboard!$C$20)*(1+Dashboard!$C$34)*D5 -> 0 | E8: =+Dashboard!$C$11*AVERAGE($G$6:$J$6)*Dashboard!$C$22*(1+Dashboard!$C$20)*(1+Dashboard!$C$34)*E5 -> 0 | F8: =+Dashboard!$C$11*AVERAGE($G$6:$J$6)*Dashboard!$C$22*(1+Dashboard!$C$20)*(1+Dashboard!$C$34)*F5 -> 0 | G8: =+Dashboard!$C$11*AVERAGE($G$6:$J$6)*Dashboard!$C$22*(1+Dashboard!$C$20)*(1+Dashboard!$C$34)*G5 -> 0 | H8: =+Dashboard!$C$11*AVERAGE($G$6:$J$6)*Dashboard!$C$22*(1+Dashboard!$C$20)*(1+Dashboard!$C$34)*H5 -> 0 | I8: =+Dashboard!$C$11*AVERAGE($G$6:$J$6)*Dashboard!$C$22*(1+Dashboard!$C$20)*(1+Dashboard!$C$34)*I5 -> 0 | ... JM8: =+Dashboard!$C$11*AVERAGE($G$6:$J$6)*Dashboard!$C$22*(1+Dashboard!$C$20)*(1+Dashboard!$C$34)*JM5 -> 0
A9: Reduction in Load at Time of VT Monthly Peak (kW) | B9: =+Dashboard!$C$10*B$6*Dashboard!$C$23*(1+Dashboard!$C$34) -> 0 | C9: =+Dashboard!$C$10*C$6*Dashboard!$C$23*(1+Dashboard!$C$34) -> 0 | D9: =+Dashboard!$C$10*D$6*Dashboard!$C$23*(1+Dashboard!$C$34) -> 0 | E9: =+Dashboard!$C$10*E$6*Dashboard!$C$23*(1+Dashboard!$C$34) -> 0 | F9: =+Dashboard!$C$10*F$6*Dashboard!$C$23*(1+Dashboard!$C$34) -> 0 | G9: =+Dashboard!$C$10*G$6*Dashboard!$C$23*(1+Dashboard!$C$34) -> 0 | H9: =+Dashboard!$C$10*H$6*Dashboard!$C$23*(1+Dashboard!$C$34) -> 0 | I9: =+Dashboard!$C$10*I$6*Dashboard!$C$23*(1+Dashboard!$C$34) -> 0 | ... JM9: =+Dashboard!$C$10*JM$6*Dashboard!$C$23*(1+Dashboard!$C$34) -> 0.7965
A10: Reduction in Load at Time of GMP Monthly Peak (kW) | B10: =+Dashboard!$C$10*B$6*Dashboard!$C$26*(1+Dashboard!$C$35) -> 0 | C10: =+Dashboard!$C$10*C$6*Dashboard!$C$26*(1+Dashboard!$C$35) -> 0 | D10: =+Dashboard!$C$10*D$6*Dashboard!$C$26*(1+Dashboard!$C$35) -> 0 | E10: =+Dashboard!$C$10*E$6*Dashboard!$C$26*(1+Dashboard!$C$35) -> 0 | F10: =+Dashboard!$C$10*F$6*Dashboard!$C$26*(1+Dashboard!$C$35) -> 0 | G10: =+Dashboard!$C$10*G$6*Dashboard!$C$26*(1+Dashboard!$C$35) -> 0 | H10: =+Dashboard!$C$10*H$6*Dashboard!$C$26*(1+Dashboard!$C$35) -> 0 | I10: =+Dashboard!$C$10*I$6*Dashboard!$C$26*(1+Dashboard!$C$35) -> 0 | ... JM10: =+Dashboard!$C$10*JM$6*Dashboard!$C$26*(1+Dashboard!$C$35) -> 0.4248
A11: Reduction in Load at Time of VEC Annual Peak (kW) | B11: =+Dashboard!$C$10*B$6*Dashboard!$C$27*(1+Dashboard!$C$34) -> 0 | C11: =+Dashboard!$C$10*C$6*Dashboard!$C$27*(1+Dashboard!$C$34) -> 0 | D11: =+Dashboard!$C$10*D$6*Dashboard!$C$27*(1+Dashboard!$C$34) -> 0 | E11: =+Dashboard!$C$10*E$6*Dashboard!$C$27*(1+Dashboard!$C$34) -> 0 | F11: =+Dashboard!$C$10*F$6*Dashboard!$C$27*(1+Dashboard!$C$34) -> 0 | G11: =+Dashboard!$C$10*G$6*Dashboard!$C$27*(1+Dashboard!$C$34) -> 0 | H11: =+Dashboard!$C$10*H$6*Dashboard!$C$27*(1+Dashboard!$C$34) -> 0 | I11: =+Dashboard!$C$10*I$6*Dashboard!$C$27*(1+Dashboard!$C$34) -> 0 | ... JM11: =+Dashboard!$C$10*JM$6*Dashboard!$C$27*(1+Dashboard!$C$34) -> 0.531
A12: Reduction in Load at Time of VT Annual Peak (kW) | B12: =+Dashboard!$C$10*B$6*Dashboard!$C$28*(1+Dashboard!$C$34) -> 0 | C12: =+Dashboard!$C$10*C$6*Dashboard!$C$28*(1+Dashboard!$C$34) -> 0 | D12: =+Dashboard!$C$10*D$6*Dashboard!$C$28*(1+Dashboard!$C$34) -> 0 | E12: =+Dashboard!$C$10*E$6*Dashboard!$C$28*(1+Dashboard!$C$34) -> 0 | F12: =+Dashboard!$C$10*F$6*Dashboard!$C$28*(1+Dashboard!$C$34) -> 0 | G12: =+Dashboard!$C$10*G$6*Dashboard!$C$28*(1+Dashboard!$C$34) -> 0 | H12: =+Dashboard!$C$10*H$6*Dashboard!$C$28*(1+Dashboard!$C$34) -> 0 | I12: =+Dashboard!$C$10*I$6*Dashboard!$C$28*(1+Dashboard!$C$34) -> 0 | ... JM12: =+Dashboard!$C$10*JM$6*Dashboard!$C$28*(1+Dashboard!$C$34) -> 0.885
A14: FCM Net Regional Clearing Price ($/kW-month) | B14: =+(VLOOKUP(B$4,Dashboard!$B$47:$L$69,3,TRUE)) -> 9.55 | C14: =+(VLOOKUP(C$4,Dashboard!$B$47:$L$69,3,TRUE)) -> 9.55 | D14: =+(VLOOKUP(D$4,Dashboard!$B$47:$L$69,3,TRUE)) -> 9.55 | E14: =+(VLOOKUP(E$4,Dashboard!$B$47:$L$69,3,TRUE)) -> 9.55 | F14: =+(VLOOKUP(F$4,Dashboard!$B$47:$L$69,3,TRUE)) -> 9.55 | G14: =+(VLOOKUP(G$4,Dashboard!$B$47:$L$69,3,TRUE)) -> 7.07 | H14: =+(VLOOKUP(H$4,Dashboard!$B$47:$L$69,3,TRUE)) -> 7.07 | I14: =+(VLOOKUP(I$4,Dashboard!$B$47:$L$69,3,TRUE)) -> 7.07 | ... JM14: =+(VLOOKUP(JM$4,Dashboard!$B$47:$L$69,3,TRUE)) -> 3
A15: NEPOOL OATT RNS Rate ($/kW-month) | B15: =+(VLOOKUP(B$4,Dashboard!$B$47:$L$69,4,TRUE)) -> 9.3336658 | C15: =+(VLOOKUP(C$4,Dashboard!$B$47:$L$69,4,TRUE)) -> 9.3336658 | D15: =+(VLOOKUP(D$4,Dashboard!$B$47:$L$69,4,TRUE)) -> 9.3336658 | E15: =+(VLOOKUP(E$4,Dashboard!$B$47:$L$69,4,TRUE)) -> 9.3336658 | F15: =+(VLOOKUP(F$4,Dashboard!$B$47:$L$69,4,TRUE)) -> 9.3336658 | G15: =+(VLOOKUP(G$4,Dashboard!$B$47:$L$69,4,TRUE)) -> 9.46119 | H15: =+(VLOOKUP(H$4,Dashboard!$B$47:$L$69,4,TRUE)) -> 9.46119 | I15: =+(VLOOKUP(I$4,Dashboard!$B$47:$L$69,4,TRUE)) -> 9.46119 | ... JM15: =+(VLOOKUP(JM$4,Dashboard!$B$47:$L$69,4,TRUE)) -> 24.131767
A16: VELCO Transmission Rate ($/kW-month) | B16: =+(VLOOKUP(B$4,Dashboard!$B$47:$L$69,10,TRUE)) -> 1.52 | C16: =+(VLOOKUP(C$4,Dashboard!$B$47:$L$69,10,TRUE)) -> 1.52 | D16: =+(VLOOKUP(D$4,Dashboard!$B$47:$L$69,10,TRUE)) -> 1.52 | E16: =+(VLOOKUP(E$4,Dashboard!$B$47:$L$69,10,TRUE)) -> 1.52 | F16: =+(VLOOKUP(F$4,Dashboard!$B$47:$L$69,10,TRUE)) -> 1.52 | G16: =+(VLOOKUP(G$4,Dashboard!$B$47:$L$69,10,TRUE)) -> 1.5352 | H16: =+(VLOOKUP(H$4,Dashboard!$B$47:$L$69,10,TRUE)) -> 1.5352 | I16: =+(VLOOKUP(I$4,Dashboard!$B$47:$L$69,10,TRUE)) -> 1.5352 | ... JM16: =+(VLOOKUP(JM$4,Dashboard!$B$47:$L$69,10,TRUE)) -> 4.8027536
A17: Various Network-Load-Based OATT and ISO Tariff charge Rate ($/kw-month) | B17: =+(VLOOKUP(B$4,Dashboard!$B$47:$L$69,11,TRUE)) -> 0.45 | C17: =+(VLOOKUP(C$4,Dashboard!$B$47:$L$69,11,TRUE)) -> 0.45 | D17: =+(VLOOKUP(D$4,Dashboard!$B$47:$L$69,11,TRUE)) -> 0.45 | E17: =+(VLOOKUP(E$4,Dashboard!$B$47:$L$69,11,TRUE)) -> 0.45 | F17: =+(VLOOKUP(F$4,Dashboard!$B$47:$L$69,11,TRUE)) -> 0.45 | G17: =+(VLOOKUP(G$4,Dashboard!$B$47:$L$69,11,TRUE)) -> 0.46125 | H17: =+(VLOOKUP(H$4,Dashboard!$B$47:$L$69,11,TRUE)) -> 0.46125 | I17: =+(VLOOKUP(I$4,Dashboard!$B$47:$L$69,11,TRUE)) -> 0.46125 | ... JM17: =+(VLOOKUP(JM$4,Dashboard!$B$47:$L$69,11,TRUE)) -> 0.6539105
A19: FCM Savings ($) | B19: =+B8*B14 -> 0 | C19: =+C8*C14 -> 0 | D19: =+D8*D14 -> 0 | E19: =+E8*E14 -> 0 | F19: =+F8*F14 -> 0 | G19: =+G8*G14 -> 0 | H19: =+H8*H14 -> 0 | I19: =+I8*I14 -> 0 | ... JM19: =+JM8*JM14 -> 0
A20: NEPOOL OATT RNS Savings ($) | B20: =+B9*B15 -> 0 | C20: =+C9*C15 -> 0 | D20: =+D9*D15 -> 0 | E20: =+E9*E15 -> 0 | F20: =+F9*F15 -> 0 | G20: =+G9*G15 -> 0 | H20: =+H9*H15 -> 0 | I20: =+I9*I15 -> 0 | ... JM20: =+JM9*JM15 -> 19.220953
A21: VELCO Transmission Savings ($) | B21: =AVERAGE(B11:B12)*B16 -> 0 | C21: =AVERAGE(C11:C12)*C16 -> 0 | D21: =AVERAGE(D11:D12)*D16 -> 0 | E21: =AVERAGE(E11:E12)*E16 -> 0 | F21: =AVERAGE(F11:F12)*F16 -> 0 | G21: =AVERAGE(G11:G12)*G16 -> 0 | H21: =AVERAGE(H11:H12)*H16 -> 0 | I21: =AVERAGE(I11:I12)*I16 -> 0 | ... JM21: =AVERAGE(JM11:JM12)*JM16 -> 3.4003496
A22: Various Network-Load-Based OATT and ISO Tariff Savings ($) | B22: =+B9*B17 -> 0 | C22: =+C9*C17 -> 0 | D22: =+D9*D17 -> 0 | E22: =+E9*E17 -> 0 | F22: =+F9*F17 -> 0 | G22: =+G9*G17 -> 0 | H22: =+H9*H17 -> 0 | I22: =+I9*I17 -> 0 | ... JM22: =+JM9*JM17 -> 0.52083971
A24: Energy Discharged (kWh) | B24: =+B6*Dashboard!$C$38*Dashboard!$C$13*(1+Dashboard!$C$34) -> 0 | C24: =+C6*Dashboard!$C$38*Dashboard!$C$13*(1+Dashboard!$C$34) -> 0 | D24: =+D6*Dashboard!$C$38*Dashboard!$C$13*(1+Dashboard!$C$34) -> 0 | E24: =+E6*Dashboard!$C$38*Dashboard!$C$13*(1+Dashboard!$C$34) -> 0 | F24: =+F6*Dashboard!$C$38*Dashboard!$C$13*(1+Dashboard!$C$34) -> 0 | G24: =+G6*Dashboard!$C$38*Dashboard!$C$13*(1+Dashboard!$C$34) -> 0 | H24: =+H6*Dashboard!$C$38*Dashboard!$C$13*(1+Dashboard!$C$34) -> 0 | I24: =+I6*Dashboard!$C$38*Dashboard!$C$13*(1+Dashboard!$C$34) -> 0 | ... JM24: =+JM6*Dashboard!$C$38*Dashboard!$C$13*(1+Dashboard!$C$34) -> 42.48
A25: Energy Required to Charge (kWh) | B25: =-B6*Dashboard!$C$38*Dashboard!$C$19*(1+Dashboard!$C$34) -> 0 | C25: =-C6*Dashboard!$C$38*Dashboard!$C$19*(1+Dashboard!$C$34) -> 0 | D25: =-D6*Dashboard!$C$38*Dashboard!$C$19*(1+Dashboard!$C$34) -> 0 | E25: =-E6*Dashboard!$C$38*Dashboard!$C$19*(1+Dashboard!$C$34) -> 0 | F25: =-F6*Dashboard!$C$38*Dashboard!$C$19*(1+Dashboard!$C$34) -> 0 | G25: =-G6*Dashboard!$C$38*Dashboard!$C$19*(1+Dashboard!$C$34) -> 0 | H25: =-H6*Dashboard!$C$38*Dashboard!$C$19*(1+Dashboard!$C$34) -> 0 | I25: =-I6*Dashboard!$C$38*Dashboard!$C$19*(1+Dashboard!$C$34) -> 0 | ... JM25: =-JM6*Dashboard!$C$38*Dashboard!$C$19*(1+Dashboard!$C$34) -> -42.48
A27: Energy Savings During Discharge ($) | B27: =+VLOOKUP(B$4,Dashboard!$B$47:$L$69,5)*B24/1000 -> 0 | C27: =+VLOOKUP(C$4,Dashboard!$B$47:$L$69,5)*C24/1000 -> 0 | D27: =+VLOOKUP(D$4,Dashboard!$B$47:$L$69,5)*D24/1000 -> 0 | E27: =+VLOOKUP(E$4,Dashboard!$B$47:$L$69,5)*E24/1000 -> 0 | F27: =+VLOOKUP(F$4,Dashboard!$B$47:$L$69,5)*F24/1000 -> 0 | G27: =+VLOOKUP(G$4,Dashboard!$B$47:$L$69,5)*G24/1000 -> 0 | H27: =+VLOOKUP(H$4,Dashboard!$B$47:$L$69,5)*H24/1000 -> 0 | I27: =+VLOOKUP(I$4,Dashboard!$B$47:$L$69,5)*I24/1000 -> 0 | ... JM27: =+VLOOKUP(JM$4,Dashboard!$B$47:$L$69,5)*JM24/1000 -> 3.3519257
A28: Energy Cost During Charge ($) | B28: =+VLOOKUP(B$4,Dashboard!$B$47:$L$69,6)*B25/1000 -> 0 | C28: =+VLOOKUP(C$4,Dashboard!$B$47:$L$69,6)*C25/1000 -> 0 | D28: =+VLOOKUP(D$4,Dashboard!$B$47:$L$69,6)*D25/1000 -> 0 | E28: =+VLOOKUP(E$4,Dashboard!$B$47:$L$69,6)*E25/1000 -> 0 | F28: =+VLOOKUP(F$4,Dashboard!$B$47:$L$69,6)*F25/1000 -> 0 | G28: =+VLOOKUP(G$4,Dashboard!$B$47:$L$69,6)*G25/1000 -> 0 | H28: =+VLOOKUP(H$4,Dashboard!$B$47:$L$69,6)*H25/1000 -> 0 | I28: =+VLOOKUP(I$4,Dashboard!$B$47:$L$69,6)*I25/1000 -> 0 | ... JM28: =+VLOOKUP(JM$4,Dashboard!$B$47:$L$69,6)*JM25/1000 -> -2.4717817
A31: Regulation Savings During Discharge ($) | B31: =VLOOKUP(B$4,Dashboard!$B$47:$L$69,8)*B24/1000 -> 0 | C31: =VLOOKUP(C$4,Dashboard!$B$47:$L$69,8)*C24/1000 -> 0 | D31: =VLOOKUP(D$4,Dashboard!$B$47:$L$69,8)*D24/1000 -> 0 | E31: =VLOOKUP(E$4,Dashboard!$B$47:$L$69,8)*E24/1000 -> 0 | F31: =VLOOKUP(F$4,Dashboard!$B$47:$L$69,8)*F24/1000 -> 0 | G31: =VLOOKUP(G$4,Dashboard!$B$47:$L$69,8)*G24/1000 -> 0 | H31: =VLOOKUP(H$4,Dashboard!$B$47:$L$69,8)*H24/1000 -> 0 | I31: =VLOOKUP(I$4,Dashboard!$B$47:$L$69,8)*I24/1000 -> 0 | ... JM31: =VLOOKUP(JM$4,Dashboard!$B$47:$L$69,8)*JM24/1000 -> 0.0091470599
A32: Regulation Cost During Charge ($) | B32: =VLOOKUP(B$4,Dashboard!$B$47:$L$69,8)*B25/1000 -> 0 | C32: =VLOOKUP(C$4,Dashboard!$B$47:$L$69,8)*C25/1000 -> 0 | D32: =VLOOKUP(D$4,Dashboard!$B$47:$L$69,8)*D25/1000 -> 0 | E32: =VLOOKUP(E$4,Dashboard!$B$47:$L$69,8)*E25/1000 -> 0 | F32: =VLOOKUP(F$4,Dashboard!$B$47:$L$69,8)*F25/1000 -> 0 | G32: =VLOOKUP(G$4,Dashboard!$B$47:$L$69,8)*G25/1000 -> 0 | H32: =VLOOKUP(H$4,Dashboard!$B$47:$L$69,8)*H25/1000 -> 0 | I32: =VLOOKUP(I$4,Dashboard!$B$47:$L$69,8)*I25/1000 -> 0 | ... JM32: =VLOOKUP(JM$4,Dashboard!$B$47:$L$69,8)*JM25/1000 -> -0.0091470599
A33: Forward & RT Reserve Savings During Discharge ($) | B33: =VLOOKUP(B$4,Dashboard!$B$47:$L$69,9)*B24/1000 -> 0 | C33: =VLOOKUP(C$4,Dashboard!$B$47:$L$69,9)*C24/1000 -> 0 | D33: =VLOOKUP(D$4,Dashboard!$B$47:$L$69,9)*D24/1000 -> 0 | E33: =VLOOKUP(E$4,Dashboard!$B$47:$L$69,9)*E24/1000 -> 0 | F33: =VLOOKUP(F$4,Dashboard!$B$47:$L$69,9)*F24/1000 -> 0 | G33: =VLOOKUP(G$4,Dashboard!$B$47:$L$69,9)*G24/1000 -> 0 | H33: =VLOOKUP(H$4,Dashboard!$B$47:$L$69,9)*H24/1000 -> 0 | I33: =VLOOKUP(I$4,Dashboard!$B$47:$L$69,9)*I24/1000 -> 0 | ... JM33: =VLOOKUP(JM$4,Dashboard!$B$47:$L$69,9)*JM24/1000 -> 0.0220896
A34: Forward & RT Reserves Cost During Charge ($) | B34: 0 | C34: 0 | D34: 0 | E34: 0 | F34: 0 | G34: 0 | H34: 0 | I34: 0 | J34: 0 | K34: 0 | L34: 0 | M34: 0 | N34: 0 | O34: 0 | P34: 0 | Q34: 0 | R34: 0 | S34: 0 | T34: 0 | U34: 0 | V34: 0 | W34: 0 | X34: 0 | Y34: 0 | Z34: 0 | AA34: 0 | AB34: 0 | AC34: 0 | AD34: 0 | AE34: 0 | AF34: 0 | AG34: 0 | AH34: 0 | AI34: 0 | AJ34: 0 | AK34: 0 | AL34: 0 | AM34: 0 | AN34: 0 | AO34: 0 | AP34: 0 | AQ34: 0 | AR34: 0 | AS34: 0 | AT34: 0 | AU34: 0 | AV34: 0 | AW34: 0 | AX34: 0 | AY34: 0 | AZ34: 0 | BA34: 0 | BB34: 0 | BC34: 0 | BD34: 0 | BE34: 0 | BF34: 0 | BG34: 0 | BH34: 0 | BI34: 0 | BJ34: 0 | BK34: 0 | BL34: 0 | BM34: 0 | BN34: 0 | BO34: 0 | BP34: 0 | BQ34: 0 | BR34: 0 | BS34: 0 | BT34: 0 | BU34: 0 | BV34: 0 | BW34: 0 | BX34: 0 | BY34: 0 | BZ34: 0 | CA34: 0 | CB34: 0 | CC34: 0 | CD34: 0 | CE34: 0 | CF34: 0 | CG34: 0 | CH34: 0 | CI34: 0 | CJ34: 0 | CK34: 0 | CL34: 0 | CM34: 0 | CN34: 0 | CO34: 0 | CP34: 0 | CQ34: 0 | CR34: 0 | CS34: 0 | CT34: 0 | CU34: 0 | CV34: 0 | CW34: 0 | CX34: 0 | CY34: 0 | CZ34: 0 | DA34: 0 | DB34: 0 | DC34: 0 | DD34: 0 | DE34: 0 | DF34: 0 | DG34: 0 | DH34: 0 | DI34: 0 | DJ34: 0 | DK34: 0 | DL34: 0 | DM34: 0 | DN34: 0 | DO34: 0 | DP34: 0 | DQ34: 0 | DR34: 0 | DS34: 0 | DT34: 0 | DU34: 0 | DV34: 0 | DW34: 0 | DX34: 0 | DY34: 0 | DZ34: 0 | EA34: 0 | EB34: 0 | EC34: 0 | ED34: 0 | EE34: 0 | EF34: 0 | EG34: 0 | EH34: 0 | EI34: 0 | EJ34: 0 | EK34: 0 | EL34: 0 | EM34: 0 | EN34: 0 | EO34: 0 | EP34: 0 | EQ34: 0 | ER34: 0 | ES34: 0 | ET34: 0 | EU34: 0 | EV34: 0 | EW34: 0 | EX34: 0 | EY34: 0 | EZ34: 0 | FA34: 0 | FB34: 0 | FC34: 0 | FD34: 0 | FE34: 0 | FF34: 0 | FG34: 0 | FH34: 0 | FI34: 0 | FJ34: 0 | FK34: 0 | FL34: 0 | FM34: 0 | FN34: 0 | FO34: 0 | FP34: 0 | FQ34: 0 | FR34: 0 | FS34: 0 | FT34: 0 | FU34: 0 | FV34: 0 | FW34: 0 | FX34: 0 | FY34: 0 | FZ34: 0 | GA34: 0 | GB34: 0 | GC34: 0 | GD34: 0 | GE34: 0 | GF34: 0 | GG34: 0 | GH34: 0 | GI34: 0 | GJ34: 0 | GK34: 0 | GL34: 0 | GM34: 0 | GN34: 0 | GO34: 0 | GP34: 0 | GQ34: 0 | GR34: 0 | GS34: 0 | GT34: 0 | GU34: 0 | GV34: 0 | GW34: 0 | GX34: 0 | GY34: 0 | GZ34: 0 | HA34: 0 | HB34: 0 | HC34: 0 | HD34: 0 | HE34: 0 | HF34: 0 | HG34: 0 | HH34: 0 | HI34: 0 | HJ34: 0 | HK34: 0 | HL34: 0 | HM34: 0 | HN34: 0 | HO34: 0 | HP34: 0 | HQ34: 0 | HR34: 0 | HS34: 0 | HT34: 0 | HU34: 0 | HV34: 0 | HW34: 0 | HX34: 0 | HY34: 0 | HZ34: 0 | IA34: 0 | IB34: 0 | IC34: 0 | ID34: 0 | IE34: 0 | IF34: 0 | IG34: 0 | IH34: 0 | II34: 0 | IJ34: 0 | IK34: 0 | IL34: 0 | IM34: 0 | IN34: 0 | IO34: 0 | IP34: 0 | IQ34: 0 | IR34: 0 | IS34: 0 | IT34: 0 | IU34: 0 | IV34: 0 | IW34: 0 | IX34: 0 | IY34: 0 | IZ34: 0 | JA34: 0 | JB34: 0 | JC34: 0 | JD34: 0 | JE34: 0 | JF34: 0 | JG34: 0 | JH34: 0 | JI34: 0 | JJ34: 0 | JK34: 0 | JL34: 0 | JM34: 0
A36: GMP LNS Peak Savings ($) | B36: =+B10*VLOOKUP(B$4,Dashboard!$B$47:$L$69,7) -> 0 | C36: =+C10*VLOOKUP(C$4,Dashboard!$B$47:$L$69,7) -> 0 | D36: =+D10*VLOOKUP(D$4,Dashboard!$B$47:$L$69,7) -> 0 | E36: =+E10*VLOOKUP(E$4,Dashboard!$B$47:$L$69,7) -> 0 | F36: =+F10*VLOOKUP(F$4,Dashboard!$B$47:$L$69,7) -> 0 | G36: =+G10*VLOOKUP(G$4,Dashboard!$B$47:$L$69,7) -> 0 | H36: =+H10*VLOOKUP(H$4,Dashboard!$B$47:$L$69,7) -> 0 | I36: =+I10*VLOOKUP(I$4,Dashboard!$B$47:$L$69,7) -> 0 | ... JM36: =+JM10*VLOOKUP(JM$4,Dashboard!$B$47:$L$69,7) -> 2.6994501
A38: Gross Savings ($) | B38: =+B19+B20+B21+B22+B27+B28+B31+B32+B33+B34+B36 -> 0 | C38: =+C19+C20+C21+C22+C27+C28+C31+C32+C33+C34+C36 -> 0 | D38: =+D19+D20+D21+D22+D27+D28+D31+D32+D33+D34+D36 -> 0 | E38: =+E19+E20+E21+E22+E27+E28+E31+E32+E33+E34+E36 -> 0 | F38: =+F19+F20+F21+F22+F27+F28+F31+F32+F33+F34+F36 -> 0 | G38: =+G19+G20+G21+G22+G27+G28+G31+G32+G33+G34+G36 -> 0 | H38: =+H19+H20+H21+H22+H27+H28+H31+H32+H33+H34+H36 -> 0 | I38: =+I19+I20+I21+I22+I27+I28+I31+I32+I33+I34+I36 -> 0 | ... JM38: =+JM19+JM20+JM21+JM22+JM27+JM28+JM31+JM32+JM33+JM34+JM36 -> 26.743826
A40: Per Device Fee | E40: =+Dashboard!C5 -> 2 | F40: =+E40 -> 2 | G40: =+F40 -> 2 | H40: =+G40 -> 2 | I40: =+H40 -> 2 | J40: =+I40 -> 2 | K40: =+J40 -> 2 | L40: =+K40 -> 2 | M40: =+L40 -> 2 | ... P40: =+O40 -> 2 | Q40: =+E40*(1+Dashboard!$C$6) -> 2 | R40: =+F40*(1+Dashboard!$C$6) -> 2 | S40: =+G40*(1+Dashboard!$C$6) -> 2 | T40: =+H40*(1+Dashboard!$C$6) -> 2 | U40: =+I40*(1+Dashboard!$C$6) -> 2 | V40: =+J40*(1+Dashboard!$C$6) -> 2 | W40: =+K40*(1+Dashboard!$C$6) -> 2 | X40: =+L40*(1+Dashboard!$C$6) -> 2 | ... JM40: =+JA40*(1+Dashboard!$C$6) -> 2
A41: DERMs Charges | B41: =IF(B4>=Dashboard!$C$3,-(B6*B40),0) -> 0 | C41: =IF(C4>=Dashboard!$C$3,-(C6*C40),0) -> 0 | D41: =IF(D4>=Dashboard!$C$3,-(D6*D40),0) -> 0 | E41: =IF(E4>=Dashboard!$C$3,-(E6*E40),0) -> 0 | F41: =IF(F4>=Dashboard!$C$3,-(F6*F40),0) -> 0 | G41: =IF(G4>=Dashboard!$C$3,-(G6*G40),0) -> 0 | H41: =IF(H4>=Dashboard!$C$3,-(H6*H40),0) -> 0 | I41: =IF(I4>=Dashboard!$C$3,-(I6*I40),0) -> 0 | ... JM41: =IF(JM4>=Dashboard!$C$3,-(JM6*JM40),0) -> -2
A42: Manufacturer API Charges | B42: =-Dashboard!$C$14*B6 -> 0 | C42: =-Dashboard!$C$14*C6 -> 0 | D42: =-Dashboard!$C$14*D6 -> 0 | E42: =-Dashboard!$C$14*E6 -> 0 | F42: =-Dashboard!$C$14*F6 -> 0 | G42: =-Dashboard!$C$14*G6 -> 0 | H42: =-Dashboard!$C$14*H6 -> 0 | I42: =-Dashboard!$C$14*I6 -> 0 | ... JM42: =-Dashboard!$C$14*JM6 -> 0
A44: VEC Net Savings (Cost) - Before Member Incentives | B44: =+B38+B41+B42 -> 0 | C44: =+C38+C41+C42 -> 0 | D44: =+D38+D41+D42 -> 0 | E44: =+E38+E41+E42 -> 0 | F44: =+F38+F41+F42 -> 0 | G44: =+G38+G41+G42 -> 0 | H44: =+H38+H41+H42 -> 0 | I44: =+I38+I41+I42 -> 0 | ... JM44: =+JM38+JM41+JM42 -> 24.743826
F47: Savings Before Member Incentive
F48: Contract Year | G48: VEC Annual Net Savings (Cost) - Nominal $ | H48: VEC Cumulative Net Savings (Cost) - Nominal $ | I48: VEC Annual Net Savings (Cost) - NPV $ | J48: VEC Cumulative Net Savings (Cost) - NPV $
F49: 0 | G49: =SUM(S44:AD44) -> 0 | H49: =SUM(G$49:G49) -> 0 | I49: =G49/(1+Dashboard!$C$36)^(F49-1) -> 0 | J49: =SUM(I$49:I49) -> 0 | K49: =IF(J49<0,1,0) -> 0
F50: 0 | G50: =SUM(AE44:AP44) -> 0 | H50: =SUM(G$49:G50) -> 0 | I50: =G50/(1+Dashboard!$C$36)^(F50-1) -> 0 | J50: =SUM(I$49:I50) -> 0 | K50: =IF(J50<0,1,0) -> 0
F51: 0 | G51: =SUM(AQ44:BB44) -> 0 | H51: =SUM(G$49:G51) -> 0 | I51: =G51/(1+Dashboard!$C$36)^(F51-1) -> 0 | J51: =SUM(I$49:I51) -> 0
F52: 0 | G52: =SUM(BC44:BN44) -> 0 | H52: =SUM(G$49:G52) -> 0 | I52: =G52/(1+Dashboard!$C$36)^(F52-1) -> 0 | J52: =SUM(I$49:I52) -> 0
F53: 1 | G53: =SUM(BO44:BZ44) -> 165.95488 | H53: =SUM(G$49:G53) -> 165.95488 | I53: =G53/(1+Dashboard!$C$36)^(F53-1) -> 165.95488 | J53: =SUM(I$49:I53) -> 165.95488
F54: 2 | G54: =SUM(CA44:CL44) -> 174.42109 | H54: =SUM(G$49:G54) -> 340.37597 | I54: =G54/(1+Dashboard!$C$36)^(F54-1) -> 167.76098 | J54: =SUM(I$49:I54) -> 333.71586
...
