Workbook

Sheet BOM_Fwd_Prices
B2: WASHINGTON ELECTRIC COOPERATIVE
B3: EXHIBIT PSD.WEC.1.23.d
B4: Beginning of Month Forward Energy Prices
B5: Source: ICAP Broker Sheets
C7: 44743 | D7: 44743 | E7: 44743 | F7: 44774 | G7: 44774 | H7: 44774 | I7: 44805 | J7: 44805 | K7: 44805 | L7: 44837 | M7: 44837 | N7: 44837 | O7: 44866 | P7: 44866 | Q7: 44866 | R7: 44896 | S7: 44896 | T7: 44896
C8: On Peak | D8: Off Peak | E8: ATC | F8: On Peak | G8: Off Peak | H8: ATC | I8: On Peak | J8: Off Peak | K8: ATC | L8: On Peak | M8: Off Peak | N8: ATC | O8: On Peak | P8: Off Peak | Q8: ATC | R8: On Peak | S8: Off Peak | T8: ATC
B9: MMM-YY | C9: 7/1 On | D9: 7/1 Off | E9: 7/1 ATC | F9: 8/1 On | G9: 8/1 Off | H9: 8/1 ATC | I9: 9/1 On | J9: 9/1 Off | K9: 9/1 ATC | L9: 10/3 On | M9: 10/3 Off | N9: 10/3 ATC | O9: 11/1 On | P9: 11/1 Off | Q9: 11/1 ATC | R9: 12/1 On | S9: 12/1 Off | T9: 12/1 ATC
B10: 44835 | C10: 69 | D10: 58.75 | E10: 63.379032 | F10: 92.5 | G10: 77 | H10: 84 | I10: 92 | J10: 81 | K10: 85.967742
B11: 44866 | C11: 131.5 | D11: 107 | E11: 118.41748 | F11: 147 | G11: 124.5 | H11: 134.98544 | I11: 147.5 | J11: 126 | K11: 136.01942 | L11: 103.35 | M11: 90.75 | N11: 96.621845
B12: 44896 | C12: 228 | D12: 207.5 | E12: 216.75806 | F12: 250 | G12: 228.5 | H12: 238.20968 | I12: 248 | J12: 228.5 | K12: 237.30645 | L12: 198 | M12: 185.5 | N12: 191.14516 | O12: 155 | P12: 140 | Q12: 146.77419
B13: 44927 | C13: 263.5 | D13: 230.5 | E13: 245.40323 | F13: 314 | G13: 260 | H13: 284.3871 | I13: 325 | J13: 280 | K13: 300.32258 | L13: 274 | M13: 256.5 | N13: 264.40323 | O13: 219 | P13: 201.5 | Q13: 209.40323 | R13: 322.5 | S13: 290.75 | T13: 305.08871
B14: 44958 | C14: 263.5 | D14: 230.5 | E14: 246.21429 | F14: 314 | G14: 260 | H14: 285.71429 | I14: 325 | J14: 280 | K14: 301.42857 | L14: 274 | M14: 256.5 | N14: 264.83333 | O14: 219 | P14: 201.5 | Q14: 209.83333 | R14: 307.65 | S14: 281.1 | T14: 293.74286
B15: 44986 | C15: 138.5 | D15: 125.5 | E15: 131.93876 | F15: 148 | G15: 134 | H15: 140.93405 | I15: 169 | J15: 157 | K15: 162.94347 | L15: 148.5 | M15: 138.5 | N15: 143.45289 | O15: 125.5 | P15: 116.5 | Q15: 120.9576 | R15: 172.5 | S15: 156 | T15: 164.17227
B16: 45017 | C16: 65 | D16: 54.25 | E16: 59.027778 | F16: 80.25 | G16: 65.25 | H16: 71.916667 | I16: 86 | J16: 73 | K16: 78.777778 | L16: 81.55 | M16: 70 | N16: 75.133333 | O16: 71.5 | P16: 60.5 | Q16: 65.388889 | R16: 93 | S16: 82.5 | T16: 87.166667
B17: 45047 | C17: 51 | D17: 39.75 | E17: 45.072581 | F17: 57 | G17: 47 | H17: 51.731183 | I17: 67 | J17: 53.4 | K17: 59.834409 | L17: 60 | M17: 51.25 | N17: 55.389785 | O17: 49 | P17: 42.75 | Q17: 45.706989 | R17: 62.75 | S17: 53.75 | T17: 58.008065
B18: 45078 | C18: 54.5 | D18: 41.75 | E18: 47.983333 | F18: 63.25 | G18: 47 | H18: 54.944444 | I18: 71 | J18: 53.9 | K18: 62.26 | L18: 66.5 | M18: 51 | N18: 58.577778 | O18: 54.75 | P18: 43.5 | Q18: 49 | R18: 67.75 | S18: 54 | T18: 60.722222
B19: 45108 | C19: 61.5 | D19: 47.5 | E19: 53.521505 | F19: 77.5 | G19: 53.75 | H19: 63.965054 | I19: 85 | J19: 59.9 | K19: 70.695699 | L19: 78 | M19: 53.9 | N19: 64.265591 | O19: 68.5 | P19: 48.75 | Q19: 57.244624 | R19: 88.5 | S19: 62.75 | T19: 73.825269
B20: 45139 | C20: 61.5 | D20: 47.5 | E20: 54.424731 | F20: 77.5 | G20: 53.75 | H20: 65.497312 | I20: 85 | J20: 59.9 | K20: 72.315054 | L20: 78 | M20: 53.9 | N20: 65.82043 | O20: 68.5 | P20: 48.75 | Q20: 58.518817 | R20: 88.5 | S20: 62.75 | T20: 75.486559
B21: 45170 | C21: 47 | D21: 40.5 | E21: 43.388889 | F21: 54 | G21: 43.5 | H21: 48.166667 | I21: 63.75 | J21: 49.25 | K21: 55.694444 | L21: 59 | M21: 44.75 | N21: 51.083333 | O21: 48 | P21: 37.5 | Q21: 42.166667 | R21: 61 | S21: 48.1 | T21: 53.833333
B22: 45200 | C22: 49.5 | D22: 44.75 | E22: 46.997312 | F22: 53.75 | G22: 43.5 | H22: 48.349462 | I22: 62.25 | J22: 49.25 | K22: 55.400538 | L22: 58 | M22: 44.75 | N22: 51.018817 | O22: 48 | P22: 40.25 | Q22: 43.916667 | R22: 60.75 | S22: 51.1 | T22: 55.665591
B23: 45231 | C23: 86.5 | D23: 70.75 | E23: 78.089806 | F23: 101.25 | G23: 93.5 | H23: 97.11165 | I23: 124 | J23: 107 | K23: 114.92233 | L23: 111 | M23: 94.75 | N23: 102.32282 | O23: 87.5 | P23: 79 | Q23: 82.961165 | R23: 103.25 | S23: 94 | T23: 98.31068
B24: 45261 | C24: 130 | D24: 111 | E24: 119.17204 | F24: 169 | G24: 152 | H24: 159.31183 | I24: 194 | J24: 173 | K24: 182.03226 | L24: 182 | M24: 164 | N24: 171.74194 | O24: 148.5 | P24: 138 | Q24: 142.51613 | R24: 179 | S24: 161 | T24: 168.74194
... B36: 45627 | C36: 108.5 | D36: 87 | E36: 96.709677 | F36: 118 | G36: 100.25 | H36: 108.26613 | I36: 150 | J36: 131 | K36: 139.58065 | L36: 135 | M36: 115 | N36: 124.03226 | O36: 121.5 | P36: 106.6 | Q36: 113.32903 | R36: 126.5 | S36: 110.75 | T36: 117.8629

Sheet RY Fwd Price Average
B2: WASHINGTON ELECTRIC COOPERATIVE
B3: EXHIBIT PSD.WEC.1.23.a - AVERAGE FORWARD MARKET PRICES
B4: July - December (n=6)
B6: MMM-YY | C6: On Peak | D6: Off Peak | E6: ATC
B7: 44866 | C7: =+AVERAGEIFS(BOM_Fwd_Prices!$C11:$T11,BOM_Fwd_Prices!$C$8:$T$8,'RY Fwd Price Average'!C$6) -> 132.3375 | D7: =+AVERAGEIFS(BOM_Fwd_Prices!$C11:$T11,BOM_Fwd_Prices!$C$8:$T$8,'RY Fwd Price Average'!D$6) -> 112.0625 | E7: =+AVERAGEIFS(BOM_Fwd_Prices!$C11:$T11,BOM_Fwd_Prices!$C$8:$T$8,'RY Fwd Price Average'!E$6) -> 121.51104
B8: 44896 | C8: =+AVERAGEIFS(BOM_Fwd_Prices!$C12:$T12,BOM_Fwd_Prices!$C$8:$T$8,'RY Fwd Price Average'!C$6) -> 215.8 | D8: =+AVERAGEIFS(BOM_Fwd_Prices!$C12:$T12,BOM_Fwd_Prices!$C$8:$T$8,'RY Fwd Price Average'!D$6) -> 198 | E8: =+AVERAGEIFS(BOM_Fwd_Prices!$C12:$T12,BOM_Fwd_Prices!$C$8:$T$8,'RY Fwd Price Average'!E$6) -> 206.03871
B9: 44927 | C9: =+AVERAGEIFS(BOM_Fwd_Prices!$C13:$T13,BOM_Fwd_Prices!$C$8:$T$8,'RY Fwd Price Average'!C$6) -> 286.33333 | D9: =+AVERAGEIFS(BOM_Fwd_Prices!$C13:$T13,BOM_Fwd_Prices!$C$8:$T$8,'RY Fwd Price Average'!D$6) -> 253.20833 | E9: =+AVERAGEIFS(BOM_Fwd_Prices!$C13:$T13,BOM_Fwd_Prices!$C$8:$T$8,'RY Fwd Price Average'!E$6) -> 268.16801
B10: 44958 | C10: =+AVERAGEIFS(BOM_Fwd_Prices!$C14:$T14,BOM_Fwd_Prices!$C$8:$T$8,'RY Fwd Price Average'!C$6) -> 283.85833 | D10: =+AVERAGEIFS(BOM_Fwd_Prices!$C14:$T14,BOM_Fwd_Prices!$C$8:$T$8,'RY Fwd Price Average'!D$6) -> 251.6 | E10: =+AVERAGEIFS(BOM_Fwd_Prices!$C14:$T14,BOM_Fwd_Prices!$C$8:$T$8,'RY Fwd Price Average'!E$6) -> 266.96111
B11: 44986 | C11: =+AVERAGEIFS(BOM_Fwd_Prices!$C15:$T15,BOM_Fwd_Prices!$C$8:$T$8,'RY Fwd Price Average'!C$6) -> 150.33333 | D11: =+AVERAGEIFS(BOM_Fwd_Prices!$C15:$T15,BOM_Fwd_Prices!$C$8:$T$8,'RY Fwd Price Average'!D$6) -> 137.91667 | E11: =+AVERAGEIFS(BOM_Fwd_Prices!$C15:$T15,BOM_Fwd_Prices!$C$8:$T$8,'RY Fwd Price Average'!E$6) -> 144.06651
B12: 45017 | C12: =+AVERAGEIFS(BOM_Fwd_Prices!$C16:$T16,BOM_Fwd_Prices!$C$8:$T$8,'RY Fwd Price Average'!C$6) -> 79.55 | D12: =+AVERAGEIFS(BOM_Fwd_Prices!$C16:$T16,BOM_Fwd_Prices!$C$8:$T$8,'RY Fwd Price Average'!D$6) -> 67.583333 | E12: =+AVERAGEIFS(BOM_Fwd_Prices!$C16:$T16,BOM_Fwd_Prices!$C$8:$T$8,'RY Fwd Price Average'!E$6) -> 72.901852
B13: 45047 | C13: =+AVERAGEIFS(BOM_Fwd_Prices!$C17:$T17,BOM_Fwd_Prices!$C$8:$T$8,'RY Fwd Price Average'!C$6) -> 57.791667 | D13: =+AVERAGEIFS(BOM_Fwd_Prices!$C17:$T17,BOM_Fwd_Prices!$C$8:$T$8,'RY Fwd Price Average'!D$6) -> 47.983333 | E13: =+AVERAGEIFS(BOM_Fwd_Prices!$C17:$T17,BOM_Fwd_Prices!$C$8:$T$8,'RY Fwd Price Average'!E$6) -> 52.623835
B14: 45078 | C14: =+AVERAGEIFS(BOM_Fwd_Prices!$C18:$T18,BOM_Fwd_Prices!$C$8:$T$8,'RY Fwd Price Average'!C$6) -> 62.958333 | D14: =+AVERAGEIFS(BOM_Fwd_Prices!$C18:$T18,BOM_Fwd_Prices!$C$8:$T$8,'RY Fwd Price Average'!D$6) -> 48.525 | E14: =+AVERAGEIFS(BOM_Fwd_Prices!$C18:$T18,BOM_Fwd_Prices!$C$8:$T$8,'RY Fwd Price Average'!E$6) -> 55.581296
B15: 45108 | C15: =+AVERAGEIFS(BOM_Fwd_Prices!$C19:$T19,BOM_Fwd_Prices!$C$8:$T$8,'RY Fwd Price Average'!C$6) -> 76.5 | D15: =+AVERAGEIFS(BOM_Fwd_Prices!$C19:$T19,BOM_Fwd_Prices!$C$8:$T$8,'RY Fwd Price Average'!D$6) -> 54.425 | E15: =+AVERAGEIFS(BOM_Fwd_Prices!$C19:$T19,BOM_Fwd_Prices!$C$8:$T$8,'RY Fwd Price Average'!E$6) -> 63.919624
B16: 45139 | C16: =+AVERAGEIFS(BOM_Fwd_Prices!$C20:$T20,BOM_Fwd_Prices!$C$8:$T$8,'RY Fwd Price Average'!C$6) -> 76.5 | D16: =+AVERAGEIFS(BOM_Fwd_Prices!$C20:$T20,BOM_Fwd_Prices!$C$8:$T$8,'RY Fwd Price Average'!D$6) -> 54.425 | E16: =+AVERAGEIFS(BOM_Fwd_Prices!$C20:$T20,BOM_Fwd_Prices!$C$8:$T$8,'RY Fwd Price Average'!E$6) -> 65.343817
B17: 45170 | C17: =+AVERAGEIFS(BOM_Fwd_Prices!$C21:$T21,BOM_Fwd_Prices!$C$8:$T$8,'RY Fwd Price Average'!C$6) -> 55.458333 | D17: =+AVERAGEIFS(BOM_Fwd_Prices!$C21:$T21,BOM_Fwd_Prices!$C$8:$T$8,'RY Fwd Price Average'!D$6) -> 43.933333 | E17: =+AVERAGEIFS(BOM_Fwd_Prices!$C21:$T21,BOM_Fwd_Prices!$C$8:$T$8,'RY Fwd Price Average'!E$6) -> 49.055556
B18: 45200 | C18: =+AVERAGEIFS(BOM_Fwd_Prices!$C22:$T22,BOM_Fwd_Prices!$C$8:$T$8,'RY Fwd Price Average'!C$6) -> 55.375 | D18: =+AVERAGEIFS(BOM_Fwd_Prices!$C22:$T22,BOM_Fwd_Prices!$C$8:$T$8,'RY Fwd Price Average'!D$6) -> 45.6 | E18: =+AVERAGEIFS(BOM_Fwd_Prices!$C22:$T22,BOM_Fwd_Prices!$C$8:$T$8,'RY Fwd Price Average'!E$6) -> 50.224731
B19: Average | C19: =+AVERAGE(C7:C18) -> 127.73299 | D19: =+AVERAGE(D7:D18) -> 109.60521 | E19: =+AVERAGE(E7:E18) -> 118.03301
