Workbook
Name \d: #REF!
Name \d: #REF!
Name \d: #REF!
Name \d: #REF!
Name \p: '[1]#REF'!#REF!
Name \p: '[1]#REF'!#REF!
Name \p: '[1]#REF'!#REF!
Name \p: '[1]#REF'!#REF!
Name __PAG1: #REF!
Name __PAG1: #REF!
Name __ROW2: '[2]737A-1'!$A$67:$AH$72
Name __ROW3: '[2]737A-1'!$B$124:$AH$127
Name _1PrintModule_.printall: [3]!'[PrintModule].printall'
Name _1PrintModule_.printall: [3]!'[PrintModule].printall'
Name _2PrintModule_.printall: [3]!'[PrintModule].printall'
Name _PAG1: #REF!
Name _PAG1: #REF!
Name _PAG1: #REF!
Name _ROW2: '[2]737A-1'!$A$67:$AH$72
Name _ROW3: '[2]737A-1'!$B$124:$AH$127
Name accnt1180300: #REF!
Name accnt1180300: #REF!
Name autofix: 'S14 - Property Tax Generation'!autofix
Name autofix: 'S17 - Effect on Revenue'!autofix
Name autofix: [4]!autofix
Name BlackCredit: #REF!
Name BlackEntitle: #REF!
Name BORDER: '[2]737A-1'!$B$3:$C$60
Name BORDER2: '[2]737A-1'!$B$67:$C$113
Name BORDER3: '[2]737A-1'!$B$126:$C$168
Name Capacity: #REF!
Name CapChg: '[5]Capacity Contract Charges'!$A$1
Name CapE4D: #REF!
Name CapEntitle: #REF!
Name CF: #REF!
Name Chart1: #REF!
Name Chart2: #REF!
Name Chart3: #REF!
Name Chart4: #REF!
Name Cntnts: #REF!
Name CPI_Tbl: #REF!
Name Credits: #REF!
Name DESCRIPTION: #REF!
Name DESCRIPTION: #REF!
Name DESCRIPTION: #REF!
Name DESCRIPTION: #REF!
Name dialog_f: '[1]#REF'!#REF!
Name dialog_f: '[1]#REF'!#REF!
Name dialog_f: '[1]#REF'!#REF!
Name dialog_f: '[1]#REF'!#REF!
Name EgyAvail: #REF!
Name EgyCat: #REF!
Name EgySup: #REF!
Name Forecast: #REF!
Name FrwdResCredit: #REF!
Name FrwdResEntitle: #REF!
Name hideunhide: 'S14 - Property Tax Generation'!hideunhide
Name hideunhide: 'S17 - Effect on Revenue'!hideunhide
Name hideunhide: '[4]S17 - Effect Revenue Test only'!hideunhide
Name Inflate: #REF!

Sheet S1-Revenue Requirement
A1: EXHIBIT: WEC - 1- NATIVE FORMAT
A2: SCHEDULE 1
A3: REVENUE REQUIREMENTS SUMMARY
C5: Washington Electric Cooperative Totals
C6: 7/1/21 - 6/30/22 | D6: Pro Forma | E6: 11/1/22-10/31/23 | F6: REF
A7: LINE | B7: DESCRIPTION | C7: Test Year | D7: Adjustments | E7: ADJ Rate Year | F7: SCHED
A8: 1 | B8: PURCHASED POWER | C8: ='Trial Balance'!C42 -> 8495999.3 | D8: =+'S2 - Power Supply'!F17 -> 703615.66 | E8: =+C8+D8 -> 9199615 | F8: S2 Tab
A9: =A8+1 -> 2 | B9: TRANSMISSION | C9: ='Trial Balance'!C54 -> 90499.63 | D9: =+'S3 - Transmission & Power Prod'!E26 -> 1312.5353 | E9: =C9+D9 -> 91812.165 | F9: S3 Tab
A10: =A9+1 -> 3 | B10: DISTRIBUTION OPERATION | C10: ='Trial Balance'!C78 -> 2313037.9 | D10: =+'S4 - Dist Maint & Ops'!H44 -> 57344.636 | E10: =C10+D10 -> 2370382.5 | F10: S4 Tab
A11: =A10+1 -> 4 | B11: DISTRIBUTION MAINTENANCE | C11: ='Trial Balance'!C103 -> 3454154.2 | D11: =+'S4 - Dist Maint & Ops'!H28 -> -57410.767 | E11: =C11+D11 -> 3396743.4 | F11: S4 Tab
A12: =A11+1 -> 5 | B12: CUSTOMER ACCOUNTS | C12: ='Trial Balance'!C127+'Trial Balance'!C138 -> 1126374.9 | D12: =+'S5 - Cust Accts'!H20 -> 54312.745 | E12: =C12+D12 -> 1180687.7 | F12: S5 Tab
A13: =A12+1 -> 6 | B13: ADMINISTRATIVE & GENERAL | C13: ='Trial Balance'!C187 -> 1588209.4 | D13: =+'S6 - Admin & Gen'!F28 -> 110402.11 | E13: =C13+D13 -> 1698611.5 | F13: S6 Tab
A14: =A13+1 -> 7 | B14: POWER PRODUCTION EXP | C14: =+'Trial Balance'!C33 -> 232807.93 | D14: =+'S3 - Transmission & Power Prod'!E43 -> 84434.913 | E14: =C14+D14 -> 317242.84 | F14: S3 Tab
A15: =A14+1 -> 8 | B15: TOTAL O&M | C15: =SUM(C8:C14) -> 17301083 | D15: =SUM(D8:D14) -> 954011.83 | E15: =SUM(E8:E14) -> 18255095
A16: =A15+1 -> 9
A17: =A16+1 -> 10 | B17: DEPRECIATION EXPENSE | C17: =+'Trial Balance'!C198 -> 2444574.5 | D17: =+'S8 - Depreciation'!D9 -> 1895.78 | E17: =C17+D17 -> 2446470.2 | F17: S8 Tab
A18: =A17+1 -> 11 | B18: GROSS RECEIPTS TAX | C18: ='Trial Balance'!C203 -> 85338.22 | D18: =-C18 -> -85338.22 | E18: =C18+D18 -> 0 | F18: line 33 below
A19: =A18+1 -> 12 | B19: GROSS REVENUE TAX | C19: ='Trial Balance'!C204 -> 103791.46 | D19: =-C19 -> -103791.46 | E19: =C19+D19 -> 0 | F19: line 33 below
A20: =A19+1 -> 13 | B20: INTEREST ON LT DEBT | C20: ='Trial Balance'!C213 -> 1206298.6 | D20: =+'S9 - Interest Exp'!D25 -> -56817.42 | E20: =C20+D20 -> 1149481.2 | F20: S9 Tab
A21: =A20+1 -> 14 | B21: OTHER INTEREST | C21: =+'Trial Balance'!C219 -> 4405.9 | D21: =+'S9 - Interest Exp'!D29 -> 0 | E21: =C21+D21 -> 4405.9 | F21: S9 Tab
A22: =A21+1 -> 15 | B22: OTHER DEDUCTIONS | C22: ='Trial Balance'!C227 -> 10123.85 | D22: =+'S11 - Other Revenues'!D55 -> -10123.85 | E22: =C22+D22 -> 0 | F22: S11 Tab
A23: =A22+1 -> 16 | B23: TOTAL COST OF SERVICE | C23: =SUM(C15:C22) -> 21155616 | D23: =SUM(D15:D22) -> 699836.66 | E23: =SUM(E15:E22) -> 21855452
A24: =A23+1 -> 17 | B24: INTEREST & DIVIDEND INCOME (419's) | C24: ='Trial Balance'!C237 -> -1141319.7 | D24: =-'S10 - Int & Div Income'!E12 -> -27281.91 | E24: =C24+D24 -> -1168601.6 | F24: S10 Tab
A25: =A24+1 -> 18 | B25: OTHER OPERATING REVENUES | C25: =+SUM('Trial Balance'!C11:C15) -> -2702158.1 | D25: ='S11 - Other Revenues'!D31 -> -65798.38 | E25: =C25+D25 -> -2767956.5 | F25: S11 Tab
A26: =A25+1 -> 19 | B26: OTHER CAPITAL CREDITS | C26: ='Trial Balance'!C264 -> -53512.89 | D26: =-'S10 - Int & Div Income'!E22 -> 0 | E26: =C26+D26 -> -53512.89 | F26: S10 Tab
A27: =A26+1 -> 20 | B27: NON OPERATING (INCOME)/EXPENSE | C27: =('Trial Balance'!C257) -> 39552 | D27: =+'S11 - Other Revenues'!D38 -> -39552 | E27: =C27+D27 -> 0 | F27: S11 Tab
A28: =A27+1 -> 21 | B28: OTHER INCOME & EXPENSE | C28: =+'Trial Balance'!C251 -> -14104.38 | D28: =+'S11 - Other Revenues'!D46 -> 9.4575829 | E28: =C28+D28 -> -14094.922 | F28: S11 Tab
A29: =A28+1 -> 22 | B29: CUMULATIVE EFFECT ON PRIOR YEAR CHANGE | C29: 0 | D29: =+'S11 - Other Revenues'!D58 -> 0 | E29: =C29+D29 -> 0 | F29: S11 Tab
A30: =A29+1 -> 23 | B30: TOTAL REVENUE REQUIREMENT | C30: =SUM(C23:C29) -> 17284073 | D30: =SUM(D23:D29) -> 567213.83 | E30: =SUM(E23:E29) -> 17851287
A31: =A30+1 -> 24 | B31: LOSS OF LOAD/NET METER | D31: -235114 | E31: =+D31 -> -235114 | F31: S16 Tab
A32: =A31+1 -> 25 | B32: REVENUE AT EXISTING RATES | C32: =-SUM('Trial Balance'!C6:C10) -> 17067642 | D32: ='S17 - Effect on Revenue'!Q60 -> -10349.702 | E32: =C32+D32+E31 -> 16822179 | F32: S17 Tab
A33: =A32+1 -> 26 | B33: REVENUE LESS EXPENSES (MARGIN) | C33: =C32-C30 -> -216430.22 | E33: =E32-E30 -> -1029107.8
A34: =A33+1 -> 27 | B34: REVENUE LESS EXPENSES - TEST YR VS. ADJ TEST YR | C34: =+C33 -> -216430.22 | D34: =+E34-C34 -> 1365911.4 | E34: =+E36 -> 1149481.2
A35: =A34+1 -> 28
A36: =A35+1 -> 29 | B36: =CONCATENATE("TOTAL REQUIRED MARGIN = TIER "&(K45)) -> TOTAL REQUIRED MARGIN = TIER 2 | C36: =1.1*(C20) -> 1326928.5 | E36: =1*(E20) -> 1149481.2 | F36: S12 Tab
A37: =A36+1 -> 30
A38: =A37+1 -> 31 | B38: ADDITIONAL RETURN REQUIRED | C38: =+C36-C33 -> 1543358.7 | D38: =+D30+D34 -> 1933125.2 | E38: =+E36-E33 -> 2178588.9
A39: =A38+1 -> 32
A40: =A39+1 -> 33 | B40: GROSS RECEIPTS & GROSS REVENUE TAX | E40: =+'S15 - Gross Rec & Rev Tax'!E18 -> 209289.64 | F40: S15 Tab
A41: =A40+1 -> 34 | B41: TOTAL REQUIRED ADDITIONAL REVENUE | C41: =+C38+C40 -> 1543358.7 | E41: =+E38+E40 -> 2387878.6
...

Sheet S1-A Summary of Variances
A1: EXHIBIT: WEC - 1
A2: SCHEDULE S1-A
A3: BREAKDOWN OF PROPOSED RATE INCREASE
B6: Revenue Requirement | C6: Percent of | D6: Rate Increase
B7: Increase | C7: Increase | D7: Required
A8: EXPENSE ITEMS
A10: Change in Purchased Power | B10: =+'S1-Revenue Requirement'!D8 -> 703615.66 | C10: =+B10/($B$32+$B$35) -> 0.29466141 | D10: =+$B$38*C10 -> 0.041826666
A11: Change in Power Production | B11: =+'S1-Revenue Requirement'!D14 -> 84434.913 | C11: =+B11/($B$32+$B$35) -> 0.035359801 | D11: =+$B$38*C11 -> 0.0050192614
A12: Change in O&M Costs | B12: =SUM('S1-Revenue Requirement'!D9:D13) -> 165961.26 | C12: =+B12/($B$32+$B$35) -> 0.069501548 | D12: =+$B$38*C12 -> 0.0098656221
A13: Change in Depreciation Expense | B13: =+'S1-Revenue Requirement'!D17 -> 1895.78 | C13: =+B13/($B$32+$B$35) -> 0.00079391809 | D13: =+$B$38*C13 -> 0.00011269527
A14: Change in Gross Receipts & Gross Rev Tax | B14: =+'S1-Revenue Requirement'!D18+'S1-Revenue Requirement'!D19+'S1-Revenue Requirement'!E40 -> 20159.961 | C14: =+B14/($B$32+$B$35) -> 0.0084426239 | D14: =+$B$38*C14 -> 0.0011984156
A15: Change in Interest Expense | B15: =+'S1-Revenue Requirement'!D20 -> -56817.42 | C15: =+B15/($B$32+$B$35) -> -0.023794099 | D15: =+$B$38*C15 -> -0.0033775304
A16: Change in Other Deductions | B16: =+'S1-Revenue Requirement'!D22 -> -10123.85 | C16: =+B16/($B$32+$B$35) -> -0.0042396837 | D16: =+$B$38*C16 -> -0.00060181562
A18: REVENUE ITEMS
A20: Change in Interest & Dividend Income | B20: =-'S1-Revenue Requirement'!D24 -> 27281.91 | C20: =-B20/($B$32+$B$35) -> -0.011425166 | D20: =+$B$38*C20 -> -0.0016217822
A21: Change in Operating Revenues | B21: =-'S1-Revenue Requirement'!D25 -> 65798.38 | C21: =-B21/($B$32+$B$35) -> -0.027555162 | D21: =+$B$38*C21 -> -0.0039114065
A22: Change in Capital Credits | B22: =-'S1-Revenue Requirement'!D26 -> 0 | C22: =-B22/($B$32+$B$35) -> 0 | D22: =+$B$38*C22 -> 0
A23: Change in Non Operating Income | B23: =-'S1-Revenue Requirement'!D27 -> 39552 | C23: =-B23/($B$32+$B$35) -> -0.016563656 | D23: =+$B$38*C23 -> -0.0023511818
A24: Change in Other Income & Expense | B24: =-'S1-Revenue Requirement'!D28 -> -9.4575829 | C24: =-B24/($B$32+$B$35) -> 3.9606632e-06 | D24: =+$B$38*C24 -> 5.6220915e-07
A25: Change in Cumulative Effect on Prior Year Change | B25: =+'S1-Revenue Requirement'!C29 -> 0 | C25: =-B25/($B$32+$B$35) -> 0 | D25: =+$B$38*C25 -> 0
A27: Rate Increase effective 11/1/2022 | B27: =+'S1-Revenue Requirement'!D32 -> -10349.702 | C27: =-B27/($B$32+$B$35) -> 0.0043342664 | D27: =+$B$38*C27 -> 0.00061524147
A28: Change in Net Income | B28: =+'S1-Revenue Requirement'!D34 -> 1365911.4 | C28: =+B28/($B$32+$B$35) -> 0.57201879 | D28: =+$B$38*C28 -> 0.081197057
A30: Loss of Load/Net Meter | B30: =+'S1-Revenue Requirement'!D31 -> -235114 | C30: =-B30/($B$32+$B$35) -> 0.098461455 | D30: =+$B$38*C30 -> 0.01397643
A32: Total Additional Revenue Requirement | B32: =+'S1-Revenue Requirement'!E41 -> 2387878.6 | C32: =SUM(C10:C31) -> 1 | D32: =SUM(D10:D31) -> 0.14194823
A34: Base Revenue | B34: =+'S1-Revenue Requirement'!E32 -> 16822179
A38: Percent Increase | B38: =+B32/B34 -> 0.14194823

Sheet S2 - Power Supply
A1: EXHIBIT: WEC - 1
A2: SCHEDULE 2
A3: POWER SUPPLY
A6: WEC Power Costs
D7: Test Year | F7: Pro Forma | H7: =+'S1-Revenue Requirement'!E6 -> 11/1/22-10/31/23
A8: ACCT | B8: Account Name & Description | D8: =+'S1-Revenue Requirement'!C6 -> 7/1/21 - 6/30/22 | F8: Adjustments | H8: ADJ Rate Year | I8: Adjustment Description
A10: 557.02 | B10: PROFORMA LABOR COST | D10: 0 | F10: =+H10-D10 -> 0 | H10: 0 | I10: Included Below
A12: 555.01 | B12: Purchased Power | D12: =+'Trial Balance'!C42 -> 8495999.3 | F12: =+H12-D12 -> 703615.66 | H12: =+I79 -> 9199615 | I12: Schedule 2 Assumptions
A14: 557.01, 03, 04 | B14: Other Purch Power | D14: 0 | F14: =+H14-D14 -> 0 | H14: 0 | I14: Included below
A17: Total Purchase Power Pro Forma Adjustments | D17: =SUM(D10:D15) -> 8495999.3 | F17: =SUM(F10:F15) -> 703615.66 | H17: =SUM(H10:H15) -> 9199615
A19: Detailed Schedule of Purchased Power (FERC Acct 555) | D19: Input cells
A21: Line | B21: Source | D21: 7/1/21 -6/30/22 Test Year | F21: Pro Forma Adjustments | H21: 11/1/22 - 10/31/23 Adjusted Rate Year | J21: Line
D22: mWh | E22: $ | F22: mWh | G22: $ | H22: mWh | I22: $
A23: 1 | B23: Resources | D23: 73823 | E23: 8967606 | G23: =+I23-E23 -> 5157577 | H23: 77881 | I23: 14125183 | J23: 1
A24: =1+A23 -> 2 | B24: On Peak Market Purchase | D24: 1984 | E24: 94434 | F24: =+H24-D24 -> -1984 | G24: =+I24-E24 -> -94434 | I24: 0 | J24: =1+J23 -> 2
A25: =1+A24 -> 3 | B25: NYPA Niagara | D25: 11250 | E25: -328298 | F25: =+H25-D25 -> -872 | G25: =+I25-E25 -> -481912 | H25: 10378 | I25: -810210 | J25: =1+J24 -> 3
A26: =1+A25 -> 4 | B26: NYPA St Lawrence | D26: 263 | E26: -17379 | F26: =+H26-D26 -> 5 | G26: =+I26-E26 -> -10118 | H26: 268 | I26: -27497 | J26: =1+J25 -> 4
A27: =1+A26 -> 5 | B27: VEPPI: Ryegate | D27: 2258 | E27: 61648 | F27: =+H27-D27 -> 9 | G27: =+I27-E27 -> -136075 | H27: 2267 | I27: -74427 | J27: =1+J26 -> 5
A28: =1+A27 -> 6 | B28: VEPPI | F28: =+H28-D28 -> 0 | G28: =+I28-E28 -> 0 | J28: =1+J27 -> 6
A29: =1+A28 -> 7 | B29: Wrightsville Hydro | D29: 1046 | F29: =+H29-D29 -> 400 | G29: =+I29-E29 -> -181832 | H29: 1446 | I29: -181832 | J29: =1+J28 -> 7
A30: =1+A29 -> 8 | B30: Coventry Clean Energy Corp | D30: 48903 | E30: -1763704 | F30: =+H30-D30 -> 1658 | G30: =+I30-E30 -> -2634247 | H30: 50561 | I30: -4397951 | J30: =1+J29 -> 8
A31: =1+A30 -> 9 | B31: Vermont Wind | D31: 8119 | E31: 57278 | F31: =+H31-D31 -> -54 | G31: =+I31-E31 -> -653781 | H31: 8065 | I31: -596503 | J31: =1+J30 -> 9
A32: =1+A31 -> 10 | B32: HQUS contract | F32: =+H32-D32 -> 4896 | G32: =+I32-E32 -> -8833 | H32: 4896 | I32: -8833 | J32: =1+J31 -> 10
A33: =1+A32 -> 11 | F33: =+H33-D33 -> 0 | G33: =+I33-E33 -> 0 | I33: 0 | J33: =1+J32 -> 11
A34: =1+A33 -> 12 | F34: =+H34-D34 -> 0 | G34: =+I34-E34 -> 0 | I34: 0 | J34: =1+J33 -> 12
A35: =1+A34 -> 13 | F35: =+H35-D35 -> 0 | G35: =+I35-E35 -> 0 | I35: 0 | J35: =1+J34 -> 13
A36: =1+A35 -> 14 | G36: =+I36-E36 -> 0 | I36: 0 | J36: =1+J35 -> 14
A37: =1+A36 -> 15 | F37: =+H37-D37 -> 0 | G37: =+I37-E37 -> 0 | J37: =1+J36 -> 15
A38: =1+A37 -> 16 | B38: Load & Load Charges | F38: =+H38-D38 -> 0 | G38: =+I38-E38 -> 0 | J38: =1+J37 -> 16
A39: =1+A38 -> 17 | B39: Settlement Load (in kWh) | D39: 78918 | G39: =+I39-E39 -> 0 | H39: 78918 | J39: =1+J38 -> 17
A40: =1+A39 -> 18 | B40: Load Energy Charges (Vermont Zone) | E40: =5994928+1 -> 5994929 | F40: =+H40-D40 -> 0 | G40: =+I40-E40 -> 5053010 | I40: =11047938+1 -> 11047939 | J40: =1+J39 -> 18
A41: =1+A40 -> 19 | B41: Load Capacity Charges (FCM) | E41: 1046857 | F41: =+H41-D41 -> 0 | G41: =+I41-E41 -> -415474 | I41: 631383 | J41: =1+J40 -> 19
A42: =1+A41 -> 20 | F42: =+H42-D42 -> 0 | G42: =+I42-E42 -> 0 | I42: 0 | J42: =1+J41 -> 20
A43: =1+A42 -> 21 | J43: =1+J42 -> 21
A44: =1+A43 -> 22 | F44: =+H44-D44 -> 0 | G44: =+I44-E44 -> 0 | J44: =1+J43 -> 22
A45: =1+A44 -> 23 | B45: Other Load and Market Charges/(Credits) | F45: =+H45-D45 -> 0 | G45: =+I45-E45 -> 0 | J45: =1+J44 -> 23
A46: =1+A45 -> 24 | B46: REC purchases | D46: 60000 | E46: 287250 | F46: =+H46-D46 -> -4896 | G46: =+I46-E46 -> 263790 | H46: 55104 | I46: 551040 | J46: =1+J45 -> 24
A47: =1+A46 -> 25 | B47: Misc Load Charges/Credits | E47: -22470 | F47: =+H47-D47 -> 0 | G47: =+I47-E47 -> 0 | I47: -22470 | J47: =1+J46 -> 25
A48: =1+A47 -> 26 | B48: Reserve Market Settlement | E48: 25349 | F48: =+H48-D48 -> 0 | G48: =+I48-E48 -> 0 | I48: 25349 | J48: =1+J47 -> 26
A49: =1+A48 -> 27 | B49: Auction Revenue Rights (ARRs) | E49: -10135 | F49: =+H49-D49 -> 0 | G49: =+I49-E49 -> 0 | I49: -10135 | J49: =1+J48 -> 27
...

Sheet S3 - Transmission & Power Prod
A1: EXHIBIT: WEC - 1
A2: SCHEDULE 3
A3: TRANSMISSION & POWER PROD
A6: WEC Transmission Costs
D7: Test Year | E7: Pro Forma | F7: =+'S1-Revenue Requirement'!E6 -> 11/1/22-10/31/23
A8: ACCT | B8: Account Name & Description | D8: =+'S1-Revenue Requirement'!C6 -> 7/1/21 - 6/30/22 | E8: Adjustments | F8: ADJ Rate Year | G8: Adjustment Description
A10: VARIOUS | B10: PROFORMA LABOR COST | D10: =+'S6A - Payroll by Function'!C8 -> 6556.4977 | E10: =+F10-D10 -> 223.6255 | F10: =+'S6A - Payroll by Function'!E8 -> 6780.1232 | G10: Schedule S6-A
A12: 563.02 | B12: TRANSMISSION - PROPERTY TAXES (#105) | D12: =+'S6 - Admin & Gen'!E48 -> 62615 | E12: =+F12-D12 -> 1089.2998 | F12: =+'S6 - Admin & Gen'!G48 -> 63704.3 | G12: Schedule 6 Property Tax Work Area
A18: 571.03 | B18: TRANSMISSION - ROW | D18: =+'Trial Balance'!C52 -> 21594.39 | E18: =+F18-D18 -> -0.39 | F18: 21594
A26: Total Transmission Pro Forma Adjustments | E26: =SUM(E10:E18) -> 1312.5353
A32: WEC Power Production Costs
D33: Test Year | E33: Pro Forma | F33: =+F7 -> 11/1/22-10/31/23
A34: ACCT | B34: Account Name & Description | D34: =+D8 -> 7/1/21 - 6/30/22 | E34: Adjustments | F34: =+F8 -> ADJ Rate Year | G34: Adjustment Description
A36: VARIOUS | B36: PROFORMA LABOR COST | D36: =+'S6A - Payroll by Function'!C9 -> 60091.44 | E36: =+F36-D36 -> 2049.5666 | F36: =+'S6A - Payroll by Function'!E9 -> 62141.007 | G36: Schedule S6-A
A38: 538.01 | B38: Hydro Oper - Elec Exp Property Tax Only | D38: =+'S14 - Property Tax Generation'!C11 -> 34190 | E38: =+F38-D38 -> 880.62594 | F38: =+'S14 - Property Tax Generation'!E11 -> 35070.626 | G38: Schedule S14
A40: 548.01 | B40: CCEC Generation Oper Exp Property Tax Only | D40: 100148 | E40: =+F40-D40 -> 81504.72 | F40: =+'S14 - Property Tax Generation'!E13 -> 181652.72 | G40: Schedule S14 | H40: CCEC taxes estimated high at beg
H41: of 2021/no expense recognized Sept
H42: to Dec of 2021 in test year
A43: Total Transmission Pro Forma Adjustments | E43: =SUM(E36:E40) -> 84434.913

Sheet S4 - Dist Maint & Ops
A1: EXHIBIT: WEC - 1
A2: SCHEDULE 4
A3: DISTRIBUTION OPERATION & MAINTENANCE EXPENSE;
G6: Test Year | H6: Pro Forma | I6: =+'S1-Revenue Requirement'!E6 -> 11/1/22-10/31/23
A7: ACCT | B7: DISTRIBUTION MAINTENANCE | G7: =+'S1-Revenue Requirement'!C6 -> 7/1/21 - 6/30/22 | H7: Adjustments | I7: ADJ Rate Year | J7: Adjustment Description
A9: VARIOUS | B9: PROFORMA LABOR COST | G9: =+'S6A - Payroll by Function'!C11 -> 1690111.1 | H9: =+I9-G9 -> 57645.403 | I9: =+'S6A - Payroll by Function'!E11 -> 1747756.5 | J9: Schedule S6-A
A19: 593.03 | B19: DIST MAINT - OH LINES ROW | G19: =+'Trial Balance'!C90 -> 1392291.6 | H19: =+I19-G19 -> -296194.58 | I19: 1096097
H20: =+I20-G20 -> 0
G21: =SUM(G19:G20) -> 1392291.6 | H21: =SUM(H19:H20) -> -296194.58 | I21: =SUM(I19:I20) -> 1096097
A23: 593.02 | B23: MAJOR STORM DAMAGE EXPENSE: (EXTERNAL COSTS)
B24: FIVE YEAR AVERAGE **(1)** | I24: =+D54 -> 212318.5 | J24: See Four Year Avg Calculation Below
B25: All Non Payroll Related Cost | G25: =10107.68+844.18+1644.3+18583.93 -> 31180.09
B26: INCREASE (DECREASE) IN COST | G26: =SUM(G24:G25) -> 31180.09 | H26: =+I26-G26 -> 181138.41 | I26: =SUM(I24:I25) -> 212318.5
B28: TOTAL INCREASE (DECREASE) IN DISTRIBUTION MAINTENANCE | H28: =+H9+H21+H26 -> -57410.767
G31: Test Year | H31: Pro Forma | I31: =+I6 -> 11/1/22-10/31/23
A32: ACCT | B32: DISTRIBUTION OPERATION | G32: =+G7 -> 7/1/21 - 6/30/22 | H32: Adjustments | I32: =+I7 -> ADJ Rate Year | J32: Adjustment Description
A34: VARIOUS | B34: PROFORMA LABOR COST | G34: =+'S6A - Payroll by Function'!C10 -> 1004805.2 | H34: =+I34-G34 -> 34271.356 | I34: =+'S6A - Payroll by Function'!E10 -> 1039076.6 | J34: Schedule S6-A
A39: 583.01 | B39: DISTRIBUTION OPERATION - PROPERTY TAXES | G39: =+'S6 - Admin & Gen'!E49+'S6 - Admin & Gen'!E50+'S6 - Admin & Gen'!E51 -> 1326295.5 | H39: =+I39-G39 -> 23073.28 | I39: =+'S6 - Admin & Gen'!G49+'S6 - Admin & Gen'!G50+'S6 - Admin & Gen'!G51 -> 1349368.8 | J39: Schedule 6 Property Tax Work Area
B44: TOTAL INCREASE (DECREASE) IN DISTRIBUTION OPERATION | H44: =SUM(H33:H43) -> 57344.636
A48: **(1)** | B48: STORM DAMAGE EXPENSE(Major) -- Non Payroll Related Costs. Costs have been reduced by FEMA reimbused amounts.
B49: Calendar Year | D49: 593.02
B50: 2017 | D50: 348150
B51: 2019 | D51: 302747 | F51: omit 2018 costs of $769,949 as they were highly unusual
B52: 2020 | D52: 87744
B53: 2021 | D53: 110633
B54: AVERAGE | D54: =AVERAGE(D50:D53) -> 212318.5

Sheet S5 - Cust Accts
A1: EXHIBIT: WEC - 1
A2: SCHEDULE 5
A3: CUSTOMER ACCOUNTS EXPENSE DETAIL
G6: Test Year | H6: Pro Forma | I6: =+'S1-Revenue Requirement'!E6 -> 11/1/22-10/31/23
A7: ACCT | B7: CUSTOMER ACCOUNTS | G7: =+'S1-Revenue Requirement'!C6 -> 7/1/21 - 6/30/22 | H7: Adjustments | I7: ADJ Rate Year | J7: Adjustment Description
A9: VARIOUS | B9: PROFORMA LABOR COST | G9: =+'S6A - Payroll by Function'!C12 -> 641108.93 | H9: =+I9-G9 -> 21866.599 | I9: =+'S6A - Payroll by Function'!E12 -> 662975.53 | J9: Schedule S6-A
A11: 905 | B11: MISC CUST ACCTS EXP | G11: =+'S6 - Admin & Gen'!E52 -> 3774 | H11: =+I11-G11 -> 65.655474 | I11: =+'S6 - Admin & Gen'!G52 -> 3839.6555 | J11: Schedule 6 Property Tax Work Area
A15: 908.07 | B15: TIER 3 Requirements (non payroll) | G15: =+'Trial Balance'!C133 -> 183314.51 | H15: =+I15-G15 -> 32380.49 | I15: 215695 | J15: 2022 Calendar Year TIER 3 filing
B20: TOTAL INCREASE (DECREASE) IN CUSTOMER ACCOUNTS EXP. | H20: =SUM(H9:H19) -> 54312.745

Sheet S6 - Admin & Gen
A1: EXHIBIT: WEC - 1
A2: SCHEDULE 6
A3: A&G EXPENSE DETAIL
E6: Test Year | F6: Pro Forma | G6: =+'S1-Revenue Requirement'!E6 -> 11/1/22-10/31/23
A7: ACCT | B7: ADMIN & GENERAL | E7: =+'S1-Revenue Requirement'!C6 -> 7/1/21 - 6/30/22 | F7: Adjustments | G7: ADJ Rate Year | H7: Adjustment Description
A9: VARIOUS | B9: PROFORMA LABOR COST | E9: =+'S6A - Payroll by Function'!C13 -> 1331137.5 | F9: =+G9-E9 -> 45401.723 | G9: =+'S6A - Payroll by Function'!E13 -> 1376539.2 | H9: Schedule S6-A
A11: 920.04 | B11: ADMIN & GEN - UNION NEGOTIATIONS (Non Payroll) | E11: 0 | F11: =+G11-E11 -> 0 | G11: 0 | H11: Next Negotiation 2020
A13: 923.03 | B13: OUT SERV-AUDIT | E13: =+'Trial Balance'!C157 -> 40295 | F13: =+G13-E13 -> -6845 | G13: 33450 | H13: Contracted Audit Fees
A16: Various | B16: RISK INSURANCE | E16: =+'S7 - Insurance'!B38 -> 88987.639 | F16: =+G16-E16 -> 1727.9921 | G16: =+'S7 - Insurance'!F38 -> 90715.632 | H16: Schedule S7
A19: 930.2 | B19: =+B53 -> MISC GEN EXP PROP TAX | E19: =+E53 -> 6748 | F19: =+G19-E19 -> 117.39352 | G19: =+G53 -> 6865.3935 | H19: Schedule 6 Property Tax Work Area (Below)
B23: LOAD FORECAST | E23: 0 | F23: =+G23-E23 -> 10000 | G23: 10000
A25: 928.07 | B25: REG EXP - IRP (non payroll) | E25: 0 | F25: =+G25-E25 -> 60000 | G25: 60000 | H25: Consultant for IRP
B28: TOTAL A&G PRO FORMA ADJUSTMENTS | F28: =SUM(F9:F27) -> 110402.11 | H28: TOTAL A&G ADJUSTMENTS
A30: Work Area for Property Taxes:
B32: Description | C32: 2017 | D32: 2018 | E32: 2019 | F32: 2020 | G32: 2021 | H32: Rate Year Projection | I32: Adjustment Description
B33: Total Property Tax Expense/Year | C33: 1080713 | D33: 1133246 | E33: 1190285 | F33: 1297335.2 | G33: 1381089.5 | H33: =G33*(G36+1) -> 1441260 | I33: Rate Year Projected = 2021 * 5 yr avg % Increase
B34: Change from Prior Year | C34: 42851.28 | D34: =+D33-C33 -> 52532.95 | E34: =+E33-D33 -> 57039.02 | F34: =+F33-E33 -> 107050.19 | G34: =+G33-F33 -> 83754.31
B35: % Increase | C35: 0.041288043 | D35: =+D34/C33 -> 0.048609528 | E35: =+E34/D33 -> 0.050332427 | F35: =+F34/E33 -> 0.089936604 | G35: =+G34/F33 -> 0.064558729 | H35: -0.0356 | I35: 2022 Current bills coming in less than 2021. Include reduction
B36: Five Year Average Increase | G36: =AVERAGE(D35:H35) -> 0.043567458 | I36: in 5 year average
E41: Test Year | F41: Pro Forma | G41: =+G6 -> 11/1/22-10/31/23
E42: =+E7 -> 7/1/21 - 6/30/22 | F42: Adjustments | G42: ADJ Test Year | H42: Schedule #
A43: 107.04 | B43: CWIP OH | E43: 5337 | F43: =+G43-E43 -> 92.846652 | G43: =+(E43/$E$55)*$G$55 -> 5429.8467 | H43: N/A
A44: 163.01 | B44: STORES CLEARING | E44: 9478 | F44: =+G44-E44 -> 164.88675 | G44: =+(E44/$E$55)*$G$55 -> 9642.8867 | H44: N/A
A45: 184.01 | B45: TRANS EXP - CLEAR | E45: 2368 | F45: =+G45-E45 -> 41.195591 | G45: =+(E45/$E$55)*$G$55 -> 2409.1956 | H45: N/A
A46: 538.01 | B46: HYDRO OPER - ELEC EXP | E46: 0 | F46: =+G46-E46 -> 0 | G46: =+(E46/$E$55)*$G$55 -> 0 | H46: N/A
A47: 548.01 | B47: CCEC GENERATION OPER EXP | E47: 0 | F47: =+G47-E47 -> 0 | G47: =+(E47/$E$55)*$G$55 -> 0
A48: 563.02 | B48: TRANS - OPER OH PROP TAX | E48: 62615 | F48: =+G48-E48 -> 1089.2998 | G48: =+(E48/$E$55)*$G$55 -> 63704.3 | H48: Schedule 3
A49: 582.01 | B49: DIST - STATION EXP | E49: 80546 | F49: =+G49-E49 -> 1401.2416 | G49: =+(E49/$E$55)*$G$55 -> 81947.242 | H49: Schedule 4
A50: 583.01 | B50: DIST - O/H LINE EXP | E50: 1208064.5 | F50: =+G50-E50 -> 21016.441 | G50: =+(E50/$E$55)*$G$55 -> 1229080.9 | H50: Schedule 4
A51: 586.01 | B51: DIST - METER EXP | E51: 37685 | F51: =+G51-E51 -> 655.59791 | G51: =+(E51/$E$55)*$G$55 -> 38340.598 | H51: Schedule 4
A52: 905.01 | B52: MISC CUST ACCTS EXP | E52: 3774 | F52: =+G52-E52 -> 65.655474 | G52: =+(E52/$E$55)*$G$55 -> 3839.6555 | H52: Schedule 5
A53: 930.2 | B53: MISC GEN EXP PROP TAX | E53: 6748 | F53: =+G53-E53 -> 117.39352 | G53: =+(E53/$E$55)*$G$55 -> 6865.3935 | H53: Schedule 6
F54: =+G54-E54 -> 0 | G54: =+(E54/$E$55)*$G$55 -> 0
A55: TOTAL PROPERTY TAX EXPENSE | E55: =SUM(E43:E54) -> 1416615.5 | F55: =+G55-E55 -> 24644.558 | G55: =+H33 -> 1441260
G56: =SUM(G43:G54) -> 1441260

Sheet S6A - Payroll by Function
A1: EXHIBIT: WEC - 1
A2: SCHEDULE 6A (Summary of S6-B)
A3: PAYROLL EXPENSE DETAIL SUMMARY
C5: Test Year | D5: Pro Forma | E5: =+'S1-Revenue Requirement'!E6 -> 11/1/22-10/31/23
A6: ACCT | B6: PAYROLL DISTRIBUTION | C6: =+'S1-Revenue Requirement'!C6 -> 7/1/21 - 6/30/22 | D6: Adjustments | E6: ADJ Rate Year | F6: Adjustment Description
B7: POWER SUPPLY | C7: =+'S6-B Payroll Distribution'!L77 -> 3167.9726 | D7: =-C7+E7 -> 108.05151 | E7: =+C7/$C$16*$B$32 -> 3276.0241 | F7: Schedule 2
B8: TRANSMISSION | C8: =+'S6-B Payroll Distribution'!J82 -> 6556.4977 | D8: =-C8+E8 -> 223.6255 | E8: =+C8/$C$16*$B$32 -> 6780.1232 | F8: Schedule 3
B9: POWER PRODUCTION | C9: =+'S6-B Payroll Distribution'!J87 -> 60091.44 | D9: =-C9+E9 -> 2049.5666 | E9: =+C9/$C$16*$B$32 -> 62141.007 | F9: Schedule 3
B10: DISTRIBUTION OPERATION | C10: =+'S6-B Payroll Distribution'!J108 -> 1004805.2 | D10: =-C10+E10 -> 34271.356 | E10: =+C10/$C$16*$B$32 -> 1039076.6 | F10: Schedule 4
B11: DISTRIBUTION MAINTENANCE | C11: =+'S6-B Payroll Distribution'!J128 -> 1690111.1 | D11: =-C11+E11 -> 57645.403 | E11: =+C11/$C$16*$B$32 -> 1747756.5 | F11: Schedule 4
B12: CUSTOMER ACCOUNTS | C12: =+'S6-B Payroll Distribution'!J134 -> 641108.93 | D12: =-C12+E12 -> 21866.599 | E12: =+C12/$C$16*$B$32 -> 662975.53 | F12: Schedule 5
B13: ADMINISTRATION & GENERAL | C13: =+'S6-B Payroll Distribution'!J186 -> 1331137.5 | D13: =-C13+E13 -> 45401.723 | E13: =+C13/$C$16*$B$32 -> 1376539.2 | F13: Schedule 6
B14: OTHER LOBBYING | C14: =+'S6-B Payroll Distribution'!L75 -> 0 | D14: =-C14+E14 -> 0 | E14: =+C14/$C$16*$B$32 -> 0 | F14: Schedule 11
B15: OTHER JOBBING; CONTRACT WORK | C15: =+'S6-B Payroll Distribution'!J76 -> 277.28778 | D15: =-C15+E15 -> 9.4575829 | E15: =+C15/$C$16*$B$32 -> 286.74537 | F15: Schedule 11
A16: TOTAL PAYROLL & OVERHEADS EXPENSED | C16: =SUM(C7:C15) -> 4737255.9 | D16: =-C16+E16 -> 161575.78 | E16: =SUM(E7:E15) -> 4898831.7
A17: TOTAL CAPITALIZED PAYROLL | C17: =+'S6-B Payroll Distribution'!L27 -> 945994.9 | D17: =-C17+E17 -> 308675.39 | E17: =+C32 -> 1254670.3
A18: TOTAL ALL PAYROLL & PAYROLL RELATED OH | C18: =+C16+C17 -> 5683250.9 | D18: =-C18+E18 -> 470251.17 | E18: =+E16+E17 -> 6153502
B22: Expense Labor | C22: Capitalized Labor | D22: Overheads/Benefits | E22: Total Payroll | F22: Expense % | G22: Capital %
A23: 2014 | B23: 1817528 | C23: 577958 | D23: 566776 | E23: =SUM(B23:D23) -> 2962262 | F23: =+B23/(B23+C23) -> 0.75873038 | G23: =+C23/(B23+C23) -> 0.24126962
A24: 2015 | B24: 1667174 | C24: 540227 | D24: 528838 | E24: =SUM(B24:D24) -> 2736239 | F24: =+B24/(B24+C24) -> 0.75526558 | G24: =+C24/(B24+C24) -> 0.24473442
A25: 2016 | B25: 1733643 | C25: 609939 | D25: 558400 | E25: =SUM(B25:D25) -> 2901982 | F25: =+B25/(B25+C25) -> 0.7397407 | G25: =+C25/(B25+C25) -> 0.2602593
A26: 2017 | B26: 1996763 | C26: 538209 | D26: 587622 | E26: =SUM(B26:D26) -> 3122594 | F26: =+B26/(B26+C26) -> 0.78768641 | G26: =+C26/(B26+C26) -> 0.21231359
A27: 2018 | B27: 2240876 | C27: 431560 | D27: 551437 | E27: =SUM(B27:D27) -> 3223873 | F27: =+B27/(B27+C27) -> 0.83851437 | G27: =+C27/(B27+C27) -> 0.16148563
A28: 2019 | B28: 2153222 | C28: 455173 | D28: 658210 | E28: =SUM(B28:D28) -> 3266605 | F28: =+B28/(B28+C28) -> 0.82549691 | G28: =+C28/(B28+C28) -> 0.17450309
A29: 2020 | B29: 2303011 | C29: 423064 | D29: 613605 | E29: =SUM(B29:D29) -> 3339680 | F29: =+B29/(B29+C29) -> 0.84480838 | G29: =+C29/(B29+C29) -> 0.15519162
A30: 2021 | B30: 2325616 | C30: 515370 | D30: 929539 | E30: =SUM(B30:D30) -> 3770525 | F30: =+B30/(B30+C30) -> 0.81859467 | G30: =+C30/(B30+C30) -> 0.18140533
E31: Five Year Average | F31: =AVERAGE(F23:F30) -> 0.79610468 | G31: =AVERAGE(G23:G30) -> 0.20389532
A32: Adj Test Year | B32: =+'S6C Total Payroll & Benefits'!E31*'S6A - Payroll by Function'!F31 -> 4898831.7 | C32: =+'S6C Total Payroll & Benefits'!E31*'S6A - Payroll by Function'!G31 -> 1254670.3
A33: Used 5 year Avg

Sheet S6-B Payroll Distribution
A1: EXHIBIT: WEC - 1
A2: SCHEDULE 6-B
A3: PAYROLL DISTRIBUTION DETAILS;
A4: KNOWN & MEASURABLE CHANGES
D6: TEST YEAR: July 1, 2021 - June 30, 2022 | N6: ADJUSTED Rate YEAR: Nov 1, 2021 - Oct 31, 2022
A7: PAYROLL DISTRIBUTION DETAILS | D7: Twelve Months | L7: Test Year | N7: Adjusted Test Yr
D8: Ending 6/30/22 | H8: Net Labor | L8: Net Labor | N8: (Rate Year) | P8: Add BPRA | T8: Net Labor | X8: Net Labor
A9: G/L | D9: Payroll By | F9: Percentage By | H9: Cost With | J9: Percentage By | L9: Cost With | N9: Payroll By | P9: Employees | R9: Percentage By | T9: Cost With | V9: Percentage By | X9: Cost With
A10: ACCT | B10: ACCOUNT DESCRIPTION | D10: Account | F10: Type of Exp | H10: Payroll OVHDS | J10: Type of Exp | L10: Allocations | N10: Account | P10: Type of Exp | R10: Type of Exp | T10: Payroll OVHDS | V10: Type of Exp | X10: Allocations
A11: Capital Accounts
A12: 107.04 | B12: CWIP - OVERHEAD | D12: 27746.92 | F12: =+D12/($D$193-$H$197+$H$204) -> 0.0090094708 | H12: =+(F12*$H$200)+D12 -> 51203.083 | L12: =+H12+((H12/($H$27+$H$191))*$H$52) -> 53237.489 | N12: =+(D12/($D$193-D$55))*$N$194 -> 28187.963 | R12: =+(N12+P12)/($N$193+$P$193-$T$197+$T$204) -> 0.0090094708 | T12: =+(R12*$T$200)+(N12+P12) -> 55439.797 | X12: =+T12+((T12/($T$27+$T$191))*$T$52) -> 57642.537
A13: 107.11 | B13: CWIP - NET METER | D13: 6110.05 | F13: =+D13/($D$193-$H$197+$H$204) -> 0.0019839433 | H13: =+(F13*$H$200)+D13 -> 11275.248 | L13: =+H13+((H13/($H$27+$H$191))*$H$52) -> 11723.237 | N13: =+(D13/($D$193-D$55))*$N$194 -> 6207.1706 | R13: =+(N13+P13)/($N$193+$P$193-$T$197+$T$204) -> 0.0019839433 | T13: =+(R13*$T$200)+(N13+P13) -> 12208.199 | X13: =+T13+((T13/($T$27+$T$191))*$T$52) -> 12693.257
A14: 107.19 | B14: CWIP - | F14: =+D14/($D$193-$H$197+$H$204) -> 0 | H14: =+(F14*$H$200)+D14 -> 0 | L14: =+H14+((H14/($H$27+$H$191))*$H$52) -> 0 | N14: =+(D14/($D$193-D$55))*$N$194 -> 0 | R14: =+(N14+P14)/($N$193+$P$193-$T$197+$T$204) -> 0 | T14: =+(R14*$T$200)+(N14+P14) -> 0 | X14: =+T14+((T14/($T$27+$T$191))*$T$52) -> 0
A15: 107.2 | B15: CWIP - DIRECT CHARGES | D15: 422992.26 | F15: =+D15/($D$193-$H$197+$H$204) -> 0.13734629 | H15: =+(F15*$H$200)+D15 -> 780573.4 | L15: =+H15+((H15/($H$27+$H$191))*$H$52) -> 811587.23 | N15: =+(D15/($D$193-D$55))*$N$194 -> 429715.82 | P15: =+P220*0.6 -> 0 | R15: =+(N15+P15)/($N$193+$P$193-$T$197+$T$204) -> 0.13734629 | T15: =+(R15*$T$200)+(N15+P15) -> 845160.65 | X15: =+T15+((T15/($T$27+$T$191))*$T$52) -> 878740.67
A16: 107.21 | B16: CWIP - | F16: =+D16/($D$193-$H$197+$H$204) -> 0 | H16: =+(F16*$H$200)+D16 -> 0 | L16: =+H16+((H16/($H$27+$H$191))*$H$52) -> 0 | N16: =+(D16/($D$193-D$55))*$N$194 -> 0 | R16: =+(N16+P16)/($N$193+$P$193-$T$197+$T$204) -> 0 | T16: =+(R16*$T$200)+(N16+P16) -> 0 | X16: =+T16+((T16/($T$27+$T$191))*$T$52) -> 0
A17: 107.23 | B17: CWIP - | F17: =+D17/($D$193-$H$197+$H$204) -> 0 | H17: =+(F17*$H$200)+D17 -> 0 | L17: =+H17+((H17/($H$27+$H$191))*$H$52) -> 0 | N17: =+(D17/($D$193-D$55))*$N$194 -> 0 | R17: =+(N17+P17)/($N$193+$P$193-$T$197+$T$204) -> 0 | T17: =+(R17*$T$200)+(N17+P17) -> 0 | X17: =+T17+((T17/($T$27+$T$191))*$T$52) -> 0
A18: 107.24 | B18: CWIP - | F18: =+D18/($D$193-$H$197+$H$204) -> 0 | H18: =+(F18*$H$200)+D18 -> 0 | L18: =+H18+((H18/($H$27+$H$191))*$H$52) -> 0 | N18: =+(D18/($D$193-D$55))*$N$194 -> 0 | R18: =+(N18+P18)/($N$193+$P$193-$T$197+$T$204) -> 0 | T18: =+(R18*$T$200)+(N18+P18) -> 0 | X18: =+T18+((T18/($T$27+$T$191))*$T$52) -> 0
A19: 107.27 | B19: CWIP - | F19: =+D19/($D$193-$H$197+$H$204) -> 0 | H19: =+(F19*$H$200)+D19 -> 0 | L19: =+H19+((H19/($H$27+$H$191))*$H$52) -> 0 | N19: =+(D19/($D$193-D$55))*$N$194 -> 0 | R19: =+(N19+P19)/($N$193+$P$193-$T$197+$T$204) -> 0 | T19: =+(R19*$T$200)+(N19+P19) -> 0 | X19: =+T19+((T19/($T$27+$T$191))*$T$52) -> 0
A20: 107.29 | B20: CWIP - | F20: =+D20/($D$193-$H$197+$H$204) -> 0 | H20: =+(F20*$H$200)+D20 -> 0 | L20: =+H20+((H20/($H$27+$H$191))*$H$52) -> 0 | N20: =+(D20/($D$193-D$55))*$N$194 -> 0 | R20: =+(N20+P20)/($N$193+$P$193-$T$197+$T$204) -> 0 | T20: =+(R20*$T$200)+(N20+P20) -> 0 | X20: =+T20+((T20/($T$27+$T$191))*$T$52) -> 0
A21: 107.31 | B21: CWIP - | F21: =+D21/($D$193-$H$197+$H$204) -> 0 | H21: =+(F21*$H$200)+D21 -> 0 | L21: =+H21+((H21/($H$27+$H$191))*$H$52) -> 0 | N21: =+(D21/($D$193-D$55))*$N$194 -> 0 | R21: =+(N21+P21)/($N$193+$P$193-$T$197+$T$204) -> 0 | T21: =+(R21*$T$200)+(N21+P21) -> 0 | X21: =+T21+((T21/($T$27+$T$191))*$T$52) -> 0
A22: 107.32 | B22: CWIP - | F22: =+D22/($D$193-$H$197+$H$204) -> 0 | H22: =+(F22*$H$200)+D22 -> 0 | L22: =+H22+((H22/($H$27+$H$191))*$H$52) -> 0 | N22: =+(D22/($D$193-D$55))*$N$194 -> 0 | R22: =+(N22+P22)/($N$193+$P$193-$T$197+$T$204) -> 0 | T22: =+(R22*$T$200)+(N22+P22) -> 0 | X22: =+T22+((T22/($T$27+$T$191))*$T$52) -> 0
A23: 107.33 | B23: CWIP - | F23: =+D23/($D$193-$H$197+$H$204) -> 0 | H23: =+(F23*$H$200)+D23 -> 0 | L23: =+H23+((H23/($H$27+$H$191))*$H$52) -> 0 | N23: =+(D23/($D$193-D$55))*$N$194 -> 0 | R23: =+(N23+P23)/($N$193+$P$193-$T$197+$T$204) -> 0 | T23: =+(R23*$T$200)+(N23+P23) -> 0 | X23: =+T23+((T23/($T$27+$T$191))*$T$52) -> 0
A24: 107.37 | B24: CWIP - | D24: 0 | F24: =+D24/($D$193-$H$197+$H$204) -> 0 | H24: =+(F24*$H$200)+D24 -> 0 | L24: =+H24+((H24/($H$27+$H$191))*$H$52) -> 0 | N24: =+(D24/($D$193-D$55))*$N$194 -> 0 | R24: =+(N24+P24)/($N$193+$P$193-$T$197+$T$204) -> 0 | T24: =+(R24*$T$200)+(N24+P24) -> 0 | X24: =+T24+((T24/($T$27+$T$191))*$T$52) -> 0
A25: 107.47 | B25: CWIP - | F25: =+D25/($D$193-$H$197+$H$204) -> 0 | H25: =+(F25*$H$200)+D25 -> 0 | J25: Total | L25: =+H25+((H25/($H$27+$H$191))*$H$52) -> 0 | N25: =+(D25/($D$193-D$55))*$N$194 -> 0 | R25: =+(N25+P25)/($N$193+$P$193-$T$197+$T$204) -> 0 | T25: =+(R25*$T$200)+(N25+P25) -> 0 | V25: Total | X25: =+T25+((T25/($T$27+$T$191))*$T$52) -> 0
A26: 108.8 | B26: RETIREMENT WORK IN PROG | D26: 36195.15 | F26: =+D26/($D$193-$H$197+$H$204) -> 0.011752625 | H26: =+(F26*$H$200)+D26 -> 66793.117 | J26: Capital | L26: =+H26+((H26/($H$27+$H$191))*$H$52) -> 69446.948 | N26: =+(D26/($D$193-D$55))*$N$194 -> 36770.48 | R26: =+(N26+P26)/($N$193+$P$193-$T$197+$T$204) -> 0.011752625 | T26: =+(R26*$T$200)+(N26+P26) -> 72319.802 | V26: Capital | X26: =+T26+((T26/($T$27+$T$191))*$T$52) -> 75193.221
A27: Total Capital Accounts | D27: =SUM(D12:D26) -> 493044.38 | H27: =SUM(H12:H26) -> 909844.85 | J27: =+H27/(H191+H27) -> 0.16645313 | L27: =SUM(L12:L26) -> 945994.9 | N27: =SUM(N12:N26) -> 500881.43 | P27: =SUM(P12:P26) -> 0 | T27: =SUM(T12:T26) -> 985128.45 | V27: =+T27/(T191+T27) -> 0.16645313 | X27: =SUM(X12:X26) -> 1024269.7
A28: Allocated/Spread Accounts (Use Capital & Expense %)
A29: 163.01 | B29: STORES EXPENSE - UNDISTRIBUTED | D29: 39971.06 | F29: =+D29/($D$193-$H$197+$H$204) -> 0.012978669 | H29: =+(F29*$H$200)+D29 -> 73761.034 | N29: =+(D29/($D$193-D$55))*$N$194 -> 40606.409 | R29: =+(N29+P29)/($N$193+$P$193-$T$197+$T$204) -> 0.012978669 | T29: =+(R29*$T$200)+(N29+P29) -> 79864.268
A30: 183.1 | B30: 2009-2012 WORK PLAN | D30: 0 | F30: =+D30/($D$193-$H$197+$H$204) -> 0 | H30: =+(F30*$H$200)+D30 -> 0 | N30: =+(D30/($D$193-D$55))*$N$194 -> 0 | R30: =+(N30+P30)/($N$193+$P$193-$T$197+$T$204) -> 0 | T30: =+(R30*$T$200)+(N30+P30) -> 0
A31: 183.03 | B31: BILLABLE-MISSISSQUOI BRIDGE PROJECT | F31: =+D31/($D$193-$H$197+$H$204) -> 0 | H31: =+(F31*$H$200)+D31 -> 0 | N31: =+(D31/($D$193-D$55))*$N$194 -> 0 | R31: =+(N31+P31)/($N$193+$P$193-$T$197+$T$204) -> 0 | T31: =+(R31*$T$200)+(N31+P31) -> 0
A32: 183.06 | B32: NON-BILLABLE-MISS. BRIDGE PROJECT | F32: =+D32/($D$193-$H$197+$H$204) -> 0 | H32: =+(F32*$H$200)+D32 -> 0 | N32: =+(D32/($D$193-D$55))*$N$194 -> 0 | R32: =+(N32+P32)/($N$193+$P$193-$T$197+$T$204) -> 0 | T32: =+(R32*$T$200)+(N32+P32) -> 0
A33: 183.13 | B33: PREL SURVEY-Northern Enterprises | D33: 0 | F33: =+D33/($D$193-$H$197+$H$204) -> 0 | H33: =+(F33*$H$200)+D33 -> 0 | N33: =+(D33/($D$193-D$55))*$N$194 -> 0 | R33: =+(N33+P33)/($N$193+$P$193-$T$197+$T$204) -> 0 | T33: =+(R33*$T$200)+(N33+P33) -> 0
A34: 183.14 | B34: PREL. SURVEY-Boucher BioPower LLC | D34: 0 | F34: =+D34/($D$193-$H$197+$H$204) -> 0 | H34: =+(F34*$H$200)+D34 -> 0 | N34: =+(D34/($D$193-D$55))*$N$194 -> 0 | R34: =+(N34+P34)/($N$193+$P$193-$T$197+$T$204) -> 0 | T34: =+(R34*$T$200)+(N34+P34) -> 0
A35: 183.15 | B35: PREL. SURVEY-Maxwell Farm Gen Project | D35: 0 | F35: =+D35/($D$193-$H$197+$H$204) -> 0 | H35: =+(F35*$H$200)+D35 -> 0 | N35: =+(D35/($D$193-D$55))*$N$194 -> 0 | R35: =+(N35+P35)/($N$193+$P$193-$T$197+$T$204) -> 0 | T35: =+(R35*$T$200)+(N35+P35) -> 0
A36: 183.16 | B36: PREL. SURVEY-Hinesburg Energy Study | D36: 0 | F36: =+D36/($D$193-$H$197+$H$204) -> 0 | H36: =+(F36*$H$200)+D36 -> 0 | N36: =+(D36/($D$193-D$55))*$N$194 -> 0 | R36: =+(N36+P36)/($N$193+$P$193-$T$197+$T$204) -> 0 | T36: =+(R36*$T$200)+(N36+P36) -> 0
A37: 184.01 | B37: CLEARING - TRANSPORTATION | D37: 75606.81 | F37: =+D37/($D$193-$H$197+$H$204) -> 0.024549656 | H37: =+(F37*$H$200)+D37 -> 139521.86 | N37: =+(D37/($D$193-D$55))*$N$194 -> 76808.597 | R37: =+(N37+P37)/($N$193+$P$193-$T$197+$T$204) -> 0.024549656 | T37: =+(R37*$T$200)+(N37+P37) -> 151066.36
A38: 184.03 | B38: TRANS EXP-EXTRA MAINT | D38: 2111.07 | F38: =+D38/($D$193-$H$197+$H$204) -> 0.00068546792 | H38: =+(F38*$H$200)+D38 -> 3895.6862 | N38: =+(D38/($D$193-D$55))*$N$194 -> 2144.6259 | R38: =+(N38+P38)/($N$193+$P$193-$T$197+$T$204) -> 0.00068546792 | T38: =+(R38*$T$200)+(N38+P38) -> 4218.0282
A39: 184.04 | B39: TRANS CLEARING - DIGGER | D39: 0 | F39: =+D39/($D$193-$H$197+$H$204) -> 0 | H39: =+(F39*$H$200)+D39 -> 0 | N39: =+(D39/($D$193-D$55))*$N$194 -> 0 | R39: =+(N39+P39)/($N$193+$P$193-$T$197+$T$204) -> 0 | T39: =+(R39*$T$200)+(N39+P39) -> 0
A40: 184.06 | B40: TRANS CLEARING - SM TOOLS | D40: 0 | F40: =+D40/($D$193-$H$197+$H$204) -> 0 | H40: =+(F40*$H$200)+D40 -> 0 | N40: =+(D40/($D$193-D$55))*$N$194 -> 0 | P40: =(1-(SUM($N$56:$N$59)/$N$193))*P212 -> 0 | R40: =+(N40+P40)/($N$193+$P$193-$T$197+$T$204) -> 0 | T40: =+(R40*$T$200)+(N40+P40) -> 0
A41: 184.12 | B41: GEN TOOL EXP - CLEARING | D41: 0 | F41: =+D41/($D$193-$H$197+$H$204) -> 0 | H41: =+(F41*$H$200)+D41 -> 0 | N41: =+(D41/($D$193-D$55))*$N$194 -> 0 | R41: =+(N41+P41)/($N$193+$P$193-$T$197+$T$204) -> 0 | T41: =+(R41*$T$200)+(N41+P41) -> 0
...

Sheet S6C Total Payroll & Benefits
A1: EXHIBIT: WEC - 1
A2: SCHEDULE 6-C
A3: PAYROLL & BENEFITS SUPPORT:
B7: Test Year | C7: Pro Forma | E7: =+'S1-Revenue Requirement'!E6 -> 11/1/22-10/31/23
B8: =+'S1-Revenue Requirement'!C6 -> 7/1/21 - 6/30/22 | C8: Adjustments | E8: Adjusted Rate Year
A9: Base Salary and Step Rate Adj | B9: =3261278.94+8849.76+11372+504.64 -> 3282005.3 | C9: =SUM(E9-B9) -> 330423.9 | E9: =3607105.76+5323.48 -> 3612429.2
A10: Overtime | B10: 342634.47 | C10: =SUM(E10-B10) -> -1943.5 | E10: 340690.97
A11: On-Call, Meal Allow, Rest Time, Retro Adj | B11: =55423.23+5610+1450.91+2746.4 -> 65230.54 | C11: =SUM(E11-B11) -> -3599.69 | E11: =55938.85+5692 -> 61630.85
A12: Sub-Total | B12: =SUM(B9:B11) -> 3689870.3 | C12: =SUM(E12-B12) -> 324880.71 | E12: =SUM(E9:E11) -> 4014751.1
A13: Payroll Accrual/Vacancy Factor | B13: =58788.97-192622.63 -> -133833.66 | C13: =SUM(E13-B13) -> 510.26 | E13: -133323.4
A14: Total Direct Compensation | B14: =SUM(B12:B13) -> 3556036.7 | C14: =SUM(E14-B14) -> 325390.97 | E14: =SUM(E12:E13) -> 3881427.7
A17: Health Benefits (net) | B17: =785279.28-130627.52 -> 654651.76 | C17: =SUM(E17-B17) -> 179868.18 | E17: 834519.94
A18: 401(k) (includes admin fee) | B18: =11432.48+57898.38+76269.27 -> 145600.13 | C18: =SUM(E18-B18) -> 22041.67 | E18: =156625.8+11016 -> 167641.8
A19: Pension | B19: =348719.88+116717.06 -> 465436.94 | C19: =SUM(E19-B19) -> 181934.41 | E19: 647371.35
A20: Pension Prepayment Amortizaton | B20: 130344 | C20: =SUM(E20-B20) -> 0 | E20: 130344
A21: Life Insurance | B21: 16437.37 | C21: =SUM(E21-B21) -> 3852.04 | E21: 20289.41
A22: LTD & STD & BTA | B22: =47599.24+1532.4+324 -> 49455.64 | C22: =SUM(E22-B22) -> 15331.94 | E22: =62933.58+324+1530 -> 64787.58
A23: EAP | B23: 0 | C23: =SUM(E23-B23) -> 0 | E23: 0
A24: Total Benefits | B24: =SUM(B17:B23) -> 1461925.8 | C24: =SUM(C17:C23) -> 403028.24 | E24: =SUM(E17:E23) -> 1864954.1
A26: Workers Comp | B26: =4670+99080 -> 103750 | C26: =SUM(E26-B26) -> 8778 | E26: 112528
A27: General Liability (25%) | B27: =+'S7 - Insurance'!B9 -> 0 | C27: =SUM(E27-B27) -> 0 | E27: =+'S7 - Insurance'!F9 -> 0
A28: Payroll Tax (FICA, FUTA, SUTA) | B28: =2173.45+232834.12+55825.52+6045.08 -> 296878.17 | C28: =SUM(E28-B28) -> -2285.89 | E28: =290432.28+2480+1680 -> 294592.28
A29: Total Other Payroll Related Costs | B29: =SUM(B26:B28) -> 400628.17 | C29: =SUM(E29-B29) -> 6492.11 | E29: =SUM(E26:E28) -> 407120.28
A31: Total Payroll Costs | B31: =SUM(B14+B24+B29) -> 5418590.7 | C31: =SUM(E31-B31) -> 734911.32 | E31: =SUM(E14+E24+E29) -> 6153502
A34: Other Costs:
A35: Training | B35: 0 | C35: =SUM(E35-B35) -> 0 | E35: 0
A36: Recognition | B36: 0 | C36: =SUM(E36-B36) -> 0 | E36: 0
A37: Total Other Costs | B37: =SUM(B35:B36) -> 0 | C37: =SUM(C35:C36) -> 0 | E37: =SUM(E35:E36) -> 0

Sheet S7 - Insurance
A1: EXHIBIT: WEC - 1
A2: SCHEDULE 7
A3: RISK INSURANCE SUPPORT
B6: Test Year | D6: Pro Forma | F6: =+'S1-Revenue Requirement'!E6 -> 11/1/22-10/31/23
B7: =+'S1-Revenue Requirement'!C6 -> 7/1/21 - 6/30/22 | D7: Adjustments | F7: Adjusted Rate Year
A8: Insurance that follows payroll:
A9: General Liability (25%) see schedule S6C | B9: 0 | D9: =SUM(F9-B9) -> 0 | F9: 0
A11: Insurance that does not follow payroll:
A12: General Liability (100%) | B12: =18121.07+1049+12662.5+5170.97+1255.5+2520.83+21518.94+1050+12974.52+5191.08+1298.52+4607.22 -> 87420.15 | D12: =SUM(F12-B12) -> 6278.08 | F12: =43037.65+2100+25949+10382.11+2597+9632.47 -> 93698.23
A13: Auto & Contractors Equip (100%) | B13: =11720.48+4451.02+12499.5+4603.02 -> 33274.02 | D13: =SUM(F13-B13) -> 930.98 | F13: =24999+9206 -> 34205
A14: Directors & Officers (100%) | B14: =10230.52+5674.02 -> 15904.54 | D14: =SUM(F14-B14) -> -4556.54 | F14: 11348
A15: Total Insurance * | B15: =SUM(B12:B14) -> 136598.71 | D15: =SUM(F15-B15) -> 2652.52 | F15: =SUM(F12:F14) -> 139251.23
B19: * Insurance Spread
B20: Test Year | D20: Pro Forma | F20: =+F6 -> 11/1/22-10/31/23
A21: Account | B21: =+B7 -> 7/1/21 - 6/30/22 | D21: Adjustments | F21: =+F7 -> Adjusted Rate Year | G21: Percentage
A22: Clearing Accounts
A23: 107.04 | B23: =+$B$15*G23 -> 18321.917 | D23: =+F23-B23 -> 355.78118 | F23: =+$F$15*G23 -> 18677.698 | G23: 0.1341295
A24: 163.01 | B24: =+$B$15*G24 -> 0 | D24: =+F24-B24 -> 0 | F24: =+$F$15*G24 -> 0 | G24: 0
A25: 184.01 | B25: =+$B$15*G25 -> 29288.416 | D25: =+F25-B25 -> 568.73238 | F25: =+$F$15*G25 -> 29857.149 | G25: 0.2144121
A26: 184.02 | B26: =+$B$15*G26 -> 0 | D26: =+F26-B26 -> 0 | F26: =+$F$15*G26 -> 0 | G26: 0
A27: 184.03 | B27: =+$B$15*G27 -> 0 | D27: =+F27-B27 -> 0 | F27: =+$F$15*G27 -> 0 | G27: 0
A28: 184.14 | B28: =+$B$15*G28 -> 0 | D28: =+F28-B28 -> 0 | F28: =+$F$15*G28 -> 0 | G28: 0
A29: Subtotal Clearing Accounts | B29: =SUM(B23:B28) -> 47610.333 | D29: =SUM(D23:D28) -> 924.51356 | F29: =SUM(F23:F28) -> 48534.847
A31: Operating Costs
A32: 588.01 | B32: =+$B$15*G32 -> 18321.917 | D32: =+F32-B32 -> 355.78118 | F32: =+$F$15*G32 -> 18677.698 | G32: 0.1341295
A33: 593 | B33: =+$B$15*G33 -> 18321.917 | D33: =+F33-B33 -> 355.78118 | F33: =+$F$15*G33 -> 18677.698 | G33: 0.1341295
A34: 903 | B34: =+$B$15*G34 -> 18321.917 | D34: =+F34-B34 -> 355.78118 | F34: =+$F$15*G34 -> 18677.698 | G34: 0.1341295
A35: 908.21 | B35: =+$B$15*G35 -> 924.77327 | D35: =+F35-B35 -> 17.95756 | F35: =+$F$15*G35 -> 942.73083 | G35: 0.00677
A36: 920 | B36: =+$B$15*G36 -> 18321.917 | D36: =+F36-B36 -> 355.78118 | F36: =+$F$15*G36 -> 18677.698 | G36: 0.1341295
A37: 925.01 | B37: =+$B$15*G37 -> 14775.199 | D37: =+F37-B37 -> 286.90983 | F37: =+$F$15*G37 -> 15062.109 | G37: 0.108165
A38: Subtotal Operating Costs | B38: =SUM(B32:B37) -> 88987.639 | D38: =+F38-B38 -> 1727.9921 | F38: =SUM(F32:F37) -> 90715.632
A40: Total Insurance | B40: =+B29+B38 -> 136597.97 | D40: =+F40-B40 -> 2652.5057 | F40: =+F38+F29 -> 139250.48 | G40: =SUM(G23:G39) -> 0.9999946

Sheet S8 - Depreciation
A1: EXHIBIT: WEC - 1
A2: SCHEDULE 8
A3: DEPRECIATION
A6: DEPRECIATION:
C7: Test Year | D7: Pro Forma | E7: =+'S1-Revenue Requirement'!E6 -> 11/1/22-10/31/23
B8: Depreciation Expense | C8: =+'S1-Revenue Requirement'!C6 -> 7/1/21 - 6/30/22 | D8: Adjustments | E8: ADJ Rate Year | F8: Adjustment Description
B9: Depreciation Expense | C9: =+'S1-Revenue Requirement'!C17 -> 2444574.5 | D9: =+E9-C9 -> 1895.78 | E9: =+E13 -> 2446470.2 | F9: Adjustment Calculated from Below
A12: Component #1 (Depreciation Pro Forma Adjustment Details) | D12: Monthly | E12: Annual | F12: Adjustment Description
A13: A. Depreciation Expense on 6/30/2022 | D13: =231169.73-27297.21 -> 203872.52 | E13: =+D13*12 -> 2446470.2 | F13: Plant in Service as of 6/30/22 depreciates on 5/31/2022
A14: B. Test Year Depreciation | E14: =+C9 -> 2444574.5
A18: ProForma Adjustment (A - B) | E18: =+E13-E14 -> 1895.78 | F18: Proforma Change

Sheet S8A - Amortization
A1: EXHIBIT: WEC - 1
A2: SCHEDULE 8-A
A3: AMORTIZATION
A6: AMORTIZATION:
H8: Projected | I8: Projected | L8: Projected | M8: Projected | O8: 44927
C9: 44377 | D9: 7/1/21 - 6/30/22 | F9: Adjustments | G9: 44742 | H9: Deferral | I9: Amortization | J9: 2018 | K9: 44926 | L9: Deferral | M9: Amortization | N9: 2019 | O9: 45291
A10: ACCT # | B10: Account Description | C10: Balance | D10: Deferral | E10: Amortization | F10: Or Additions | G10: Balance | H10: 2022 | I10: 7/1/22 - 12/31/22 | J10: Adjustment | K10: Balance | L10: 2023 | M10: 2023 | N10: Adjustment | O10: Adjustment
A13: AMORTIZATION EXPENSE
A14: 181.03 | B14: Unamort. debt serv. | C14: 33254.26 | D14: 0 | E14: 7844.64 | F14: 0 | G14: =+C14+D14-E14+F14 -> 25409.62 | H14: 0 | I14: =+E14/12*4 -> 2614.88 | J14: 0 | K14: =+G14+H14-I14 -> 22794.74 | L14: 0 | M14: =+E14 -> 7844.64 | N14: 0 | O14: =+M14-E14 -> 0 | P14: (1)
A15: 183.1 | B15: Broadband/AMI Smart Grid Projects | C15: 18514 | D15: 58096.76 | E15: 0 | F15: 0 | G15: =+C15+D15-E15+F15 -> 76610.76 | H15: 0 | I15: 0 | J15: 0 | K15: =+G15+H15-I15 -> 76610.76 | L15: 0 | M15: 0 | N15: 0 | O15: =+M15-E15 -> 0 | P15: (2)
A16: 186.11 | B16: Def Deb - Past Service Pension | C16: 0 | D16: 0 | E16: 0 | F16: 0 | G16: =+C16+D16-E16+F16 -> 0 | H16: 0 | I16: 0 | J16: 0 | K16: =+G16+H16-I16 -> 0 | L16: 0 | M16: 0 | N16: 0 | O16: =+M16-E16 -> 0 | P16: (3)
A17: 186.29 | B17: Def Deb - 2013 RS Prepayment | C17: 586530 | D17: 0 | E17: 130344 | F17: 0 | G17: =+C17+D17-E17+F17 -> 456186 | H17: 0 | I17: =+E17/12*4 -> 43448 | J17: 0 | K17: =+G17+H17-I17 -> 412738 | L17: 0 | M17: =+E17 -> 130344 | N17: 0 | O17: =+M17-E17 -> 0 | P17: (4)
B18: Total Asset | C18: =SUM(C14:C17) -> 638298.26 | D18: =SUM(D14:D17) -> 58096.76 | E18: =SUM(E14:E17) -> 138188.64 | F18: =SUM(F14:F17) -> 0 | G18: =SUM(G14:G17) -> 558206.38 | H18: =SUM(H14:H17) -> 0 | I18: =SUM(I14:I17) -> 46062.88 | J18: =SUM(J14:J17) -> 0 | ... O18: =SUM(O14:O17) -> 0
A20: Amortization Expense - Regulatory Liability
A21: 254.01 | B21: Other Regulatory Asset - Deferred REC revenue | C21: 0 | D21: 0 | E21: 0 | G21: =+C21+D21-E21+F21 -> 0 | H21: 0 | I21: 0 | J21: 0 | K21: =+G21+H21+I21+J21 -> 0 | L21: 0 | M21: 0 | N21: =+M21-I21 -> 0 | O21: =+M21-E21 -> 0
A22: 254.03 | B22: Other Regulatory Liability - Open Access Trans Tariff | C22: 0 | D22: 0 | E22: 0 | G22: =+C22+D22-E22+F22 -> 0 | H22: 0 | I22: =-H22-G22 -> 0 | J22: 0 | K22: =+G22+H22+I22+J22 -> 0 | L22: 0 | M22: 0 | N22: =+M22-I22 -> 0 | O22: =+M22-E22 -> 0
B23: Total Liability | C23: =SUM(C21:C22) -> 0 | D23: =SUM(D21:D22) -> 0 | E23: =SUM(E21:E22) -> 0 | F23: =SUM(F21:F22) -> 0 | G23: =SUM(G21:G22) -> 0 | H23: =SUM(H21:H22) -> 0 | I23: =SUM(I21:I22) -> 0 | J23: =SUM(J21:J22) -> 0 | ... N23: =SUM(N21:N22) -> 0
A29: Notes: | C29: Account Amortized | D29: Schedule
A30: (1) | B30: Debt Service Amortization | C30: expense - 428.03 | D30: S11
A31: (2) | B31: CWP begin amortizing 2018-2021 | C31: capitalized - 107.04 | D31: NA
A32: (3) | B32: Past Service Pension | C32: expense - 926.01 | D32: S6
A33: (4) | B33: Prepayment of RS Pension Plan | C33: various - follows payroll

Sheet S9 - Interest Exp
A1: EXHIBIT: WEC - 1
A2: SCHEDULE 9
A3: INTEREST EXPENSE ON DEBT
A4: KNOWN & MEASURABLE CHANGES
C6: Test Year | D6: Pro Forma | E6: =+'S1-Revenue Requirement'!E6 -> 11/1/22-10/31/23
A7: ACCT | B7: INTEREST ON LONG TERM DEBT | C7: =+'S1-Revenue Requirement'!C6 -> 7/1/21 - 6/30/22 | D7: Adjustments | E7: ADJ Rate Year | F7: Adjustment Description
A9: 427.02 | B9: Interest CFC Loans | C9: =+'Trial Balance'!C209 -> 356024.56 | D9: =+E9-C9 -> -55233.5 | E9: 300791.06 | F9: Amortization Schedule
A10: 427.03 | B10: Interest FFB Loans (excludes Coventry) | C10: =+'Trial Balance'!C210 -> 600232.05 | D10: =+E10-C10 -> 6713.1 | E10: 606945.15 | F10: Amortization Schedule
A11: 427.04 | B11: Interest Coventry Loan (RUS & FFB) | C11: =+'Trial Balance'!C211 -> 237410.71 | D11: =+E11-C11 -> -28258.81 | E11: =118551.7+64715.6+25884.6 -> 209151.9 | F11: Amortization Schedule
A12: 427.05 | B12: Interest CREBS Loan | C12: =+'Trial Balance'!C212 -> 12631.29 | D12: =+E12-C12 -> -1724.57 | E12: =242.26+10664.46 -> 10906.72 | F12: Amortization Schedule
D13: =+E13-C13 -> 0
D14: =+E14-C14 -> 0
D15: =+E15-C15 -> 0
D16: =+E16-C16 -> 0
D17: =+E17-C17 -> 0
D18: =+E18-C18 -> 0
A19: 427.03 | B19: Interest NCREBS Loan | C19: 0 | D19: =+E19-C19 -> 0 | E19: 0 | F19: Amortization Schedule
A20: 427.03 | B20: Interest FFB loan new CWP draws | C20: 0 | D20: =+E20-C20 -> 21686.36 | E20: =14446.36+7240 -> 21686.36 | F20: Amortization Schedule
A21: 427.02 | C21: 0 | D21: =+E21-C21 -> 0 | E21: 0 | F21: Amortization Schedule
A22: 427.03 | C22: 0 | D22: =+E22-C22 -> 0 | E22: 0 | F22: Amortization Schedule
A23: 427.03 | C23: 0 | D23: =+E23-C23 -> 0 | E23: 0
C24: 0 | D24: =+E24-C24 -> 0 | E24: 0
B25: TOTAL INTEREST ON LONG TERM DEBT | C25: =SUM(C9:C24) -> 1206298.6 | D25: =SUM(D9:D24) -> -56817.42 | E25: =SUM(E9:E24) -> 1149481.2
C27: Test Year | D27: Pro Forma | E27: =+E6 -> 11/1/22-10/31/23
A28: ACCT | B28: INTEREST ON SHORT TERM DEBT | C28: =+C7 -> 7/1/21 - 6/30/22 | D28: Adjustments | E28: =+E7 -> ADJ Rate Year | F28: Adjustment Description
A29: 431.01 | B29: OTHER INTEREST EXPENSE - CFC | C29: ='Trial Balance'!C217 -> 0 | D29: =E29-C29 -> 0 | E29: =+C29 -> 0
A30: 431.03 | B30: OTHER INTEREST EXPENSE-cust dep | C30: ='Trial Balance'!C218 -> 4405.9 | D30: =E30-C30 -> 0 | E30: =+C30 -> 4405.9

Sheet S9-A WCOD
A1: EXHIBIT: WEC - 1
A2: SCHEDULE 9A
A3: Long Term Debt - Weighted Average Cost of Capital
D5: DATE | F5: ORIGINAL | G5: PRIN BAL | H5: Percentage of | I5: Weighted Average
B6: Account | C6: NOTE # | D6: ISSUED | E6: INTEREST | F6: PRINCIPAL | G6: 44742 | H6: Debt | I6: Cost
A9: RUS | B9: 224.02 | C9: 1A330 | D9: 2005 | E9: 0.04125 | F9: 7320000 | G9: 3167383.7 | H9: =+G9/$G$66 -> 0.087548899 | I9: =+E9*H9 -> 0.0036113921
A10: CFC | B10: N/A | C10: C9020 | D10: 09-85 | E10: 0.06075 | F10: 463247 | G10: 0 | H10: =+G10/$G$66 -> 0 | I10: =+E10*H10 -> 0
A11: CFC | B11: N/A | C11: C9021 | D11: 12-86 | E11: 0.06225 | F11: 447423 | G11: 0 | H11: =+G11/$G$66 -> 0 | I11: =+E11*H11 -> 0
A12: CFC | B12: 224.12 | C12: C9024 | D12: 06-90 | E12: 0.06275 | F12: 604167 | G12: 21140.18 | H12: =+G12/$G$66 -> 0.00058433069 | I12: =+E12*H12 -> 3.6666751e-05
A13: CFC | B13: 224.12 | C13: C9025 | D13: 12-92 | E13: 0.06325 | F13: 667000 | G13: 166767.29 | H13: =+G13/$G$66 -> 0.004609575 | I13: =+E13*H13 -> 0.00029155562
A14: CFC | B14: 224.12 | C14: C26-01 | D14: 05-95 | E14: 0.06325 | F14: 400000 | G14: 140538.15 | H14: =+G14/$G$66 -> 0.0038845816 | I14: =+E14*H14 -> 0.00024569979
A15: CFC | B15: 224.12 | C15: C26-02 | D15: 12-95 | E15: 0.06325 | F15: 200000 | G15: 70910.32 | H15: =+G15/$G$66 -> 0.0019600153 | I15: =+E15*H15 -> 0.00012397097
A16: CFC | B16: 224.12 | C16: C26-03 | D16: 9-96 | E16: 0.06325 | F16: 125000 | G16: 44319.39 | H16: =+G16/$G$66 -> 0.0012250217 | I16: =+E16*H16 -> 7.7482624e-05
A17: CFC | B17: 221 | C17: 29001 | D17: 2008 | E17: 0 | F17: 98698 | G17: 9252.72 | H17: =+G17/$G$66 -> 0.00025575223 | I17: =+E17*H17 -> 0
A18: CFC | B18: 221 | C18: 29002 | D18: 2008 | E18: 0.004 | F18: 1107473 | G18: 103825.34 | H18: =+G18/$G$66 -> 0.0028698115 | I18: =+E18*H18 -> 1.1479246e-05
A19: CFC | B19: 221 | C19: 9035-1 | D19: 2016 | E19: 0.037 | F19: 1712366 | G19: 1136366 | H19: =+G19/$G$66 -> 0.031410022 | I19: =+E19*H19 -> 0.0011621708
A20: CFC | B20: 224.12 | C20: 9032-11 | D20: 2012 Refinance | E20: 0.038 | F20: 838881.39 | G20: 838881 | H20: =+G20/$G$66 -> 0.02318731 | I20: =+E20*H20 -> 0.00088111779
A21: CFC | B21: 224.12 | C21: 9032-12 | D21: 2012 Refinance | E21: 0.039 | F21: 836688.59 | G21: 836689 | H21: =+G21/$G$66 -> 0.023126722 | I21: =+E21*H21 -> 0.00090194215
A22: CFC | B22: 224.12 | C22: 9032-13 | D22: 2012 Refinance | E22: 0.0395 | F22: 869021.57 | G22: 869022 | H22: =+G22/$G$66 -> 0.02402043 | I22: =+E22*H22 -> 0.000948807
A23: CFC | B23: 224.12 | C23: 9032-14 | D23: 2012 Refinance | E23: 0.0405 | F23: 902519.92 | G23: 902520 | H23: =+G23/$G$66 -> 0.024946341 | I23: =+E23*H23 -> 0.0010103268
A24: CFC | B24: 224.12 | C24: 9032-15 | D24: 2012 Refinance | E24: 0.041 | F24: 866855.47 | G24: 866855 | H24: =+G24/$G$66 -> 0.023960533 | I24: =+E24*H24 -> 0.00098238185
A25: CFC | B25: 224.12 | C25: 9032-16 | D25: 2012 Refinance | E25: 0.042 | F25: 863184.17 | G25: 863184 | H25: =+G25/$G$66 -> 0.023859064 | I25: =+E25*H25 -> 0.0010020807
A26: CFC | B26: 224.12 | C26: 9032-17 | D26: 2012 Refinance | E26: 0.0425 | F26: 802073.02 | G26: 802073 | H26: =+G26/$G$66 -> 0.022169909 | I26: =+E26*H26 -> 0.00094222114
A27: CFC | B27: 224.12 | C27: 9032-18 | D27: 2012 Refinance | E27: 0.043 | F27: 835164.81 | G27: 835165 | H27: =+G27/$G$66 -> 0.023084597 | I27: =+E27*H27 -> 0.00099263768
A28: CFC | B28: 224.12 | C28: 9032-19 | D28: 2012 Refinance | E28: 0.0435 | F28: 397282.25 | G28: 397282 | H28: =+G28/$G$66 -> 0.010981177 | I28: =+E28*H28 -> 0.00047768121
A29: CFC | B29: 224.12 | C29: 9033 | D29: 2013 RS Prepayment | E29: 0.03 | F29: 1694453 | G29: 197379.49 | H29: =+G29/$G$66 -> 0.0054557196 | I29: =+E29*H29 -> 0.00016367159
A30: FFB | B30: 224.08 | C30: F0040 | D30: 2009 | E30: 0.04347 | F30: 2953000 | G30: 1923924.3 | H30: =+G30/$G$66 -> 0.053178735 | I30: =+E30*H30 -> 0.0023116796
A31: FFB | B31: 224.08 | C31: F0045 | D31: 2009 | E31: 0.04366 | F31: 3135000 | G31: 1567499.9 | H31: =+G31/$G$66 -> 0.043326891 | I31: =+E31*H31 -> 0.0018916521
A32: FFB | B32: 224.08 | C32: F0050 | D32: 2010 | E32: 0.04272 | F32: 1196000 | G32: 779211.94 | H32: =+G32/$G$66 -> 0.021538012 | I32: =+E32*H32 -> 0.00092010387
A33: FFB | B33: 224.08 | C33: F0055 | D33: 2010 | E33: 0.03707 | F33: 832000 | G33: 542060.62 | H33: =+G33/$G$66 -> 0.014982969 | I33: =+E33*H33 -> 0.00055541865
A34: FFB | B34: 224.08 | C34: F0060 | D34: 2010 | E34: 0.03328 | F34: 638000 | G34: 415666.82 | H34: =+G34/$G$66 -> 0.011489348 | I34: =+E34*H34 -> 0.00038236549
A35: FFB | B35: 224.08 | C35: F0065 | D35: 2011 | E35: 0.04193 | F35: 678000 | G35: 445099.35 | H35: =+G35/$G$66 -> 0.012302885 | I35: =+E35*H35 -> 0.00051585998
A36: FFB | B36: 224.08 | C36: F0070 | D36: 2011 | E36: 0.03999 | F36: 1230000 | G36: =666667.01+153333.15 -> 820000.16 | H36: =+G36/$G$66 -> 0.022665429 | I36: =+E36*H36 -> 0.00090639052
A37: FFB | B37: 224.08 | C37: F0075 | D37: 2011 | E37: 0.03134 | F37: 373000 | G37: 248666.79 | H37: =+G37/$G$66 -> 0.0068733396 | I37: =+E37*H37 -> 0.00021541046
A38: FFB | B38: 224.08 | C38: F0080 | D38: 2012 | E38: 0.02281 | F38: 500000 | G38: 371212.08 | H38: =+G38/$G$66 -> 0.010260585 | I38: =+E38*H38 -> 0.00023404394
A39: FFB | B39: 224.08 | C39: F0085 | D39: 2012 | E39: 0.02418 | F39: 800000 | G39: 593939.26 | H39: =+G39/$G$66 -> 0.016416934 | I39: =+E39*H39 -> 0.00039696146
A40: FFB | B40: 224.08 | C40: F0090 | D40: 2012 | E40: 0.02625 | F40: 500000 | G40: 371212.08 | H40: =+G40/$G$66 -> 0.010260585 | I40: =+E40*H40 -> 0.00026934035
A41: FFB | B41: 224.08 | C41: F0095 | D41: 2013 | E41: 0.02633 | F41: 900000 | G41: 668181.88 | H41: =+G41/$G$66 -> 0.018469056 | I41: =+E41*H41 -> 0.00048629026
A42: FFB | B42: 224.08 | C42: F0100 | D42: 2013 | E42: 0.03411 | F42: 1000000 | G42: 742424.16 | H42: =+G42/$G$66 -> 0.02052117 | I42: =+E42*H42 -> 0.0006999771
A43: FFB | B43: 224.08 | C43: F0105 | D43: 2014 | E43: 0.03258 | F43: 800000 | G43: 670894.58 | H43: =+G43/$G$66 -> 0.018544038 | I43: =+E43*H43 -> 0.00060416474
...

Sheet S10 - Int & Div Income
A1: EXHIBIT: WEC - 1
A2: SCHEDULE 10
A3: INTEREST & DIVIDEND INCOME;
A4: OTHER INCOME
D5: Test Year | E5: Pro Forma | F5: =+'S1-Revenue Requirement'!E6 -> 11/1/22-10/31/23
A6: ACCT | B6: INTEREST & DIVIDENDS | D6: =+'S1-Revenue Requirement'!C6 -> 7/1/21 - 6/30/22 | E6: Adjustments | F6: ADJ Rate Year | H6: Adjustment Description
A7: 419.01 | B7: VELCO & TRANSCO Dividends | D7: =-'Trial Balance'!C235 -> 1114602.3 | E7: =+F7-D7 -> 27281.91 | F7: 1141884.2 | H7: thru Dec 2021 VT Transco LLC Investment
A9: 419.01 | B9: Transco Dividends (Non Utility Operations) | D9: 0 | E9: =+F9-D9 -> 0 | F9: 0
A10: 419.03 | B10: Other - Misc | D10: =-'Trial Balance'!C236 -> 26717.4 | E10: =+F10-D10 -> 0 | F10: =+D10 -> 26717.4 | AB10: =AVERAGE(P10:AA10) -> #DIV/0!
B11: Other - Misc | D11: 0 | E11: =F11-D11 -> 0 | F11: 0
B12: TOTAL INTEREST & DIVIDENDS | D12: =SUM(D7:D11) -> 1141319.7 | E12: =SUM(E7:E11) -> 27281.91 | F12: =SUM(F7:F11) -> 1168601.6
D14: Test Year | E14: Pro Forma | F14: =+F5 -> 11/1/22-10/31/23
A15: ACCT | B15: OTHER CAPITAL CREDITS | D15: =+D6 -> 7/1/21 - 6/30/22 | E15: Adjustments | F15: =+F6 -> ADJ Rate Year
A16: 424.01 | B16: Other Capital Credits
B17: CFC Patronage Capital - Equity | D17: 39274.51 | E17: =+F17-D17 -> 0 | F17: =+D17 -> 39274.51
B18: CRC Patronage Capital - Equity | D18: 1020 | E18: =+F18-D18 -> 0 | F18: =+D18 -> 1020
B19: UUS Patronage Capital - Equity | D19: 1597 | E19: =+F19-D19 -> 0 | F19: =+D19 -> 1597
B20: NISC Patronage Capital - Equity | D20: 9078.84 | E20: =+F20-D20 -> 0 | F20: =+D20 -> 9078.84
B21: NRTC Patronage Capital - Equity | D21: 2542.54 | E21: =F21-D21 -> 0 | F21: =+D21 -> 2542.54
B22: TOTAL CAPITAL CREDITS | D22: =SUM(D17:D21) -> 53512.89 | E22: =+F22-D22 -> 0 | F22: =SUM(F17:F21) -> 53512.89 | H22: Patronage Allocations - Non Cash
A24: 123.01 | B24: CFC Return of Patronage - Cash | D24: 25233.95 | E24: =+F24-D24 -> 0 | F24: =+D24 -> 25233.95
A25: 123.02 | B25: NISC Return of Patronage - Cash | D25: 7333.92 | E25: =+F25-D25 -> 0 | F25: =+D25 -> 7333.92
A26: 123.03 | B26: UUS Return of Patronage - Cash | D26: 0 | E26: =+F26-D26 -> 0 | F26: =+D26 -> 0
A27: 123.04 | B27: NRTC Return of Patronage - Cash | D27: 911.16 | E27: =+F27-D27 -> 0 | F27: =+D27 -> 911.16
A28: 123.05 | B28: CRC Retorn of Patronage - Cash | D28: 204 | E28: =+F28-D28 -> 0 | F28: =+D28 -> 204
A29: 123.22 | B29: CFC Cap Term Cert - Cash | D29: 2483.78 | E29: =+F29-D29 -> 0 | F29: =+D29 -> 2483.78
B30: Total Return of Patronage - Cash | D30: =SUM(D24:D29) -> 36166.81 | E30: =SUM(E24:E29) -> 0 | F30: =SUM(F24:F29) -> 36166.81 | H30: Retirement of Patronage Allocations - Cash Received

Sheet S11  - Other Revenues
A2: SCHEDULE 11
A3: OTHER REVENUES & EXTRAORDINARY ITEMS;
C6: Test Year | D6: Pro Forma | E6: =+'S1-Revenue Requirement'!E6 -> 11/1/22-10/31/23
A7: ACCT | B7: DESCRIPTION | C7: =+'S1-Revenue Requirement'!C6 -> 7/1/21 - 6/30/22 | D7: Adjustments | E7: ADJ Rate Year | F7: Adjustment Description
A9: OTHER OPERATING REVENUES
A11: VARIOUS | B11: PROFORMA LABOR COST | C11: 0 | D11: =+E11-C11 -> 0 | E11: 0 | F11: Schedule S6-A
A13: 451.01 | B13: Misc Serv Rev - Disc Rec & Col Fee | C13: 0 | D13: =+E13-C13 -> 0 | E13: 0
A15: 454.02 & 03 | B15: Rent Rev - Tel Attach & CCEC | C15: 0 | D15: =+E15-C15 -> 0 | E15: 0
