Workbook

Sheet README
B2: Tab | C2: Comments

Sheet Cap Rates & Allocations
B2: Capacity Rates
B3: $/kW-mo
B5: Invoice_Group | C5: 2021 | D5: 2022 | E5: 2023 | F5: 2024 | G5: 2025 | H5: 2026 | I5: 2027 | J5: 2028 | K5: 2029 | L5: 2030 | M5: 2031 | N5: 2032 | O5: 2033 | P5: 2034 | Q5: 2035 | R5: 2036 | S5: 2037 | T5: 2038 | U5: 2039 | V5: 2040 | W5: 2041 | X5: 2042 | Y5: 2043 | Z5: 2044 | AA5: 2045 | AB5: 2046 | AC5: 2047 | AD5: 2048 | AE5: 2049 | AF5: 2050
B6: McNeil Facility | C6: 17.28 | D6: 20.94 | E6: =1.028*D6 -> 21.52632 | F6: =1.028*E6 -> 22.129057 | G6: =1.028*F6 -> 22.748671 | H6: =1.028*G6 -> 23.385633 | I6: =1.028*H6 -> 24.040431 | J6: =1.028*I6 -> 24.713563 | K6: =1.028*J6 -> 25.405543 | L6: =1.028*K6 -> 26.116898 | ... AF6: =1.028*AE6 -> 45.371578
B7: NYPA Niagara Contract | C7: =14.48*1.022 -> 14.79856 | D7: 20 | E7: =1.028*D7 -> 20.56 | F7: =1.028*E7 -> 21.13568 | G7: =1.028*F7 -> 21.727479 | H7: =1.028*G7 -> 22.335848 | I7: =1.028*H7 -> 22.961252 | J7: =1.028*I7 -> 23.604167 | K7: =1.028*J7 -> 24.265084 | L7: =1.028*K7 -> 24.944506 | ... AF7: =1.028*AE7 -> 43.334841
B8: NYPA St. Lawrence Contract | C8: 4.45 | D8: =1.022*C8 -> 4.5479 | E8: =1.028*D8 -> 4.6752412 | F8: =1.028*E8 -> 4.806148 | G8: =1.028*F8 -> 4.9407201 | H8: =1.028*G8 -> 5.0790603 | I8: =1.028*H8 -> 5.2212739 | J8: =1.028*I8 -> 5.3674696 | K8: =1.028*J8 -> 5.5177588 | L8: =1.028*K8 -> 5.672256 | ... AF8: =1.028*AE8 -> 9.8541261
B9: Seabrook PPA | C9: 3.918199 | D9: 4.0435813 | E9: =1.028*D9 -> 4.1568016 | F9: =1.028*E9 -> 4.273192 | G9: =1.028*F9 -> 4.3928414 | H9: =1.028*G9 -> 4.515841 | I9: =1.028*H9 -> 4.6422845 | J9: =1.028*I9 -> 4.7722685 | K9: =1.028*J9 -> 4.905892 | L9: =1.028*K9 -> 5.043257 | ... AF9: =1.028*AE9 -> 8.7613977
B10: Stony Brook Station | C10: 3.2193 | D10: =3.31*1.03 -> 3.4093 | E10: =1.028*D10 -> 3.5047604 | F10: =1.028*E10 -> 3.6028937 | G10: =1.028*F10 -> 3.7037747 | H10: =1.028*G10 -> 3.8074804 | I10: =1.028*H10 -> 3.9140899 | J10: =1.028*I10 -> 4.0236844 | K10: =1.028*J10 -> 4.1363475 | L10: =1.028*K10 -> 4.2521653 | ... AF10: =1.028*AE10 -> 7.3870736
B11: Project #10 | C11: 6.26 | D11: 6.84 | E11: =1.028*D11 -> 7.03152 | F11: =1.028*E11 -> 7.2284026 | G11: =1.028*F11 -> 7.4307978 | H11: =1.028*G11 -> 7.6388602 | I11: =1.028*H11 -> 7.8527483 | J11: =1.028*I11 -> 8.0726252 | K11: =1.028*J11 -> 8.2986587 | L11: =1.028*K11 -> 8.5310212 | ... AF11: =1.028*AE11 -> 14.820516
B12: Fox Island Wind (Market) | C12: 14.19558 | D12: 18.2744 | E12: =1.028*D12 -> 18.786083 | F12: =1.028*E12 -> 19.312094 | G12: =1.028*F12 -> 19.852832 | H12: =1.028*G12 -> 20.408711 | I12: =1.028*H12 -> 20.980155 | J12: =1.028*I12 -> 21.5676 | K12: =1.028*J12 -> 22.171493 | L12: =1.028*K12 -> 22.792294 | ... AF12: =1.028*AE12 -> 39.595911
B15: Capacity Resource Allocations
B16: %
B18: Invoice_Group | C18: Barton | D18: Enosburg | E18: Hardwick | F18: Jacksonville | G18: Johnson | H18: Ludlow | I18: Lyndonville | J18: Morrisville | K18: Northfield | L18: Orleans | M18: Swanton | N18: WEC | O18: Fox Islands | P18: Ashland | Q18: New Hampton
B19: Chester Solar | D19: 0.115 | E19: 0.151 | G19: 0.066 | H19: 0.263 | I19: 0.298 | K19: 0.107
B20: Coventry Landfill | N20: 1
B21: Fitchburg Landfill | C21: 0.05553 | D21: 0.08506 | E21: 0.11255 | F21: 0.01901 | G21: 0.05112 | H21: 0.17035 | I21: 0.24796 | J21: 0.15651 | K21: 0.10191
B22: Highgate Falls | M22: 1
B23: Kruger Hydro | C23: 0.057579186 | D23: 0.11176946 | F23: 0.020287139 | G23: 0.054807141 | H23: 0.19291135 | I23: 0.25452637 | J23: 0.18729345 | K23: 0.1208259
B24: McNeil Facility | D24: 0.012 | E24: 0.01474 | H24: 0.02 | I24: 0.03 | J24: 0.02644 | K24: 0.01982 | M24: 0.037
B25: NYPA Niagara Contract | C25: 0.02119516 | D25: 0.01536538 | E25: 0.04171552 | F25: 0.00740061 | G25: 0.0079869 | H25: 0.03316445 | I25: 0.05034403 | J25: 0.035753 | K25: 0.01810881 | L25: 0.00646032 | M25: 0.03341888 | N25: 0.10794487
B26: NYPA St. Lawrence Contract | C26: 0.006 | D26: 0.005 | E26: 0.013 | F26: 0.002 | G26: 0.002 | H26: 0.01 | I26: 0.015 | J26: 0.011 | K26: 0.007 | L26: 0.003 | M26: 0.01 | N26: 0.031
B27: Phase I/II Transmission Facilities | D27: 0.000108 | E27: 0.000217 | H27: 0.000199 | I27: 0.000372 | J27: 0.000339 | K27: 0.000186 | M27: 0.000318 | N27: 0.000403
B28: Project #10 | C28: 0.0216 | D28: 0.047 | E28: 0.097 | F28: 0.024 | G28: 0.072 | H28: 0.1 | I28: 0.196 | J28: 0.09 | K28: 0.12 | L28: 0.071 | M28: 0.073
B29: Ryegate Facility | C29: 0.002658 | D29: 0.005148 | E29: 0.006571 | F29: 0.000975 | G29: 0.002409 | H29: 0.009328 | I29: 0.011983 | J29: 0.008666 | K29: 0.005429 | L29: 0.002556 | M29: 0.010426 | N29: 0.013448
B30: Seabrook PPA | J30: 0.5 | K30: 0.33333
B31: Sheffield Wind | N31: 0.1
B32: Standard Offer Program | C32: 0.002722 | D32: 0.005275 | E32: 0.006732 | F32: 0.001 | G32: 0.002469 | H32: 0.009557 | I32: 0.012277 | J32: 0.008878 | K32: 0.005562 | L32: 0.002619 | M32: 0
B33: Stony Brook Station | E33: 0.00528261 | H33: 0.00528261 | I33: 0.00440158 | J33: 0.0035206 | M33: 0.0035206
B34: Fox Island Diesel | O34: 1
B35: Fox Island Wind (Market) | O35: 1

Sheet FCA_Results_SQL
B2: FCA Clearing Price Results
B4: Year | C4: Begin_Date | D4: End_Date | E4: Modeled Capacity Zone Name | F4: Modeled Capacity Zone Type | G4: Capacity Supply Obligation | H4: Capacity Clearing Price | I4: Payment Rate
B5: 2010 | C5: 40330 | D5: 40694 | E5: Rest-of-Pool | F5: Rest of Pool | G5: 29501.956 | H5: 4.5 | I5: 4.254
B6: 2010 | C6: 40330 | D6: 40694 | E6: Maine | F6: Export | G6: 3340.362 | H6: 4.5 | I6: 4.254
B7: 2011 | C7: 40695 | D7: 41060 | E7: Rest-of-Pool | F7: Rest of Pool | G7: 29837.496 | H7: 3.6 | I7: 3.119
B8: 2011 | C8: 40695 | D8: 41060 | E8: Maine | F8: Export | G8: 3409.08 | H8: 3.6 | I8: 3.119
B9: 2012 | C9: 41061 | D9: 41425 | E9: Rest-of-Pool | F9: Rest of Pool | G9: 29541.145 | H9: 2.951 | I9: 2.535
B10: 2012 | C10: 41061 | D10: 41425 | E10: Maine | F10: Export | G10: 3310.968 | H10: 2.951 | I10: 2.465
B11: 2013 | C11: 41426 | D11: 41790 | E11: Rest-of-Pool | F11: Rest of Pool | G11: 29937.375 | H11: 2.951 | I11: 2.516
B12: 2013 | C12: 41426 | D12: 41790 | E12: Maine | F12: Export | G12: 3350.018 | H12: 2.951 | I12: 2.336
B13: 2014 | C13: 41791 | D13: 42155 | E13: Rest-of-Pool | F13: Rest of Pool | G13: 30703.024 | H13: 3.209 | I13: 2.855
B14: 2014 | C14: 41791 | D14: 42155 | E14: Maine | F14: Export | G14: 3570.538 | H14: 3.209 | I14: 2.855
B15: 2015 | C15: 42156 | D15: 42521 | E15: Rest-of-Pool | F15: Rest of Pool | G15: 30412.437 | H15: 3.434 | I15: 3.129
B16: 2015 | C16: 42156 | D16: 42521 | E16: Maine | F16: Export | G16: 3608.832 | H16: 3.434 | I16: 3.129
... B36: 2021 | C36: 44348 | D36: 44712 | E36: Southeast New England | F36: Import | G36: 11130.675 | H36: 4.631 | I36: 4.631
B37: 2022 | C37: 44713 | D37: 45077 | E37: Rest-of-Pool | F37: Rest of Pool | G37: 16533.407 | H37: 3.8
B38: 2022 | C38: 44713 | D38: 45077 | E38: Northern New England | F38: Export | G38: 7267.546 | H38: 3.8
B39: 2022 | C39: 44713 | D39: 45077 | E39: Southeast New England | F39: Import | G39: 11038.271 | H39: 3.8
B40: 2023 | C40: 45078 | D40: 45443 | E40: Rest-of-Pool | F40: Rest of Pool | G40: 15303.205 | H40: 2.001
B41: 2023 | C41: 45078 | D41: 45443 | E41: Maine | F41: Export | G41: 3009.154 | H41: 2.001
B42: 2023 | C42: 45078 | D42: 45443 | E42: Northern New England | F42: Export | G42: 7636.486 | H42: 2.001
B43: 2023 | C43: 45078 | D43: 45443 | E43: Southeast New England | F43: Import | G43: 11015.961 | H43: 2.001
B44: 2024 | C44: 45444 | D44: 45808 | E44: Rest-of-Pool | F44: Rest of Pool | G44: 15988.677 | H44: 2.611
B45: 2024 | C45: 45444 | D45: 45808 | E45: Maine | F45: Export | G45: 3791.026 | H45: 2.477
B46: 2024 | C46: 45444 | D46: 45808 | E46: Northern New England | F46: Export | G46: 8547.58 | H46: 2.477
B47: 2024 | C47: 45444 | D47: 45808 | E47: Southeast New England | F47: Import | G47: 10084.808 | H47: 3.98
B48: 2025 | C48: 45809 | D48: 46173 | E48: Rest-of-Pool | F48: Rest of Pool | G48: 14682.081 | H48: 2.591
... B51: 2025 | C51: 45809 | D51: 46173 | E51: Southeast New England | F51: Import | G51: 9795.803 | H51: 2.639

Sheet Annual_Peak_Times_SQL
B2: Annual Peak Times
B4: peakDate | C4: peakYear | D4: Month | E4: Day | F4: peakHour | G4: peakFrom | H4: peakThru
B5: 42899 | C5: 2017 | D5: 6 | E5: 13 | F5: 17 | G5: 43252 | H5: 43616
B6: 43341 | C6: 2018 | D6: 8 | E6: 29 | F6: 17 | G6: 43617 | H6: 43982
B7: 43676 | C7: 2019 | D7: 7 | E7: 30 | F7: 18 | G7: 43983 | H7: 44347
B8: 44039 | C8: 2020 | D8: 7 | E8: 27 | F8: 18 | G8: 44348 | H8: 44712
B9: 44376 | C9: 2021 | D9: 6 | E9: 29 | F9: 17 | G9: 44713 | H9: 45077

Sheet Coincident_Peaks_SQL
B2: Annual System Peak Day, Hour, and Load
B3: Source: | C3: https://www.iso-ne.com/isoexpress/web/reports/load-and-demand/-/tree/ann-sys-peak-day-hr-load
B5: Capability Year & Capacity Commitment Period (CCP) | C5: Begin Date | D5: End Date | E5: Peak Date | F5: Peak Hour | H5: System Peak Load | J5: Peak Contributions for Load Zones2
J6: Maine (4001) | K6: New Hampshire (4002) | L6: Vermont (4003) | M6: Connecticut (4004) | N6: Rhode Island (4005) | O6: Southeastern Mass (4006) | P6: Western & Central Mass (4007) | Q6: Northeastern Mass & Boston (4008)
B7: Date Range | C7: Date | D7: Date | E7: Date | F7: Hour Begin | G7: Hour End | H7: MW | J7: MW | K7: MW | L7: MW | M7: MW | N7: MW | O7: MW | P7: MW | Q7: MW
B8: 6/1/2002 - 5/31/2003 | C8: 36892 | D8: 37256 | E8: 8/09/2001 | F8: 0.58333333 | G8: 0.625 | H8: -24723.332
B9: 6/1/2003 - 5/31/2004 | C9: 37257 | D9: 37621 | E9: 8/14/2002 | F9: 0.58333333 | G9: 0.625 | H9: -25103.369
B10: 6/1/2004 - 5/31/2005 | C10: 37622 | D10: 37986 | E10: 8/22/2003 | F10: 0.58333333 | G10: 0.625 | H10: -24310.552
B11: 6/1/2005 - 5/31/2006 | C11: 37987 | D11: 38352 | E11: 8/30/2004 | F11: 0.625 | G11: 0.66666667 | H11: -23718.721
B12: 6/1/2006 - 5/31/2007 | C12: 38353 | D12: 38717 | E12: 7/27/2005 | F12: 0.58333333 | G12: 0.625 | H12: -26617.688
B13: 6/1/2007 - 5/31/2008 | C13: 38718 | D13: 39082 | E13: 8/02/2006 | F13: 0.58333333 | G13: 0.625 | H13: =-28085.939+47.701 -> -28038.238
B14: 6/1/2008 - 5/31/2009 | C14: 39083 | D14: 39447 | E14: 8/03/2007 | F14: 0.58333333 | G14: 0.625 | H14: -25773.24
B15: 6/1/2009 - 5/31/2010 | C15: 39448 | D15: 39813 | E15: 6/10/2008 | F15: 0.58333333 | G15: 0.625 | H15: -25691.47
B16: 6/1/2010 - 5/31/2011 | C16: 39814 | D16: 40178 | E16: 8/18/2009 | F16: 0.58333333 | G16: 0.625 | H16: -24707.827
B17: 6/1/2011 - 5/31/2012 | C17: 40179 | D17: 40543 | E17: 7/06/2010 | F17: 0.58333333 | G17: 0.625 | H17: -26701.35 | J17: -1871.725 | K17: -2381.838 | L17: -979.221 | M17: -7030.443 | N17: -1883.786 | O17: -3510.044 | P17: -3608.22 | Q17: -5436.073
B18: 6/1/2012 - 5/31/2013 | C18: 40544 | D18: 40908 | E18: 7/22/2011 | F18: 0.58333333 | G18: 0.625 | H18: -27312.342 | J18: -1912.705 | K18: -2433.446 | L18: -930.882 | M18: -7208.019 | N18: -1944.406 | O18: -3627.162 | P18: -3604.172 | Q18: -5651.55
B19: 6/1/2013 - 5/31/2014 | C19: 40909 | D19: 41274 | E19: 7/17/2012 | F19: 0.66666667 | G19: 0.70833333 | H19: -25543.347 | J19: -1658.194 | K19: -2289.611 | L19: -919.647 | M19: -6603.202 | N19: -1797.581 | O19: -3404.542 | P19: -3508.334 | Q19: -5362.236
B20: 6/1/2014 - 5/31/2015 | C20: 41275 | D20: 41639 | E20: 7/19/2013 | F20: 0.66666667 | G20: 0.70833333 | H20: -26910.954 | J20: -1857.766 | K20: -2419.406 | L20: -945.872 | M20: -6955.921 | N20: -1939.713 | O20: -3607.576 | P20: -3614.168 | Q20: -5570.532
B21: 6/1/2015 - 5/31/2016 | C21: 41640 | D21: 42004 | E21: 7/02/2014 | F21: 0.58333333 | G21: 0.625 | H21: -24067.772 | J21: -1830.258 | K21: -2268.981 | L21: -900.358 | M21: -6114.641 | N21: -1593.405 | O21: -2991.854 | P21: -3272.949 | Q21: -5095.326
B22: 6/1/2016 - 5/31/2017 | C22: 42005 | D22: 42369 | E22: 7/29/2015 | F22: 0.66666667 | G22: 0.70833333 | H22: -24052.353 | J22: -1690.075 | K22: -2216.27 | L22: -867.886 | M22: -6264.912 | N22: -1704.224 | O22: -3181.742 | P22: -3202.959 | Q22: -4924.285
B23: 6/1/2017 - 5/31/2018 | C23: 42370 | D23: 42735 | E23: 42594 | F23: 0.58333333 | G23: 0.625 | H23: -25111.431 | J23: -1766.292 | K23: -2353.543 | L23: -848.989 | M23: -6435.616 | N23: -1808.438 | O23: -3299.526 | P23: -3333.654 | Q23: -5265.373
B24: 6/1/2018 - 5/31/2019 | C24: 42736 | D24: 43100 | E24: 42899 | F24: 0.66666667 | G24: 0.70833333 | H24: -23507.885 | J24: -1691.189 | K24: -2145.907 | L24: -725.936 | M24: -6088.728 | N24: -1676.593 | O24: -3027.836 | P24: -3148.476 | Q24: -5003.22
B25: 6/1/2019 - 5/31/2020 | C25: 43101 | D25: 43465 | E25: 43341 | F25: 0.66666667 | G25: 0.70833333 | H25: -25559.141 | J25: -1864.929 | K25: -2376.564 | L25: -836.603 | M25: -6587.862 | N25: -1863.465 | O25: -3356.863 | P25: -3361.097 | Q25: -5311.758
B26: 6/1/2020 - 5/31/2021 | C26: 43466 | D26: 43830 | E26: 43676 | F26: 0.70833333 | G26: 0.75 | H26: -23929.184 | J26: -1900.544 | K26: -2294.882 | L26: -791.655 | M26: -5897.903 | N26: -1715.156 | O26: -3229.77 | P26: -3112.363 | Q26: -4986.911
B27: 6/1/2021 - 5/31/2022 | C27: 43831 | D27: 44196 | E27: 44039 | F27: 0.70833333 | G27: 0.75 | H27: -24726.738 | J27: -1941.797 | K27: -2399.431 | L27: -825.316 | M27: -6262.772 | N27: -1792.867 | O27: -3367.993 | P27: -3204.041 | Q27: -4932.521
B28: 6/1/2022 - 5/31/2023 | C28: 44197 | D28: 44561 | E28: 44376 | F28: 0.70833333 | G28: 0.75 | H28: -25269 | J28: -2108.144 | K28: -2442.061 | L28: -800.411
B29: Notes:
B30: 1. Values, when shown in Red Font, indicate preliminary values and may change after final data are processed.
B31: 2. The data, by Load Zones, is provided for informational purposes only.
B35: Annual Coincident Peaks by System - Vermont | W35: Peak Load Ratio Share
B37: Type | C37: Date | D37: Month | E37: Day | F37: Year | G37: Hour | H37: Barton | I37: Enosburg | J37: Hardwick | K37: Jacksonville | L37: Johnson | M37: Ludlow | N37: Lyndonville | O37: Morrisville | P37: Northfield | Q37: Orleans | R37: Swanton | S37: WEC | T37: VPPSA | U37: NNE | W37: Barton | X37: Enosburg | Y37: Hardwick | Z37: Jacksonville | AA37: Johnson | AB37: Ludlow | AC37: Lyndonville | AD37: Morrisville | AE37: Northfield | AF37: Orleans | AG37: Swanton | AH37: WEC
B38: Annual | C38: 42899 | D38: 6 | E38: 13 | F38: 2017 | G38: 17 | H38: 1.367368 | I38: 3.443734 | J38: 4.713974 | K38: 0.832768 | L38: 1.652787 | M38: 5.509932 | N38: 6.850071 | O38: 6.014364 | P38: 3.872018 | Q38: 1.884306 | R38: 8.831641 | S38: 9.188819 | T38: =SUM(CP_VT[[#This Row],[Barton]:[WEC]]) -> 54.161782 | U38: =-SUM(J23:L23) -> 4968.824 | W38: =H38/$U38 -> 0.00027518946 | X38: =I38/$U38 -> 0.00069306822 | Y38: =J38/$U38 -> 0.0009487102 | Z38: =K38/$U38 -> 0.00016759861 | AA38: =L38/$U38 -> 0.00033263142 | AB38: =M38/$U38 -> 0.0011089006 | AC38: =N38/$U38 -> 0.0013786101 | AD38: =O38/$U38 -> 0.00121042 | ... AH38: =S38/$U38 -> 0.0018492945
B39: Annual | C39: 43341 | D39: 8 | E39: 29 | F39: 2018 | G39: 17 | H39: 2.49576 | I39: 4.26318 | J39: 4.43314 | K39: 0.82478 | L39: 2.133 | M39: 8.29488 | N39: 8.96266 | O39: 8.40273 | P39: 4.93792 | Q39: 2.05451 | R39: 10.3033 | S39: 11.40348 | T39: =SUM(CP_VT[[#This Row],[Barton]:[WEC]]) -> 68.50934 | U39: =-SUM(J24:L24) -> 4563.032 | W39: =H39/$U39 -> 0.00054695211 | X39: =I39/$U39 -> 0.00093428668 | Y39: =J39/$U39 -> 0.00097153384 | Z39: =K39/$U39 -> 0.00018075262 | AA39: =L39/$U39 -> 0.00046745234 | AB39: =M39/$U39 -> 0.0018178439 | AC39: =N39/$U39 -> 0.0019641896 | AD39: =O39/$U39 -> 0.0018414795 | ... AH39: =S39/$U39 -> 0.0024991015
B40: Annual | C40: 43676 | D40: 7 | E40: 30 | F40: 2019 | G40: 18 | H40: 2.54292 | I40: 3.47388 | J40: 4.64555 | K40: 0.76838 | L40: 2.11936 | M40: 8.26943 | N40: 9.31 | O40: 7.01272 | P40: 4.60535 | Q40: 1.86424 | R40: 7.91527 | S40: 12.05973 | T40: =SUM(CP_VT[[#This Row],[Barton]:[WEC]]) -> 64.58683 | U40: =-SUM(J25:L25) -> 5078.096 | W40: =H40/$U40 -> 0.00050076249 | X40: =I40/$U40 -> 0.00068409105 | Y40: =J40/$U40 -> 0.00091482122 | Z40: =K40/$U40 -> 0.00015131262 | AA40: =L40/$U40 -> 0.00041735328 | AB40: =M40/$U40 -> 0.0016284509 | AC40: =N40/$U40 -> 0.0018333643 | AD40: =O40/$U40 -> 0.0013809743 | ... AH40: =S40/$U40 -> 0.0023748527
B41: Annual | C41: 44039 | D41: 7 | E41: 27 | F41: 2020 | G41: 18 | H41: 2.62986 | I41: 4.54447 | J41: 6.07125 | K41: 0.87118 | L41: 1.76954 | M41: 6.68125 | N41: 9.15448 | O41: 7.57098 | P41: 4.39426 | Q41: 1.83234 | R41: 10.55057 | S41: 13.29565 | T41: =SUM(CP_VT[[#This Row],[Barton]:[WEC]]) -> 69.36583 | U41: =-SUM(J26:L26) -> 4987.081 | W41: =H41/$U41 -> 0.00052733453 | X41: =I41/$U41 -> 0.00091124848 | Y41: =J41/$U41 -> 0.0012173955 | Z41: =K41/$U41 -> 0.00017468736 | AA41: =L41/$U41 -> 0.0003548248 | AB41: =M41/$U41 -> 0.0013397115 | AC41: =N41/$U41 -> 0.0018356389 | AD41: =O41/$U41 -> 0.0015181185 | ... AH41: =S41/$U41 -> 0.0026660185
B42: Annual | C42: 44376 | D42: 6 | E42: 29 | F42: 2021 | G42: 17 | H42: 2.55256 | I42: 4.58823 | J42: 4.49579 | K42: 0.97882 | L42: 2.1515 | M42: 5.95267 | N42: 9.12225 | O42: 7.26211 | P42: 4.58474 | Q42: 2.29872 | R42: 10.18209 | S42: 12.12831 | T42: =SUM(CP_VT[[#This Row],[Barton]:[WEC]]) -> 66.29779 | U42: =-SUM(J27:L27) -> 5166.544 | W42: =H42/$U42 -> 0.0004940556 | X42: =I42/$U42 -> 0.0008880656 | Y42: =J42/$U42 -> 0.00087017356 | Z42: =K42/$U42 -> 0.00018945353 | AA42: =L42/$U42 -> 0.00041642924 | AB42: =M42/$U42 -> 0.001152157 | AC42: =N42/$U42 -> 0.0017656387 | AD42: =O42/$U42 -> 0.001405603 | ... AH42: =S42/$U42 -> 0.0023474706
B44: Annual Coincident Peak - Current Year
C46: Date | D46: Month | E46: Day | F46: Year | G46: Hour | H46: Barton | I46: Enosburg | J46: Hardwick | K46: Jacksonville | L46: Johnson | M46: Ludlow | N46: Lyndonville | O46: Morrisville | P46: Northfield | Q46: Orleans | R46: Swanton | S46: WEC | T46: VPPSA
C47: 44762 | D47: 7 | E47: 20 | F47: 2022 | G47: 19 | H47: 2.48725 | I47: 4.13005 | J47: 5.89075 | K47: 0.93931 | L47: 2.05081 | M47: 8.56236 | N47: 9.75652 | O47: 7.29038 | P47: 5.14694 | Q47: 1.42651 | R47: 0.56161 | S47: 13.52761 | T47: =SUM(Current_Yr_CP[[#This Row],[Barton]:[WEC]]) -> 61.7701
B51: Annual Coincident Peaks by System - Maine and New Hampshire
...

Sheet CP_Forecast
B2: Capacity Obligation & Clearing Price Forecast | H2: Coincident Peak Forecast
B4: Year | C4: Start Date | D4: End Date | E4: NNE CSO | F4: NNE CCP | H4: Month | I4: Day | J4: Year | K4: Hour | L4: =+C4 -> Start Date | M4: Barton | N4: Enosburg | O4: Hardwick | P4: Jacksonville | Q4: Johnson | R4: Ludlow | S4: Lyndonville | T4: Morrisville | U4: Northfield | V4: Orleans | W4: Swanton | X4: WEC | Y4: NNE | Z4: Fox Islands | AA4: Ashland | AB4: New Hampton
B5: 2017 | C5: 42887 | D5: 43251 | E5: =SUMIFS(FCA_Result[Capacity Supply Obligation],FCA_Result[Begin_Date],CP_Forecast!$C5,FCA_Result[Modeled Capacity Zone Name],"Northern New England") -> 0 | F5: =SUMIFS(FCA_Result[[Capacity Clearing Price]:[Capacity Clearing Price]],FCA_Result[Begin_Date],$C5,FCA_Result[[Modeled Capacity Zone Name]:[Modeled Capacity Zone Name]],"Rest-of-Pool") -> 15 | H5: =+Coincident_Peaks_SQL!D38 -> 6 | I5: =+Coincident_Peaks_SQL!E38 -> 13 | J5: =+Coincident_Peaks_SQL!F38 -> 2017 | K5: =+Coincident_Peaks_SQL!G38 -> 17 | L5: 43252 | M5: =+Coincident_Peaks_SQL!H38 -> 1.367368 | N5: =+Coincident_Peaks_SQL!I38 -> 3.443734 | O5: =+Coincident_Peaks_SQL!J38 -> 4.713974 | P5: =+Coincident_Peaks_SQL!K38 -> 0.832768 | Q5: =+Coincident_Peaks_SQL!L38 -> 1.652787 | R5: =+Coincident_Peaks_SQL!M38 -> 5.509932 | S5: =+Coincident_Peaks_SQL!N38 -> 6.850071 | T5: =+Coincident_Peaks_SQL!O38 -> 6.014364 | ... X5: =+Coincident_Peaks_SQL!S38 -> 9.188819 | Y5: =+Coincident_Peaks_SQL!U38 -> 4968.824 | Z5: =+Coincident_Peaks_SQL!H54 -> 0 | AA5: =+Coincident_Peaks_SQL!I54 -> 2.701 | AB5: =+Coincident_Peaks_SQL!J54 -> 0.523 | AC5: <--- Historical data.
B6: =1+B5 -> 2018 | C6: 43252 | D6: 43616 | E6: =SUMIFS(FCA_Result[Capacity Supply Obligation],FCA_Result[Begin_Date],CP_Forecast!$C6,FCA_Result[Modeled Capacity Zone Name],"Northern New England") -> 0 | F6: =SUMIFS(FCA_Result[[Capacity Clearing Price]:[Capacity Clearing Price]],FCA_Result[Begin_Date],$C6,FCA_Result[[Modeled Capacity Zone Name]:[Modeled Capacity Zone Name]],"Rest-of-Pool") -> 9.551 | H6: =+Coincident_Peaks_SQL!D39 -> 8 | I6: =+Coincident_Peaks_SQL!E39 -> 29 | J6: =+Coincident_Peaks_SQL!F39 -> 2018 | K6: =+Coincident_Peaks_SQL!G39 -> 17 | L6: =+EOMONTH(L5,11)+1 -> 43617 | M6: =+Coincident_Peaks_SQL!H39 -> 2.49576 | N6: =+Coincident_Peaks_SQL!I39 -> 4.26318 | O6: =+Coincident_Peaks_SQL!J39 -> 4.43314 | P6: =+Coincident_Peaks_SQL!K39 -> 0.82478 | Q6: =+Coincident_Peaks_SQL!L39 -> 2.133 | R6: =+Coincident_Peaks_SQL!M39 -> 8.29488 | S6: =+Coincident_Peaks_SQL!N39 -> 8.96266 | T6: =+Coincident_Peaks_SQL!O39 -> 8.40273 | ... X6: =+Coincident_Peaks_SQL!S39 -> 11.40348 | Y6: =+Coincident_Peaks_SQL!U39 -> 4563.032 | Z6: =+Coincident_Peaks_SQL!H55 -> 0.97 | AA6: =+Coincident_Peaks_SQL!I55 -> 3.192 | AB6: =+Coincident_Peaks_SQL!J55 -> 0.641 | AC6: <--- Historical data.
B7: =1+B6 -> 2019 | C7: 43617 | D7: 43982 | E7: =SUMIFS(FCA_Result[Capacity Supply Obligation],FCA_Result[Begin_Date],CP_Forecast!$C7,FCA_Result[Modeled Capacity Zone Name],"Northern New England") -> 0 | F7: =SUMIFS(FCA_Result[[Capacity Clearing Price]:[Capacity Clearing Price]],FCA_Result[Begin_Date],$C7,FCA_Result[[Modeled Capacity Zone Name]:[Modeled Capacity Zone Name]],"Rest-of-Pool") -> 7.03 | H7: =+Coincident_Peaks_SQL!D40 -> 7 | I7: =+Coincident_Peaks_SQL!E40 -> 30 | J7: =+Coincident_Peaks_SQL!F40 -> 2019 | K7: =+Coincident_Peaks_SQL!G40 -> 18 | L7: =+EOMONTH(L6,11)+1 -> 43983 | M7: =+Coincident_Peaks_SQL!H40 -> 2.54292 | N7: =+Coincident_Peaks_SQL!I40 -> 3.47388 | O7: =+Coincident_Peaks_SQL!J40 -> 4.64555 | P7: =+Coincident_Peaks_SQL!K40 -> 0.76838 | Q7: =+Coincident_Peaks_SQL!L40 -> 2.11936 | R7: =+Coincident_Peaks_SQL!M40 -> 8.26943 | S7: =+Coincident_Peaks_SQL!N40 -> 9.31 | T7: =+Coincident_Peaks_SQL!O40 -> 7.01272 | ... X7: =+Coincident_Peaks_SQL!S40 -> 12.05973 | Y7: =+Coincident_Peaks_SQL!U40 -> 5078.096 | Z7: =+Coincident_Peaks_SQL!H56 -> 1.273 | AA7: =+Coincident_Peaks_SQL!I56 -> 3.195 | AB7: =+Coincident_Peaks_SQL!J56 -> 0.601 | AC7: <--- Historical data.
B8: =1+B7 -> 2020 | C8: 43983 | D8: =EOMONTH(CP_Forecast!$C8,11) -> 44347 | E8: =SUMIFS(FCA_Result[Capacity Supply Obligation],FCA_Result[Begin_Date],CP_Forecast!$C8,FCA_Result[Modeled Capacity Zone Name],"Northern New England") -> 8343.883 | F8: =SUMIFS(FCA_Result[[Capacity Clearing Price]:[Capacity Clearing Price]],FCA_Result[Begin_Date],$C8,FCA_Result[[Modeled Capacity Zone Name]:[Modeled Capacity Zone Name]],"Northern New England") -> 5.297 | H8: =+Coincident_Peaks_SQL!D41 -> 7 | I8: =+Coincident_Peaks_SQL!E41 -> 27 | J8: =+Coincident_Peaks_SQL!F41 -> 2020 | K8: =+Coincident_Peaks_SQL!G41 -> 18 | L8: =+EOMONTH(L7,11)+1 -> 44348 | M8: =+Coincident_Peaks_SQL!H41 -> 2.62986 | N8: =+Coincident_Peaks_SQL!I41 -> 4.54447 | O8: =+Coincident_Peaks_SQL!J41 -> 6.07125 | P8: =+Coincident_Peaks_SQL!K41 -> 0.87118 | Q8: =+Coincident_Peaks_SQL!L41 -> 1.76954 | R8: =+Coincident_Peaks_SQL!M41 -> 6.68125 | S8: =+Coincident_Peaks_SQL!N41 -> 9.15448 | T8: =+Coincident_Peaks_SQL!O41 -> 7.57098 | ... X8: =+Coincident_Peaks_SQL!S41 -> 13.29565 | Y8: =+Coincident_Peaks_SQL!U41 -> 4987.081 | Z8: =+Coincident_Peaks_SQL!H57 -> 1.33 | AA8: =+Coincident_Peaks_SQL!I57 -> 3.196 | AB8: =+Coincident_Peaks_SQL!J57 -> 0.783 | AC8: <--- Historical data.
B9: =1+B8 -> 2021 | C9: 44348 | D9: =EOMONTH(CP_Forecast!$C9,11) -> 44712 | E9: =SUMIFS(FCA_Result[Capacity Supply Obligation],FCA_Result[Begin_Date],CP_Forecast!$C9,FCA_Result[Modeled Capacity Zone Name],"Northern New England") -> 8067.264 | F9: =SUMIFS(FCA_Result[[Capacity Clearing Price]:[Capacity Clearing Price]],FCA_Result[Begin_Date],$C9,FCA_Result[[Modeled Capacity Zone Name]:[Modeled Capacity Zone Name]],"Northern New England") -> 4.631 | H9: =+Coincident_Peaks_SQL!D42 -> 6 | I9: =+Coincident_Peaks_SQL!E42 -> 29 | J9: =+Coincident_Peaks_SQL!F42 -> 2021 | K9: =+Coincident_Peaks_SQL!G42 -> 17 | L9: =+EOMONTH(L8,11)+1 -> 44713 | M9: =+Coincident_Peaks_SQL!H42 -> 2.55256 | N9: =+Coincident_Peaks_SQL!I42 -> 4.58823 | O9: =+Coincident_Peaks_SQL!J42 -> 4.49579 | P9: =+Coincident_Peaks_SQL!K42 -> 0.97882 | Q9: =+Coincident_Peaks_SQL!L42 -> 2.1515 | R9: =+Coincident_Peaks_SQL!M42 -> 5.95267 | S9: =+Coincident_Peaks_SQL!N42 -> 9.12225 | T9: =+Coincident_Peaks_SQL!O42 -> 7.26211 | ... X9: =+Coincident_Peaks_SQL!S42 -> 12.12831 | Y9: =+Coincident_Peaks_SQL!U42 -> 5166.544 | Z9: =+Coincident_Peaks_SQL!H58 -> 0.002 | AA9: =+Coincident_Peaks_SQL!I58 -> 3.119 | AB9: =+Coincident_Peaks_SQL!J58 -> 0.803 | AC9: <--- Historical data.
B10: =1+B9 -> 2022 | C10: =+EOMONTH(C9,11)+1 -> 44713 | D10: =EOMONTH(CP_Forecast!$C10,11) -> 45077 | E10: =SUMIFS(FCA_Result[Capacity Supply Obligation],FCA_Result[Begin_Date],CP_Forecast!$C10,FCA_Result[Modeled Capacity Zone Name],"Northern New England") -> 7267.546 | F10: =SUMIFS(FCA_Result[[Capacity Clearing Price]:[Capacity Clearing Price]],FCA_Result[[Year]:[Year]],$B10,FCA_Result[[Modeled Capacity Zone Name]:[Modeled Capacity Zone Name]],"Northern New England") -> 3.8 | J10: =1+J9 -> 2022 | L10: =+EOMONTH(L9,11)+1 -> 45078 | M10: =MAX(M5:M9) -> 2.62986 | N10: =MAX(N5:N9) -> 4.58823 | O10: =MAX(O5:O9) -> 6.07125 | P10: =MAX(P5:P9) -> 0.97882 | Q10: =MAX(Q5:Q9) -> 2.1515 | R10: =MAX(R5:R9) -> 8.29488 | S10: =MAX(S5:S9) -> 9.31 | T10: =MAX(T5:T9) -> 8.40273 | ... V10: =MAX(V5:V9) -> 2.29872 | W10: =1.01*W9 -> 10.283911 | X10: =+X9 -> 12.12831 | Y10: =1.01*Y9 -> 5218.2094 | Z10: =MAX(Z5:Z9) -> 1.33 | AA10: =MAX(AA5:AA9) -> 3.196 | AB10: =MAX(AB5:AB9) -> 0.803 | AC10: <--- Forecast uses the max of the past 5 years.
B11: =1+B10 -> 2023 | C11: =+EOMONTH(C10,11)+1 -> 45078 | D11: =EOMONTH(CP_Forecast!$C11,11) -> 45443 | E11: =SUMIFS(FCA_Result[Capacity Supply Obligation],FCA_Result[Begin_Date],CP_Forecast!$C11,FCA_Result[Modeled Capacity Zone Name],"Northern New England") -> 7636.486 | F11: =SUMIFS(FCA_Result[[Capacity Clearing Price]:[Capacity Clearing Price]],FCA_Result[Begin_Date],$C11,FCA_Result[[Modeled Capacity Zone Name]:[Modeled Capacity Zone Name]],"Northern New England") -> 2.001 | J11: =1+J10 -> 2023 | L11: =+EOMONTH(L10,11)+1 -> 45444 | M11: =1.01*M10 -> 2.6561586 | N11: =1.01*N10 -> 4.6341123 | O11: =1.01*O10 -> 6.1319625 | P11: =1.01*P10 -> 0.9886082 | Q11: =1.01*Q10 -> 2.173015 | R11: =1.01*R10 -> 8.3778288 | S11: =1.01*S10 -> 9.4031 | T11: =1.01*T10 -> 8.4867573 | ... AB11: =1.01*AB10 -> 0.81103 | AC11: <--- Forecast uses 1% CAGR for load growth.
B12: =1+B11 -> 2024 | C12: =+EOMONTH(C11,11)+1 -> 45444 | D12: =EOMONTH(CP_Forecast!$C12,11) -> 45808 | E12: =SUMIFS(FCA_Result[Capacity Supply Obligation],FCA_Result[Begin_Date],CP_Forecast!$C12,FCA_Result[Modeled Capacity Zone Name],"Northern New England") -> 8547.58 | F12: =SUMIFS(FCA_Result[[Capacity Clearing Price]:[Capacity Clearing Price]],FCA_Result[Begin_Date],$C12,FCA_Result[[Modeled Capacity Zone Name]:[Modeled Capacity Zone Name]],"Northern New England") -> 2.477 | J12: =1+J11 -> 2024 | L12: =+EOMONTH(L11,11)+1 -> 45809 | M12: =1.01*M11 -> 2.6827202 | N12: =1.01*N11 -> 4.6804534 | O12: =1.01*O11 -> 6.1932821 | P12: =1.01*P11 -> 0.99849428 | Q12: =1.01*Q11 -> 2.1947452 | R12: =1.01*R11 -> 8.4616071 | S12: =1.01*S11 -> 9.497131 | T12: =1.01*T11 -> 8.5716249 | ... W12: =1.01*W11 -> 10.490618 | X12: =1.01*X11-6.5 -> 5.872089 | Y12: =1.01*Y11 -> 5323.0954 | Z12: =1.01*Z11 -> 1.356733 | AA12: =1.01*AA11 -> 3.2602396 | AB12: =1.01*AB11 -> 0.8191403
B13: =1+B12 -> 2025 | C13: =+EOMONTH(C12,11)+1 -> 45809 | D13: =EOMONTH(CP_Forecast!$C13,11) -> 46173 | E13: =SUMIFS(FCA_Result[Capacity Supply Obligation],FCA_Result[Begin_Date],CP_Forecast!$C13,FCA_Result[Modeled Capacity Zone Name],"Northern New England") -> 8332.5 | F13: =SUMIFS(FCA_Result[[Capacity Clearing Price]:[Capacity Clearing Price]],FCA_Result[Begin_Date],$C13,FCA_Result[[Modeled Capacity Zone Name]:[Modeled Capacity Zone Name]],"Northern New England") -> 2.531 | J13: =1+J12 -> 2025 | L13: =+EOMONTH(L12,11)+1 -> 46174 | M13: =1.01*M12 -> 2.7095474 | N13: =1.01*N12 -> 4.727258 | O13: =1.01*O12 -> 6.2552149 | P13: =1.01*P12 -> 1.0084792 | Q13: =1.01*Q12 -> 2.2166926 | R13: =1.01*R12 -> 8.5462232 | S13: =1.01*S12 -> 9.5921023 | T13: =1.01*T12 -> 8.6573411 | ... AB13: =1.01*AB12 -> 0.8273317
B14: =1+B13 -> 2026 | C14: =+EOMONTH(C13,11)+1 -> 46174 | D14: =EOMONTH(CP_Forecast!$C14,11) -> 46538 | E14: =+AVERAGE(E9:E13)*1.01 -> 8049.978 | F14: =3.5*[1]SenSit_Dashboard!$F$8 -> 3.5 | J14: =1+J13 -> 2026 | L14: =+EOMONTH(L13,11)+1 -> 46539 | M14: =1.01*M13 -> 2.7366429 | N14: =1.01*N13 -> 4.7745305 | O14: =1.01*O13 -> 6.3177671 | P14: =1.01*P13 -> 1.018564 | Q14: =1.01*Q13 -> 2.2388595 | R14: =1.01*R13 -> 8.6316854 | S14: =1.01*S13 -> 9.6880233 | T14: =1.01*T13 -> 8.7439145 | ... AB14: =1.01*AB13 -> 0.83560502
B15: =1+B14 -> 2027 | C15: =+EOMONTH(C14,11)+1 -> 46539 | D15: =EOMONTH(CP_Forecast!$C15,11) -> 46904 | E15: =+AVERAGE(E10:E14)*1.01 -> 8046.4862 | F15: =4.25*[1]SenSit_Dashboard!$F$8 -> 4.25 | J15: =1+J14 -> 2027 | L15: =+EOMONTH(L14,11)+1 -> 46905 | M15: =1.01*M14 -> 2.7640093 | N15: =1.01*N14 -> 4.8222758 | O15: =1.01*O14 -> 6.3809448 | P15: =1.01*P14 -> 1.0287497 | Q15: =1.01*Q14 -> 2.2612481 | R15: =1.01*R14 -> 8.7180022 | S15: =1.01*S14 -> 9.7849036 | T15: =1.01*T14 -> 8.8313537 | ... AB15: =1.01*AB14 -> 0.84396107
B16: =1+B15 -> 2028 | C16: =+EOMONTH(C15,11)+1 -> 46905 | D16: =EOMONTH(CP_Forecast!$C16,11) -> 47269 | E16: =+AVERAGE(E11:E15)*1.01 -> 8203.8321 | F16: =5*[1]SenSit_Dashboard!$F$8 -> 5 | J16: =1+J15 -> 2028 | L16: =+EOMONTH(L15,11)+1 -> 47270 | M16: =1.01*M15 -> 2.7916494 | N16: =1.01*N15 -> 4.8704986 | O16: =1.01*O15 -> 6.4447542 | P16: =1.01*P15 -> 1.0390372 | Q16: =1.01*Q15 -> 2.2838606 | R16: =1.01*R15 -> 8.8051823 | S16: =1.01*S15 -> 9.8827526 | T16: =1.01*T15 -> 8.9196672 | ... AB16: =1.01*AB15 -> 0.85240068
B17: =1+B16 -> 2029 | C17: =+EOMONTH(C16,11)+1 -> 47270 | D17: =EOMONTH(CP_Forecast!$C17,11) -> 47634 | E17: =+AVERAGE(E12:E16)*1.01 -> 8318.436 | F17: =1.03*F16 -> 5.15 | J17: =1+J16 -> 2029 | L17: =+EOMONTH(L16,11)+1 -> 47635 | M17: =1.01*M16 -> 2.8195659 | N17: =1.01*N16 -> 4.9192036 | O17: =1.01*O16 -> 6.5092018 | P17: =1.01*P16 -> 1.0494275 | Q17: =1.01*Q16 -> 2.3066992 | R17: =1.01*R16 -> 8.8932341 | S17: =1.01*S16 -> 9.9815801 | T17: =1.01*T16 -> 9.0088639 | ... AB17: =1.01*AB16 -> 0.86092469
B18: =1+B17 -> 2030 | C18: =+EOMONTH(C17,11)+1 -> 47635 | D18: =EOMONTH(CP_Forecast!$C18,11) -> 47999 | E18: =+AVERAGE(E13:E17)*1.01 -> 8272.1489 | F18: =1.03*F17 -> 5.3045 | J18: =1+J17 -> 2030 | L18: =+EOMONTH(L17,11)+1 -> 48000 | M18: =1.01*M17 -> 2.8477615 | N18: =1.01*N17 -> 4.9683956 | O18: =1.01*O17 -> 6.5742938 | P18: =1.01*P17 -> 1.0599218 | Q18: =1.01*Q17 -> 2.3297662 | R18: =1.01*R17 -> 8.9821664 | S18: =1.01*S17 -> 10.081396 | T18: =1.01*T17 -> 9.0989525 | ... AB18: =1.01*AB17 -> 0.86953393
B19: =1+B18 -> 2031 | C19: =+EOMONTH(C18,11)+1 -> 48000 | D19: =EOMONTH(CP_Forecast!$C19,11) -> 48365 | E19: =+AVERAGE(E14:E18)*1.01 -> 8259.958 | F19: =1.03*F18 -> 5.463635 | J19: =1+J18 -> 2031 | L19: =+EOMONTH(L18,11)+1 -> 48366 | M19: =1.01*M18 -> 2.8762392 | N19: =1.01*N18 -> 5.0180796 | O19: =1.01*O18 -> 6.6400367 | P19: =1.01*P18 -> 1.070521 | Q19: =1.01*Q18 -> 2.3530639 | R19: =1.01*R18 -> 9.0719881 | S19: =1.01*S18 -> 10.18221 | T19: =1.01*T18 -> 9.1899421 | ... AB19: =1.01*AB18 -> 0.87822927
B20: =1+B19 -> 2032 | C20: =+EOMONTH(C19,11)+1 -> 48366 | D20: =EOMONTH(CP_Forecast!$C20,11) -> 48730 | E20: =+AVERAGE(E15:E19)*1.01 -> 8302.3739 | F20: =1.03*F19 -> 5.6275441 | J20: =1+J19 -> 2032 | L20: =+EOMONTH(L19,11)+1 -> 48731 | M20: =1.01*M19 -> 2.9050015 | N20: =1.01*N19 -> 5.0682604 | O20: =1.01*O19 -> 6.7064371 | P20: =1.01*P19 -> 1.0812262 | Q20: =1.01*Q19 -> 2.3765945 | R20: =1.01*R19 -> 9.162708 | S20: =1.01*S19 -> 10.284032 | T20: =1.01*T19 -> 9.2818415 | ... AB20: =1.01*AB19 -> 0.88701157
B21: =1+B20 -> 2033 | C21: =+EOMONTH(C20,11)+1 -> 48731 | D21: =EOMONTH(CP_Forecast!$C21,11) -> 49095 | E21: =+AVERAGE(E16:E20)*1.01 -> 8354.0633 | F21: =1.03*F20 -> 5.7963704 | J21: =1+J20 -> 2033 | L21: =+EOMONTH(L20,11)+1 -> 49096 | M21: =1.01*M20 -> 2.9340516 | N21: =1.01*N20 -> 5.118943 | O21: =1.01*O20 -> 6.7735014 | P21: =1.01*P20 -> 1.0920385 | Q21: =1.01*Q20 -> 2.4003604 | R21: =1.01*R20 -> 9.2543351 | S21: =1.01*S20 -> 10.386872 | T21: =1.01*T20 -> 9.3746599 | ... AB21: =1.01*AB20 -> 0.89588168
B22: =1+B21 -> 2034 | C22: =+EOMONTH(C21,11)+1 -> 49096 | D22: =EOMONTH(CP_Forecast!$C22,11) -> 49460 | E22: =+AVERAGE(E17:E21)*1.01 -> 8384.41 | F22: =1.03*F21 -> 5.9702615 | J22: =1+J21 -> 2034 | L22: =+EOMONTH(L21,11)+1 -> 49461 | M22: =1.01*M21 -> 2.9633921 | N22: =1.01*N21 -> 5.1701324 | O22: =1.01*O21 -> 6.8412365 | P22: =1.01*P21 -> 1.1029589 | Q22: =1.01*Q21 -> 2.4243641 | R22: =1.01*R21 -> 9.3468784 | S22: =1.01*S21 -> 10.490741 | T22: =1.01*T21 -> 9.4684065 | ... AB22: =1.01*AB21 -> 0.9048405
B23: =1+B22 -> 2035 | C23: =+EOMONTH(C22,11)+1 -> 49461 | D23: =EOMONTH(CP_Forecast!$C23,11) -> 49826 | E23: =+AVERAGE(E18:E22)*1.01 -> 8397.7367 | F23: =1.03*F22 -> 6.1493693 | J23: =1+J22 -> 2035 | L23: =+EOMONTH(L22,11)+1 -> 49827 | M23: =1.01*M22 -> 2.993026 | N23: =1.01*N22 -> 5.2218337 | O23: =1.01*O22 -> 6.9096488 | P23: =1.01*P22 -> 1.1139885 | Q23: =1.01*Q22 -> 2.4486077 | R23: =1.01*R22 -> 9.4403472 | S23: =1.01*S22 -> 10.595648 | T23: =1.01*T22 -> 9.5630906 | ... AB23: =1.01*AB22 -> 0.9138889
B24: =1+B23 -> 2036 | C24: =+EOMONTH(C23,11)+1 -> 49827 | D24: =EOMONTH(CP_Forecast!$C24,11) -> 50191 | E24: =+AVERAGE(E19:E23)*1.01 -> 8423.1055 | F24: =1.03*F23 -> 6.3338504 | J24: =1+J23 -> 2036 | L24: =+EOMONTH(L23,11)+1 -> 50192 | M24: =1.01*M23 -> 3.0229563 | N24: =1.01*N23 -> 5.2740521 | O24: =1.01*O23 -> 6.9787453 | P24: =1.01*P23 -> 1.1251283 | Q24: =1.01*Q23 -> 2.4730938 | R24: =1.01*R23 -> 9.5347507 | S24: =1.01*S23 -> 10.701605 | T24: =1.01*T23 -> 9.6587215 | ... AB24: =1.01*AB23 -> 0.92302779
B25: =1+B24 -> 2037 | C25: =+EOMONTH(C24,11)+1 -> 50192 | D25: =EOMONTH(CP_Forecast!$C25,11) -> 50556 | E25: =+AVERAGE(E20:E24)*1.01 -> 8456.0613 | F25: =1.03*F24 -> 6.5238659 | J25: =1+J24 -> 2037 | L25: =+EOMONTH(L24,11)+1 -> 50557 | M25: =1.01*M24 -> 3.0531858 | N25: =1.01*N24 -> 5.3267926 | O25: =1.01*O24 -> 7.0485328 | P25: =1.01*P24 -> 1.1363796 | Q25: =1.01*Q24 -> 2.4978247 | R25: =1.01*R24 -> 9.6300982 | S25: =1.01*S24 -> 10.808621 | T25: =1.01*T24 -> 9.7553087 | ... AB25: =1.01*AB24 -> 0.93225807
B26: =1+B25 -> 2038 | C26: =+EOMONTH(C25,11)+1 -> 50557 | D26: =EOMONTH(CP_Forecast!$C26,11) -> 50921 | E26: =+AVERAGE(E21:E25)*1.01 -> 8487.1061 | F26: =1.03*F25 -> 6.7195819 | J26: =1+J25 -> 2038 | L26: =+EOMONTH(L25,11)+1 -> 50922 | M26: =1.01*M25 -> 3.0837177 | N26: =1.01*N25 -> 5.3800605 | O26: =1.01*O25 -> 7.1190181 | P26: =1.01*P25 -> 1.1477434 | Q26: =1.01*Q25 -> 2.522803 | R26: =1.01*R25 -> 9.7263992 | S26: =1.01*S25 -> 10.916707 | T26: =1.01*T25 -> 9.8528618 | ... AB26: =1.01*AB25 -> 0.94158065
B27: =1+B26 -> 2039 | C27: =+EOMONTH(C26,11)+1 -> 50922 | D27: =EOMONTH(CP_Forecast!$C27,11) -> 51287 | E27: =+AVERAGE(E22:E26)*1.01 -> 8513.9807 | F27: =1.03*F26 -> 6.9211694 | J27: =1+J26 -> 2039 | L27: =+EOMONTH(L26,11)+1 -> 51288 | M27: =1.01*M26 -> 3.1145549 | N27: =1.01*N26 -> 5.4338611 | O27: =1.01*O26 -> 7.1902083 | P27: =1.01*P26 -> 1.1592209 | Q27: =1.01*Q26 -> 2.548031 | R27: =1.01*R26 -> 9.8236631 | S27: =1.01*S26 -> 11.025874 | T27: =1.01*T26 -> 9.9513904 | ... AB27: =1.01*AB26 -> 0.95099646
B28: =1+B27 -> 2040 | C28: =+EOMONTH(C27,11)+1 -> 51288 | D28: =EOMONTH(CP_Forecast!$C28,11) -> 51652 | E28: =+AVERAGE(E23:E27)*1.01 -> 8540.154 | F28: =1.03*F27 -> 7.1288044 | J28: =1+J27 -> 2040 | L28: =+EOMONTH(L27,11)+1 -> 51653 | M28: =1.01*M27 -> 3.1457004 | N28: =1.01*N27 -> 5.4881997 | O28: =1.01*O27 -> 7.2621104 | P28: =1.01*P27 -> 1.1708131 | Q28: =1.01*Q27 -> 2.5735113 | R28: =1.01*R27 -> 9.9218998 | S28: =1.01*S27 -> 11.136133 | T28: =1.01*T27 -> 10.050904 | ... AB28: =1.01*AB27 -> 0.96050642
... B38: =1+B37 -> 2050 | C38: =+EOMONTH(C37,11)+1 -> 54940 | D38: =EOMONTH(CP_Forecast!$C38,11) -> 55304 | E38: =+AVERAGE(E33:E37)*1.01 -> 8829.5423 | F38: =1.03*F37 -> 9.580517 | J38: =1+J37 -> 2050 | L38: =+EOMONTH(L37,11)+1 -> 55305 | M38: =1.01*M37 -> 3.4748103 | N38: =1.01*N37 -> 6.0623869 | O38: =1.01*O37 -> 8.0218878 | P38: =1.01*P37 -> 1.293306 | Q38: =1.01*Q37 -> 2.8427575 | R38: =1.01*R37 -> 10.95995 | S38: =1.01*S37 -> 12.301219 | T38: =1.01*T37 -> 11.102451 | ... AB38: =1.01*AB37 -> 1.0609966

Sheet Lookups
B2: System_Name | C2: System_ID | E2: Invoice_Group | F2: Capacity Charge | G2: Capacity Credit | I2: Resource_Name | J2: Invoice_Group | K2: Capacity Zone | L2: Qualified Capacity | M2: Self Supply | N2: End_Date | O2: Credit Source
B3: Ashland | C3: 60050 | E3: 2019 Planned Purchase Product 1 | F3: No | G3: No | I3: WMA CHESTER SOLAR 1 | J3: Chester Solar | K3: ROP | L3: 1.904 | N3: 50921 | O3: FCA
B4: Barton | C4: 40010 | E4: 2019 Planned Purchase Product 2 | F4: No | G4: No | I4: FITCHBURG LANDFILL | J4: Fitchburg Landfill | K4: ROP | L4: 4.8 | N4: 11688 | O4: FCA but change in MW
B5: Enosburg | C5: 40020 | E5: 2019 Planned Purchase Product 2.1 | F5: No | G5: No | I5: FIEC Diesel | J5: Fox Island Diesel | K5: Maine | L5: 2 | O5: FCA
B6: Fox Islands | C6: 60080 | E6: 2019 Planned Purchase Product 3 | F6: No | G6: No | I6: Fox Island Wind | J6: Fox Island Wind | K6: Maine | L6: 4.5 | O6: FCA
B7: Hardwick | C7: 20010 | E7: 2019 Planned Purchase Product 4 | F7: No | G7: No | I7: HIGHGATE FALLS | J7: Highgate Hydro #1-4 | K7: NNE | L7: 11.392 | N7: 73050 | O7: FCA then LR
B8: Jacksonville | C8: 20020 | E8: 2019 Planned Purchase Product 5 | F8: No | G8: No | I8: BARKER UPPER HYDRO | J8: Kruger Hydro | K8: Maine | L8: 1 | N8: 13880 | O8: FCA
B9: Johnson | C9: 10030 | E9: 2023-2024 Contract | F9: No | G9: No | I9: BARKER LOWER HYDRO | J9: Kruger Hydro | K9: Maine | L9: 1.5 | N9: 13880 | O9: FCA
B10: Ludlow | C10: 10040 | E10: Barton Hydro | F10: No | G10: No | I10: BROWNS MILL HYDRO | J10: Kruger Hydro | K10: Maine | L10: 0.594 | N10: 13880 | O10: FCA
B11: Lyndonville | C11: 10050 | E11: Billings Road Solar | F11: No | G11: No | I11: GARDINER HYDRO | J11: Kruger Hydro | K11: Maine | L11: 1.053 | N11: 13880 | O11: FCA
B12: Morrisville | C12: 20030 | E12: Bone Hill Solar | F12: No | G12: No | I12: PITTSFIELD HYDRO | J12: Kruger Hydro | K12: Maine | L12: 1.1 | N12: 13880 | O12: FCA
B13: New Hampton | C13: 60060 | E13: Brookfield 2023-2027 | F13: No | G13: No | I13: BLACKSTONE HYDRO LOAD REDUCER | J13: Kruger Hydro | K13: SENE | L13: 1.55 | N13: 13880 | O13: FCA
B14: Northfield | C14: 20040 | E14: Cadys Falls Hydro | F14: No | G14: No | I14: J C MCNEIL | J14: McNeil Facility | K14: NNE | L14: 54 | M14: Yes | N14: 73050 | O14: FCA
B15: Orleans | C15: 40040 | E15: Chester Solar | F15: No | G15: Yes | I15: NYPA Niagara Contract | J15: NYPA Niagara Contract | K15: ROP | L15: 16 | N15: 73050 | O15: FCA through VELCO
B16: Swanton | C16: 40050 | E16: EDF Contracts | F16: No | G16: No | I16: NYPA St. Lawrence Contract | J16: NYPA St. Lawrence Contract | K16: ROP | L16: 0 | N16: 73050 | O16: FCA through VELCO
B17: VEC | C17: 10080 | E17: Enosburg Falls Hydro | F17: No | G17: No | I17: Phase I/II Transmission Facilities | J17: Phase I/II Transmission Facilities | K17: ROP | L17: 975 | N17: =+N16 -> 73050 | O17: FCA through VELCO
B18: VPPSA | C18: 90002 | E18: Fitchburg Landfill | F18: No | G18: Yes | I18: SWANTON GT-2 | J18: Project #10 | K18: NNE | L18: 20 | M18: Yes | N18: 73050 | O18: FCA
B19: WEC | C19: 20070 | E19: Fox Island Diesel | F19: No | G19: Yes | I19: SWANTON GT-1 | J19: Project #10 | K19: NNE | L19: 20 | M19: Yes | N19: 73050 | O19: FCA
E20: Fox Island Wind | F20: Yes | G20: Yes | I20: RYEGATE 1-NEW | J20: Ryegate Facility | K20: NNE | L20: 19 | N20: 44500 | O20: FCA through VELCO
E21: Fox Island Wind (Market) | F21: No | G21: No | I21: SEABROOK | J21: Seabrook PPA | K21: ROP | L21: 0.6 | N21: 12784 | O21: ISO through Self Suppy
E22: Highgate Hydro #1-4 | F22: No | G22: No | I22: STANDARD OFFER PROGRAM - SOG | J22: Standard Offer Program - SOG | K22: NNE | L22: 1.5 | N22: 11292 | O22: FCA through VELCO
E23: Highgate Hydro #5 | F23: No | G23: No | I23: STONY BROOK GT1C | J23: Stony Brook Station | K23: ROP | L23: 100 | N23: 73050 | O23: FCA
E24: HQUS Contract | F24: No | G24: No | I24: STONY BROOK GT1B | J24: Stony Brook Station | K24: ROP | L24: 97 | N24: 73050 | O24: FCA
E25: Kruger Hydro | F25: No | G25: Yes | I25: STONY BROOK GT1A | J25: Stony Brook Station | K25: ROP | L25: 100 | N25: 73050 | O25: FCA
E26: Lawrence Brook Solar | F26: No | G26: No
E27: McNeil Facility | F27: Yes | G27: Yes
E28: Morrisville Hydro #2 | F28: No | G28: No
E29: NYPA Niagara Contract | F29: Yes | G29: Yes
E30: NYPA St. Lawrence Contract | F30: Yes | G30: Yes
E31: Phase I/II Transmission Facilities | F31: No | G31: Yes
E32: Project #10 | F32: Yes | G32: Yes
E33: Ryegate Facility | F33: No | G33: Yes
E34: Sanders Hydro | F34: No | G34: No
E35: Seabrook 2018-22 Purchase | F35: No | G35: No
E36: Seabrook PPA | F36: Yes | G36: Yes
E37: Standard Offer Program | F37: No | G37: Yes
... E40: Wolcott Hydro | F40: No | G40: No
E42: # of Yes = | F42: =COUNTIF(F3:F40,"Yes") -> 7 | G42: =COUNTIF(G3:G40,"Yes") -> 14

Sheet Cap_MW_Lookups
MY1: x
C2: Winter | D2: Winter | E2: Winter | F2: Winter | G2: Winter | H2: Summer | I2: Summer | J2: Summer | K2: Summer | L2: Winter | M2: Winter | N2: Winter | O2: Winter | P2: Winter | Q2: Winter | R2: Winter | S2: Winter | T2: Summer | U2: Summer | V2: Summer | W2: Summer | X2: Winter | Y2: Winter | Z2: Winter | AA2: Winter | AB2: Winter | AC2: Winter | AD2: Winter | AE2: Winter | AF2: Summer | AG2: Summer | AH2: Summer | AI2: Summer | AJ2: Winter | AK2: Winter | AL2: Winter | AM2: Winter | AN2: Winter | AO2: Winter | AP2: Winter | AQ2: Winter | AR2: Summer | AS2: Summer | AT2: Summer | AU2: Summer | AV2: Winter | AW2: Winter | AX2: Winter | AY2: Winter | AZ2: Winter | BA2: Winter | BB2: Winter | BC2: Winter | BD2: Summer | BE2: Summer | BF2: Summer | BG2: Summer | BH2: Winter | BI2: Winter | BJ2: Winter | BK2: Winter | BL2: Winter | BM2: Winter | BN2: Winter | BO2: Winter | BP2: Summer | BQ2: Summer | BR2: Summer | BS2: Summer | BT2: Winter | BU2: Winter | BV2: Winter | BW2: Winter | BX2: Winter | BY2: Winter | BZ2: Winter | CA2: Winter | CB2: Summer | CC2: Summer | CD2: Summer | CE2: Summer | CF2: Winter | CG2: Winter | CH2: Winter | CI2: Winter | CJ2: Winter | CK2: Winter | CL2: Winter | CM2: Winter | CN2: Summer | CO2: Summer | CP2: Summer | CQ2: Summer | CR2: Winter | CS2: Winter | CT2: Winter | CU2: Winter | CV2: Winter | CW2: Winter | CX2: Winter | CY2: Winter | CZ2: Summer | DA2: Summer | DB2: Summer | DC2: Summer | DD2: Winter | DE2: Winter | DF2: Winter | DG2: Winter | DH2: Winter | DI2: Winter | DJ2: Winter | DK2: Winter | DL2: Summer | DM2: Summer | DN2: Summer | DO2: Summer | DP2: Winter | DQ2: Winter | DR2: Winter | DS2: Winter | DT2: Winter | DU2: Winter | DV2: Winter | DW2: Winter | DX2: Summer | DY2: Summer | DZ2: Summer | EA2: Summer | EB2: Winter | EC2: Winter | ED2: Winter | EE2: Winter | EF2: Winter | EG2: Winter | EH2: Winter | EI2: Winter | EJ2: Summer | EK2: Summer | EL2: Summer | EM2: Summer | EN2: Winter | EO2: Winter | EP2: Winter | EQ2: Winter | ER2: Winter | ES2: Winter | ET2: Winter | EU2: Winter | EV2: Summer | EW2: Summer | EX2: Summer | EY2: Summer | EZ2: Winter | FA2: Winter | FB2: Winter | FC2: Winter | FD2: Winter | FE2: Winter | FF2: Winter | FG2: Winter | FH2: Summer | FI2: Summer | FJ2: Summer | FK2: Summer | FL2: Winter | FM2: Winter | FN2: Winter | FO2: Winter | FP2: Winter | FQ2: Winter | FR2: Winter | FS2: Winter | FT2: Summer | FU2: Summer | FV2: Summer | FW2: Summer | FX2: Winter | FY2: Winter | FZ2: Winter | GA2: Winter | GB2: Winter | GC2: Winter | GD2: Winter | GE2: Winter | GF2: Summer | GG2: Summer | GH2: Summer | GI2: Summer | GJ2: Winter | GK2: Winter | GL2: Winter | GM2: Winter | GN2: Winter | GO2: Winter | GP2: Winter | GQ2: Winter | GR2: Summer | GS2: Summer | GT2: Summer | GU2: Summer | GV2: Winter | GW2: Winter | GX2: Winter | GY2: Winter | GZ2: Winter | HA2: Winter | HB2: Winter | HC2: Winter | HD2: Summer | HE2: Summer | HF2: Summer | HG2: Summer | HH2: Winter | HI2: Winter | HJ2: Winter | HK2: Winter | HL2: Winter | HM2: Winter | HN2: Winter | HO2: Winter | HP2: Summer | HQ2: Summer | HR2: Summer | HS2: Summer | HT2: Winter | HU2: Winter | HV2: Winter | HW2: Winter | HX2: Winter | HY2: Winter | HZ2: Winter | IA2: Winter | IB2: Summer | IC2: Summer | ID2: Summer | IE2: Summer | IF2: Winter | IG2: Winter | IH2: Winter | II2: Winter | IJ2: Winter | IK2: Winter | IL2: Winter | IM2: Winter | IN2: Summer | IO2: Summer | IP2: Summer | IQ2: Summer | IR2: Winter | IS2: Winter | IT2: Winter | IU2: Winter | IV2: Winter | IW2: Winter | IX2: Winter | IY2: Winter | IZ2: Summer | JA2: Summer | JB2: Summer | JC2: Summer | JD2: Winter | JE2: Winter | JF2: Winter | JG2: Winter | JH2: Winter | JI2: Winter | JJ2: Winter | JK2: Winter | JL2: Summer | JM2: Summer | JN2: Summer | JO2: Summer | JP2: Winter | JQ2: Winter | JR2: Winter | JS2: Winter | JT2: Winter | JU2: Winter | JV2: Winter | JW2: Winter | JX2: Summer | JY2: Summer | JZ2: Summer | KA2: Summer | KB2: Winter | KC2: Winter | KD2: Winter | KE2: Winter | KF2: Winter | KG2: Winter | KH2: Winter | KI2: Winter | KJ2: Summer | KK2: Summer | KL2: Summer | KM2: Summer | KN2: Winter | KO2: Winter | KP2: Winter | KQ2: Winter | KR2: Winter | KS2: Winter | KT2: Winter | KU2: Winter | KV2: Summer | KW2: Summer | KX2: Summer | KY2: Summer | KZ2: Winter | LA2: Winter | LB2: Winter | LC2: Winter | LD2: Winter | LE2: Winter | LF2: Winter | LG2: Winter | LH2: Summer | LI2: Summer | LJ2: Summer | LK2: Summer | LL2: Winter | LM2: Winter | LN2: Winter | LO2: Winter | LP2: Winter | LQ2: Winter | LR2: Winter | LS2: Winter | LT2: Summer | LU2: Summer | LV2: Summer | LW2: Summer | LX2: Winter | LY2: Winter | LZ2: Winter | MA2: Winter | MB2: Winter | MC2: Winter | MD2: Winter | ME2: Winter | MF2: Summer | MG2: Summer | MH2: Summer | MI2: Summer | MJ2: Winter | MK2: Winter | ML2: Winter | MM2: Winter | MN2: Winter | MO2: Winter | MP2: Winter | MQ2: Winter | MR2: Summer | MS2: Summer | MT2: Summer | MU2: Summer | MV2: Winter | MW2: Winter | MX2: Winter | MY2: x
B3: Generator_Name | C3: 44197 | D3: =EOMONTH(C3,0)+1 -> 44228 | E3: =EOMONTH(D3,0)+1 -> 44256 | F3: =EOMONTH(E3,0)+1 -> 44287 | G3: =EOMONTH(F3,0)+1 -> 44317 | H3: =EOMONTH(G3,0)+1 -> 44348 | I3: =EOMONTH(H3,0)+1 -> 44378 | J3: =EOMONTH(I3,0)+1 -> 44409 | K3: =EOMONTH(J3,0)+1 -> 44440 | ... MX3: =EOMONTH(MW3,0)+1 -> 55123 | MY3: x
MY4: x
B5: FCM Capacity Supply Obligation (CSO) | C5: Update 3/19/21 with ISO spreadsheet - "FCA_Obligations.xlsx" | MY5: x
A6: Generator Name | B6: BLACKSTONE HYDRO LOAD REDUCER | C6: =+O6 -> 0.559 | D6: =+P6 -> 0.559 | E6: =+Q6 -> 0.559 | F6: =+R6 -> 0.559 | G6: =+S6 -> 0.559 | H6: 0.148 | I6: 0.148 | J6: 0.148 | K6: 0.148 | L6: 0.559 | M6: 0.559 | N6: 0.559 | O6: 0.559 | P6: 0.559 | Q6: 0.559 | R6: 0.559 | S6: 0.559 | T6: 0.167 | U6: 0.167 | V6: 0.167 | W6: 0.167 | X6: 0.467 | Y6: 0.467 | Z6: 0.467 | AA6: 0.467 | AB6: 0.467 | AC6: 0.467 | AD6: 0.467 | AE6: 0.467 | AF6: 0.166 | AG6: 0.166 | AH6: 0.166 | AI6: 0.166 | AJ6: 0.421 | AK6: 0.421 | AL6: 0.421 | AM6: 0.421 | AN6: 0.421 | AO6: 0.421 | AP6: 0.421 | AQ6: 0.421 | AR6: 0.175 | AS6: 0.175 | AT6: 0.175 | AU6: 0.175 | AV6: 0.472 | AW6: 0.472 | AX6: 0.472 | AY6: 0.472 | AZ6: 0.472 | BA6: 0.472 | BB6: 0.472 | BC6: 0.472 | BD6: =+AR6 -> 0.175 | BE6: =+AS6 -> 0.175 | BF6: =+AT6 -> 0.175 | BG6: =+AU6 -> 0.175 | BH6: =+AV6 -> 0.472 | BI6: =+AW6 -> 0.472 | BJ6: =+AX6 -> 0.472 | BK6: =+AY6 -> 0.472 | ... MX6: =+ML6 -> 0.472 | MY6: x
B7: BARKER LOWER HYDRO | C7: =+O7 -> 0.771 | D7: =+P7 -> 0.771 | E7: =+Q7 -> 0.771 | F7: =+R7 -> 0.771 | G7: =+S7 -> 0.771 | H7: 0.312 | I7: 0.312 | J7: 0.312 | K7: 0.312 | L7: 0.771 | M7: 0.771 | N7: 0.771 | O7: 0.771 | P7: 0.771 | Q7: 0.771 | R7: 0.771 | S7: 0.771 | T7: 0.312 | U7: 0.312 | V7: 0.312 | W7: 0.312 | X7: 0.767 | Y7: 0.767 | Z7: 0.767 | AA7: 0.767 | AB7: 0.767 | AC7: 0.767 | AD7: 0.767 | AE7: 0.767 | AF7: 0.104 | AG7: 0.104 | AH7: 0.104 | AI7: 0.104 | AJ7: 0.707 | AK7: 0.707 | AL7: 0.707 | AM7: 0.707 | AN7: 0.707 | AO7: 0.707 | AP7: 0.707 | AQ7: 0.707 | AR7: 0 | AS7: 0 | AT7: 0 | AU7: 0 | AV7: 0.677 | AW7: 0.677 | AX7: 0.677 | AY7: 0.677 | AZ7: 0.677 | BA7: 0.677 | BB7: 0.677 | BC7: 0.677 | BD7: =+AR7 -> 0 | BE7: =+AS7 -> 0 | BF7: =+AT7 -> 0 | BG7: =+AU7 -> 0 | BH7: =+AV7 -> 0.677 | BI7: =+AW7 -> 0.677 | BJ7: =+AX7 -> 0.677 | BK7: =+AY7 -> 0.677 | ... MX7: =+ML7 -> 0.677 | MY7: x
B8: BARKER UPPER HYDRO | C8: =+O8 -> 0.664 | D8: =+P8 -> 0.664 | E8: =+Q8 -> 0.664 | F8: =+R8 -> 0.664 | G8: =+S8 -> 0.664 | H8: 0.336 | I8: 0.336 | J8: 0.336 | K8: 0.336 | L8: 0.664 | M8: 0.664 | N8: 0.664 | O8: 0.664 | P8: 0.664 | Q8: 0.664 | R8: 0.664 | S8: 0.664 | T8: 0.29 | U8: 0.29 | V8: 0.29 | W8: 0.29 | X8: 0.611 | Y8: 0.611 | Z8: 0.611 | AA8: 0.611 | AB8: 0.611 | AC8: 0.611 | AD8: 0.611 | AE8: 0.611 | AF8: 0.099 | AG8: 0.099 | AH8: 0.099 | AI8: 0.099 | AJ8: 0.602 | AK8: 0.602 | AL8: 0.602 | AM8: 0.602 | AN8: 0.602 | AO8: 0.602 | AP8: 0.602 | AQ8: 0.602 | AR8: 0.013 | AS8: 0.013 | AT8: 0.013 | AU8: 0.013 | AV8: 0.648 | AW8: 0.648 | AX8: 0.648 | AY8: 0.648 | AZ8: 0.648 | BA8: 0.648 | BB8: 0.648 | BC8: 0.648 | BD8: =+AR8 -> 0.013 | BE8: =+AS8 -> 0.013 | BF8: =+AT8 -> 0.013 | BG8: =+AU8 -> 0.013 | BH8: =+AV8 -> 0.648 | BI8: =+AW8 -> 0.648 | BJ8: =+AX8 -> 0.648 | BK8: =+AY8 -> 0.648 | ... MX8: =+ML8 -> 0.648 | MY8: x
B9: BROWNS MILL HYDRO | C9: =+O9 -> 0.498 | D9: =+P9 -> 0.498 | E9: =+Q9 -> 0.498 | F9: =+R9 -> 0.498 | G9: =+S9 -> 0.498 | H9: 0.168 | I9: 0.168 | J9: 0.168 | K9: 0.168 | L9: 0.498 | M9: 0.498 | N9: 0.498 | O9: 0.498 | P9: 0.498 | Q9: 0.498 | R9: 0.498 | S9: 0.498 | T9: 0.136 | U9: 0.136 | V9: 0.136 | W9: 0.136 | X9: 0.449 | Y9: 0.449 | Z9: 0.449 | AA9: 0.449 | AB9: 0.449 | AC9: 0.449 | AD9: 0.449 | AE9: 0.449 | AF9: 0.064 | AG9: 0.064 | AH9: 0.064 | AI9: 0.064 | AJ9: 0.404 | AK9: 0.404 | AL9: 0.404 | AM9: 0.404 | AN9: 0.404 | AO9: 0.404 | AP9: 0.404 | AQ9: 0.404 | AR9: 0.054 | AS9: 0.054 | AT9: 0.054 | AU9: 0.054 | AV9: 0.438 | AW9: 0.438 | AX9: 0.438 | AY9: 0.438 | AZ9: 0.438 | BA9: 0.438 | BB9: 0.438 | BC9: 0.438 | BD9: =+AR9 -> 0.054 | BE9: =+AS9 -> 0.054 | BF9: =+AT9 -> 0.054 | BG9: =+AU9 -> 0.054 | BH9: =+AV9 -> 0.438 | BI9: =+AW9 -> 0.438 | BJ9: =+AX9 -> 0.438 | BK9: =+AY9 -> 0.438 | ... MX9: =+ML9 -> 0.438 | MY9: x
B10: GARDINER HYDRO | C10: =+O10 -> 0.952 | D10: =+P10 -> 0.952 | E10: =+Q10 -> 0.952 | F10: =+R10 -> 0.952 | G10: =+S10 -> 0.952 | H10: 0.388 | I10: 0.388 | J10: 0.388 | K10: 0.388 | L10: 0.952 | M10: 0.952 | N10: 0.952 | O10: 0.952 | P10: 0.952 | Q10: 0.952 | R10: 0.952 | S10: 0.952 | T10: 0.348 | U10: 0.348 | V10: 0.348 | W10: 0.348 | X10: 0.952 | Y10: 0.952 | Z10: 0.952 | AA10: 0.952 | AB10: 0.952 | AC10: 0.952 | AD10: 0.952 | AE10: 0.952 | AF10: 0.153 | AG10: 0.153 | AH10: 0.153 | AI10: 0.153 | AJ10: 0.932 | AK10: 0.932 | AL10: 0.932 | AM10: 0.932 | AN10: 0.932 | AO10: 0.932 | AP10: 0.932 | AQ10: 0.932 | AR10: 0 | AS10: 0 | AT10: 0 | AU10: 0 | AV10: 0.929 | AW10: 0.929 | AX10: 0.929 | AY10: 0.929 | AZ10: 0.929 | BA10: 0.929 | BB10: 0.929 | BC10: 0.929 | BD10: =+AR10 -> 0 | BE10: =+AS10 -> 0 | BF10: =+AT10 -> 0 | BG10: =+AU10 -> 0 | BH10: =+AV10 -> 0.929 | BI10: =+AW10 -> 0.929 | BJ10: =+AX10 -> 0.929 | BK10: =+AY10 -> 0.929 | ... MX10: =+ML10 -> 0.929 | MY10: x
B11: PITTSFIELD HYDRO | C11: =+O11 -> 0.653 | D11: =+P11 -> 0.653 | E11: =+Q11 -> 0.653 | F11: =+R11 -> 0.653 | G11: =+S11 -> 0.653 | H11: 0.225 | I11: 0.225 | J11: 0.225 | K11: 0.225 | L11: 0.653 | M11: 0.653 | N11: 0.653 | O11: 0.653 | P11: 0.653 | Q11: 0.653 | R11: 0.653 | S11: 0.653 | T11: 0.216 | U11: 0.216 | V11: 0.216 | W11: 0.216 | X11: 0.68 | Y11: 0.68 | Z11: 0.68 | AA11: 0.68 | AB11: 0.68 | AC11: 0.68 | AD11: 0.68 | AE11: 0.68 | AF11: 0.128 | AG11: 0.128 | AH11: 0.128 | AI11: 0.128 | AJ11: 0.629 | AK11: 0.629 | AL11: 0.629 | AM11: 0.629 | AN11: 0.629 | AO11: 0.629 | AP11: 0.629 | AQ11: 0.629 | AR11: 0.041 | AS11: 0.041 | AT11: 0.041 | AU11: 0.041 | AV11: 0.661 | AW11: 0.661 | AX11: 0.661 | AY11: 0.661 | AZ11: 0.661 | BA11: 0.661 | BB11: 0.661 | BC11: 0.661 | BD11: =+AR11 -> 0.041 | BE11: =+AS11 -> 0.041 | BF11: =+AT11 -> 0.041 | BG11: =+AU11 -> 0.041 | BH11: =+AV11 -> 0.661 | BI11: =+AW11 -> 0.661 | BJ11: =+AX11 -> 0.661 | BK11: =+AY11 -> 0.661 | ... MX11: =+ML11 -> 0.661 | MY11: x
B12: Fox Island Diesel | C12: =+O12 -> 1.54 | D12: =+P12 -> 1.54 | E12: =+Q12 -> 1.54 | F12: =+R12 -> 1.54 | G12: =+S12 -> 1.54 | H12: 1.54 | I12: 1.54 | J12: 1.54 | K12: 1.54 | L12: 1.54 | M12: 1.54 | N12: 1.54 | O12: 1.54 | P12: 1.54 | Q12: 1.54 | R12: 1.54 | S12: 1.54 | T12: 1.54 | U12: 1.54 | V12: 1.54 | W12: 1.54 | X12: 1.54 | Y12: 1.54 | Z12: 1.54 | AA12: 1.54 | AB12: 1.54 | AC12: 1.54 | AD12: 1.54 | AE12: 1.54 | AF12: 1.54 | AG12: 1.54 | AH12: 1.54 | AI12: 1.54 | AJ12: 1.54 | AK12: 1.54 | AL12: 1.54 | AM12: 1.54 | AN12: 1.54 | AO12: 1.54 | AP12: 1.54 | AQ12: 1.54 | AR12: 1.54 | AS12: 1.54 | AT12: 1.54 | AU12: 1.54 | AV12: 1.54 | AW12: 1.54 | AX12: 1.54 | AY12: 1.54 | AZ12: 1.54 | BA12: 1.54 | BB12: 1.54 | BC12: 1.54 | BD12: =+AR12 -> 1.54 | BE12: =+AS12 -> 1.54 | BF12: =+AT12 -> 1.54 | BG12: =+AU12 -> 1.54 | BH12: =+AV12 -> 1.54 | BI12: =+AW12 -> 1.54 | BJ12: =+AX12 -> 1.54 | BK12: =+AY12 -> 1.54 | ... MX12: =+ML12 -> 1.54 | MY12: x
B13: Swanton Gas Turbine 1 | C13: =+O13 -> 19.304 | D13: =+P13 -> 19.304 | E13: =+Q13 -> 19.304 | F13: =+R13 -> 19.304 | G13: =+S13 -> 19.304 | H13: 19.304 | I13: 19.304 | J13: 19.304 | K13: 19.304 | L13: 19.304 | M13: 19.304 | N13: 19.304 | O13: 19.304 | P13: 19.304 | Q13: 19.304 | R13: 19.304 | S13: 19.304 | T13: 19.304 | U13: 19.304 | V13: 19.304 | W13: 19.304 | X13: 19.304 | Y13: 19.304 | Z13: 19.304 | AA13: 19.304 | AB13: 19.304 | AC13: 19.304 | AD13: 19.304 | AE13: 19.304 | AF13: 19.304 | AG13: 19.304 | AH13: 19.304 | AI13: 19.304 | AJ13: 19.304 | AK13: 19.304 | AL13: 19.304 | AM13: 19.304 | AN13: 19.304 | AO13: 19.304 | AP13: 19.304 | AQ13: 19.304 | AR13: 19.304 | AS13: 19.304 | AT13: 19.304 | AU13: 19.304 | AV13: 19.304 | AW13: 19.304 | AX13: 19.304 | AY13: 19.304 | AZ13: 19.304 | BA13: 19.304 | BB13: 19.304 | BC13: 19.304 | BD13: =+AR13 -> 19.304 | BE13: =+AS13 -> 19.304 | BF13: =+AT13 -> 19.304 | BG13: =+AU13 -> 19.304 | BH13: =+AV13 -> 19.304 | BI13: =+AW13 -> 19.304 | BJ13: =+AX13 -> 19.304 | BK13: =+AY13 -> 19.304 | ... MX13: =+ML13 -> 19.304 | MY13: x
B14: Swanton Gas Turbine 2 | C14: =+O14 -> 19.349 | D14: =+P14 -> 19.349 | E14: =+Q14 -> 19.349 | F14: =+R14 -> 19.349 | G14: =+S14 -> 19.349 | H14: 19.349 | I14: 19.349 | J14: 19.349 | K14: 19.349 | L14: 19.349 | M14: 19.349 | N14: 19.349 | O14: 19.349 | P14: 19.349 | Q14: 19.349 | R14: 19.349 | S14: 19.349 | T14: 19.349 | U14: 19.349 | V14: 19.349 | W14: 19.349 | X14: 19.349 | Y14: 19.349 | Z14: 19.349 | AA14: 19.349 | AB14: 19.349 | AC14: 19.349 | AD14: 19.349 | AE14: 19.349 | AF14: 19.349 | AG14: 19.349 | AH14: 19.349 | AI14: 19.349 | AJ14: 19.349 | AK14: 19.349 | AL14: 19.349 | AM14: 19.349 | AN14: 19.349 | AO14: 19.349 | AP14: 19.349 | AQ14: 19.349 | AR14: 19.349 | AS14: 19.349 | AT14: 19.349 | AU14: 19.349 | AV14: 19.349 | AW14: 19.349 | AX14: 19.349 | AY14: 19.349 | AZ14: 19.349 | BA14: 19.349 | BB14: 19.349 | BC14: 19.349 | BD14: =+AR14 -> 19.349 | BE14: =+AS14 -> 19.349 | BF14: =+AT14 -> 19.349 | BG14: =+AU14 -> 19.349 | BH14: =+AV14 -> 19.349 | BI14: =+AW14 -> 19.349 | BJ14: =+AX14 -> 19.349 | BK14: =+AY14 -> 19.349 | ... MX14: =+ML14 -> 19.349 | MY14: x
B15: WMA Chester Solar 1 | C15: =+O15 -> 0 | D15: =+P15 -> 0 | E15: =+Q15 -> 0 | F15: =+R15 -> 0 | G15: =+S15 -> 0 | H15: 1.904 | I15: 1.904 | J15: 1.904 | K15: 1.904 | L15: 0 | M15: 0 | N15: 0 | O15: 0 | P15: 0 | Q15: 0 | R15: 0 | S15: 0 | T15: 1.904 | U15: 1.904 | V15: 1.904 | W15: 1.904 | X15: 0 | Y15: 0 | Z15: 0 | AA15: 0 | AB15: 0 | AC15: 0 | AD15: 0 | AE15: 0 | AF15: 1.904 | AG15: 1.904 | AH15: 1.904 | AI15: 1.904 | AJ15: 0 | AK15: 0 | AL15: 0 | AM15: 0 | AN15: 0 | AO15: 0 | AP15: 0 | AQ15: 0 | AR15: 1.904 | AS15: 1.904 | AT15: 1.904 | AU15: 1.904 | AV15: 0 | AW15: 0 | AX15: 0 | AY15: 0 | AZ15: 0 | BA15: 0 | BB15: 0 | BC15: 0 | BD15: =+AR15 -> 1.904 | BE15: =+AS15 -> 1.904 | BF15: =+AT15 -> 1.904 | BG15: =+AU15 -> 1.904 | BH15: =+AV15 -> 0 | BI15: =+AW15 -> 0 | BJ15: =+AX15 -> 0 | BK15: =+AY15 -> 0 | ... HO15: =+HC15 -> 0 | MY15: x
MY16: x
MY17: x
B18: Qualified Capacity | C18: Update 3/19/21 with ISO spreadsheet - "FCA_Obligations.xlsx" | MY18: x
A19: Generator Name | B19: BLACKSTONE HYDRO LOAD REDUCER | C19: 0.559 | D19: 0.559 | E19: 0.559 | F19: 0.559 | G19: 0.559 | H19: 0.148 | I19: 0.148 | J19: 0.148 | K19: 0.148 | L19: 0.559 | M19: 0.559 | N19: 0.559 | O19: 0.559 | P19: 0.559 | Q19: 0.559 | R19: 0.559 | S19: 0.559 | T19: 0.167 | U19: 0.167 | V19: 0.167 | W19: 0.167 | X19: 0.467 | Y19: 0.467 | Z19: 0.467 | AA19: 0.467 | AB19: 0.467 | AC19: 0.467 | AD19: 0.467 | AE19: 0.467 | AF19: 0.166 | AG19: 0.166 | AH19: 0.166 | AI19: 0.166 | AJ19: 0.421 | AK19: 0.421 | AL19: 0.421 | AM19: 0.421 | AN19: 0.421 | AO19: 0.421 | AP19: 0.421 | AQ19: 0.421 | AR19: 0.175 | AS19: 0.175 | AT19: 0.175 | AU19: 0.175 | AV19: 0.472 | AW19: 0.472 | AX19: 0.472 | AY19: 0.472 | AZ19: 0.472 | BA19: 0.472 | BB19: 0.472 | BC19: 0.472 | BD19: =+AR19 -> 0.175 | BE19: =+AS19 -> 0.175 | BF19: =+AT19 -> 0.175 | BG19: =+AU19 -> 0.175 | BH19: =+AV19 -> 0.472 | BI19: =+AW19 -> 0.472 | BJ19: =+AX19 -> 0.472 | BK19: =+AY19 -> 0.472 | ... MX19: =+ML19 -> 0.472 | MY19: x
B20: BARKER LOWER HYDRO | C20: 0.771 | D20: 0.771 | E20: 0.771 | F20: 0.771 | G20: 0.771 | H20: 0.312 | I20: 0.312 | J20: 0.312 | K20: 0.312 | L20: 0.771 | M20: 0.771 | N20: 0.771 | O20: 0.771 | P20: 0.771 | Q20: 0.771 | R20: 0.771 | S20: 0.771 | T20: 0.312 | U20: 0.312 | V20: 0.312 | W20: 0.312 | X20: 0.767 | Y20: 0.767 | Z20: 0.767 | AA20: 0.767 | AB20: 0.767 | AC20: 0.767 | AD20: 0.767 | AE20: 0.767 | AF20: 0.104 | AG20: 0.104 | AH20: 0.104 | AI20: 0.104 | AJ20: 0.707 | AK20: 0.707 | AL20: 0.707 | AM20: 0.707 | AN20: 0.707 | AO20: 0.707 | AP20: 0.707 | AQ20: 0.707 | AR20: 0 | AS20: 0 | AT20: 0 | AU20: 0 | AV20: 0.677 | AW20: 0.677 | AX20: 0.677 | AY20: 0.677 | AZ20: 0.677 | BA20: 0.677 | BB20: 0.677 | BC20: 0.677 | BD20: =+AR20 -> 0 | BE20: =+AS20 -> 0 | BF20: =+AT20 -> 0 | BG20: =+AU20 -> 0 | BH20: =+AV20 -> 0.677 | BI20: =+AW20 -> 0.677 | BJ20: =+AX20 -> 0.677 | BK20: =+AY20 -> 0.677 | ... MX20: =+ML20 -> 0.677 | MY20: x
B21: BARKER UPPER HYDRO | C21: 0.664 | D21: 0.664 | E21: 0.664 | F21: 0.664 | G21: 0.664 | H21: 0.336 | I21: 0.336 | J21: 0.336 | K21: 0.336 | L21: 0.664 | M21: 0.664 | N21: 0.664 | O21: 0.664 | P21: 0.664 | Q21: 0.664 | R21: 0.664 | S21: 0.664 | T21: 0.29 | U21: 0.29 | V21: 0.29 | W21: 0.29 | X21: 0.611 | Y21: 0.611 | Z21: 0.611 | AA21: 0.611 | AB21: 0.611 | AC21: 0.611 | AD21: 0.611 | AE21: 0.611 | AF21: 0.099 | AG21: 0.099 | AH21: 0.099 | AI21: 0.099 | AJ21: 0.602 | AK21: 0.602 | AL21: 0.602 | AM21: 0.602 | AN21: 0.602 | AO21: 0.602 | AP21: 0.602 | AQ21: 0.602 | AR21: 0.013 | AS21: 0.013 | AT21: 0.013 | AU21: 0.013 | AV21: 0.648 | AW21: 0.648 | AX21: 0.648 | AY21: 0.648 | AZ21: 0.648 | BA21: 0.648 | BB21: 0.648 | BC21: 0.648 | BD21: =+AR21 -> 0.013 | BE21: =+AS21 -> 0.013 | BF21: =+AT21 -> 0.013 | BG21: =+AU21 -> 0.013 | BH21: =+AV21 -> 0.648 | BI21: =+AW21 -> 0.648 | BJ21: =+AX21 -> 0.648 | BK21: =+AY21 -> 0.648 | ... MX21: =+ML21 -> 0.648 | MY21: x
