Workbook
Name inflation: [1]Inflation!$R$44
Name InfRate: [1]Inflation!$R$45
Name Product: [2]LOOKUPS!$B$3:$B$13
Name Purchase_Sale: [2]LOOKUPS!$F$3:$F$4
Name PwrCsts: '[3]Power Costs'!$A$1
Name Resource_Group: [4]!Table1[Resource Group]
Name Supplier: [2]LOOKUPS!$N$3:$N$18
Name Supplier_ID: [2]LOOKUPS!$O$3:$O$18
Name System_Name: [4]!Table2[[#All],[System Name]]

Sheet READ_ME
B2: Change Date | C2: Change
B3: 44720 | C3: Updated with current ICAP forward prices and AEO 2022 for use in Northfield's FY budget and Orleans IRP.
B7: Methodology | C7: Description
B8: Gas Prices | C8: Gas prices are monthly from ICAP through 2023. Then the forecast uses EIA's AEO and the ICAP year 1 shape.
B9: Basis Prices | C9: Algonquin citygate prices are used as reported by ICAP.
B10: Electricity Prices | C10: Electricity prices are monthly on/off peak from ICAP thorugh 2024 (two years). Thereafter, they calculate off of the HH forecast using the implied heat rate and on/off peak spread from the previous year (ICAP marks).

Sheet Hour_Distribution
A1: Date | B1: MMM-YY | C1: Year | D1: Month | E1: Days | F1: Weekdays | G1: Weekend_Days | H1: Obs_Holidays | I1: DST | J1: On_Peak | K1: Off_Peak | L1: 2X8 | M1: 2X16 | N1: 2X24 | O1: 5X8 | P1: 5X16 | Q1: 7X8 | R1: 7X16 | S1: 7X24 | T1: On_% | U1: Off_%
A2: 43466 | B2: =A2 -> 43466 | C2: =YEAR(A2) -> 2019 | D2: =MONTH(A2) -> 1 | E2: =EOMONTH(A2,0)-A2+1 -> 31 | F2: =NETWORKDAYS(A2,EOMONTH(A2,0)) -> 23 | G2: =+E2-F2 -> 8 | H2: 1 | I2: 0 | J2: =16*(F2-H2) -> 352 | K2: =+S2-J2 -> 392 | L2: =+G2*8 -> 64 | M2: =16*G2 -> 128 | N2: =+G2*24 -> 192 | O2: =+F2*8 -> 184 | P2: =16*F2 -> 368 | Q2: =8*E2 -> 248 | R2: =16*E2 -> 496 | S2: =E2*24+I2 -> 744 | T2: =+J2/SUM(J2:K2) -> 0.47311828 | U2: =K2/SUM(J2:K2) -> 0.52688172
A3: =+EOMONTH(A2,0)+1 -> 43497 | B3: =A3 -> 43497 | C3: =YEAR(A3) -> 2019 | D3: =MONTH(A3) -> 2 | E3: =EOMONTH(A3,0)-A3+1 -> 28 | F3: =NETWORKDAYS(A3,EOMONTH(A3,0)) -> 20 | G3: =+E3-F3 -> 8 | H3: 0 | I3: 0 | J3: =16*(F3-H3) -> 320 | K3: =+S3-J3 -> 352 | L3: =+G3*8 -> 64 | M3: =16*G3 -> 128 | N3: =+G3*24 -> 192 | O3: =+F3*8 -> 160 | P3: =16*F3 -> 320 | Q3: =8*E3 -> 224 | R3: =16*E3 -> 448 | S3: =E3*24+I3 -> 672 | T3: =+J3/SUM(J3:K3) -> 0.47619048 | U3: =K3/SUM(J3:K3) -> 0.52380952
A4: =+EOMONTH(A3,0)+1 -> 43525 | B4: =A4 -> 43525 | C4: =YEAR(A4) -> 2019 | D4: =MONTH(A4) -> 3 | E4: =EOMONTH(A4,0)-A4+1 -> 31 | F4: =NETWORKDAYS(A4,EOMONTH(A4,0)) -> 21 | G4: =+E4-F4 -> 10 | H4: 0 | I4: -1 | J4: =16*(F4-H4) -> 336 | K4: =+S4-J4 -> 407 | L4: =+G4*8 -> 80 | M4: =16*G4 -> 160 | N4: =+G4*24 -> 240 | O4: =+F4*8 -> 168 | P4: =16*F4 -> 336 | Q4: =8*E4 -> 248 | R4: =16*E4 -> 496 | S4: =E4*24+I4 -> 743 | T4: =+J4/SUM(J4:K4) -> 0.45222073 | U4: =K4/SUM(J4:K4) -> 0.54777927
A5: =+EOMONTH(A4,0)+1 -> 43556 | B5: =A5 -> 43556 | C5: =YEAR(A5) -> 2019 | D5: =MONTH(A5) -> 4 | E5: =EOMONTH(A5,0)-A5+1 -> 30 | F5: =NETWORKDAYS(A5,EOMONTH(A5,0)) -> 22 | G5: =+E5-F5 -> 8 | H5: 0 | I5: 0 | J5: =16*(F5-H5) -> 352 | K5: =+S5-J5 -> 368 | L5: =+G5*8 -> 64 | M5: =16*G5 -> 128 | N5: =+G5*24 -> 192 | O5: =+F5*8 -> 176 | P5: =16*F5 -> 352 | Q5: =8*E5 -> 240 | R5: =16*E5 -> 480 | S5: =E5*24+I5 -> 720 | T5: =+J5/SUM(J5:K5) -> 0.48888889 | U5: =K5/SUM(J5:K5) -> 0.51111111
A6: =+EOMONTH(A5,0)+1 -> 43586 | B6: =A6 -> 43586 | C6: =YEAR(A6) -> 2019 | D6: =MONTH(A6) -> 5 | E6: =EOMONTH(A6,0)-A6+1 -> 31 | F6: =NETWORKDAYS(A6,EOMONTH(A6,0)) -> 23 | G6: =+E6-F6 -> 8 | H6: 1 | I6: 0 | J6: =16*(F6-H6) -> 352 | K6: =+S6-J6 -> 392 | L6: =+G6*8 -> 64 | M6: =16*G6 -> 128 | N6: =+G6*24 -> 192 | O6: =+F6*8 -> 184 | P6: =16*F6 -> 368 | Q6: =8*E6 -> 248 | R6: =16*E6 -> 496 | S6: =E6*24+I6 -> 744 | T6: =+J6/SUM(J6:K6) -> 0.47311828 | U6: =K6/SUM(J6:K6) -> 0.52688172
A7: =+EOMONTH(A6,0)+1 -> 43617 | B7: =A7 -> 43617 | C7: =YEAR(A7) -> 2019 | D7: =MONTH(A7) -> 6 | E7: =EOMONTH(A7,0)-A7+1 -> 30 | F7: =NETWORKDAYS(A7,EOMONTH(A7,0)) -> 20 | G7: =+E7-F7 -> 10 | H7: 0 | I7: 0 | J7: =16*(F7-H7) -> 320 | K7: =+S7-J7 -> 400 | L7: =+G7*8 -> 80 | M7: =16*G7 -> 160 | N7: =+G7*24 -> 240 | O7: =+F7*8 -> 160 | P7: =16*F7 -> 320 | Q7: =8*E7 -> 240 | R7: =16*E7 -> 480 | S7: =E7*24+I7 -> 720 | T7: =+J7/SUM(J7:K7) -> 0.44444444 | U7: =K7/SUM(J7:K7) -> 0.55555556
A8: =+EOMONTH(A7,0)+1 -> 43647 | B8: =A8 -> 43647 | C8: =YEAR(A8) -> 2019 | D8: =MONTH(A8) -> 7 | E8: =EOMONTH(A8,0)-A8+1 -> 31 | F8: =NETWORKDAYS(A8,EOMONTH(A8,0)) -> 23 | G8: =+E8-F8 -> 8 | H8: 1 | I8: 0 | J8: =16*(F8-H8) -> 352 | K8: =+S8-J8 -> 392 | L8: =+G8*8 -> 64 | M8: =16*G8 -> 128 | N8: =+G8*24 -> 192 | O8: =+F8*8 -> 184 | P8: =16*F8 -> 368 | Q8: =8*E8 -> 248 | R8: =16*E8 -> 496 | S8: =E8*24+I8 -> 744 | T8: =+J8/SUM(J8:K8) -> 0.47311828 | U8: =K8/SUM(J8:K8) -> 0.52688172
A9: =+EOMONTH(A8,0)+1 -> 43678 | B9: =A9 -> 43678 | C9: =YEAR(A9) -> 2019 | D9: =MONTH(A9) -> 8 | E9: =EOMONTH(A9,0)-A9+1 -> 31 | F9: =NETWORKDAYS(A9,EOMONTH(A9,0)) -> 22 | G9: =+E9-F9 -> 9 | H9: 0 | I9: 0 | J9: =16*(F9-H9) -> 352 | K9: =+S9-J9 -> 392 | L9: =+G9*8 -> 72 | M9: =16*G9 -> 144 | N9: =+G9*24 -> 216 | O9: =+F9*8 -> 176 | P9: =16*F9 -> 352 | Q9: =8*E9 -> 248 | R9: =16*E9 -> 496 | S9: =E9*24+I9 -> 744 | T9: =+J9/SUM(J9:K9) -> 0.47311828 | U9: =K9/SUM(J9:K9) -> 0.52688172
A10: =+EOMONTH(A9,0)+1 -> 43709 | B10: =A10 -> 43709 | C10: =YEAR(A10) -> 2019 | D10: =MONTH(A10) -> 9 | E10: =EOMONTH(A10,0)-A10+1 -> 30 | F10: =NETWORKDAYS(A10,EOMONTH(A10,0)) -> 21 | G10: =+E10-F10 -> 9 | H10: 1 | I10: 0 | J10: =16*(F10-H10) -> 320 | K10: =+S10-J10 -> 400 | L10: =+G10*8 -> 72 | M10: =16*G10 -> 144 | N10: =+G10*24 -> 216 | O10: =+F10*8 -> 168 | P10: =16*F10 -> 336 | Q10: =8*E10 -> 240 | R10: =16*E10 -> 480 | S10: =E10*24+I10 -> 720 | T10: =+J10/SUM(J10:K10) -> 0.44444444 | U10: =K10/SUM(J10:K10) -> 0.55555556
A11: =+EOMONTH(A10,0)+1 -> 43739 | B11: =A11 -> 43739 | C11: =YEAR(A11) -> 2019 | D11: =MONTH(A11) -> 10 | E11: =EOMONTH(A11,0)-A11+1 -> 31 | F11: =NETWORKDAYS(A11,EOMONTH(A11,0)) -> 23 | G11: =+E11-F11 -> 8 | H11: 0 | I11: 0 | J11: =16*(F11-H11) -> 368 | K11: =+S11-J11 -> 376 | L11: =+G11*8 -> 64 | M11: =16*G11 -> 128 | N11: =+G11*24 -> 192 | O11: =+F11*8 -> 184 | P11: =16*F11 -> 368 | Q11: =8*E11 -> 248 | R11: =16*E11 -> 496 | S11: =E11*24+I11 -> 744 | T11: =+J11/SUM(J11:K11) -> 0.49462366 | U11: =K11/SUM(J11:K11) -> 0.50537634
A12: =+EOMONTH(A11,0)+1 -> 43770 | B12: =A12 -> 43770 | C12: =YEAR(A12) -> 2019 | D12: =MONTH(A12) -> 11 | E12: =EOMONTH(A12,0)-A12+1 -> 30 | F12: =NETWORKDAYS(A12,EOMONTH(A12,0)) -> 21 | G12: =+E12-F12 -> 9 | H12: 1 | I12: 1 | J12: =16*(F12-H12) -> 320 | K12: =+S12-J12 -> 401 | L12: =+G12*8 -> 72 | M12: =16*G12 -> 144 | N12: =+G12*24 -> 216 | O12: =+F12*8 -> 168 | P12: =16*F12 -> 336 | Q12: =8*E12 -> 240 | R12: =16*E12 -> 480 | S12: =E12*24+I12 -> 721 | T12: =+J12/SUM(J12:K12) -> 0.44382802 | U12: =K12/SUM(J12:K12) -> 0.55617198
A13: =+EOMONTH(A12,0)+1 -> 43800 | B13: =A13 -> 43800 | C13: =YEAR(A13) -> 2019 | D13: =MONTH(A13) -> 12 | E13: =EOMONTH(A13,0)-A13+1 -> 31 | F13: =NETWORKDAYS(A13,EOMONTH(A13,0)) -> 22 | G13: =+E13-F13 -> 9 | H13: 1 | I13: 0 | J13: =16*(F13-H13) -> 336 | K13: =+S13-J13 -> 408 | L13: =+G13*8 -> 72 | M13: =16*G13 -> 144 | N13: =+G13*24 -> 216 | O13: =+F13*8 -> 176 | P13: =16*F13 -> 352 | Q13: =8*E13 -> 248 | R13: =16*E13 -> 496 | S13: =E13*24+I13 -> 744 | T13: =+J13/SUM(J13:K13) -> 0.4516129 | U13: =K13/SUM(J13:K13) -> 0.5483871
A14: =+EOMONTH(A13,0)+1 -> 43831 | B14: =A14 -> 43831 | C14: =YEAR(A14) -> 2020 | D14: =MONTH(A14) -> 1 | E14: =EOMONTH(A14,0)-A14+1 -> 31 | F14: =NETWORKDAYS(A14,EOMONTH(A14,0)) -> 23 | G14: =+E14-F14 -> 8 | H14: 1 | I14: =+I2 -> 0 | J14: =16*(F14-H14) -> 352 | K14: =+S14-J14 -> 392 | L14: =+G14*8 -> 64 | M14: =16*G14 -> 128 | N14: =+G14*24 -> 192 | O14: =+F14*8 -> 184 | P14: =16*F14 -> 368 | Q14: =8*E14 -> 248 | R14: =16*E14 -> 496 | S14: =E14*24+I14 -> 744 | T14: =+J14/SUM(J14:K14) -> 0.47311828 | U14: =K14/SUM(J14:K14) -> 0.52688172
A15: =+EOMONTH(A14,0)+1 -> 43862 | B15: =A15 -> 43862 | C15: =YEAR(A15) -> 2020 | D15: =MONTH(A15) -> 2 | E15: =EOMONTH(A15,0)-A15+1 -> 29 | F15: =NETWORKDAYS(A15,EOMONTH(A15,0)) -> 20 | G15: =+E15-F15 -> 9 | H15: 0 | I15: =+I3 -> 0 | J15: =16*(F15-H15) -> 320 | K15: =+S15-J15 -> 376 | L15: =+G15*8 -> 72 | M15: =16*G15 -> 144 | N15: =+G15*24 -> 216 | O15: =+F15*8 -> 160 | P15: =16*F15 -> 320 | Q15: =8*E15 -> 232 | R15: =16*E15 -> 464 | S15: =E15*24+I15 -> 696 | T15: =+J15/SUM(J15:K15) -> 0.45977011 | U15: =K15/SUM(J15:K15) -> 0.54022989
A16: =+EOMONTH(A15,0)+1 -> 43891 | B16: =A16 -> 43891 | C16: =YEAR(A16) -> 2020 | D16: =MONTH(A16) -> 3 | E16: =EOMONTH(A16,0)-A16+1 -> 31 | F16: =NETWORKDAYS(A16,EOMONTH(A16,0)) -> 22 | G16: =+E16-F16 -> 9 | H16: 0 | I16: =+I4 -> -1 | J16: =16*(F16-H16) -> 352 | K16: =+S16-J16 -> 391 | L16: =+G16*8 -> 72 | M16: =16*G16 -> 144 | N16: =+G16*24 -> 216 | O16: =+F16*8 -> 176 | P16: =16*F16 -> 352 | Q16: =8*E16 -> 248 | R16: =16*E16 -> 496 | S16: =E16*24+I16 -> 743 | T16: =+J16/SUM(J16:K16) -> 0.47375505 | U16: =K16/SUM(J16:K16) -> 0.52624495
A17: =+EOMONTH(A16,0)+1 -> 43922 | B17: =A17 -> 43922 | C17: =YEAR(A17) -> 2020 | D17: =MONTH(A17) -> 4 | E17: =EOMONTH(A17,0)-A17+1 -> 30 | F17: =NETWORKDAYS(A17,EOMONTH(A17,0)) -> 22 | G17: =+E17-F17 -> 8 | H17: 0 | I17: =+I5 -> 0 | J17: =16*(F17-H17) -> 352 | K17: =+S17-J17 -> 368 | L17: =+G17*8 -> 64 | M17: =16*G17 -> 128 | N17: =+G17*24 -> 192 | O17: =+F17*8 -> 176 | P17: =16*F17 -> 352 | Q17: =8*E17 -> 240 | R17: =16*E17 -> 480 | S17: =E17*24+I17 -> 720 | T17: =+J17/SUM(J17:K17) -> 0.48888889 | U17: =K17/SUM(J17:K17) -> 0.51111111
A18: =+EOMONTH(A17,0)+1 -> 43952 | B18: =A18 -> 43952 | C18: =YEAR(A18) -> 2020 | D18: =MONTH(A18) -> 5 | E18: =EOMONTH(A18,0)-A18+1 -> 31 | F18: =NETWORKDAYS(A18,EOMONTH(A18,0)) -> 21 | G18: =+E18-F18 -> 10 | H18: 1 | I18: =+I6 -> 0 | J18: =16*(F18-H18) -> 320 | K18: =+S18-J18 -> 424 | L18: =+G18*8 -> 80 | M18: =16*G18 -> 160 | N18: =+G18*24 -> 240 | O18: =+F18*8 -> 168 | P18: =16*F18 -> 336 | Q18: =8*E18 -> 248 | R18: =16*E18 -> 496 | S18: =E18*24+I18 -> 744 | T18: =+J18/SUM(J18:K18) -> 0.43010753 | U18: =K18/SUM(J18:K18) -> 0.56989247
A19: =+EOMONTH(A18,0)+1 -> 43983 | B19: =A19 -> 43983 | C19: =YEAR(A19) -> 2020 | D19: =MONTH(A19) -> 6 | E19: =EOMONTH(A19,0)-A19+1 -> 30 | F19: =NETWORKDAYS(A19,EOMONTH(A19,0)) -> 22 | G19: =+E19-F19 -> 8 | H19: 0 | I19: =+I7 -> 0 | J19: =16*(F19-H19) -> 352 | K19: =+S19-J19 -> 368 | L19: =+G19*8 -> 64 | M19: =16*G19 -> 128 | N19: =+G19*24 -> 192 | O19: =+F19*8 -> 176 | P19: =16*F19 -> 352 | Q19: =8*E19 -> 240 | R19: =16*E19 -> 480 | S19: =E19*24+I19 -> 720 | T19: =+J19/SUM(J19:K19) -> 0.48888889 | U19: =K19/SUM(J19:K19) -> 0.51111111
A20: =+EOMONTH(A19,0)+1 -> 44013 | B20: =A20 -> 44013 | C20: =YEAR(A20) -> 2020 | D20: =MONTH(A20) -> 7 | E20: =EOMONTH(A20,0)-A20+1 -> 31 | F20: =NETWORKDAYS(A20,EOMONTH(A20,0)) -> 23 | G20: =+E20-F20 -> 8 | H20: 1 | I20: =+I8 -> 0 | J20: =16*(F20-H20) -> 352 | K20: =+S20-J20 -> 392 | L20: =+G20*8 -> 64 | M20: =16*G20 -> 128 | N20: =+G20*24 -> 192 | O20: =+F20*8 -> 184 | P20: =16*F20 -> 368 | Q20: =8*E20 -> 248 | R20: =16*E20 -> 496 | S20: =E20*24+I20 -> 744 | T20: =+J20/SUM(J20:K20) -> 0.47311828 | U20: =K20/SUM(J20:K20) -> 0.52688172
A21: =+EOMONTH(A20,0)+1 -> 44044 | B21: =A21 -> 44044 | C21: =YEAR(A21) -> 2020 | D21: =MONTH(A21) -> 8 | E21: =EOMONTH(A21,0)-A21+1 -> 31 | F21: =NETWORKDAYS(A21,EOMONTH(A21,0)) -> 21 | G21: =+E21-F21 -> 10 | H21: 0 | I21: =+I9 -> 0 | J21: =16*(F21-H21) -> 336 | K21: =+S21-J21 -> 408 | L21: =+G21*8 -> 80 | M21: =16*G21 -> 160 | N21: =+G21*24 -> 240 | O21: =+F21*8 -> 168 | P21: =16*F21 -> 336 | Q21: =8*E21 -> 248 | R21: =16*E21 -> 496 | S21: =E21*24+I21 -> 744 | T21: =+J21/SUM(J21:K21) -> 0.4516129 | U21: =K21/SUM(J21:K21) -> 0.5483871
A22: =+EOMONTH(A21,0)+1 -> 44075 | B22: =A22 -> 44075 | C22: =YEAR(A22) -> 2020 | D22: =MONTH(A22) -> 9 | E22: =EOMONTH(A22,0)-A22+1 -> 30 | F22: =NETWORKDAYS(A22,EOMONTH(A22,0)) -> 22 | G22: =+E22-F22 -> 8 | H22: 1 | I22: =+I10 -> 0 | J22: =16*(F22-H22) -> 336 | K22: =+S22-J22 -> 384 | L22: =+G22*8 -> 64 | M22: =16*G22 -> 128 | N22: =+G22*24 -> 192 | O22: =+F22*8 -> 176 | P22: =16*F22 -> 352 | Q22: =8*E22 -> 240 | R22: =16*E22 -> 480 | S22: =E22*24+I22 -> 720 | T22: =+J22/SUM(J22:K22) -> 0.46666667 | U22: =K22/SUM(J22:K22) -> 0.53333333
A23: =+EOMONTH(A22,0)+1 -> 44105 | B23: =A23 -> 44105 | C23: =YEAR(A23) -> 2020 | D23: =MONTH(A23) -> 10 | E23: =EOMONTH(A23,0)-A23+1 -> 31 | F23: =NETWORKDAYS(A23,EOMONTH(A23,0)) -> 22 | G23: =+E23-F23 -> 9 | H23: 0 | I23: =+I11 -> 0 | J23: =16*(F23-H23) -> 352 | K23: =+S23-J23 -> 392 | L23: =+G23*8 -> 72 | M23: =16*G23 -> 144 | N23: =+G23*24 -> 216 | O23: =+F23*8 -> 176 | P23: =16*F23 -> 352 | Q23: =8*E23 -> 248 | R23: =16*E23 -> 496 | S23: =E23*24+I23 -> 744 | T23: =+J23/SUM(J23:K23) -> 0.47311828 | U23: =K23/SUM(J23:K23) -> 0.52688172
A24: =+EOMONTH(A23,0)+1 -> 44136 | B24: =A24 -> 44136 | C24: =YEAR(A24) -> 2020 | D24: =MONTH(A24) -> 11 | E24: =EOMONTH(A24,0)-A24+1 -> 30 | F24: =NETWORKDAYS(A24,EOMONTH(A24,0)) -> 21 | G24: =+E24-F24 -> 9 | H24: 1 | I24: =+I12 -> 1 | J24: =16*(F24-H24) -> 320 | K24: =+S24-J24 -> 401 | L24: =+G24*8 -> 72 | M24: =16*G24 -> 144 | N24: =+G24*24 -> 216 | O24: =+F24*8 -> 168 | P24: =16*F24 -> 336 | Q24: =8*E24 -> 240 | R24: =16*E24 -> 480 | S24: =E24*24+I24 -> 721 | T24: =+J24/SUM(J24:K24) -> 0.44382802 | U24: =K24/SUM(J24:K24) -> 0.55617198
A25: =+EOMONTH(A24,0)+1 -> 44166 | B25: =A25 -> 44166 | C25: =YEAR(A25) -> 2020 | D25: =MONTH(A25) -> 12 | E25: =EOMONTH(A25,0)-A25+1 -> 31 | F25: =NETWORKDAYS(A25,EOMONTH(A25,0)) -> 23 | G25: =+E25-F25 -> 8 | H25: 1 | I25: =+I13 -> 0 | J25: =16*(F25-H25) -> 352 | K25: =+S25-J25 -> 392 | L25: =+G25*8 -> 64 | M25: =16*G25 -> 128 | N25: =+G25*24 -> 192 | O25: =+F25*8 -> 184 | P25: =16*F25 -> 368 | Q25: =8*E25 -> 248 | R25: =16*E25 -> 496 | S25: =E25*24+I25 -> 744 | T25: =+J25/SUM(J25:K25) -> 0.47311828 | U25: =K25/SUM(J25:K25) -> 0.52688172
... A265: =+EOMONTH(A264,0)+1 -> 51471 | B265: =A265 -> 51471 | C265: =YEAR(A265) -> 2040 | D265: =MONTH(A265) -> 12 | E265: =EOMONTH(A265,0)-A265+1 -> 31 | F265: =NETWORKDAYS(A265,EOMONTH(A265,0)) -> 21 | G265: =+E265-F265 -> 10 | H265: 1 | I265: =+I253 -> 0 | J265: =16*(F265-H265) -> 320 | K265: =+S265-J265 -> 424 | L265: =+G265*8 -> 80 | M265: =16*G265 -> 160 | N265: =+G265*24 -> 240 | O265: =+F265*8 -> 168 | P265: =16*F265 -> 336 | Q265: =8*E265 -> 248 | R265: =16*E265 -> 496 | S265: =E265*24+I265 -> 744 | T265: =+J265/SUM(J265:K265) -> 0.43010753 | U265: =K265/SUM(J265:K265) -> 0.56989247
A266: =+EOMONTH(A265,0)+1 -> 51502 | B266: =A266 -> 51502 | C266: =YEAR(A266) -> 2041 | D266: =MONTH(A266) -> 1 | E266: =EOMONTH(A266,0)-A266+1 -> 31 | F266: =NETWORKDAYS(A266,EOMONTH(A266,0)) -> 23 | G266: =+E266-F266 -> 8 | H266: =+H254 -> 1 | I266: =+I254 -> 0 | J266: =16*(F266-H266) -> 352 | K266: =+S266-J266 -> 392 | L266: =+G266*8 -> 64 | M266: =16*G266 -> 128 | N266: =+G266*24 -> 192 | O266: =+F266*8 -> 184 | P266: =16*F266 -> 368 | Q266: =8*E266 -> 248 | R266: =16*E266 -> 496 | S266: =E266*24+I266 -> 744 | T266: =+J266/SUM(J266:K266) -> 0.47311828 | U266: =K266/SUM(J266:K266) -> 0.52688172
A267: =+EOMONTH(A266,0)+1 -> 51533 | B267: =A267 -> 51533 | C267: =YEAR(A267) -> 2041 | D267: =MONTH(A267) -> 2 | E267: =EOMONTH(A267,0)-A267+1 -> 28 | F267: =NETWORKDAYS(A267,EOMONTH(A267,0)) -> 20 | G267: =+E267-F267 -> 8 | H267: =+H255 -> 0 | I267: =+I255 -> 0 | J267: =16*(F267-H267) -> 320 | K267: =+S267-J267 -> 352 | L267: =+G267*8 -> 64 | M267: =16*G267 -> 128 | N267: =+G267*24 -> 192 | O267: =+F267*8 -> 160 | P267: =16*F267 -> 320 | Q267: =8*E267 -> 224 | R267: =16*E267 -> 448 | S267: =E267*24+I267 -> 672 | T267: =+J267/SUM(J267:K267) -> 0.47619048 | U267: =K267/SUM(J267:K267) -> 0.52380952
A268: =+EOMONTH(A267,0)+1 -> 51561 | B268: =A268 -> 51561 | C268: =YEAR(A268) -> 2041 | D268: =MONTH(A268) -> 3 | E268: =EOMONTH(A268,0)-A268+1 -> 31 | F268: =NETWORKDAYS(A268,EOMONTH(A268,0)) -> 21 | G268: =+E268-F268 -> 10 | H268: =+H256 -> 0 | I268: =+I256 -> -1 | J268: =16*(F268-H268) -> 336 | K268: =+S268-J268 -> 407 | L268: =+G268*8 -> 80 | M268: =16*G268 -> 160 | N268: =+G268*24 -> 240 | O268: =+F268*8 -> 168 | P268: =16*F268 -> 336 | Q268: =8*E268 -> 248 | R268: =16*E268 -> 496 | S268: =E268*24+I268 -> 743 | T268: =+J268/SUM(J268:K268) -> 0.45222073 | U268: =K268/SUM(J268:K268) -> 0.54777927
A269: =+EOMONTH(A268,0)+1 -> 51592 | B269: =A269 -> 51592 | C269: =YEAR(A269) -> 2041 | D269: =MONTH(A269) -> 4 | E269: =EOMONTH(A269,0)-A269+1 -> 30 | F269: =NETWORKDAYS(A269,EOMONTH(A269,0)) -> 22 | G269: =+E269-F269 -> 8 | H269: =+H257 -> 0 | I269: =+I257 -> 0 | J269: =16*(F269-H269) -> 352 | K269: =+S269-J269 -> 368 | L269: =+G269*8 -> 64 | M269: =16*G269 -> 128 | N269: =+G269*24 -> 192 | O269: =+F269*8 -> 176 | P269: =16*F269 -> 352 | Q269: =8*E269 -> 240 | R269: =16*E269 -> 480 | S269: =E269*24+I269 -> 720 | T269: =+J269/SUM(J269:K269) -> 0.48888889 | U269: =K269/SUM(J269:K269) -> 0.51111111
A270: =+EOMONTH(A269,0)+1 -> 51622 | B270: =A270 -> 51622 | C270: =YEAR(A270) -> 2041 | D270: =MONTH(A270) -> 5 | E270: =EOMONTH(A270,0)-A270+1 -> 31 | F270: =NETWORKDAYS(A270,EOMONTH(A270,0)) -> 23 | G270: =+E270-F270 -> 8 | H270: =+H258 -> 1 | I270: =+I258 -> 0 | J270: =16*(F270-H270) -> 352 | K270: =+S270-J270 -> 392 | L270: =+G270*8 -> 64 | M270: =16*G270 -> 128 | N270: =+G270*24 -> 192 | O270: =+F270*8 -> 184 | P270: =16*F270 -> 368 | Q270: =8*E270 -> 248 | R270: =16*E270 -> 496 | S270: =E270*24+I270 -> 744 | T270: =+J270/SUM(J270:K270) -> 0.47311828 | U270: =K270/SUM(J270:K270) -> 0.52688172
A271: =+EOMONTH(A270,0)+1 -> 51653 | B271: =A271 -> 51653 | C271: =YEAR(A271) -> 2041 | D271: =MONTH(A271) -> 6 | E271: =EOMONTH(A271,0)-A271+1 -> 30 | F271: =NETWORKDAYS(A271,EOMONTH(A271,0)) -> 20 | G271: =+E271-F271 -> 10 | H271: =+H259 -> 0 | I271: =+I259 -> 0 | J271: =16*(F271-H271) -> 320 | K271: =+S271-J271 -> 400 | L271: =+G271*8 -> 80 | M271: =16*G271 -> 160 | N271: =+G271*24 -> 240 | O271: =+F271*8 -> 160 | P271: =16*F271 -> 320 | Q271: =8*E271 -> 240 | R271: =16*E271 -> 480 | S271: =E271*24+I271 -> 720 | T271: =+J271/SUM(J271:K271) -> 0.44444444 | U271: =K271/SUM(J271:K271) -> 0.55555556
A272: =+EOMONTH(A271,0)+1 -> 51683 | B272: =A272 -> 51683 | C272: =YEAR(A272) -> 2041 | D272: =MONTH(A272) -> 7 | E272: =EOMONTH(A272,0)-A272+1 -> 31 | F272: =NETWORKDAYS(A272,EOMONTH(A272,0)) -> 23 | G272: =+E272-F272 -> 8 | H272: =+H260 -> 1 | I272: =+I260 -> 0 | J272: =16*(F272-H272) -> 352 | K272: =+S272-J272 -> 392 | L272: =+G272*8 -> 64 | M272: =16*G272 -> 128 | N272: =+G272*24 -> 192 | O272: =+F272*8 -> 184 | P272: =16*F272 -> 368 | Q272: =8*E272 -> 248 | R272: =16*E272 -> 496 | S272: =E272*24+I272 -> 744 | T272: =+J272/SUM(J272:K272) -> 0.47311828 | U272: =K272/SUM(J272:K272) -> 0.52688172
A273: =+EOMONTH(A272,0)+1 -> 51714 | B273: =A273 -> 51714 | C273: =YEAR(A273) -> 2041 | D273: =MONTH(A273) -> 8 | E273: =EOMONTH(A273,0)-A273+1 -> 31 | F273: =NETWORKDAYS(A273,EOMONTH(A273,0)) -> 22 | G273: =+E273-F273 -> 9 | H273: =+H261 -> 0 | I273: =+I261 -> 0 | J273: =16*(F273-H273) -> 352 | K273: =+S273-J273 -> 392 | L273: =+G273*8 -> 72 | M273: =16*G273 -> 144 | N273: =+G273*24 -> 216 | O273: =+F273*8 -> 176 | P273: =16*F273 -> 352 | Q273: =8*E273 -> 248 | R273: =16*E273 -> 496 | S273: =E273*24+I273 -> 744 | T273: =+J273/SUM(J273:K273) -> 0.47311828 | U273: =K273/SUM(J273:K273) -> 0.52688172
A274: =+EOMONTH(A273,0)+1 -> 51745 | B274: =A274 -> 51745 | C274: =YEAR(A274) -> 2041 | D274: =MONTH(A274) -> 9 | E274: =EOMONTH(A274,0)-A274+1 -> 30 | F274: =NETWORKDAYS(A274,EOMONTH(A274,0)) -> 21 | G274: =+E274-F274 -> 9 | H274: =+H262 -> 1 | I274: =+I262 -> 0 | J274: =16*(F274-H274) -> 320 | K274: =+S274-J274 -> 400 | L274: =+G274*8 -> 72 | M274: =16*G274 -> 144 | N274: =+G274*24 -> 216 | O274: =+F274*8 -> 168 | P274: =16*F274 -> 336 | Q274: =8*E274 -> 240 | R274: =16*E274 -> 480 | S274: =E274*24+I274 -> 720 | T274: =+J274/SUM(J274:K274) -> 0.44444444 | U274: =K274/SUM(J274:K274) -> 0.55555556
A275: =+EOMONTH(A274,0)+1 -> 51775 | B275: =A275 -> 51775 | C275: =YEAR(A275) -> 2041 | D275: =MONTH(A275) -> 10 | E275: =EOMONTH(A275,0)-A275+1 -> 31 | F275: =NETWORKDAYS(A275,EOMONTH(A275,0)) -> 23 | G275: =+E275-F275 -> 8 | H275: =+H263 -> 0 | I275: =+I263 -> 0 | J275: =16*(F275-H275) -> 368 | K275: =+S275-J275 -> 376 | L275: =+G275*8 -> 64 | M275: =16*G275 -> 128 | N275: =+G275*24 -> 192 | O275: =+F275*8 -> 184 | P275: =16*F275 -> 368 | Q275: =8*E275 -> 248 | R275: =16*E275 -> 496 | S275: =E275*24+I275 -> 744 | T275: =+J275/SUM(J275:K275) -> 0.49462366 | U275: =K275/SUM(J275:K275) -> 0.50537634
A276: =+EOMONTH(A275,0)+1 -> 51806 | B276: =A276 -> 51806 | C276: =YEAR(A276) -> 2041 | D276: =MONTH(A276) -> 11 | E276: =EOMONTH(A276,0)-A276+1 -> 30 | F276: =NETWORKDAYS(A276,EOMONTH(A276,0)) -> 21 | G276: =+E276-F276 -> 9 | H276: =+H264 -> 1 | I276: =+I264 -> 1 | J276: =16*(F276-H276) -> 320 | K276: =+S276-J276 -> 401 | L276: =+G276*8 -> 72 | M276: =16*G276 -> 144 | N276: =+G276*24 -> 216 | O276: =+F276*8 -> 168 | P276: =16*F276 -> 336 | Q276: =8*E276 -> 240 | R276: =16*E276 -> 480 | S276: =E276*24+I276 -> 721 | T276: =+J276/SUM(J276:K276) -> 0.44382802 | U276: =K276/SUM(J276:K276) -> 0.55617198
A277: =+EOMONTH(A276,0)+1 -> 51836 | B277: =A277 -> 51836 | C277: =YEAR(A277) -> 2041 | D277: =MONTH(A277) -> 12 | E277: =EOMONTH(A277,0)-A277+1 -> 31 | F277: =NETWORKDAYS(A277,EOMONTH(A277,0)) -> 22 | G277: =+E277-F277 -> 9 | H277: =+H265 -> 1 | I277: =+I265 -> 0 | J277: =16*(F277-H277) -> 336 | K277: =+S277-J277 -> 408 | L277: =+G277*8 -> 72 | M277: =16*G277 -> 144 | N277: =+G277*24 -> 216 | O277: =+F277*8 -> 176 | P277: =16*F277 -> 352 | Q277: =8*E277 -> 248 | R277: =16*E277 -> 496 | S277: =E277*24+I277 -> 744 | T277: =+J277/SUM(J277:K277) -> 0.4516129 | U277: =K277/SUM(J277:K277) -> 0.5483871
... A385: =+EOMONTH(A384,0)+1 -> 55123 | B385: =A385 -> 55123 | C385: =YEAR(A385) -> 2050 | D385: =MONTH(A385) -> 12 | E385: =EOMONTH(A385,0)-A385+1 -> 31 | F385: =NETWORKDAYS(A385,EOMONTH(A385,0)) -> 22 | G385: =+E385-F385 -> 9 | H385: =+H373 -> 1 | I385: =+I373 -> 0 | J385: =16*(F385-H385) -> 336 | K385: =+S385-J385 -> 408 | L385: =+G385*8 -> 72 | M385: =16*G385 -> 144 | N385: =+G385*24 -> 216 | O385: =+F385*8 -> 176 | P385: =16*F385 -> 352 | Q385: =8*E385 -> 248 | R385: =16*E385 -> 496 | S385: =E385*24+I385 -> 744 | T385: =+J385/SUM(J385:K385) -> 0.4516129 | U385: =K385/SUM(J385:K385) -> 0.5483871
C387: 2020 | J387: =SUMIF($C$1:$C$385,C387,$J$1:$J$385) -> 4096 | K387: =SUMIF($C$1:$C$385,C387,$K$1:$K$385) -> 4688 | S387: =+SUM(J387:K387) -> 8784
...

Sheet MA_HUB
B2: MA HUB History & Forecast (7x24 Energy)
B3: Nominal $/MWH
B5: MMM-YY | C5: Day Ahead LMP History | D5: ICAP 1.15.21 | E5: ICAP 8.23.21 | F5: ICAP 4/13/22 | G5: ICAP 6/8/22
B6: 42736 | C6: 40.302
B7: =+EOMONTH(B6,0)+1 -> 42767 | C7: 30.0242
B8: =+EOMONTH(B7,0)+1 -> 42795 | C8: 35.7528
B9: =+EOMONTH(B8,0)+1 -> 42826 | C9: 29.2338
B10: =+EOMONTH(B9,0)+1 -> 42856 | C10: 27.3081
B11: =+EOMONTH(B10,0)+1 -> 42887 | C11: 25.4837
B12: =+EOMONTH(B11,0)+1 -> 42917 | C12: 27.6044
B13: =+EOMONTH(B12,0)+1 -> 42948 | C13: 24.9029
B14: =+EOMONTH(B13,0)+1 -> 42979 | C14: 23.5741
B15: =+EOMONTH(B14,0)+1 -> 43009 | C15: 29.7436
B16: =+EOMONTH(B15,0)+1 -> 43040 | C16: 33.9783
B17: =+EOMONTH(B16,0)+1 -> 43070 | C17: 71.3138
B18: =+EOMONTH(B17,0)+1 -> 43101 | C18: 108.745
... B32: =+EOMONTH(B31,0)+1 -> 43525 | C32: 38.0652
B33: =+EOMONTH(B32,0)+1 -> 43556 | C33: 26.968 | I33: Table 3. Energy Prices by Sector and Source
B34: =+EOMONTH(B33,0)+1 -> 43586 | C34: 24.2142 | I34: https://www.eia.gov/outlooks/aeo/data/browser/#/?id=3-AEO2021&region=1-0&cases=ref2021&start=2019&end=2050&f=A&linechart=~ref2021-d113020a.38-3-AEO2021.1-0&map=ref2021-d113020a.4-3-AEO2021.1-0&ctype=linechart&sourcekey=0
B35: =+EOMONTH(B34,0)+1 -> 43617 | C35: 22.0885 | I35: Mon Mar 08 2021 10:13:39 GMT-0500 (Eastern Standard Time)
B36: =+EOMONTH(B35,0)+1 -> 43647 | C36: 29.7782 | I36: Source: U.S. Energy Information Administration
B37: =+EOMONTH(B36,0)+1 -> 43678 | C37: 25.6926 | I37: "Electric Power" sector, "Natural Gas"
B38: =+EOMONTH(B37,0)+1 -> 43709 | C38: 21.1365
B39: =+EOMONTH(B38,0)+1 -> 43739 | C39: 20.7461
B40: =+EOMONTH(B39,0)+1 -> 43770 | C40: 32.2867
B41: =+EOMONTH(B40,0)+1 -> 43800 | C41: 40.9838
B42: =+EOMONTH(B41,0)+1 -> 43831 | C42: 26.4482
B43: =+EOMONTH(B42,0)+1 -> 43862 | C43: 23.0572
B44: =+EOMONTH(B43,0)+1 -> 43891 | C44: 17.179
B45: =+EOMONTH(B44,0)+1 -> 43922 | C45: 18.3624
B46: =+EOMONTH(B45,0)+1 -> 43952 | C46: 16.4835
B47: =+EOMONTH(B46,0)+1 -> 43983 | C47: 19.8387
B48: =+EOMONTH(B47,0)+1 -> 44013 | C48: 23.7809
B49: =+EOMONTH(B48,0)+1 -> 44044 | C49: 23.7868
... B54: =+EOMONTH(B53,0)+1 -> 44197 | C54: 42.7296
B55: =+EOMONTH(B54,0)+1 -> 44228 | C55: 73.1231 | D55: 53.797619
B56: =+EOMONTH(B55,0)+1 -> 44256 | C56: 34.8813 | D56: 38.917497
B57: =+EOMONTH(B56,0)+1 -> 44287 | C57: 26.1399 | D57: 30.566667
B58: =+EOMONTH(B57,0)+1 -> 44317 | C58: 24.9816 | D58: 25.043011
B59: =+EOMONTH(B58,0)+1 -> 44348 | C59: 37.1012 | D59: 26.422222
...

Sheet AEO_2022
A1: Table 3. Energy Prices by Sector and Source
A2: https://www.eia.gov/outlooks/aeo/data/browser/#/?id=3-AEO2022&region=1-1&cases=ref2022&start=2020&end=2050&f=A&linechart=ref2022-d011222a.3-3-AEO2022.1-1&map=ref2022-d011222a.4-3-AEO2022.1-1&sourcekey=0
A3: Mon Mar 07 2022 14:15:21 GMT-0500 (Eastern Standard Time)
A4: Source: U.S. Energy Information Administration
A6: Item | B6: full name | C6: api key | D6: units | E6: 2020 | F6: 2021 | G6: 2022 | H6: 2023 | I6: 2024 | J6: 2025 | K6: 2026 | L6: 2027 | M6: 2028 | N6: 2029 | O6: 2030 | P6: 2031 | Q6: 2032 | R6: 2033 | S6: 2034 | T6: 2035 | U6: 2036 | V6: 2037 | W6: 2038 | X6: 2039 | Y6: 2040 | Z6: 2041 | AA6: 2042 | AB6: 2043 | AC6: 2044 | AD6: 2045 | AE6: 2046 | AF6: 2047 | AG6: 2048 | AH6: 2049 | AI6: 2050 | AJ6: Growth (2021-2050)
A7: Residential | C7: 3-AEO2022.2.
A8: Propane | B8: Energy Prices: Residential: Propane: AEO2022 Reference case | C8: 3-AEO2022.3.ref2022-d011222a | D8: 2021 $/MMBtu | F8: 25.035135 | G8: 27.06967 | H8: 26.83412 | I8: 26.886972 | J8: 26.820515 | K8: 26.919804 | L8: 27.287228 | M8: 27.897423 | N8: 28.474327 | O8: 29.070982 | P8: 29.644882 | Q8: 30.159658 | R8: 30.639078 | S8: 31.011866 | T8: 31.293982 | U8: 31.563549 | V8: 31.855932 | W8: 32.142567 | X8: 32.354969 | Y8: 32.698643 | Z8: 32.997513 | AA8: 33.158497 | AB8: 33.393574 | AC8: 33.679581 | AD8: 33.840153 | AE8: 34.012749 | AF8: 34.153675 | AG8: 34.25227 | AH8: 34.283512 | AI8: 34.281067 | AJ8: 0.011
A9: Distillate Fuel Oil | B9: Energy Prices: Residential: Distillate Fuel Oil: AEO2022 Reference case | C9: 3-AEO2022.4.ref2022-d011222a | D9: 2021 $/MMBtu | F9: 21.66988 | G9: 21.980335 | H9: 21.71468 | I9: 23.097567 | J9: 23.647591 | K9: 24.218807 | L9: 24.868811 | M9: 25.051352 | N9: 25.176514 | O9: 25.140089 | P9: 25.408905 | Q9: 25.507498 | R9: 25.571831 | S9: 25.618752 | T9: 25.698879 | U9: 25.873436 | V9: 26.095083 | W9: 26.226324 | X9: 26.300959 | Y9: 26.531126 | Z9: 26.633108 | AA9: 26.648052 | AB9: 26.878996 | AC9: 27.141329 | AD9: 27.244946 | AE9: 27.453573 | AF9: 27.486801 | AG9: 27.413906 | AH9: 27.40428 | AI9: 27.361204 | AJ9: 0.008
A10: Natural Gas | B10: Energy Prices: Residential: Natural Gas: AEO2022 Reference case | C10: 3-AEO2022.5.ref2022-d011222a | D10: 2021 $/MMBtu | F10: 15.125964 | G10: 14.41678 | H10: 14.09376 | I10: 14.037916 | J10: 14.154076 | K10: 14.36803 | L10: 14.60268 | M10: 14.610188 | N10: 14.626328 | O10: 14.644056 | P10: 14.661311 | Q10: 14.664193 | R10: 14.689439 | S10: 14.69313 | T10: 14.669325 | U10: 14.659694 | V10: 14.658889 | W10: 14.657519 | X10: 14.660538 | Y10: 14.660723 | Z10: 14.639202 | AA10: 14.632146 | AB10: 14.632092 | AC10: 14.599904 | AD10: 14.598268 | AE10: 14.599275 | AF10: 14.602782 | AG10: 14.602668 | AH10: 14.615225 | AI10: 14.621645 | AJ10: -0.001
A11: Electricity | B11: Energy Prices: Residential: Electricity: AEO2022 Reference case | C11: 3-AEO2022.6.ref2022-d011222a | D11: 2021 $/MMBtu | F11: 58.306873 | G11: 62.331921 | H11: 61.304279 | I11: 60.559471 | J11: 61.002563 | K11: 60.677692 | L11: 61.197933 | M11: 61.610626 | N11: 62.353497 | O11: 61.051949 | P11: 61.786293 | Q11: 62.20438 | R11: 62.738674 | S11: 64.389244 | T11: 64.444832 | U11: 64.55986 | V11: 64.817459 | W11: 64.936325 | X11: 65.155121 | Y11: 65.242615 | Z11: 65.569626 | AA11: 66.072914 | AB11: 66.120872 | AC11: 65.798004 | AD11: 65.807442 | AE11: 65.859085 | AF11: 65.744827 | AG11: 65.674034 | AH11: 65.679977 | AI11: 65.429779 | AJ11: 0.004
A12: Commercial | C12: 3-AEO2022.8.
A13: Propane | B13: Energy Prices: Commercial: Propane: AEO2022 Reference case | C13: 3-AEO2022.9.ref2022-d011222a | D13: 2021 $/MMBtu | F13: 19.120451 | G13: 20.159698 | H13: 18.567781 | I13: 18.482304 | J13: 18.344675 | K13: 18.469257 | L13: 18.862482 | M13: 19.415503 | N13: 19.794388 | O13: 20.183363 | P13: 20.531496 | Q13: 20.81731 | R13: 21.089712 | S13: 21.258707 | T13: 21.37261 | U13: 21.522289 | V13: 21.714008 | W13: 21.892292 | X13: 21.984709 | Y13: 22.262966 | Z13: 22.438658 | AA13: 22.46352 | AB13: 22.635532 | AC13: 22.848026 | AD13: 22.889408 | AE13: 22.993214 | AF13: 23.065588 | AG13: 23.103603 | AH13: 23.085098 | AI13: 23.060728 | AJ13: 0.006
A14: Distillate Fuel Oil | B14: Energy Prices: Commercial: Distillate Fuel Oil: AEO2022 Reference case | C14: 3-AEO2022.10.ref2022-d011222a | D14: 2021 $/MMBtu | F14: 23.615408 | G14: 24.091442 | H14: 22.786596 | I14: 23.293224 | J14: 22.886965 | K14: 22.524559 | L14: 22.252071 | M14: 22.4503 | N14: 22.576912 | O14: 22.551632 | P14: 22.818497 | Q14: 22.947388 | R14: 23.013416 | S14: 23.079622 | T14: 23.1712 | U14: 23.344172 | V14: 23.566185 | W14: 23.697966 | X14: 23.77059 | Y14: 24.003469 | Z14: 24.105095 | AA14: 24.120237 | AB14: 24.351274 | AC14: 24.615971 | AD14: 24.717945 | AE14: 24.931108 | AF14: 24.959742 | AG14: 24.884659 | AH14: 24.875692 | AI14: 24.823421 | AJ14: 0.002
A15: Residual Fuel Oil | B15: Energy Prices: Commercial: Residual Fuel: AEO2022 Reference case | C15: 3-AEO2022.11.ref2022-d011222a | D15: 2021 $/MMBtu | F15: 6.643774 | G15: 7.678629 | H15: 7.819719 | I15: 9.188543 | J15: 9.754292 | K15: 10.362782 | L15: 11.148508 | M15: 11.353768 | N15: 11.451889 | O15: 11.606949 | P15: 11.787606 | Q15: 11.928543 | R15: 12.049053 | S15: 12.060984 | T15: 12.080411 | U15: 12.03447 | V15: 12.02095 | W15: 12.214444 | X15: 12.038575 | Y15: 12.561745 | Z15: 12.733655 | AA15: 12.874405 | AB15: 13.245458 | AC15: 13.523375 | AD15: 13.618361 | AE15: 13.760704 | AF15: 13.885478 | AG15: 13.782187 | AH15: 13.845863 | AI15: 13.753201 | AJ15: 0.025
A16: Natural Gas | B16: Energy Prices: Commercial: Natural Gas: AEO2022 Reference case | C16: 3-AEO2022.12.ref2022-d011222a | D16: 2021 $/MMBtu | F16: 10.788595 | G16: 11.016042 | H16: 10.861012 | I16: 10.735426 | J16: 10.793182 | K16: 10.957176 | L16: 11.141132 | M16: 11.174881 | N16: 11.211123 | O16: 11.245459 | P16: 11.279484 | Q16: 11.298209 | R16: 11.339303 | S16: 11.358431 | T16: 11.348579 | U16: 11.352531 | V16: 11.365285 | W16: 11.377382 | X16: 11.393961 | Y16: 11.407151 | Z16: 11.397449 | AA16: 11.402092 | AB16: 11.413467 | AC16: 11.391392 | AD16: 11.399374 | AE16: 11.409692 | AF16: 11.422367 | AG16: 11.431129 | AH16: 11.452569 | AI16: 11.467671 | AJ16: 0.002
A17: Electricity | B17: Energy Prices: Commercial: Electricity: AEO2022 Reference case | C17: 3-AEO2022.13.ref2022-d011222a | D17: 2021 $/MMBtu | F17: 49.912369 | G17: 54.383038 | H17: 52.175663 | I17: 51.028332 | J17: 51.182877 | K17: 50.522621 | L17: 50.704906 | M17: 50.819679 | N17: 51.288013 | O17: 49.622921 | P17: 50.099918 | Q17: 50.039978 | R17: 50.295265 | S17: 51.68301 | T17: 51.387306 | U17: 51.094501 | V17: 51.072754 | W17: 50.951706 | X17: 50.972198 | Y17: 50.90868 | Z17: 50.997555 | AA17: 51.23698 | AB17: 51.044262 | AC17: 50.437019 | AD17: 50.226383 | AE17: 50.139999 | AF17: 49.875084 | AG17: 49.651047 | AH17: 49.53231 | AI17: 49.326973 | AJ17: 0
A18: Industrial | C18: 3-AEO2022.15.
A19: Propane | B19: Energy Prices: Industrial: Propane: AEO2022 Reference case | C19: 3-AEO2022.16.ref2022-d011222a | D19: 2021 $/MMBtu | F19: 13.641981 | G19: 14.473857 | H19: 12.690696 | I19: 12.673786 | J19: 12.554608 | K19: 12.704501 | L19: 13.113275 | M19: 13.681419 | N19: 14.057202 | O19: 14.454497 | P19: 14.810349 | Q19: 15.102989 | R19: 15.386189 | S19: 15.557034 | T19: 15.672612 | U19: 15.832416 | V19: 16.038618 | W19: 16.228031 | X19: 16.321312 | Y19: 16.630306 | Z19: 16.814444 | AA19: 16.831152 | AB19: 17.024878 | AC19: 17.258875 | AD19: 17.293581 | AE19: 17.409199 | AF19: 17.486641 | AG19: 17.525883 | AH19: 17.502066 | AI19: 17.474977 | AJ19: 0.009
A20: Distillate Fuel Oil | B20: Energy Prices: Industrial: Distillate Fuel Oil: AEO2022 Reference case | C20: 3-AEO2022.17.ref2022-d011222a | D20: 2021 $/MMBtu | F20: 22.66334 | G20: 23.201466 | H20: 21.943136 | I20: 22.442005 | J20: 22.055786 | K20: 21.703842 | L20: 21.439802 | M20: 21.632864 | N20: 21.758801 | O20: 21.730202 | P20: 21.997549 | Q20: 22.116241 | R20: 22.181684 | S20: 22.24136 | T20: 22.328917 | U20: 22.502491 | V20: 22.724329 | W20: 22.855452 | X20: 22.928747 | Y20: 23.160803 | Z20: 23.262079 | AA20: 23.277048 | AB20: 23.507933 | AC20: 23.772133 | AD20: 23.874573 | AE20: 24.086081 | AF20: 24.116144 | AG20: 24.041609 | AH20: 24.031929 | AI20: 23.982382 | AJ20: 0.002
A21: Residual Fuel Oil | B21: Energy Prices: Industrial: Residual Fuel Oil: AEO2022 Reference case | C21: 3-AEO2022.18.ref2022-d011222a | D21: 2021 $/MMBtu | F21: 6.560986 | G21: 7.595841 | H21: 7.753489 | I21: 9.138871 | J21: 9.721175 | K21: 10.346225 | L21: 11.148508 | M21: 11.353768 | N21: 11.451889 | O21: 11.606949 | P21: 11.787606 | Q21: 11.928543 | R21: 12.049053 | S21: 12.060984 | T21: 12.080411 | U21: 12.03447 | V21: 12.02095 | W21: 12.214444 | X21: 12.038575 | Y21: 12.561745 | Z21: 12.733655 | AA21: 12.874405 | AB21: 13.245458 | AC21: 13.523375 | AD21: 13.618361 | AE21: 13.760704 | AF21: 13.885478 | AG21: 13.782187 | AH21: 13.845863 | AI21: 13.753201 | AJ21: 0.026
A22: Natural Gas | B22: Energy Prices: Industrial: Natural Gas: AEO2022 Reference case | C22: 3-AEO2022.19.ref2022-d011222a | D22: 2021 $/MMBtu | F22: 8.384542 | G22: 8.160567 | H22: 7.609367 | I22: 6.991747 | J22: 6.626662 | K22: 6.370226 | L22: 6.205708 | M22: 6.231203 | N22: 6.348212 | O22: 6.462589 | P22: 6.613251 | Q22: 6.556633 | R22: 6.682987 | S22: 6.715962 | T22: 6.621602 | U22: 6.558052 | V22: 6.642486 | W22: 6.666791 | X22: 6.723454 | Y22: 6.659616 | Z22: 6.636618 | AA22: 6.605548 | AB22: 6.600779 | AC22: 6.44558 | AD22: 6.528197 | AE22: 6.533082 | AF22: 6.558208 | AG22: 6.498867 | AH22: 6.612632 | AI22: 6.602129 | AJ22: -0.008
A23: Metallurgical Coal | B23: Energy Prices: Industrial: Metallurgical Coal: AEO2022 Reference case | C23: 3-AEO2022.20.ref2022-d011222a | D23: 2021 $/MMBtu | F23: 0 | G23: 0 | H23: 0 | I23: 0 | J23: 0 | K23: 0 | L23: 0 | M23: 0 | N23: 0 | O23: 0 | P23: 0 | Q23: 0 | R23: 0 | S23: 0 | T23: 0 | U23: 0 | V23: 0 | W23: 0 | X23: 0 | Y23: 0 | Z23: 0 | AA23: 0 | AB23: 0 | AC23: 0 | AD23: 0 | AE23: 0 | AF23: 0 | AG23: 0 | AH23: 0 | AI23: 0 | AJ23: - -
A24: Other Industrial Coal | B24: Energy Prices: Industrial: Other Industrial Coal: AEO2022 Reference case | C24: 3-AEO2022.21.ref2022-d011222a | D24: 2021 $/MMBtu | F24: 3.945433 | G24: 4.076743 | H24: 3.91586 | I24: 3.944708 | J24: 3.974474 | K24: 3.998388 | L24: 4.021678 | M24: 4.051169 | N24: 4.078565 | O24: 4.111599 | P24: 4.150519 | Q24: 4.184463 | R24: 4.217855 | S24: 4.247001 | T24: 4.261702 | U24: 4.290887 | V24: 4.319218 | W24: 4.351174 | X24: 4.385928 | Y24: 4.417858 | Z24: 3.97442 | AA24: 3.947324 | AB24: 3.93871 | AC24: 3.941442 | AD24: 3.942779 | AE24: 3.943901 | AF24: 3.943822 | AG24: 3.942263 | AH24: 3.941411 | AI24: 3.940008 | AJ24: 0
A25: Coal to Liquids | B25: Energy Prices: Industrial: Coal to Liquids: AEO2022 Reference case | C25: 3-AEO2022.22.ref2022-d011222a | D25: 2021 $/MMBtu | F25: 0 | G25: 0 | H25: 0 | I25: 0 | J25: 0 | K25: 0 | L25: 0 | M25: 0 | N25: 0 | O25: 0 | P25: 0 | Q25: 0 | R25: 0 | S25: 0 | T25: 0 | U25: 0 | V25: 0 | W25: 0 | X25: 0 | Y25: 0 | Z25: 0 | AA25: 0 | AB25: 0 | AC25: 0 | AD25: 0 | AE25: 0 | AF25: 0 | AG25: 0 | AH25: 0 | AI25: 0 | AJ25: - -
A26: Electricity | B26: Energy Prices: Industrial: Electricity: AEO2022 Reference case | C26: 3-AEO2022.23.ref2022-d011222a | D26: 2021 $/MMBtu | F26: 40.035011 | G26: 43.97913 | H26: 41.506958 | I26: 39.872066 | J26: 39.502159 | K26: 38.512909 | L26: 38.408588 | M26: 38.302769 | N26: 38.529598 | O26: 36.706024 | P26: 36.880516 | Q26: 36.79147 | R26: 36.993549 | S26: 37.515091 | T26: 36.984848 | U26: 36.572533 | V26: 36.414555 | W26: 36.325924 | X26: 36.244125 | Y26: 36.093838 | Z26: 36.111919 | AA26: 36.088863 | AB26: 35.810822 | AC26: 35.322662 | AD26: 35.092964 | AE26: 34.936813 | AF26: 34.677662 | AG26: 34.460659 | AH26: 34.384739 | AI26: 34.193012 | AJ26: -0.005
A27: Transportation | C27: 3-AEO2022.25.
A28: Propane | B28: Energy Prices: Transportation: Propane: AEO2022 Reference case | C28: 3-AEO2022.26.ref2022-d011222a | D28: 2021 $/MMBtu | F28: 17.204502 | G28: 17.80039 | H28: 16.329887 | I28: 16.333549 | J28: 16.237137 | K28: 16.364637 | L28: 16.702538 | M28: 17.162653 | N28: 17.459478 | O28: 17.772444 | P28: 18.049597 | Q28: 18.275579 | R28: 18.493536 | S28: 18.623451 | T28: 18.71154 | U28: 18.834213 | V28: 18.991722 | W28: 19.13513 | X28: 19.204969 | Y28: 19.439337 | Z28: 19.575996 | AA28: 19.587339 | AB28: 19.733606 | AC28: 19.90778 | AD28: 19.932138 | AE28: 20.018835 | AF28: 20.076462 | AG28: 20.106049 | AH28: 20.089279 | AI28: 20.070791 | AJ28: 0.005
A29: E85 | B29: Energy Prices: Transportation: E85: AEO2022 Reference case | C29: 3-AEO2022.27.ref2022-d011222a | D29: 2021 $/MMBtu | F29: 32.47377 | G29: 31.832163 | H29: 26.710695 | I29: 26.899824 | J29: 26.019684 | K29: 26.364555 | L29: 26.803045 | M29: 27.374214 | N29: 27.600338 | O29: 28.210936 | P29: 28.530109 | Q29: 28.853456 | R29: 29.016779 | S29: 29.271751 | T29: 29.394899 | U29: 29.638676 | V29: 29.861605 | W29: 30.176332 | X29: 30.200035 | Y29: 30.451591 | Z29: 30.638271 | AA29: 30.542326 | AB29: 30.825546 | AC29: 30.984224 | AD29: 31.098352 | AE29: 31.352509 | AF29: 31.455873 | AG29: 31.228071 | AH29: 31.398388 | AI29: 31.376112 | AJ29: -0.001
A30: Motor Gasoline | B30: Energy Prices: Transportation: Motor Gasoline: AEO2022 Reference case | C30: 3-AEO2022.28.ref2022-d011222a | D30: 2021 $/MMBtu | F30: 26.554398 | G30: 25.209085 | H30: 22.308292 | I30: 22.037746 | J30: 21.731173 | K30: 21.925957 | L30: 22.169886 | M30: 22.426392 | N30: 22.611645 | O30: 23.181011 | P30: 23.485348 | Q30: 23.751518 | R30: 23.885962 | S30: 24.09585 | T30: 24.197222 | U30: 24.397894 | V30: 24.581404 | W30: 24.840481 | X30: 24.859991 | Y30: 25.067068 | Z30: 25.220737 | AA30: 25.247618 | AB30: 25.497061 | AC30: 25.752285 | AD30: 25.847143 | AE30: 26.058382 | AF30: 26.144295 | AG30: 26.081125 | AH30: 26.096512 | AI30: 26.077999 | AJ30: -0.001
A31: Jet Fuel | B31: Energy Prices: Transportation: Jet Fuel: AEO2022 Reference case | C31: 3-AEO2022.29.ref2022-d011222a | D31: 2021 $/MMBtu | F31: 14.819134 | G31: 15.377955 | H31: 14.25343 | I31: 15.409173 | J31: 15.412287 | K31: 15.532484 | L31: 15.738528 | M31: 16.030107 | N31: 16.190268 | O31: 16.126503 | P31: 16.557293 | Q31: 16.741539 | R31: 16.841959 | S31: 17.01759 | T31: 17.128796 | U31: 17.322979 | V31: 17.574711 | W31: 17.752554 | X31: 17.844677 | Y31: 18.052856 | Z31: 18.185486 | AA31: 18.216322 | AB31: 18.493483 | AC31: 18.802206 | AD31: 18.908283 | AE31: 19.109535 | AF31: 19.189157 | AG31: 19.163294 | AH31: 19.212271 | AI31: 19.135948 | AJ31: 0.009
A32: Diesel Fuel (distillate fuel oil) | B32: Energy Prices: Transportation: Diesel Fuel: AEO2022 Reference case | C32: 3-AEO2022.30.ref2022-d011222a | D32: 2021 $/MMBtu | F32: 24.112137 | G32: 23.097979 | H32: 22.217009 | I32: 22.977013 | J32: 22.926235 | K32: 22.885073 | L32: 22.921345 | M32: 23.099573 | N32: 23.232822 | O32: 23.195564 | P32: 23.457542 | Q32: 23.559353 | R32: 23.617508 | S32: 23.671185 | T32: 23.750776 | U32: 23.944475 | V32: 24.1378 | W32: 24.262136 | X32: 24.35025 | Y32: 24.581966 | Z32: 24.686249 | AA32: 24.695507 | AB32: 24.923164 | AC32: 25.194223 | AD32: 25.287655 | AE32: 25.495314 | AF32: 25.535545 | AG32: 25.455845 | AH32: 25.445328 | AI32: 25.412609 | AJ32: 0.002
A33: Residual Fuel Oil | B33: Energy Prices: Transportation: Residual Fuel Oil: AEO2022 Reference case | C33: 3-AEO2022.31.ref2022-d011222a | D33: 2021 $/MMBtu | F33: 3.595645 | G33: 5.213851 | H33: 8.322374 | I33: 9.13607 | J33: 9.245095 | K33: 9.380846 | L33: 9.665101 | M33: 9.833634 | N33: 9.916941 | O33: 10.043159 | P33: 10.209383 | Q33: 10.326648 | R33: 10.428328 | S33: 10.437136 | T33: 10.452194 | U33: 10.412575 | V33: 10.401512 | W33: 10.5625 | X33: 10.410656 | Y33: 10.842026 | Z33: 10.979572 | AA33: 11.090327 | AB33: 11.390145 | AC33: 11.613426 | AD33: 11.688792 | AE33: 11.80081 | AF33: 11.901866 | AG33: 11.813303 | AH33: 11.865891 | AI33: 11.787175 | AJ33: 0.042
A34: Natural Gas | B34: Energy Prices: Transportation: Natural Gas: AEO2022 Reference case | C34: 3-AEO2022.32.ref2022-d011222a | D34: 2021 $/MMBtu | F34: 18.234917 | G34: 17.999331 | H34: 17.253464 | I34: 16.513891 | J34: 16.002186 | K34: 15.561357 | L34: 15.172909 | M34: 14.94827 | N34: 14.792896 | O34: 14.660657 | P34: 14.596497 | Q34: 14.364266 | R34: 14.310951 | S34: 14.196051 | T34: 13.980716 | U34: 13.805936 | V34: 13.769164 | W34: 13.691889 | X34: 13.656502 | Y34: 13.522044 | Z34: 13.430668 | AA34: 13.343999 | AB34: 13.285146 | AC34: 13.094678 | AD34: 13.129354 | AE34: 13.100081 | AF34: 13.09777 | AG34: 13.024278 | AH34: 13.113109 | AI34: 13.089991 | AJ34: -0.011
A35: Electricity | B35: Energy Prices: Transportation: Electricity: AEO2022 Reference case | C35: 3-AEO2022.33.ref2022-d011222a | D35: 2021 $/MMBtu | F35: 48.066566 | G35: 54.673752 | H35: 52.209644 | I35: 51.986633 | J35: 52.313103 | K35: 52.080509 | L35: 52.53944 | M35: 52.815689 | N35: 53.169163 | O35: 51.637287 | P35: 51.829998 | Q35: 52.085537 | R35: 52.403736 | S35: 52.536919 | T35: 51.999413 | U35: 51.775772 | V35: 51.657883 | W35: 51.706177 | X35: 51.559143 | Y35: 51.244892 | Z35: 51.318386 | AA35: 51.10704 | AB35: 50.666248 | AC35: 50.218166 | AD35: 49.879631 | AE35: 49.499165 | AF35: 49.0285 | AG35: 48.630245 | AH35: 48.371208 | AI35: 48.135262 | AJ35: 0
A36: Electric Power | C36: 3-AEO2022.35.
A37: Distillate Fuel Oil | B37: Energy Prices: Electric Power: Distillate Fuel Oil: AEO2022 Reference case | C37: 3-AEO2022.36.ref2022-d011222a | D37: 2021 $/MMBtu | F37: 21.00757 | G37: 21.276632 | H37: 19.52162 | I37: 19.91078 | J37: 19.216614 | K37: 18.625053 | L37: 18.13575 | M37: 18.365662 | N37: 18.496405 | O37: 18.491461 | P37: 18.755354 | Q37: 18.946781 | R37: 19.016397 | S37: 19.122644 | T37: 19.238869 | U37: 19.408119 | V37: 19.63122 | W37: 19.767038 | X37: 19.835541 | Y37: 20.073475 | Z37: 20.177227 | AA37: 20.193453 | AB37: 20.425428 | AC37: 20.693148 | AD37: 20.792273 | AE37: 21.015575 | AF37: 21.035454 | AG37: 20.957006 | AH37: 20.952419 | AI37: 20.883451 | AJ37: 0
A38: Residual Fuel Oil | B38: Energy Prices: Electric Power: Residual Fuel Oil: AEO2022 Reference case | C38: 3-AEO2022.37.ref2022-d011222a | D38: 2021 $/MMBtu | F38: 11.818052 | G38: 11.880143 | H38: 11.18093 | I38: 11.709453 | J38: 11.434896 | K38: 11.203086 | L38: 11.148508 | M38: 11.353768 | N38: 11.451889 | O38: 11.606949 | P38: 11.787606 | Q38: 11.928543 | R38: 12.049053 | S38: 12.060984 | T38: 12.080411 | U38: 12.03447 | V38: 12.02095 | W38: 12.214444 | X38: 12.038575 | Y38: 12.561745 | Z38: 12.733655 | AA38: 12.874405 | AB38: 13.245458 | AC38: 13.523375 | AD38: 13.618361 | AE38: 13.760704 | AF38: 13.885478 | AG38: 13.782187 | AH38: 13.845863 | AI38: 13.753201 | AJ38: 0.005
A39: Natural Gas | B39: Energy Prices: Electric Power: Natural Gas: AEO2022 Reference case | C39: 3-AEO2022.38.ref2022-d011222a | D39: 2021 $/MMBtu | F39: 6.835502 | G39: 4.988521 | H39: 4.597235 | I39: 4.060102 | J39: 3.637986 | K39: 3.453452 | L39: 3.328917 | M39: 3.390298 | N39: 3.42703 | O39: 3.524672 | P39: 3.643366 | Q39: 3.657269 | R39: 3.721418 | S39: 3.741991 | T39: 3.68067 | U39: 3.661041 | V39: 3.664228 | W39: 3.696314 | X39: 3.7196 | Y39: 3.740167 | Z39: 3.703448 | AA39: 3.68425 | AB39: 3.681595 | AC39: 3.546359 | AD39: 3.554521 | AE39: 3.556693 | AF39: 3.564756 | AG39: 3.572619 | AH39: 3.606233 | AI39: 3.602793 | AJ39: -0.022
A40: Steam Coal | B40: Energy Prices: Electric Power: Steam Coal: AEO2022 Reference case | C40: 3-AEO2022.39.ref2022-d011222a | D40: 2021 $/MMBtu | F40: 0 | G40: 0 | H40: 3.301853 | I40: 0.203442 | J40: 0 | K40: 0 | L40: 0 | M40: 0 | N40: 0 | O40: 0 | P40: 0 | Q40: 0 | R40: 0 | S40: 0 | T40: 0 | U40: 0 | V40: 0 | W40: 0 | X40: 0 | Y40: 0 | Z40: 0 | AA40: 0 | AB40: 0 | AC40: 0 | AD40: 0 | AE40: 0 | AF40: 0 | AG40: 0 | AH40: 0 | AI40: 0 | AJ40: - -
A41: Uranium | B41: Energy Prices: Electric Power: Uranium: AEO2022 Reference case | C41: 3-AEO2022.40.ref2022-d011222a | D41: 2021 $/MMBtu | F41: 0.716664 | G41: 0.717713 | H41: 0.719812 | I41: 0.720861 | J41: 0.722959 | K41: 0.724009 | L41: 0.726107 | M41: 0.727157 | N41: 0.729255 | O41: 0.731354 | P41: 0.732403 | Q41: 0.734502 | R41: 0.7366 | S41: 0.737649 | T41: 0.739748 | U41: 0.741847 | V41: 0.742896 | W41: 0.744994 | X41: 0.747093 | Y41: 0.749192 | Z41: 0.75129 | AA41: 0.753389 | AB41: 0.755487 | AC41: 0.757586 | AD41: 0.759685 | AE41: 0.761783 | AF41: 0.763882 | AG41: 0.76598 | AH41: 0.768079 | AI41: 0.770177 | AJ41: 0.002
...

Sheet Henry_Hub
B2: Henry Hub History and Forecasts
B3: Nominal $/MMBtu
B5: Year | C5: AEO 2019 | D5: AEO 2020 | E5: AEO 2021 | F5: AEO 2021 New England | G5: Implied AEO Basis | H5: Historicals | I5: ICAP Jan-2021 | J5: ICAP Sep-2021 | K5: ICAP Jun-2022 | L5: AEO 2022
B6: 2017 | H6: 3.0970005
B7: 2018 | H7: 3.2708245
B8: 2019 | C8: 3.100914 | H8: 2.6651216
B9: 2020 | C9: 3.247373 | D9: 2.494653 | E9: 2.447529 | H9: 2.1141918
B10: 2021 | C10: 3.243106 | D10: 2.616796 | E10: 3.500251 | F10: 4.543779 | G10: =+F10-E10 -> 1.043528 | H10: 3.3790012 | I10: 2.698 | J10: 3.77
B11: 2022 | C11: 3.328699 | D11: 2.679862 | E11: 3.604389 | F11: 4.836429 | G11: =+F11-E11 -> 1.23204 | I11: 2.675 | J11: 4.02 | K11: 7.729 | L11: 5.108952
B12: 2023 | C12: 3.555844 | D12: 2.780663 | E12: 3.373215 | F12: 4.16257 | G12: =+F12-E12 -> 0.789355 | I12: 2.527 | J12: 3.215 | K12: 5.317 | L12: 4.791917
B13: 2024 | C13: 3.843373 | D13: 2.950869 | E13: 3.149782 | F13: 3.576986 | G13: =+F13-E13 -> 0.427204 | I13: 2.529 | J13: 2.95 | K13: 4.19 | L13: 4.327852
B14: 2025 | C14: 4.203092 | D14: 3.274031 | E14: 3.238653 | F14: 3.697442 | G14: =+F14-E14 -> 0.458789 | I14: Unknown | J14: Unknown | L14: 3.96999
B15: 2026 | C15: 4.38602 | D15: 3.635231 | E15: 3.326592 | F15: 3.828071 | G15: =+F15-E15 -> 0.501479 | I15: Unknown | J15: Unknown | L15: 3.861048
B16: 2027 | C16: 4.515261 | D16: 3.90457 | E16: 3.370865 | F16: 3.940972 | G16: =+F16-E16 -> 0.570107 | I16: Unknown | J16: Unknown | L16: 3.8162
B17: 2028 | C17: 4.717234 | D17: 4.106319 | E17: 3.482451 | F17: 4.073786 | G17: =+F17-E17 -> 0.591335 | L17: 3.984262
B18: 2029 | C18: 4.844302 | D18: 4.219883 | E18: 3.58638 | F18: 4.22574 | G18: =+F18-E18 -> 0.63936 | L18: 4.125445
B19: 2030 | C19: 4.998316 | D19: 4.258932 | E19: 3.609866 | F19: 4.42372 | G19: =+F19-E19 -> 0.813854 | L19: 4.341813
B20: 2031 | C20: 5.085895 | D20: 4.29399 | E20: 3.608108 | F20: 4.510995 | G20: =+F20-E20 -> 0.902887 | L20: 4.59154
B21: 2032 | C21: 5.381088 | D21: 4.414371 | E21: 3.662486 | F21: 4.661425 | G21: =+F21-E21 -> 0.998939 | L21: 4.71146
B22: 2033 | C22: 5.581815 | D22: 4.597914 | E22: 3.72994 | F22: 4.872704 | G22: =+F22-E22 -> 1.142764 | L22: 4.900214
B23: 2034 | C23: 5.765597 | D23: 4.76509 | E23: 3.763419 | F23: 5.087159 | G23: =+F23-E23 -> 1.32374 | L23: 5.037323
B24: 2035 | C24: 5.954128 | D24: 4.861329 | E24: 3.763657 | F24: 5.222086 | G24: =+F24-E24 -> 1.458429 | L24: 5.064496
B25: 2036 | C25: 6.202986 | D25: 4.962113 | E25: 3.765909 | F25: 5.317629 | G25: =+F25-E25 -> 1.55172 | L25: 5.148783
B26: 2037 | C26: 6.372522 | D26: 5.1408 | E26: 3.745787 | F26: 5.371589 | G26: =+F26-E26 -> 1.625802 | L26: 5.267364
B27: 2038 | C27: 6.53071 | D27: 5.299037 | E27: 3.774751 | F27: 5.454158 | G27: =+F27-E27 -> 1.679407 | L27: 5.431857
B28: 2039 | C28: 6.712088 | D28: 5.432473 | E28: 3.773113 | F28: 5.576806 | G28: =+F28-E28 -> 1.803693 | L28: 5.58699
... B32: 2043 | C32: 7.610314 | D32: 6.015227 | E32: 3.731947 | F32: 6.1632 | G32: =+F32-E32 -> 2.431253 | L32: 6.051064
B33: 2044 | C33: 7.931487 | D33: 6.179199 | E33: 3.731636 | F33: 6.229503 | G33: =+F33-E33 -> 2.497867 | L33: 5.961878 | N33: Table 3. Energy Prices by Sector and Source
B34: 2045 | C34: 8.252415 | D34: 6.364482 | E34: 3.738919 | F34: 6.442629 | G34: =+F34-E34 -> 2.70371 | L34: 6.111343 | N34: https://www.eia.gov/outlooks/aeo/data/browser/#/?id=3-AEO2021&region=1-0&cases=ref2021&start=2019&end=2050&f=A&linechart=~ref2021-d113020a.38-3-AEO2021.1-0&map=ref2021-d113020a.4-3-AEO2021.1-0&ctype=linechart&sourcekey=0
B35: 2046 | C35: 8.543459 | D35: 6.579929 | E35: 3.743159 | F35: 6.684637 | G35: =+F35-E35 -> 2.941478 | L35: 6.254829 | N35: Mon Mar 08 2021 10:13:39 GMT-0500 (Eastern Standard Time)
B36: 2047 | C36: 8.879307 | D36: 6.823333 | E36: 3.762712 | F36: 6.925492 | G36: =+F36-E36 -> 3.16278 | L36: 6.411833 | N36: Source: U.S. Energy Information Administration
B37: 2048 | C37: 9.345243 | D37: 7.051677 | E37: 3.810744 | F37: 7.2149 | G37: =+F37-E37 -> 3.404156 | L37: 6.572792 | N37: "Electric Power" sector, "Natural Gas"
B38: 2049 | C38: 9.767595 | D38: 7.266372 | E38: 3.860691 | F38: 7.494525 | G38: =+F38-E38 -> 3.633834 | L38: 6.786796
B39: 2050 | C39: 10.176351 | D39: 7.539873 | E39: 3.901537 | F39: 7.829787 | G39: =+F39-E39 -> 3.92825 | L39: 6.935562

Sheet Ave_LMP_SQL_Tbl
A1: Year | B1: Month | C1: Hours | D1: Location ID | E1: Avg DA LMP | F1: Avg RT LMP
A2: 2017 | B2: 1 | C2: 744 | D2: 474 | E2: 39.975 | F2: 36.1523
A3: 2017 | B3: 1 | C3: 744 | D3: 555 | E3: 39.4294 | F3: 35.8676
A4: 2017 | B4: 1 | C4: 744 | D4: 642 | E4: 39.4206 | F4: 35.743
A5: 2017 | B5: 1 | C5: 744 | D5: 783 | E5: 33.9692 | F5: 29.9588
A6: 2017 | B6: 1 | C6: 744 | D6: 1185 | E6: 40.0497 | F6: 36.4014
A7: 2017 | B7: 1 | C7: 744 | D7: 1186 | E7: 40.0497 | F7: 36.4014
A8: 2017 | B8: 1 | C8: 744 | D8: 1187 | E8: 40.0497 | F8: 36.4014
A9: 2017 | B9: 1 | C9: 744 | D9: 2433 | E9: 40.2715 | F9: 36.4378
A10: 2017 | B10: 1 | C10: 744 | D10: 4000 | E10: 40.302 | F10: 36.6594
A11: 2017 | B11: 1 | C11: 744 | D11: 4001 | E11: 39.4907 | F11: 35.5103
A12: 2017 | B12: 1 | C12: 744 | D12: 4002 | E12: 40.0906 | F12: 36.3659
A13: 2017 | B13: 1 | C13: 744 | D13: 4003 | E13: 39.725 | F13: 35.887
... A1880: 2022 | B1880: 6 | C1880: 144 | D1880: 68735 | E1880: 70.6066 | F1880: 84.384

Sheet DA_LMP_Basis
B2: 1/1/2016 - 5/31/2022
B4: Ave DA LMP ($/MWH) | AB4: Kruger Hydro Units
D5: .H.INTERNAL_HUB | E5: .Z.MAINE | F5: .Z.NEWHAMPSHIRE | G5: .Z.VERMONT | H5: .I.ROSETON 345 1 | I5: .I.HQHIGATE120 2 | J5: UN.EAST_AVE34.5MCNL | K5: UN.YARMOUTH22 YAR4 | L5: UN.HIGHGATE46 HGFA | M5: UN.STONYBRK13.2ST1A | N5: UN.STONYBRK13.2ST1B | O5: UN.STONYBRK13.2ST1C | P5: LD.STJHNSBY34.5 | Q5: LD.IRASBURG46 | R5: LD.HIGHGATE46 | S5: LD.MIDDLESX34.5 | T5: LD.PARK_ST 34.5 | U5: LD.ASHBRNHM115 | V5: UN.SEABROOK24.5SBRK | W5: UN.BARRE_VT34.5RYGT | X5: UN.HIGHGATE13.8SWC1 | Y5: UN.HIGHGATE13.8SWC2 | Z5: UN.SHEFFIELD | AA5: LD.BLANFORD23 | AB5: LD.WINSLOW 34.5 | AC5: LD.GUILFORD34.5 | AD5: LD.GULFISLD34.5 | AE5: LD.LEWSTN_L34.5 | AF5: LD.PAWTUCKT13.8
B6: Month | C6: MMM | D6: 4000 | E6: 4001 | F6: 4002 | G6: 4003 | H6: 4011 | I6: 4013 | J6: 474 | K6: 642 | L6: 783 | M6: 1185 | N6: 1186 | O6: 1187 | P6: 4446 | Q6: 4447 | R6: 4448 | S6: 4466 | T6: 4146 | U6: 4479 | V6: 555 | W6: 2433 | X6: 12510 | Y6: 12511 | Z6: 12530 | AA6: 4506 | AB6: 4142 | AC6: 4150 | AD6: 4162 | AE6: 4172 | AF6: 4217
B7: 1 | C7: Jan | D7: =AVERAGEIFS(Ave_LMP_History[[Avg DA LMP]:[Avg DA LMP]],Ave_LMP_History[[Month]:[Month]],$B7,Ave_LMP_History[[Location ID]:[Location ID]],D$6) -> 70.74065 | E7: =AVERAGEIFS(Ave_LMP_History[[Avg DA LMP]:[Avg DA LMP]],Ave_LMP_History[[Month]:[Month]],$B7,Ave_LMP_History[[Location ID]:[Location ID]],E$6) -> 68.810583 | F7: =AVERAGEIFS(Ave_LMP_History[[Avg DA LMP]:[Avg DA LMP]],Ave_LMP_History[[Month]:[Month]],$B7,Ave_LMP_History[[Location ID]:[Location ID]],F$6) -> 70.27215 | G7: =AVERAGEIFS(Ave_LMP_History[[Avg DA LMP]:[Avg DA LMP]],Ave_LMP_History[[Month]:[Month]],$B7,Ave_LMP_History[[Location ID]:[Location ID]],G$6) -> 69.840483 | H7: =AVERAGEIFS(Ave_LMP_History[[Avg DA LMP]:[Avg DA LMP]],Ave_LMP_History[[Month]:[Month]],$B7,Ave_LMP_History[[Location ID]:[Location ID]],H$6) -> 65.785017 | I7: =AVERAGEIFS(Ave_LMP_History[[Avg DA LMP]:[Avg DA LMP]],Ave_LMP_History[[Month]:[Month]],$B7,Ave_LMP_History[[Location ID]:[Location ID]],I$6) -> 64.1798 | J7: =AVERAGEIFS(Ave_LMP_History[[Avg DA LMP]:[Avg DA LMP]],Ave_LMP_History[[Month]:[Month]],$B7,Ave_LMP_History[[Location ID]:[Location ID]],J$6) -> 70.129167 | K7: =AVERAGEIFS(Ave_LMP_History[[Avg DA LMP]:[Avg DA LMP]],Ave_LMP_History[[Month]:[Month]],$B7,Ave_LMP_History[[Location ID]:[Location ID]],K$6) -> 68.95415 | ... AF7: =AVERAGEIFS(Ave_LMP_History[[Avg DA LMP]:[Avg DA LMP]],Ave_LMP_History[[Month]:[Month]],$B7,Ave_LMP_History[[Location ID]:[Location ID]],AF$6) -> 71.941467
B8: 2 | C8: Feb | D8: =AVERAGEIFS(Ave_LMP_History[[Avg DA LMP]:[Avg DA LMP]],Ave_LMP_History[[Month]:[Month]],$B8,Ave_LMP_History[[Location ID]:[Location ID]],D$6) -> 53.080133 | E8: =AVERAGEIFS(Ave_LMP_History[[Avg DA LMP]:[Avg DA LMP]],Ave_LMP_History[[Month]:[Month]],$B8,Ave_LMP_History[[Location ID]:[Location ID]],E$6) -> 52.8212 | F8: =AVERAGEIFS(Ave_LMP_History[[Avg DA LMP]:[Avg DA LMP]],Ave_LMP_History[[Month]:[Month]],$B8,Ave_LMP_History[[Location ID]:[Location ID]],F$6) -> 53.296883 | G8: =AVERAGEIFS(Ave_LMP_History[[Avg DA LMP]:[Avg DA LMP]],Ave_LMP_History[[Month]:[Month]],$B8,Ave_LMP_History[[Location ID]:[Location ID]],G$6) -> 52.197083 | H8: =AVERAGEIFS(Ave_LMP_History[[Avg DA LMP]:[Avg DA LMP]],Ave_LMP_History[[Month]:[Month]],$B8,Ave_LMP_History[[Location ID]:[Location ID]],H$6) -> 48.914933 | I8: =AVERAGEIFS(Ave_LMP_History[[Avg DA LMP]:[Avg DA LMP]],Ave_LMP_History[[Month]:[Month]],$B8,Ave_LMP_History[[Location ID]:[Location ID]],I$6) -> 47.821033 | J8: =AVERAGEIFS(Ave_LMP_History[[Avg DA LMP]:[Avg DA LMP]],Ave_LMP_History[[Month]:[Month]],$B8,Ave_LMP_History[[Location ID]:[Location ID]],J$6) -> 52.30525 | K8: =AVERAGEIFS(Ave_LMP_History[[Avg DA LMP]:[Avg DA LMP]],Ave_LMP_History[[Month]:[Month]],$B8,Ave_LMP_History[[Location ID]:[Location ID]],K$6) -> 52.858733 | ... AF8: =AVERAGEIFS(Ave_LMP_History[[Avg DA LMP]:[Avg DA LMP]],Ave_LMP_History[[Month]:[Month]],$B8,Ave_LMP_History[[Location ID]:[Location ID]],AF$6) -> 53.9175
B9: 3 | C9: Mar | D9: =AVERAGEIFS(Ave_LMP_History[[Avg DA LMP]:[Avg DA LMP]],Ave_LMP_History[[Month]:[Month]],$B9,Ave_LMP_History[[Location ID]:[Location ID]],D$6) -> 37.90705 | E9: =AVERAGEIFS(Ave_LMP_History[[Avg DA LMP]:[Avg DA LMP]],Ave_LMP_History[[Month]:[Month]],$B9,Ave_LMP_History[[Location ID]:[Location ID]],E$6) -> 37.0874 | F9: =AVERAGEIFS(Ave_LMP_History[[Avg DA LMP]:[Avg DA LMP]],Ave_LMP_History[[Month]:[Month]],$B9,Ave_LMP_History[[Location ID]:[Location ID]],F$6) -> 37.791783 | G9: =AVERAGEIFS(Ave_LMP_History[[Avg DA LMP]:[Avg DA LMP]],Ave_LMP_History[[Month]:[Month]],$B9,Ave_LMP_History[[Location ID]:[Location ID]],G$6) -> 37.123167 | H9: =AVERAGEIFS(Ave_LMP_History[[Avg DA LMP]:[Avg DA LMP]],Ave_LMP_History[[Month]:[Month]],$B9,Ave_LMP_History[[Location ID]:[Location ID]],H$6) -> 34.7877 | I9: =AVERAGEIFS(Ave_LMP_History[[Avg DA LMP]:[Avg DA LMP]],Ave_LMP_History[[Month]:[Month]],$B9,Ave_LMP_History[[Location ID]:[Location ID]],I$6) -> 33.66275 | J9: =AVERAGEIFS(Ave_LMP_History[[Avg DA LMP]:[Avg DA LMP]],Ave_LMP_History[[Month]:[Month]],$B9,Ave_LMP_History[[Location ID]:[Location ID]],J$6) -> 37.2867 | K9: =AVERAGEIFS(Ave_LMP_History[[Avg DA LMP]:[Avg DA LMP]],Ave_LMP_History[[Month]:[Month]],$B9,Ave_LMP_History[[Location ID]:[Location ID]],K$6) -> 37.31275 | ... AF9: =AVERAGEIFS(Ave_LMP_History[[Avg DA LMP]:[Avg DA LMP]],Ave_LMP_History[[Month]:[Month]],$B9,Ave_LMP_History[[Location ID]:[Location ID]],AF$6) -> 38.464767
B10: 4 | C10: Apr | D10: =AVERAGEIFS(Ave_LMP_History[[Avg DA LMP]:[Avg DA LMP]],Ave_LMP_History[[Month]:[Month]],$B10,Ave_LMP_History[[Location ID]:[Location ID]],D$6) -> 34.67825 | E10: =AVERAGEIFS(Ave_LMP_History[[Avg DA LMP]:[Avg DA LMP]],Ave_LMP_History[[Month]:[Month]],$B10,Ave_LMP_History[[Location ID]:[Location ID]],E$6) -> 33.106683 | F10: =AVERAGEIFS(Ave_LMP_History[[Avg DA LMP]:[Avg DA LMP]],Ave_LMP_History[[Month]:[Month]],$B10,Ave_LMP_History[[Location ID]:[Location ID]],F$6) -> 34.426633 | G10: =AVERAGEIFS(Ave_LMP_History[[Avg DA LMP]:[Avg DA LMP]],Ave_LMP_History[[Month]:[Month]],$B10,Ave_LMP_History[[Location ID]:[Location ID]],G$6) -> 33.704567 | H10: =AVERAGEIFS(Ave_LMP_History[[Avg DA LMP]:[Avg DA LMP]],Ave_LMP_History[[Month]:[Month]],$B10,Ave_LMP_History[[Location ID]:[Location ID]],H$6) -> 32.591383 | I10: =AVERAGEIFS(Ave_LMP_History[[Avg DA LMP]:[Avg DA LMP]],Ave_LMP_History[[Month]:[Month]],$B10,Ave_LMP_History[[Location ID]:[Location ID]],I$6) -> 29.878383 | J10: =AVERAGEIFS(Ave_LMP_History[[Avg DA LMP]:[Avg DA LMP]],Ave_LMP_History[[Month]:[Month]],$B10,Ave_LMP_History[[Location ID]:[Location ID]],J$6) -> 33.916017 | K10: =AVERAGEIFS(Ave_LMP_History[[Avg DA LMP]:[Avg DA LMP]],Ave_LMP_History[[Month]:[Month]],$B10,Ave_LMP_History[[Location ID]:[Location ID]],K$6) -> 34.03295 | ... AF10: =AVERAGEIFS(Ave_LMP_History[[Avg DA LMP]:[Avg DA LMP]],Ave_LMP_History[[Month]:[Month]],$B10,Ave_LMP_History[[Location ID]:[Location ID]],AF$6) -> 35.392367
B11: 5 | C11: May | D11: =AVERAGEIFS(Ave_LMP_History[[Avg DA LMP]:[Avg DA LMP]],Ave_LMP_History[[Month]:[Month]],$B11,Ave_LMP_History[[Location ID]:[Location ID]],D$6) -> 32.2886 | E11: =AVERAGEIFS(Ave_LMP_History[[Avg DA LMP]:[Avg DA LMP]],Ave_LMP_History[[Month]:[Month]],$B11,Ave_LMP_History[[Location ID]:[Location ID]],E$6) -> 31.09435 | F11: =AVERAGEIFS(Ave_LMP_History[[Avg DA LMP]:[Avg DA LMP]],Ave_LMP_History[[Month]:[Month]],$B11,Ave_LMP_History[[Location ID]:[Location ID]],F$6) -> 32.003533 | G11: =AVERAGEIFS(Ave_LMP_History[[Avg DA LMP]:[Avg DA LMP]],Ave_LMP_History[[Month]:[Month]],$B11,Ave_LMP_History[[Location ID]:[Location ID]],G$6) -> 31.714167 | H11: =AVERAGEIFS(Ave_LMP_History[[Avg DA LMP]:[Avg DA LMP]],Ave_LMP_History[[Month]:[Month]],$B11,Ave_LMP_History[[Location ID]:[Location ID]],H$6) -> 31.2617 | I11: =AVERAGEIFS(Ave_LMP_History[[Avg DA LMP]:[Avg DA LMP]],Ave_LMP_History[[Month]:[Month]],$B11,Ave_LMP_History[[Location ID]:[Location ID]],I$6) -> 29.148633 | J11: =AVERAGEIFS(Ave_LMP_History[[Avg DA LMP]:[Avg DA LMP]],Ave_LMP_History[[Month]:[Month]],$B11,Ave_LMP_History[[Location ID]:[Location ID]],J$6) -> 31.884283 | K11: =AVERAGEIFS(Ave_LMP_History[[Avg DA LMP]:[Avg DA LMP]],Ave_LMP_History[[Month]:[Month]],$B11,Ave_LMP_History[[Location ID]:[Location ID]],K$6) -> 31.451033 | ... AF11: =AVERAGEIFS(Ave_LMP_History[[Avg DA LMP]:[Avg DA LMP]],Ave_LMP_History[[Month]:[Month]],$B11,Ave_LMP_History[[Location ID]:[Location ID]],AF$6) -> 32.764183
