Workbook

Sheet Cover
B2: Supplementary Data File S1: Grubert 2020 - At scale, renewable natural gas systems could be climate intensive: The influence of methane feedstock and leakage rates
B3: Assumptions, Conversion Factors, and Calculations
B5: This workbook contains assumptions and conversion factors for the paper "At scale, renewable natural gas systems could be climate intensive: The influence of methane feedstock and leakage rates"
B6: The full open access paper can be found at https://doi.org/10.1088/1748-9326/ab9335, in Environmental Research Letters.
B7: This document also contains full calculations and source data for the figures in the paper.
B9: Work by | D9: Emily Grubert
D10: gruberte@gatech.edu
D11: 404.894.3055
B13: Workbook date | D13: 23 April 2020

Sheet Methane leakage assumptions
A1: Methane Leakage Assumptions
A3: This sheet summarizes the main inputs to assumptions about RNG and FNG system leakage, based on a broad review of leakage literature suggesting that these estimates and ranges are representative of current knowledge.
A5: All Natural Gas
A6: As this work investigates RNG as an FNG substitute, methane emissions downstream of production and processing--i.e., for transportation and end use--are assumed to be identical.
A7: Given uncertainty about the nature of the end user (and thus, e.g., whether distribution systems are needed), and given the very limited information on methane leakage from end users, this work assumes (for both RNG and FNG) a total methane leakage of
A8: 0.008 | B8: downstream of producing/processing, informed by the below analyses
A10: Transportation
A11: Alvarez, R. A. et al. Assessment of methane emissions from the U.S. oil and gas supply chain. Science eaar7204 (2018) doi:10.1126/science.aar7204.
A12: Industry segment | B12: 2015 CH4 Emissions (Tg/y) | C12: 2015 CH4 gross withdrawals (Tg/y) | D12: Mass CH4 leaked/Mass CH4 withdrawn
A13: Transmission and Storage | B13: 1.8 | C13: 520.49039 | D13: 0.0034582771
A14: Local Distribution | B14: 0.44 | C14: 520.49039 | D14: 0.00084535662
A15: see Grubert, E. & Brandt, A. R. Three considerations for modeling natural gas system methane emissions in life cycle assessment. Journal of Cleaner Production 222, 760–767 (2019), Supplementary Data File, for exact calculations
A17: End Use
B18: Low | C18: Medium | D18: High
A19: FNG power plants | B19: 0.001 | C19: 0.0025 | D19: 0.0042 | E19: Lavoie, T. N. et al. Assessing the Methane Emissions from Natural Gas-Fired Power Plants and Oil Refineries. Environ. Sci. Technol. 51, 3373–3381 (2017).
A20: biogas cogen plants | B20: 0.004 | C20: 0.0174 | D20: 0.0328 | E20: Liebetrau, J., Reinelt, T., Clemens, J., Hafermann, C., Friehe, J., and Weiland, P. (2013). “Analysis of greenhouse gas emissions from 10 biogas plants within the agricultural sector.” Water Science and Technology, 67(6), 1370–1379.
A22: Renewable Natural Gas
A23: Production and processing
A24: Scheutz, C., and Fredenslund, A. M. (2019). “Total methane emission rates and losses from 23 biogas plants.” Waste Management, 97, 38–46.
A25: methane losses as percentage of production (CH4/CH4 mass basis)
A26: Danish full-scale biogas plants | B26: Loss (mass %) | C26: Sample size
A27: low | B27: 0.004 | C27: 1
A28: mean, ag sample | B28: 0.024 | C28: 13
A29: mean, total sample | B29: 0.046 | C29: 23
A30: mean, WWTP sample | B30: 0.075 | C30: 10
A31: high | B31: 0.149 | C31: 1
A33: As some of the plants in the Scheutz and Fredenslund 2019 sample are CHP and some are biogas-->biomethane processing facilities, we re-calculate from table 4 to include want biogas upgrade units (for RNG) vs CHP facilities only
A34: Biogas upgrade units for RNG | F34: CHP units
A35: Plant number | B35: Plant type | C35: Average biogas production (kg CH4/h) | D35: Average CH4 loss in mass % of production | F35: Plant number | G35: Plant type | H35: Average biogas production (kg CH4/h) | I35: Average CH4 loss in mass % of production, corrected to include CHP for all | J35: Includes CHP? | K35: Average CH4 loss in mass % of production, Scheutz & Fredenslund
A36: 1 | B36: ag | C36: 1469 | D36: 0.004 | F36: 3 | G36: ag | H36: 888 | I36: =IF(J36="yes",K36,K36+$C$20) -> 0.0434 | J36: no | K36: 0.026
A37: 2 | B37: ag | C37: 1083 | D37: 0.018 | F37: 4 | G37: ag | H37: 858 | I37: =IF(J37="yes",K37,K37+$C$20) -> 0.0244 | J37: no | K37: 0.007
A38: 6 | B38: ag | C38: 411 | D38: 0.026 | F38: 7 | G38: ag | H38: 404 | I38: =IF(J38="yes",K38,K38+$C$20) -> 0.0334 | J38: no | K38: 0.016
A39: 13 | B39: ag | C39: 815 | D39: 0.026 | F39: 9 | G39: ag | H39: 333 | I39: =IF(J39="yes",K39,K39+$C$20) -> 0.045 | J39: yes | K39: 0.045
A40: 17 | B40: wwtp | C40: 96 | D40: 0.128 | F40: 10 | G40: ag | H40: 234 | I40: =IF(J40="yes",K40,K40+$C$20) -> 0.026 | J40: yes | K40: 0.026
A41: 22 | B41: wwtp | C41: 83 | D41: 0.12 | F41: 12 | G41: ag | H41: 127 | I41: =IF(J41="yes",K41,K41+$C$20) -> 0.0384 | J41: no | K41: 0.021
A42: 23 | B42: wwtp | C42: 58 | D42: 0.149 | F42: 15 | G42: wwtp | H42: 162 | I42: =IF(J42="yes",K42,K42+$C$20) -> 0.083 | J42: yes | K42: 0.083
F43: 16 | G43: wwtp | H43: 100 | I43: =IF(J43="yes",K43,K43+$C$20) -> 0.026 | J43: yes | K43: 0.026
F44: 18 | G44: wwtp | H44: 88 | I44: =IF(J44="yes",K44,K44+$C$20) -> 0.091 | J44: yes | K44: 0.091
F45: 19 | G45: wwtp | H45: 85 | I45: =IF(J45="yes",K45,K45+$C$20) -> 0.03 | J45: yes | K45: 0.03
F46: 20 | G46: wwtp | H46: 262 | I46: =IF(J46="yes",K46,K46+$C$20) -> 0.038 | J46: yes | K46: 0.038
...

Sheet GWP of methane by scenario
A1: GWP of Methane by Scenario
A3: RNG CO2e intensity by pathway, assuming climate-neutral ultimate CO2 emission
A4: leakages (mass CH4 emitted/mass CH4 produced) | B4: 0 | C4: =B4+0.025 -> 0.025 | D4: =C4+0.025 -> 0.05 | E4: =D4+0.025 -> 0.075 | F4: =E4+0.025 -> 0.1 | G4: =F4+0.025 -> 0.125 | H4: =G4+0.025 -> 0.15 | I4: =B4 -> 0 | J4: =C4 -> 0.025 | K4: =D4 -> 0.05 | L4: =E4 -> 0.075 | M4: =F4 -> 0.1 | N4: =G4 -> 0.125 | O4: =H4 -> 0.15
B5: GWP-100, kg CO2e/GJ consumed | I5: GWP-20, kg CO2e/GJ consumed
A6: Methane is intentionally produced and used | B6: =($B$17/(1-B$4))*$B$24*B$4 -> 0 | C6: =($B$17/(1-C$4))*$B$24*C$4 -> 17.435897 | D6: =($B$17/(1-D$4))*$B$24*D$4 -> 35.789474 | E6: =($B$17/(1-E$4))*$B$24*E$4 -> 55.135135 | F6: =($B$17/(1-F$4))*$B$24*F$4 -> 75.555556 | G6: =($B$17/(1-G$4))*$B$24*G$4 -> 97.142857 | H6: =($B$17/(1-H$4))*$B$24*H$4 -> 120 | I6: =($B$17/(1-I$4))*$B$25*I$4 -> 0 | J6: =($B$17/(1-J$4))*$B$25*J$4 -> 44.102564 | K6: =($B$17/(1-K$4))*$B$25*K$4 -> 90.526316 | L6: =($B$17/(1-L$4))*$B$25*L$4 -> 139.45946 | M6: =($B$17/(1-M$4))*$B$25*M$4 -> 191.11111 | N6: =($B$17/(1-N$4))*$B$25*N$4 -> 245.71429 | O6: =($B$17/(1-O$4))*$B$25*O$4 -> 303.52941
A7: Methane is diverted from a flare, 99% efficiency | B7: =($B$17/(1-B$4))*$B$24*(B$4-$B$26) -> -6.8 | C7: =($B$17/(1-C$4))*$B$24*(C$4-$B$26) -> 10.461538 | D7: =($B$17/(1-D$4))*$B$24*(D$4-$B$26) -> 28.631579 | E7: =($B$17/(1-E$4))*$B$24*(E$4-$B$26) -> 47.783784 | F7: =($B$17/(1-F$4))*$B$24*(F$4-$B$26) -> 68 | G7: =($B$17/(1-G$4))*$B$24*(G$4-$B$26) -> 89.371429 | H7: =($B$17/(1-H$4))*$B$24*(H$4-$B$26) -> 112 | I7: =($B$17/(1-I$4))*$B$25*(I$4-$B$26) -> -17.2 | J7: =($B$17/(1-J$4))*$B$25*(J$4-$B$26) -> 26.461538 | K7: =($B$17/(1-K$4))*$B$25*(K$4-$B$26) -> 72.421053 | L7: =($B$17/(1-L$4))*$B$25*(L$4-$B$26) -> 120.86486 | M7: =($B$17/(1-M$4))*$B$25*(M$4-$B$26) -> 172 | N7: =($B$17/(1-N$4))*$B$25*(N$4-$B$26) -> 226.05714 | O7: =($B$17/(1-O$4))*$B$25*(O$4-$B$26) -> 283.29412
A8: Methane is diverted from a flare, 86% efficiency | B8: =($B$17/(1-B$4))*$B$24*(B$4-$B$27) -> -95.2 | C8: =($B$17/(1-C$4))*$B$24*(C$4-$B$27) -> -80.205128 | D8: =($B$17/(1-D$4))*$B$24*(D$4-$B$27) -> -64.421053 | E8: =($B$17/(1-E$4))*$B$24*(E$4-$B$27) -> -47.783784 | F8: =($B$17/(1-F$4))*$B$24*(F$4-$B$27) -> -30.222222 | G8: =($B$17/(1-G$4))*$B$24*(G$4-$B$27) -> -11.657143 | H8: =($B$17/(1-H$4))*$B$24*(H$4-$B$27) -> 8 | I8: =($B$17/(1-I$4))*$B$25*(I$4-$B$27) -> -240.8 | J8: =($B$17/(1-J$4))*$B$25*(J$4-$B$27) -> -202.87179 | K8: =($B$17/(1-K$4))*$B$25*(K$4-$B$27) -> -162.94737 | L8: =($B$17/(1-L$4))*$B$25*(L$4-$B$27) -> -120.86486 | M8: =($B$17/(1-M$4))*$B$25*(M$4-$B$27) -> -76.444444 | N8: =($B$17/(1-N$4))*$B$25*(N$4-$B$27) -> -29.485714 | O8: =($B$17/(1-O$4))*$B$25*(O$4-$B$27) -> 20.235294
A9: Methane is diverted from emission to atmosphere | B9: =($B$17/(1-B$4))*$B$24*(B$4-1) -> -680 | C9: =($B$17/(1-C$4))*$B$24*(C$4-1) -> -680 | D9: =($B$17/(1-D$4))*$B$24*(D$4-1) -> -680 | E9: =($B$17/(1-E$4))*$B$24*(E$4-1) -> -680 | F9: =($B$17/(1-F$4))*$B$24*(F$4-1) -> -680 | G9: =($B$17/(1-G$4))*$B$24*(G$4-1) -> -680 | H9: =($B$17/(1-H$4))*$B$24*(H$4-1) -> -680 | I9: =($B$17/(1-I$4))*$B$25*(I$4-1) -> -1720 | J9: =($B$17/(1-J$4))*$B$25*(J$4-1) -> -1720 | K9: =($B$17/(1-K$4))*$B$25*(K$4-1) -> -1720 | L9: =($B$17/(1-L$4))*$B$25*(L$4-1) -> -1720 | M9: =($B$17/(1-M$4))*$B$25*(M$4-1) -> -1720 | N9: =($B$17/(1-N$4))*$B$25*(N$4-1) -> -1720 | O9: =($B$17/(1-O$4))*$B$25*(O$4-1) -> -1720
A11: FNG CO2e intensity
A12: leakage (mass CH4 emitted/mass CH4 withdrawn) | B12: ='Methane leakage assumptions'!$D$56+'Methane leakage assumptions'!$D$57+'Methane leakage assumptions'!$A$8 -> 0.028980214
A13: kg CO2e/GJ delivered, GWP-100, FNG | B13: =($B$17*$E$34)+(($B$17/(1-$B$12))*B$12*$B$22) -> 76.363807
A14: kg CO2e/GJ delivered, GWP-20, FNG | B14: =($B$17*$F$34)+(($B$17/(1-$B$12))*B$12*$B$23) -> 106.80584
A16: Assumptions and inputs
A17: kg CH4/GJ delivered | B17: =1/(50/1000) -> 20
A18: molar mass, methane | B18: 16.04 | C18: g/mol
A19: molar mass, CO2 | B19: 44.01 | C19: g/mol
A20: GWP-100, CO2 | B20: 1
A21: GWP-20, CO2 | B21: 1
A22: GWP-100, methane with climate-positive CO2 | B22: 36 | C22: IPCC (AR5), fossil methane with climate-carbon feedback (WG1, Tables 8.7, 8.A.1)
A23: GWP-20, methane with climate-positive CO2 | B23: 87 | C23: IPCC (AR5), fossil methane with climate-carbon feedback (WG1, Tables 8.7, 8.A.1)
A24: GWP-100, methane with climate-neutral CO2 | B24: 34 | C24: IPCC (AR5), nonfossil methane with climate-carbon feedback (WG1, Tables 8.7, 8.A.1)
A25: GWP-20, methane with climate-neutral CO2 | B25: 86 | C25: IPCC (AR5), nonfossil methane with climate-carbon feedback (WG1, Tables 8.7, 8.A.1)
A26: flare leakage, efficiency = 99% | B26: =1-0.99 -> 0.01
A27: flare leakage, efficiency = 86% | B27: =1-0.86 -> 0.14
A31: GWP Impact of Diverting Methane from Release
A32: destroying 1 mol CH4 results in | C32: kg CO2e/mol CH4 diverted and destroyed, GWP 100 | D32: kg CO2e/mol CH4 diverted and destroyed, GWP 20 | E32: kg CO2e/kg CH4 diverted and destroyed, GWP-100 | F32: kg CO2e/kg CH4 diverted and destroyed, GWP-20
A33: -1 | B33: mol CH4 | C33: =$A33*$B18/1000*B22 -> -0.57744 | D33: =$A33*$B18/1000*B23 -> -1.39548 | E33: =C33*(1/$B$18)*1000 -> -36 | F33: =D33*(1/$B$18)*1000 -> -87
A34: 1 | B34: mol CO2 | C34: =$A34*$B19/1000*B20 -> 0.04401 | D34: =$A34*$B19/1000*B21 -> 0.04401 | E34: =C34*(1/$B$18)*1000 -> 2.7437656 | F34: =D34*(1/$B$18)*1000 -> 2.7437656

Sheet Figures-->

Sheet Figure 1 - GWP, intl prod
A1: Figure 1 - GHG intensity of intentionally produced RNG as a function of system methane leakage
A3: Intentionally produced methane with climate-neutral ultimate CO2 emission
A4: RNG System Methane Leakage | B4: ='GWP of methane by scenario'!B4 -> 0 | C4: ='GWP of methane by scenario'!C4 -> 0.025 | D4: ='GWP of methane by scenario'!D4 -> 0.05 | E4: ='GWP of methane by scenario'!E4 -> 0.075 | F4: ='GWP of methane by scenario'!F4 -> 0.1 | G4: ='GWP of methane by scenario'!G4 -> 0.125 | H4: ='GWP of methane by scenario'!H4 -> 0.15
A5: GWP-100, RNG | B5: ='GWP of methane by scenario'!B6 -> 0 | C5: ='GWP of methane by scenario'!C6 -> 17.435897 | D5: ='GWP of methane by scenario'!D6 -> 35.789474 | E5: ='GWP of methane by scenario'!E6 -> 55.135135 | F5: ='GWP of methane by scenario'!F6 -> 75.555556 | G5: ='GWP of methane by scenario'!G6 -> 97.142857 | H5: ='GWP of methane by scenario'!H6 -> 120
A6: GWP-20, RNG | B6: ='GWP of methane by scenario'!I6 -> 0 | C6: ='GWP of methane by scenario'!J6 -> 44.102564 | D6: ='GWP of methane by scenario'!K6 -> 90.526316 | E6: ='GWP of methane by scenario'!L6 -> 139.45946 | F6: ='GWP of methane by scenario'!M6 -> 191.11111 | G6: ='GWP of methane by scenario'!N6 -> 245.71429 | H6: ='GWP of methane by scenario'!O6 -> 303.52941
A7: GWP-100, FNG | B7: ='GWP of methane by scenario'!$B$13 -> 76.363807 | C7: ='GWP of methane by scenario'!$B$13 -> 76.363807 | D7: ='GWP of methane by scenario'!$B$13 -> 76.363807 | E7: ='GWP of methane by scenario'!$B$13 -> 76.363807 | F7: ='GWP of methane by scenario'!$B$13 -> 76.363807 | G7: ='GWP of methane by scenario'!$B$13 -> 76.363807 | H7: ='GWP of methane by scenario'!$B$13 -> 76.363807
A8: GWP-20, FNG | B8: ='GWP of methane by scenario'!$B$14 -> 106.80584 | C8: ='GWP of methane by scenario'!$B$14 -> 106.80584 | D8: ='GWP of methane by scenario'!$B$14 -> 106.80584 | E8: ='GWP of methane by scenario'!$B$14 -> 106.80584 | F8: ='GWP of methane by scenario'!$B$14 -> 106.80584 | G8: ='GWP of methane by scenario'!$B$14 -> 106.80584 | H8: ='GWP of methane by scenario'!$B$14 -> 106.80584
A9: 2ºC compliant by 2050 | B9: =$A$32/$A$31 -> 1.864062 | C9: =$A$32/$A$31 -> 1.864062 | D9: =$A$32/$A$31 -> 1.864062 | E9: =$A$32/$A$31 -> 1.864062 | F9: =$A$32/$A$31 -> 1.864062 | G9: =$A$32/$A$31 -> 1.864062 | H9: =$A$32/$A$31 -> 1.864062
A10: GWP-all, zero-carbon | B10: 0 | C10: 0 | D10: 0 | E10: 0 | F10: 0 | G10: 0 | H10: 0
A12: Intersection points: what RNG leakage is required before intentionally produced RNG has higher GHG intensity than FNG?
B13: Leakage | C13: kg CO2e/GJ consumed
A14: GWP-100 | B14: 0.10096161 | C14: =('GWP of methane by scenario'!$B$17/(1-$B14))*'GWP of methane by scenario'!$B24*$B14 -> 76.363698
A15: GWP-20 | B15: 0.058465946 | C15: =('GWP of methane by scenario'!$B$17/(1-$B15))*'GWP of methane by scenario'!$B25*$B15 -> 106.80594
A16: Calculated by: Goal Seek, vary leakage to match intensity to FNG intensity by GWP
A18: GWP sensitivity: +/- 40% for GWP-100, +/- 30% for GWP-20
A19: RNG system leakage implying RNG GHGs = FNG GHGs
B20: Low GWP | C20: Med GWP | D20: High GWP
A21: GWP-100 | B21: 0.090628126 | C21: 0.10096161 | D21: 0.11106347
A22: GWP-20 | B22: 0.050367536 | C22: 0.058465946 | D22: 0.066427482
A25: AR5, WG1, Table 8.A.1 | B25: Low est (kg CO2e/kg CH4) | C25: Med est (kg CO2e/kg CH4) | D25: Hi est (kg CO2e/kg CH4)
A26: GWP-100 | B26: =0.6*'GWP of methane by scenario'!B22 -> 21.6 | C26: ='GWP of methane by scenario'!B22 -> 36 | D26: =1.4*'GWP of methane by scenario'!B22 -> 50.4
A27: GWP-20 | B27: =0.7*'GWP of methane by scenario'!B23 -> 60.9 | C27: ='GWP of methane by scenario'!B23 -> 87 | D27: =1.3*'GWP of methane by scenario'!B23 -> 113.1
A29: Intersection points: what RNG leakage is required before intentionally produced RNG has higher GHG intensity than a 2ºC compliant electricity mix?
A30: 7627 | B30: btu/kWh | C30: 2018 NGCC heat rate, https://www.eia.gov/electricity/annual/html/epa_08_02.html
A31: =A30*0.00000105506*1000 -> 8.0469426 | B31: GJ/MWh
A32: 15 | B32: kg CO2e/MWh | C32: limit, 2ºC compliant by 2050, Pehl, M. et al. Understanding future emissions from low-carbon power systems by integration of life-cycle assessment and integrated energy modelling. Nature Energy 2, 939–945 (2017).
A33: =$A$31*(('GWP of methane by scenario'!$B$17/(1-$A$34))*'GWP of methane by scenario'!$B$24*$A$34) -> 14.999201 | B33: kg CO2e/MWh
A34: 0.0027336285 | B34: leakage limit

Sheet Figure 2 - vented vs intl prod
A1: Figure 2 - GHG intensity of RNG systems that blend waste methane that would have been released with intentionally produced RNG
A2: RNG GHG < 0
A3: RNG GHG > FNG GHG
A4: leakage rate--> | B4: ='GWP of methane by scenario'!B4 -> 0 | C4: ='GWP of methane by scenario'!C4 -> 0.025 | D4: ='GWP of methane by scenario'!D4 -> 0.05 | E4: ='GWP of methane by scenario'!E4 -> 0.075 | F4: ='GWP of methane by scenario'!F4 -> 0.1 | G4: ='GWP of methane by scenario'!G4 -> 0.125 | H4: ='GWP of methane by scenario'!H4 -> 0.15 | I4: ='GWP of methane by scenario'!B4 -> 0 | J4: ='GWP of methane by scenario'!C4 -> 0.025 | K4: ='GWP of methane by scenario'!D4 -> 0.05 | L4: ='GWP of methane by scenario'!E4 -> 0.075 | M4: ='GWP of methane by scenario'!F4 -> 0.1 | N4: ='GWP of methane by scenario'!G4 -> 0.125 | O4: ='GWP of methane by scenario'!H4 -> 0.15
A5: % of CH4 intentionally produced | B5: GWP 100 | I5: GWP 20
A6: 1 | B6: =$A6*'GWP of methane by scenario'!B$6+(1-$A6)*'GWP of methane by scenario'!B$9 -> 0 | C6: =$A6*'GWP of methane by scenario'!C$6+(1-$A6)*'GWP of methane by scenario'!C$9 -> 17.435897 | D6: =$A6*'GWP of methane by scenario'!D$6+(1-$A6)*'GWP of methane by scenario'!D$9 -> 35.789474 | E6: =$A6*'GWP of methane by scenario'!E$6+(1-$A6)*'GWP of methane by scenario'!E$9 -> 55.135135 | F6: =$A6*'GWP of methane by scenario'!F$6+(1-$A6)*'GWP of methane by scenario'!F$9 -> 75.555556 | G6: =$A6*'GWP of methane by scenario'!G$6+(1-$A6)*'GWP of methane by scenario'!G$9 -> 97.142857 | H6: =$A6*'GWP of methane by scenario'!H$6+(1-$A6)*'GWP of methane by scenario'!H$9 -> 120 | I6: =$A6*'GWP of methane by scenario'!I$6+(1-$A6)*'GWP of methane by scenario'!I$9 -> 0 | ... O6: =$A6*'GWP of methane by scenario'!O$6+(1-$A6)*'GWP of methane by scenario'!O$9 -> 303.52941
A7: =A6-0.05 -> 0.95 | B7: =$A7*'GWP of methane by scenario'!B$6+(1-$A7)*'GWP of methane by scenario'!B$9 -> -34 | C7: =$A7*'GWP of methane by scenario'!C$6+(1-$A7)*'GWP of methane by scenario'!C$9 -> -17.435897 | D7: =$A7*'GWP of methane by scenario'!D$6+(1-$A7)*'GWP of methane by scenario'!D$9 -> 0 | E7: =$A7*'GWP of methane by scenario'!E$6+(1-$A7)*'GWP of methane by scenario'!E$9 -> 18.378378 | F7: =$A7*'GWP of methane by scenario'!F$6+(1-$A7)*'GWP of methane by scenario'!F$9 -> 37.777778 | G7: =$A7*'GWP of methane by scenario'!G$6+(1-$A7)*'GWP of methane by scenario'!G$9 -> 58.285714 | H7: =$A7*'GWP of methane by scenario'!H$6+(1-$A7)*'GWP of methane by scenario'!H$9 -> 80 | I7: =$A7*'GWP of methane by scenario'!I$6+(1-$A7)*'GWP of methane by scenario'!I$9 -> -86 | ... O7: =$A7*'GWP of methane by scenario'!O$6+(1-$A7)*'GWP of methane by scenario'!O$9 -> 202.35294
A8: =A7-0.05 -> 0.9 | B8: =$A8*'GWP of methane by scenario'!B$6+(1-$A8)*'GWP of methane by scenario'!B$9 -> -68 | C8: =$A8*'GWP of methane by scenario'!C$6+(1-$A8)*'GWP of methane by scenario'!C$9 -> -52.307692 | D8: =$A8*'GWP of methane by scenario'!D$6+(1-$A8)*'GWP of methane by scenario'!D$9 -> -35.789474 | E8: =$A8*'GWP of methane by scenario'!E$6+(1-$A8)*'GWP of methane by scenario'!E$9 -> -18.378378 | F8: =$A8*'GWP of methane by scenario'!F$6+(1-$A8)*'GWP of methane by scenario'!F$9 -> 0 | G8: =$A8*'GWP of methane by scenario'!G$6+(1-$A8)*'GWP of methane by scenario'!G$9 -> 19.428571 | H8: =$A8*'GWP of methane by scenario'!H$6+(1-$A8)*'GWP of methane by scenario'!H$9 -> 40 | I8: =$A8*'GWP of methane by scenario'!I$6+(1-$A8)*'GWP of methane by scenario'!I$9 -> -172 | ... O8: =$A8*'GWP of methane by scenario'!O$6+(1-$A8)*'GWP of methane by scenario'!O$9 -> 101.17647
A9: =A8-0.05 -> 0.85 | B9: =$A9*'GWP of methane by scenario'!B$6+(1-$A9)*'GWP of methane by scenario'!B$9 -> -102 | C9: =$A9*'GWP of methane by scenario'!C$6+(1-$A9)*'GWP of methane by scenario'!C$9 -> -87.179487 | D9: =$A9*'GWP of methane by scenario'!D$6+(1-$A9)*'GWP of methane by scenario'!D$9 -> -71.578947 | E9: =$A9*'GWP of methane by scenario'!E$6+(1-$A9)*'GWP of methane by scenario'!E$9 -> -55.135135 | F9: =$A9*'GWP of methane by scenario'!F$6+(1-$A9)*'GWP of methane by scenario'!F$9 -> -37.777778 | G9: =$A9*'GWP of methane by scenario'!G$6+(1-$A9)*'GWP of methane by scenario'!G$9 -> -19.428571 | H9: =$A9*'GWP of methane by scenario'!H$6+(1-$A9)*'GWP of methane by scenario'!H$9 -> 0 | I9: =$A9*'GWP of methane by scenario'!I$6+(1-$A9)*'GWP of methane by scenario'!I$9 -> -258 | ... O9: =$A9*'GWP of methane by scenario'!O$6+(1-$A9)*'GWP of methane by scenario'!O$9 -> 0
A10: =A9-0.05 -> 0.8 | B10: =$A10*'GWP of methane by scenario'!B$6+(1-$A10)*'GWP of methane by scenario'!B$9 -> -136 | C10: =$A10*'GWP of methane by scenario'!C$6+(1-$A10)*'GWP of methane by scenario'!C$9 -> -122.05128 | D10: =$A10*'GWP of methane by scenario'!D$6+(1-$A10)*'GWP of methane by scenario'!D$9 -> -107.36842 | E10: =$A10*'GWP of methane by scenario'!E$6+(1-$A10)*'GWP of methane by scenario'!E$9 -> -91.891892 | F10: =$A10*'GWP of methane by scenario'!F$6+(1-$A10)*'GWP of methane by scenario'!F$9 -> -75.555556 | G10: =$A10*'GWP of methane by scenario'!G$6+(1-$A10)*'GWP of methane by scenario'!G$9 -> -58.285714 | H10: =$A10*'GWP of methane by scenario'!H$6+(1-$A10)*'GWP of methane by scenario'!H$9 -> -40 | I10: =$A10*'GWP of methane by scenario'!I$6+(1-$A10)*'GWP of methane by scenario'!I$9 -> -344 | ... O10: =$A10*'GWP of methane by scenario'!O$6+(1-$A10)*'GWP of methane by scenario'!O$9 -> -101.17647
A11: =A10-0.05 -> 0.75 | B11: =$A11*'GWP of methane by scenario'!B$6+(1-$A11)*'GWP of methane by scenario'!B$9 -> -170 | C11: =$A11*'GWP of methane by scenario'!C$6+(1-$A11)*'GWP of methane by scenario'!C$9 -> -156.92308 | D11: =$A11*'GWP of methane by scenario'!D$6+(1-$A11)*'GWP of methane by scenario'!D$9 -> -143.15789 | E11: =$A11*'GWP of methane by scenario'!E$6+(1-$A11)*'GWP of methane by scenario'!E$9 -> -128.64865 | F11: =$A11*'GWP of methane by scenario'!F$6+(1-$A11)*'GWP of methane by scenario'!F$9 -> -113.33333 | G11: =$A11*'GWP of methane by scenario'!G$6+(1-$A11)*'GWP of methane by scenario'!G$9 -> -97.142857 | H11: =$A11*'GWP of methane by scenario'!H$6+(1-$A11)*'GWP of methane by scenario'!H$9 -> -80 | I11: =$A11*'GWP of methane by scenario'!I$6+(1-$A11)*'GWP of methane by scenario'!I$9 -> -430 | ... O11: =$A11*'GWP of methane by scenario'!O$6+(1-$A11)*'GWP of methane by scenario'!O$9 -> -202.35294
A12: =A11-0.05 -> 0.7 | B12: =$A12*'GWP of methane by scenario'!B$6+(1-$A12)*'GWP of methane by scenario'!B$9 -> -204 | C12: =$A12*'GWP of methane by scenario'!C$6+(1-$A12)*'GWP of methane by scenario'!C$9 -> -191.79487 | D12: =$A12*'GWP of methane by scenario'!D$6+(1-$A12)*'GWP of methane by scenario'!D$9 -> -178.94737 | E12: =$A12*'GWP of methane by scenario'!E$6+(1-$A12)*'GWP of methane by scenario'!E$9 -> -165.40541 | F12: =$A12*'GWP of methane by scenario'!F$6+(1-$A12)*'GWP of methane by scenario'!F$9 -> -151.11111 | G12: =$A12*'GWP of methane by scenario'!G$6+(1-$A12)*'GWP of methane by scenario'!G$9 -> -136 | H12: =$A12*'GWP of methane by scenario'!H$6+(1-$A12)*'GWP of methane by scenario'!H$9 -> -120 | I12: =$A12*'GWP of methane by scenario'!I$6+(1-$A12)*'GWP of methane by scenario'!I$9 -> -516 | ... O12: =$A12*'GWP of methane by scenario'!O$6+(1-$A12)*'GWP of methane by scenario'!O$9 -> -303.52941
A13: =A12-0.05 -> 0.65 | B13: =$A13*'GWP of methane by scenario'!B$6+(1-$A13)*'GWP of methane by scenario'!B$9 -> -238 | C13: =$A13*'GWP of methane by scenario'!C$6+(1-$A13)*'GWP of methane by scenario'!C$9 -> -226.66667 | D13: =$A13*'GWP of methane by scenario'!D$6+(1-$A13)*'GWP of methane by scenario'!D$9 -> -214.73684 | E13: =$A13*'GWP of methane by scenario'!E$6+(1-$A13)*'GWP of methane by scenario'!E$9 -> -202.16216 | F13: =$A13*'GWP of methane by scenario'!F$6+(1-$A13)*'GWP of methane by scenario'!F$9 -> -188.88889 | G13: =$A13*'GWP of methane by scenario'!G$6+(1-$A13)*'GWP of methane by scenario'!G$9 -> -174.85714 | H13: =$A13*'GWP of methane by scenario'!H$6+(1-$A13)*'GWP of methane by scenario'!H$9 -> -160 | I13: =$A13*'GWP of methane by scenario'!I$6+(1-$A13)*'GWP of methane by scenario'!I$9 -> -602 | ... O13: =$A13*'GWP of methane by scenario'!O$6+(1-$A13)*'GWP of methane by scenario'!O$9 -> -404.70588
A14: =A13-0.05 -> 0.6 | B14: =$A14*'GWP of methane by scenario'!B$6+(1-$A14)*'GWP of methane by scenario'!B$9 -> -272 | C14: =$A14*'GWP of methane by scenario'!C$6+(1-$A14)*'GWP of methane by scenario'!C$9 -> -261.53846 | D14: =$A14*'GWP of methane by scenario'!D$6+(1-$A14)*'GWP of methane by scenario'!D$9 -> -250.52632 | E14: =$A14*'GWP of methane by scenario'!E$6+(1-$A14)*'GWP of methane by scenario'!E$9 -> -238.91892 | F14: =$A14*'GWP of methane by scenario'!F$6+(1-$A14)*'GWP of methane by scenario'!F$9 -> -226.66667 | G14: =$A14*'GWP of methane by scenario'!G$6+(1-$A14)*'GWP of methane by scenario'!G$9 -> -213.71429 | H14: =$A14*'GWP of methane by scenario'!H$6+(1-$A14)*'GWP of methane by scenario'!H$9 -> -200 | I14: =$A14*'GWP of methane by scenario'!I$6+(1-$A14)*'GWP of methane by scenario'!I$9 -> -688 | ... O14: =$A14*'GWP of methane by scenario'!O$6+(1-$A14)*'GWP of methane by scenario'!O$9 -> -505.88235
A15: =A14-0.05 -> 0.55 | B15: =$A15*'GWP of methane by scenario'!B$6+(1-$A15)*'GWP of methane by scenario'!B$9 -> -306 | C15: =$A15*'GWP of methane by scenario'!C$6+(1-$A15)*'GWP of methane by scenario'!C$9 -> -296.41026 | D15: =$A15*'GWP of methane by scenario'!D$6+(1-$A15)*'GWP of methane by scenario'!D$9 -> -286.31579 | E15: =$A15*'GWP of methane by scenario'!E$6+(1-$A15)*'GWP of methane by scenario'!E$9 -> -275.67568 | F15: =$A15*'GWP of methane by scenario'!F$6+(1-$A15)*'GWP of methane by scenario'!F$9 -> -264.44444 | G15: =$A15*'GWP of methane by scenario'!G$6+(1-$A15)*'GWP of methane by scenario'!G$9 -> -252.57143 | H15: =$A15*'GWP of methane by scenario'!H$6+(1-$A15)*'GWP of methane by scenario'!H$9 -> -240 | I15: =$A15*'GWP of methane by scenario'!I$6+(1-$A15)*'GWP of methane by scenario'!I$9 -> -774 | ... O15: =$A15*'GWP of methane by scenario'!O$6+(1-$A15)*'GWP of methane by scenario'!O$9 -> -607.05882
A16: =A15-0.05 -> 0.5 | B16: =$A16*'GWP of methane by scenario'!B$6+(1-$A16)*'GWP of methane by scenario'!B$9 -> -340 | C16: =$A16*'GWP of methane by scenario'!C$6+(1-$A16)*'GWP of methane by scenario'!C$9 -> -331.28205 | D16: =$A16*'GWP of methane by scenario'!D$6+(1-$A16)*'GWP of methane by scenario'!D$9 -> -322.10526 | E16: =$A16*'GWP of methane by scenario'!E$6+(1-$A16)*'GWP of methane by scenario'!E$9 -> -312.43243 | F16: =$A16*'GWP of methane by scenario'!F$6+(1-$A16)*'GWP of methane by scenario'!F$9 -> -302.22222 | G16: =$A16*'GWP of methane by scenario'!G$6+(1-$A16)*'GWP of methane by scenario'!G$9 -> -291.42857 | H16: =$A16*'GWP of methane by scenario'!H$6+(1-$A16)*'GWP of methane by scenario'!H$9 -> -280 | I16: =$A16*'GWP of methane by scenario'!I$6+(1-$A16)*'GWP of methane by scenario'!I$9 -> -860 | ... O16: =$A16*'GWP of methane by scenario'!O$6+(1-$A16)*'GWP of methane by scenario'!O$9 -> -708.23529
A17: =A16-0.05 -> 0.45 | B17: =$A17*'GWP of methane by scenario'!B$6+(1-$A17)*'GWP of methane by scenario'!B$9 -> -374 | C17: =$A17*'GWP of methane by scenario'!C$6+(1-$A17)*'GWP of methane by scenario'!C$9 -> -366.15385 | D17: =$A17*'GWP of methane by scenario'!D$6+(1-$A17)*'GWP of methane by scenario'!D$9 -> -357.89474 | E17: =$A17*'GWP of methane by scenario'!E$6+(1-$A17)*'GWP of methane by scenario'!E$9 -> -349.18919 | F17: =$A17*'GWP of methane by scenario'!F$6+(1-$A17)*'GWP of methane by scenario'!F$9 -> -340 | G17: =$A17*'GWP of methane by scenario'!G$6+(1-$A17)*'GWP of methane by scenario'!G$9 -> -330.28571 | H17: =$A17*'GWP of methane by scenario'!H$6+(1-$A17)*'GWP of methane by scenario'!H$9 -> -320 | I17: =$A17*'GWP of methane by scenario'!I$6+(1-$A17)*'GWP of methane by scenario'!I$9 -> -946 | ... O17: =$A17*'GWP of methane by scenario'!O$6+(1-$A17)*'GWP of methane by scenario'!O$9 -> -809.41176
A18: =A17-0.05 -> 0.4 | B18: =$A18*'GWP of methane by scenario'!B$6+(1-$A18)*'GWP of methane by scenario'!B$9 -> -408 | C18: =$A18*'GWP of methane by scenario'!C$6+(1-$A18)*'GWP of methane by scenario'!C$9 -> -401.02564 | D18: =$A18*'GWP of methane by scenario'!D$6+(1-$A18)*'GWP of methane by scenario'!D$9 -> -393.68421 | E18: =$A18*'GWP of methane by scenario'!E$6+(1-$A18)*'GWP of methane by scenario'!E$9 -> -385.94595 | F18: =$A18*'GWP of methane by scenario'!F$6+(1-$A18)*'GWP of methane by scenario'!F$9 -> -377.77778 | G18: =$A18*'GWP of methane by scenario'!G$6+(1-$A18)*'GWP of methane by scenario'!G$9 -> -369.14286 | H18: =$A18*'GWP of methane by scenario'!H$6+(1-$A18)*'GWP of methane by scenario'!H$9 -> -360 | I18: =$A18*'GWP of methane by scenario'!I$6+(1-$A18)*'GWP of methane by scenario'!I$9 -> -1032 | ... O18: =$A18*'GWP of methane by scenario'!O$6+(1-$A18)*'GWP of methane by scenario'!O$9 -> -910.58824
... A26: =A25-0.05 -> -3.1918912e-16 | B26: =$A26*'GWP of methane by scenario'!B$6+(1-$A26)*'GWP of methane by scenario'!B$9 -> -680 | C26: =$A26*'GWP of methane by scenario'!C$6+(1-$A26)*'GWP of methane by scenario'!C$9 -> -680 | D26: =$A26*'GWP of methane by scenario'!D$6+(1-$A26)*'GWP of methane by scenario'!D$9 -> -680 | E26: =$A26*'GWP of methane by scenario'!E$6+(1-$A26)*'GWP of methane by scenario'!E$9 -> -680 | F26: =$A26*'GWP of methane by scenario'!F$6+(1-$A26)*'GWP of methane by scenario'!F$9 -> -680 | G26: =$A26*'GWP of methane by scenario'!G$6+(1-$A26)*'GWP of methane by scenario'!G$9 -> -680 | H26: =$A26*'GWP of methane by scenario'!H$6+(1-$A26)*'GWP of methane by scenario'!H$9 -> -680 | I26: =$A26*'GWP of methane by scenario'!I$6+(1-$A26)*'GWP of methane by scenario'!I$9 -> -1720 | ... O26: =$A26*'GWP of methane by scenario'!O$6+(1-$A26)*'GWP of methane by scenario'!O$9 -> -1720
A31: Natural gas delivered to consumers (2017) | C31: https://www.eia.gov/dnav/ng/ng_cons_sum_dcu_nus_a.htm
A32: Sector | B32: mmcf | C32: EJ | D32: % possible from Path 1 RNG | E32: maximum RNG system leakage for GHG-negative system | F32: kg CO2e/GJ consumed
A33: Total | B33: 24839976 | C33: =B33*1000000*$A$41*$A$44 -> 27.151141 | D33: =$A$47/C33 -> 0.011049259 | E33: 0.011049565 | F33: =$D33*'GWP of methane by scenario'!$B$9+(1-$D33)*(('GWP of methane by scenario'!$B$17/(1-$E33))*'GWP of methane by scenario'!$B$24*$E33) -> 0.00020995701
A34: Residential | B34: 4412341 | C34: =B34*1000000*$A$41*$A$44 -> 4.8228747 | D34: =$A$47/C34 -> 0.062203565 | E34: 0.062202853 | F34: =$D34*'GWP of methane by scenario'!$B$9+(1-$D34)*(('GWP of methane by scenario'!$B$17/(1-$E34))*'GWP of methane by scenario'!$B$24*$E34) -> -0.00051605586
A35: Commercial | B35: 3164462 | C35: =B35*1000000*$A$41*$A$44 -> 3.4588904 | D35: =$A$47/C35 -> 0.086733018 | E35: 0.086733021 | F35: =$D35*'GWP of methane by scenario'!$B$9+(1-$D35)*(('GWP of methane by scenario'!$B$17/(1-$E35))*'GWP of methane by scenario'!$B$24*$E35) -> 2.4388866e-06
A36: Industrial | B36: 7949410 | C36: =B36*1000000*$A$41*$A$44 -> 8.6890403 | D36: =$A$47/C36 -> 0.034526253 | E36: 0.034526232 | F36: =$D36*'GWP of methane by scenario'!$B$9+(1-$D36)*(('GWP of methane by scenario'!$B$17/(1-$E36))*'GWP of methane by scenario'!$B$24*$E36) -> -1.4256044e-05
A37: Vehicle Fuel | B37: 48208 | C37: =B37*1000000*$A$41*$A$44 -> 0.052693376 | D37: =$A$47/C37 -> 5.6933152 | E37: - | F37: n/a
A38: Electric Power | B38: 9265555 | C38: =B38*1000000*$A$41*$A$44 -> 10.127642 | D38: =$A$47/C38 -> 0.029621899 | E38: 0.029621892 | F38: =$D38*'GWP of methane by scenario'!$B$9+(1-$D38)*(('GWP of methane by scenario'!$B$17/(1-$E38))*'GWP of methane by scenario'!$B$24*$E38) -> -5.2390545e-06
A40: Heat content of natural gas delivered to consumers, 2017
A41: 1036 | B41: btu/cf | C41: https://www.eia.gov/dnav/ng/ng_cons_heat_a_EPG0_VGTH_btucf_a.htm
A43: Conversion factors
A44: 1.05506e-15 | B44: EJ/btu
A46: Vented waste methane potential
A47: 0.3 | B47: EJ
A55: The chart is drawing from the data in rows 60-80 because of a quirk with the formatting: the desired visualization requires that boundary lines do not cross the 0 axis, so the input data are transformed by adding
A56: 1800 | B56: and then the axis is hidden and replaced with the true data axis.
A58: Transformed data for visualization
A59: % of CH4 intentionally produced | B59: GWP 100 | I59: GWP 20 | P59: 0 axis | Q59: FNG, GWP-100 | R59: FNG, GWP-20
A60: 1 | B60: ='Figure 2 - vented vs intl prod'!B6+$A$56 -> 1800 | C60: ='Figure 2 - vented vs intl prod'!C6+$A$56 -> 1817.4359 | D60: ='Figure 2 - vented vs intl prod'!D6+$A$56 -> 1835.7895 | E60: ='Figure 2 - vented vs intl prod'!E6+$A$56 -> 1855.1351 | F60: ='Figure 2 - vented vs intl prod'!F6+$A$56 -> 1875.5556 | G60: ='Figure 2 - vented vs intl prod'!G6+$A$56 -> 1897.1429 | H60: ='Figure 2 - vented vs intl prod'!H6+$A$56 -> 1920 | I60: ='Figure 2 - vented vs intl prod'!I6+$A$56 -> 1800 | ... O60: ='Figure 2 - vented vs intl prod'!O6+$A$56 -> 2103.5294 | P60: =$A$56 -> 1800 | Q60: =$A$56+'GWP of methane by scenario'!B$13 -> 1876.3638 | R60: =$A$56+'GWP of methane by scenario'!B$14 -> 1906.8058
A61: =A60-0.05 -> 0.95 | B61: ='Figure 2 - vented vs intl prod'!B7+$A$56 -> 1766 | C61: ='Figure 2 - vented vs intl prod'!C7+$A$56 -> 1782.5641 | D61: ='Figure 2 - vented vs intl prod'!D7+$A$56 -> 1800 | E61: ='Figure 2 - vented vs intl prod'!E7+$A$56 -> 1818.3784 | F61: ='Figure 2 - vented vs intl prod'!F7+$A$56 -> 1837.7778 | G61: ='Figure 2 - vented vs intl prod'!G7+$A$56 -> 1858.2857 | H61: ='Figure 2 - vented vs intl prod'!H7+$A$56 -> 1880 | I61: ='Figure 2 - vented vs intl prod'!I7+$A$56 -> 1714 | ... O61: ='Figure 2 - vented vs intl prod'!O7+$A$56 -> 2002.3529 | P61: =$A$56 -> 1800 | Q61: =$A$56+'GWP of methane by scenario'!B$13 -> 1876.3638 | R61: =$A$56+'GWP of methane by scenario'!B$14 -> 1906.8058
A62: =A61-0.05 -> 0.9 | B62: ='Figure 2 - vented vs intl prod'!B8+$A$56 -> 1732 | C62: ='Figure 2 - vented vs intl prod'!C8+$A$56 -> 1747.6923 | D62: ='Figure 2 - vented vs intl prod'!D8+$A$56 -> 1764.2105 | E62: ='Figure 2 - vented vs intl prod'!E8+$A$56 -> 1781.6216 | F62: ='Figure 2 - vented vs intl prod'!F8+$A$56 -> 1800 | G62: ='Figure 2 - vented vs intl prod'!G8+$A$56 -> 1819.4286 | H62: ='Figure 2 - vented vs intl prod'!H8+$A$56 -> 1840 | I62: ='Figure 2 - vented vs intl prod'!I8+$A$56 -> 1628 | ... O62: ='Figure 2 - vented vs intl prod'!O8+$A$56 -> 1901.1765 | P62: =$A$56 -> 1800 | Q62: =$A$56+'GWP of methane by scenario'!B$13 -> 1876.3638 | R62: =$A$56+'GWP of methane by scenario'!B$14 -> 1906.8058
...

Sheet Figure 3 - 99% eff flare
A1: Figure 3 - GHG intensity of RNG systems that blend waste methane that would have been flared (99% efficient) with intentionally produced RNG
A2: RNG GHG < 0
A3: RNG GHG > FNG GHG
A4: leakage rate--> | B4: ='GWP of methane by scenario'!B4 -> 0 | C4: ='GWP of methane by scenario'!C4 -> 0.025 | D4: ='GWP of methane by scenario'!D4 -> 0.05 | E4: ='GWP of methane by scenario'!E4 -> 0.075 | F4: ='GWP of methane by scenario'!F4 -> 0.1 | G4: ='GWP of methane by scenario'!G4 -> 0.125 | H4: ='GWP of methane by scenario'!H4 -> 0.15 | I4: ='GWP of methane by scenario'!B4 -> 0 | J4: ='GWP of methane by scenario'!C4 -> 0.025 | K4: ='GWP of methane by scenario'!D4 -> 0.05 | L4: ='GWP of methane by scenario'!E4 -> 0.075 | M4: ='GWP of methane by scenario'!F4 -> 0.1 | N4: ='GWP of methane by scenario'!G4 -> 0.125 | O4: ='GWP of methane by scenario'!H4 -> 0.15
A5: % of CH4 intentionally produced | B5: GWP 100 | I5: GWP 20
A6: 1 | B6: =$A6*'GWP of methane by scenario'!B$6+(1-$A6)*'GWP of methane by scenario'!B$7 -> 0 | C6: =$A6*'GWP of methane by scenario'!C$6+(1-$A6)*'GWP of methane by scenario'!C$7 -> 17.435897 | D6: =$A6*'GWP of methane by scenario'!D$6+(1-$A6)*'GWP of methane by scenario'!D$7 -> 35.789474 | E6: =$A6*'GWP of methane by scenario'!E$6+(1-$A6)*'GWP of methane by scenario'!E$7 -> 55.135135 | F6: =$A6*'GWP of methane by scenario'!F$6+(1-$A6)*'GWP of methane by scenario'!F$7 -> 75.555556 | G6: =$A6*'GWP of methane by scenario'!G$6+(1-$A6)*'GWP of methane by scenario'!G$7 -> 97.142857 | H6: =$A6*'GWP of methane by scenario'!H$6+(1-$A6)*'GWP of methane by scenario'!H$7 -> 120 | I6: =$A6*'GWP of methane by scenario'!I$6+(1-$A6)*'GWP of methane by scenario'!I$7 -> 0 | ... O6: =$A6*'GWP of methane by scenario'!O$6+(1-$A6)*'GWP of methane by scenario'!O$7 -> 303.52941
A7: =A6-0.05 -> 0.95 | B7: =$A7*'GWP of methane by scenario'!B$6+(1-$A7)*'GWP of methane by scenario'!B$7 -> -0.34 | C7: =$A7*'GWP of methane by scenario'!C$6+(1-$A7)*'GWP of methane by scenario'!C$7 -> 17.087179 | D7: =$A7*'GWP of methane by scenario'!D$6+(1-$A7)*'GWP of methane by scenario'!D$7 -> 35.431579 | E7: =$A7*'GWP of methane by scenario'!E$6+(1-$A7)*'GWP of methane by scenario'!E$7 -> 54.767568 | F7: =$A7*'GWP of methane by scenario'!F$6+(1-$A7)*'GWP of methane by scenario'!F$7 -> 75.177778 | G7: =$A7*'GWP of methane by scenario'!G$6+(1-$A7)*'GWP of methane by scenario'!G$7 -> 96.754286 | H7: =$A7*'GWP of methane by scenario'!H$6+(1-$A7)*'GWP of methane by scenario'!H$7 -> 119.6 | I7: =$A7*'GWP of methane by scenario'!I$6+(1-$A7)*'GWP of methane by scenario'!I$7 -> -0.86 | ... O7: =$A7*'GWP of methane by scenario'!O$6+(1-$A7)*'GWP of methane by scenario'!O$7 -> 302.51765
A8: =A7-0.05 -> 0.9 | B8: =$A8*'GWP of methane by scenario'!B$6+(1-$A8)*'GWP of methane by scenario'!B$7 -> -0.68 | C8: =$A8*'GWP of methane by scenario'!C$6+(1-$A8)*'GWP of methane by scenario'!C$7 -> 16.738462 | D8: =$A8*'GWP of methane by scenario'!D$6+(1-$A8)*'GWP of methane by scenario'!D$7 -> 35.073684 | E8: =$A8*'GWP of methane by scenario'!E$6+(1-$A8)*'GWP of methane by scenario'!E$7 -> 54.4 | F8: =$A8*'GWP of methane by scenario'!F$6+(1-$A8)*'GWP of methane by scenario'!F$7 -> 74.8 | G8: =$A8*'GWP of methane by scenario'!G$6+(1-$A8)*'GWP of methane by scenario'!G$7 -> 96.365714 | H8: =$A8*'GWP of methane by scenario'!H$6+(1-$A8)*'GWP of methane by scenario'!H$7 -> 119.2 | I8: =$A8*'GWP of methane by scenario'!I$6+(1-$A8)*'GWP of methane by scenario'!I$7 -> -1.72 | ... O8: =$A8*'GWP of methane by scenario'!O$6+(1-$A8)*'GWP of methane by scenario'!O$7 -> 301.50588
A9: =A8-0.05 -> 0.85 | B9: =$A9*'GWP of methane by scenario'!B$6+(1-$A9)*'GWP of methane by scenario'!B$7 -> -1.02 | C9: =$A9*'GWP of methane by scenario'!C$6+(1-$A9)*'GWP of methane by scenario'!C$7 -> 16.389744 | D9: =$A9*'GWP of methane by scenario'!D$6+(1-$A9)*'GWP of methane by scenario'!D$7 -> 34.715789 | E9: =$A9*'GWP of methane by scenario'!E$6+(1-$A9)*'GWP of methane by scenario'!E$7 -> 54.032432 | F9: =$A9*'GWP of methane by scenario'!F$6+(1-$A9)*'GWP of methane by scenario'!F$7 -> 74.422222 | G9: =$A9*'GWP of methane by scenario'!G$6+(1-$A9)*'GWP of methane by scenario'!G$7 -> 95.977143 | H9: =$A9*'GWP of methane by scenario'!H$6+(1-$A9)*'GWP of methane by scenario'!H$7 -> 118.8 | I9: =$A9*'GWP of methane by scenario'!I$6+(1-$A9)*'GWP of methane by scenario'!I$7 -> -2.58 | ... O9: =$A9*'GWP of methane by scenario'!O$6+(1-$A9)*'GWP of methane by scenario'!O$7 -> 300.49412
A10: =A9-0.05 -> 0.8 | B10: =$A10*'GWP of methane by scenario'!B$6+(1-$A10)*'GWP of methane by scenario'!B$7 -> -1.36 | C10: =$A10*'GWP of methane by scenario'!C$6+(1-$A10)*'GWP of methane by scenario'!C$7 -> 16.041026 | D10: =$A10*'GWP of methane by scenario'!D$6+(1-$A10)*'GWP of methane by scenario'!D$7 -> 34.357895 | E10: =$A10*'GWP of methane by scenario'!E$6+(1-$A10)*'GWP of methane by scenario'!E$7 -> 53.664865 | F10: =$A10*'GWP of methane by scenario'!F$6+(1-$A10)*'GWP of methane by scenario'!F$7 -> 74.044444 | G10: =$A10*'GWP of methane by scenario'!G$6+(1-$A10)*'GWP of methane by scenario'!G$7 -> 95.588571 | H10: =$A10*'GWP of methane by scenario'!H$6+(1-$A10)*'GWP of methane by scenario'!H$7 -> 118.4 | I10: =$A10*'GWP of methane by scenario'!I$6+(1-$A10)*'GWP of methane by scenario'!I$7 -> -3.44 | ... O10: =$A10*'GWP of methane by scenario'!O$6+(1-$A10)*'GWP of methane by scenario'!O$7 -> 299.48235
A11: =A10-0.05 -> 0.75 | B11: =$A11*'GWP of methane by scenario'!B$6+(1-$A11)*'GWP of methane by scenario'!B$7 -> -1.7 | C11: =$A11*'GWP of methane by scenario'!C$6+(1-$A11)*'GWP of methane by scenario'!C$7 -> 15.692308 | D11: =$A11*'GWP of methane by scenario'!D$6+(1-$A11)*'GWP of methane by scenario'!D$7 -> 34 | E11: =$A11*'GWP of methane by scenario'!E$6+(1-$A11)*'GWP of methane by scenario'!E$7 -> 53.297297 | F11: =$A11*'GWP of methane by scenario'!F$6+(1-$A11)*'GWP of methane by scenario'!F$7 -> 73.666667 | G11: =$A11*'GWP of methane by scenario'!G$6+(1-$A11)*'GWP of methane by scenario'!G$7 -> 95.2 | H11: =$A11*'GWP of methane by scenario'!H$6+(1-$A11)*'GWP of methane by scenario'!H$7 -> 118 | I11: =$A11*'GWP of methane by scenario'!I$6+(1-$A11)*'GWP of methane by scenario'!I$7 -> -4.3 | ... O11: =$A11*'GWP of methane by scenario'!O$6+(1-$A11)*'GWP of methane by scenario'!O$7 -> 298.47059
A12: =A11-0.05 -> 0.7 | B12: =$A12*'GWP of methane by scenario'!B$6+(1-$A12)*'GWP of methane by scenario'!B$7 -> -2.04 | C12: =$A12*'GWP of methane by scenario'!C$6+(1-$A12)*'GWP of methane by scenario'!C$7 -> 15.34359 | D12: =$A12*'GWP of methane by scenario'!D$6+(1-$A12)*'GWP of methane by scenario'!D$7 -> 33.642105 | E12: =$A12*'GWP of methane by scenario'!E$6+(1-$A12)*'GWP of methane by scenario'!E$7 -> 52.92973 | F12: =$A12*'GWP of methane by scenario'!F$6+(1-$A12)*'GWP of methane by scenario'!F$7 -> 73.288889 | G12: =$A12*'GWP of methane by scenario'!G$6+(1-$A12)*'GWP of methane by scenario'!G$7 -> 94.811429 | H12: =$A12*'GWP of methane by scenario'!H$6+(1-$A12)*'GWP of methane by scenario'!H$7 -> 117.6 | I12: =$A12*'GWP of methane by scenario'!I$6+(1-$A12)*'GWP of methane by scenario'!I$7 -> -5.16 | ... O12: =$A12*'GWP of methane by scenario'!O$6+(1-$A12)*'GWP of methane by scenario'!O$7 -> 297.45882
A13: =A12-0.05 -> 0.65 | B13: =$A13*'GWP of methane by scenario'!B$6+(1-$A13)*'GWP of methane by scenario'!B$7 -> -2.38 | C13: =$A13*'GWP of methane by scenario'!C$6+(1-$A13)*'GWP of methane by scenario'!C$7 -> 14.994872 | D13: =$A13*'GWP of methane by scenario'!D$6+(1-$A13)*'GWP of methane by scenario'!D$7 -> 33.284211 | E13: =$A13*'GWP of methane by scenario'!E$6+(1-$A13)*'GWP of methane by scenario'!E$7 -> 52.562162 | F13: =$A13*'GWP of methane by scenario'!F$6+(1-$A13)*'GWP of methane by scenario'!F$7 -> 72.911111 | G13: =$A13*'GWP of methane by scenario'!G$6+(1-$A13)*'GWP of methane by scenario'!G$7 -> 94.422857 | H13: =$A13*'GWP of methane by scenario'!H$6+(1-$A13)*'GWP of methane by scenario'!H$7 -> 117.2 | I13: =$A13*'GWP of methane by scenario'!I$6+(1-$A13)*'GWP of methane by scenario'!I$7 -> -6.02 | ... O13: =$A13*'GWP of methane by scenario'!O$6+(1-$A13)*'GWP of methane by scenario'!O$7 -> 296.44706
A14: =A13-0.05 -> 0.6 | B14: =$A14*'GWP of methane by scenario'!B$6+(1-$A14)*'GWP of methane by scenario'!B$7 -> -2.72 | C14: =$A14*'GWP of methane by scenario'!C$6+(1-$A14)*'GWP of methane by scenario'!C$7 -> 14.646154 | D14: =$A14*'GWP of methane by scenario'!D$6+(1-$A14)*'GWP of methane by scenario'!D$7 -> 32.926316 | E14: =$A14*'GWP of methane by scenario'!E$6+(1-$A14)*'GWP of methane by scenario'!E$7 -> 52.194595 | F14: =$A14*'GWP of methane by scenario'!F$6+(1-$A14)*'GWP of methane by scenario'!F$7 -> 72.533333 | G14: =$A14*'GWP of methane by scenario'!G$6+(1-$A14)*'GWP of methane by scenario'!G$7 -> 94.034286 | H14: =$A14*'GWP of methane by scenario'!H$6+(1-$A14)*'GWP of methane by scenario'!H$7 -> 116.8 | I14: =$A14*'GWP of methane by scenario'!I$6+(1-$A14)*'GWP of methane by scenario'!I$7 -> -6.88 | ... O14: =$A14*'GWP of methane by scenario'!O$6+(1-$A14)*'GWP of methane by scenario'!O$7 -> 295.43529
A15: =A14-0.05 -> 0.55 | B15: =$A15*'GWP of methane by scenario'!B$6+(1-$A15)*'GWP of methane by scenario'!B$7 -> -3.06 | C15: =$A15*'GWP of methane by scenario'!C$6+(1-$A15)*'GWP of methane by scenario'!C$7 -> 14.297436 | D15: =$A15*'GWP of methane by scenario'!D$6+(1-$A15)*'GWP of methane by scenario'!D$7 -> 32.568421 | E15: =$A15*'GWP of methane by scenario'!E$6+(1-$A15)*'GWP of methane by scenario'!E$7 -> 51.827027 | F15: =$A15*'GWP of methane by scenario'!F$6+(1-$A15)*'GWP of methane by scenario'!F$7 -> 72.155556 | G15: =$A15*'GWP of methane by scenario'!G$6+(1-$A15)*'GWP of methane by scenario'!G$7 -> 93.645714 | H15: =$A15*'GWP of methane by scenario'!H$6+(1-$A15)*'GWP of methane by scenario'!H$7 -> 116.4 | I15: =$A15*'GWP of methane by scenario'!I$6+(1-$A15)*'GWP of methane by scenario'!I$7 -> -7.74 | ... O15: =$A15*'GWP of methane by scenario'!O$6+(1-$A15)*'GWP of methane by scenario'!O$7 -> 294.42353
A16: =A15-0.05 -> 0.5 | B16: =$A16*'GWP of methane by scenario'!B$6+(1-$A16)*'GWP of methane by scenario'!B$7 -> -3.4 | C16: =$A16*'GWP of methane by scenario'!C$6+(1-$A16)*'GWP of methane by scenario'!C$7 -> 13.948718 | D16: =$A16*'GWP of methane by scenario'!D$6+(1-$A16)*'GWP of methane by scenario'!D$7 -> 32.210526 | E16: =$A16*'GWP of methane by scenario'!E$6+(1-$A16)*'GWP of methane by scenario'!E$7 -> 51.459459 | F16: =$A16*'GWP of methane by scenario'!F$6+(1-$A16)*'GWP of methane by scenario'!F$7 -> 71.777778 | G16: =$A16*'GWP of methane by scenario'!G$6+(1-$A16)*'GWP of methane by scenario'!G$7 -> 93.257143 | H16: =$A16*'GWP of methane by scenario'!H$6+(1-$A16)*'GWP of methane by scenario'!H$7 -> 116 | I16: =$A16*'GWP of methane by scenario'!I$6+(1-$A16)*'GWP of methane by scenario'!I$7 -> -8.6 | ... O16: =$A16*'GWP of methane by scenario'!O$6+(1-$A16)*'GWP of methane by scenario'!O$7 -> 293.41176
A17: =A16-0.05 -> 0.45 | B17: =$A17*'GWP of methane by scenario'!B$6+(1-$A17)*'GWP of methane by scenario'!B$7 -> -3.74 | C17: =$A17*'GWP of methane by scenario'!C$6+(1-$A17)*'GWP of methane by scenario'!C$7 -> 13.6 | D17: =$A17*'GWP of methane by scenario'!D$6+(1-$A17)*'GWP of methane by scenario'!D$7 -> 31.852632 | E17: =$A17*'GWP of methane by scenario'!E$6+(1-$A17)*'GWP of methane by scenario'!E$7 -> 51.091892 | F17: =$A17*'GWP of methane by scenario'!F$6+(1-$A17)*'GWP of methane by scenario'!F$7 -> 71.4 | G17: =$A17*'GWP of methane by scenario'!G$6+(1-$A17)*'GWP of methane by scenario'!G$7 -> 92.868571 | H17: =$A17*'GWP of methane by scenario'!H$6+(1-$A17)*'GWP of methane by scenario'!H$7 -> 115.6 | I17: =$A17*'GWP of methane by scenario'!I$6+(1-$A17)*'GWP of methane by scenario'!I$7 -> -9.46 | ... O17: =$A17*'GWP of methane by scenario'!O$6+(1-$A17)*'GWP of methane by scenario'!O$7 -> 292.4
A18: =A17-0.05 -> 0.4 | B18: =$A18*'GWP of methane by scenario'!B$6+(1-$A18)*'GWP of methane by scenario'!B$7 -> -4.08 | C18: =$A18*'GWP of methane by scenario'!C$6+(1-$A18)*'GWP of methane by scenario'!C$7 -> 13.251282 | D18: =$A18*'GWP of methane by scenario'!D$6+(1-$A18)*'GWP of methane by scenario'!D$7 -> 31.494737 | E18: =$A18*'GWP of methane by scenario'!E$6+(1-$A18)*'GWP of methane by scenario'!E$7 -> 50.724324 | F18: =$A18*'GWP of methane by scenario'!F$6+(1-$A18)*'GWP of methane by scenario'!F$7 -> 71.022222 | G18: =$A18*'GWP of methane by scenario'!G$6+(1-$A18)*'GWP of methane by scenario'!G$7 -> 92.48 | H18: =$A18*'GWP of methane by scenario'!H$6+(1-$A18)*'GWP of methane by scenario'!H$7 -> 115.2 | I18: =$A18*'GWP of methane by scenario'!I$6+(1-$A18)*'GWP of methane by scenario'!I$7 -> -10.32 | ... O18: =$A18*'GWP of methane by scenario'!O$6+(1-$A18)*'GWP of methane by scenario'!O$7 -> 291.38824
... A26: =A25-0.05 -> -3.1918912e-16 | B26: =$A26*'GWP of methane by scenario'!B$6+(1-$A26)*'GWP of methane by scenario'!B$7 -> -6.8 | C26: =$A26*'GWP of methane by scenario'!C$6+(1-$A26)*'GWP of methane by scenario'!C$7 -> 10.461538 | D26: =$A26*'GWP of methane by scenario'!D$6+(1-$A26)*'GWP of methane by scenario'!D$7 -> 28.631579 | E26: =$A26*'GWP of methane by scenario'!E$6+(1-$A26)*'GWP of methane by scenario'!E$7 -> 47.783784 | F26: =$A26*'GWP of methane by scenario'!F$6+(1-$A26)*'GWP of methane by scenario'!F$7 -> 68 | G26: =$A26*'GWP of methane by scenario'!G$6+(1-$A26)*'GWP of methane by scenario'!G$7 -> 89.371429 | H26: =$A26*'GWP of methane by scenario'!H$6+(1-$A26)*'GWP of methane by scenario'!H$7 -> 112 | I26: =$A26*'GWP of methane by scenario'!I$6+(1-$A26)*'GWP of methane by scenario'!I$7 -> -17.2 | ... O26: =$A26*'GWP of methane by scenario'!O$6+(1-$A26)*'GWP of methane by scenario'!O$7 -> 283.29412
A55: The chart is drawing from the data in rows 60-80 because of a quirk with the formatting: the desired visualization requires that boundary lines do not cross the 0 axis, so the input data are transformed by adding
A56: 50 | B56: and then the axis is hidden and replaced with the true data axis.
A58: Transformed data for visualization
A59: % of CH4 intentionally produced | B59: GWP 100 | I59: GWP 20 | P59: 0 axis | Q59: FNG, GWP-100 | R59: FNG, GWP-20
A60: 1 | B60: =B6+$A$56 -> 50 | C60: =C6+$A$56 -> 67.435897 | D60: =D6+$A$56 -> 85.789474 | E60: =E6+$A$56 -> 105.13514 | F60: =F6+$A$56 -> 125.55556 | G60: =G6+$A$56 -> 147.14286 | H60: =H6+$A$56 -> 170 | I60: =I6+$A$56 -> 50 | ... O60: =O6+$A$56 -> 353.52941 | P60: =$A$56 -> 50 | Q60: =$A$56+'GWP of methane by scenario'!B$13 -> 126.36381 | R60: =$A$56+'GWP of methane by scenario'!B$14 -> 156.80584
A61: =A60-0.05 -> 0.95 | B61: =B7+$A$56 -> 49.66 | C61: =C7+$A$56 -> 67.087179 | D61: =D7+$A$56 -> 85.431579 | E61: =E7+$A$56 -> 104.76757 | F61: =F7+$A$56 -> 125.17778 | G61: =G7+$A$56 -> 146.75429 | H61: =H7+$A$56 -> 169.6 | I61: =I7+$A$56 -> 49.14 | ... O61: =O7+$A$56 -> 352.51765 | P61: =$A$56 -> 50 | Q61: =$A$56+'GWP of methane by scenario'!B$13 -> 126.36381 | R61: =$A$56+'GWP of methane by scenario'!B$14 -> 156.80584
A62: =A61-0.05 -> 0.9 | B62: =B8+$A$56 -> 49.32 | C62: =C8+$A$56 -> 66.738462 | D62: =D8+$A$56 -> 85.073684 | E62: =E8+$A$56 -> 104.4 | F62: =F8+$A$56 -> 124.8 | G62: =G8+$A$56 -> 146.36571 | H62: =H8+$A$56 -> 169.2 | I62: =I8+$A$56 -> 48.28 | ... O62: =O8+$A$56 -> 351.50588 | P62: =$A$56 -> 50 | Q62: =$A$56+'GWP of methane by scenario'!B$13 -> 126.36381 | R62: =$A$56+'GWP of methane by scenario'!B$14 -> 156.80584
A63: =A62-0.05 -> 0.85 | B63: =B9+$A$56 -> 48.98 | C63: =C9+$A$56 -> 66.389744 | D63: =D9+$A$56 -> 84.715789 | E63: =E9+$A$56 -> 104.03243 | F63: =F9+$A$56 -> 124.42222 | G63: =G9+$A$56 -> 145.97714 | H63: =H9+$A$56 -> 168.8 | I63: =I9+$A$56 -> 47.42 | ... O63: =O9+$A$56 -> 350.49412 | P63: =$A$56 -> 50 | Q63: =$A$56+'GWP of methane by scenario'!B$13 -> 126.36381 | R63: =$A$56+'GWP of methane by scenario'!B$14 -> 156.80584
A64: =A63-0.05 -> 0.8 | B64: =B10+$A$56 -> 48.64 | C64: =C10+$A$56 -> 66.041026 | D64: =D10+$A$56 -> 84.357895 | E64: =E10+$A$56 -> 103.66486 | F64: =F10+$A$56 -> 124.04444 | G64: =G10+$A$56 -> 145.58857 | H64: =H10+$A$56 -> 168.4 | I64: =I10+$A$56 -> 46.56 | ... O64: =O10+$A$56 -> 349.48235 | P64: =$A$56 -> 50 | Q64: =$A$56+'GWP of methane by scenario'!B$13 -> 126.36381 | R64: =$A$56+'GWP of methane by scenario'!B$14 -> 156.80584
A65: =A64-0.05 -> 0.75 | B65: =B11+$A$56 -> 48.3 | C65: =C11+$A$56 -> 65.692308 | D65: =D11+$A$56 -> 84 | E65: =E11+$A$56 -> 103.2973 | F65: =F11+$A$56 -> 123.66667 | G65: =G11+$A$56 -> 145.2 | H65: =H11+$A$56 -> 168 | I65: =I11+$A$56 -> 45.7 | ... O65: =O11+$A$56 -> 348.47059 | P65: =$A$56 -> 50 | Q65: =$A$56+'GWP of methane by scenario'!B$13 -> 126.36381 | R65: =$A$56+'GWP of methane by scenario'!B$14 -> 156.80584
A66: =A65-0.05 -> 0.7 | B66: =B12+$A$56 -> 47.96 | C66: =C12+$A$56 -> 65.34359 | D66: =D12+$A$56 -> 83.642105 | E66: =E12+$A$56 -> 102.92973 | F66: =F12+$A$56 -> 123.28889 | G66: =G12+$A$56 -> 144.81143 | H66: =H12+$A$56 -> 167.6 | I66: =I12+$A$56 -> 44.84 | ... O66: =O12+$A$56 -> 347.45882 | P66: =$A$56 -> 50 | Q66: =$A$56+'GWP of methane by scenario'!B$13 -> 126.36381 | R66: =$A$56+'GWP of methane by scenario'!B$14 -> 156.80584
A67: =A66-0.05 -> 0.65 | B67: =B13+$A$56 -> 47.62 | C67: =C13+$A$56 -> 64.994872 | D67: =D13+$A$56 -> 83.284211 | E67: =E13+$A$56 -> 102.56216 | F67: =F13+$A$56 -> 122.91111 | G67: =G13+$A$56 -> 144.42286 | H67: =H13+$A$56 -> 167.2 | I67: =I13+$A$56 -> 43.98 | ... O67: =O13+$A$56 -> 346.44706 | P67: =$A$56 -> 50 | Q67: =$A$56+'GWP of methane by scenario'!B$13 -> 126.36381 | R67: =$A$56+'GWP of methane by scenario'!B$14 -> 156.80584
A68: =A67-0.05 -> 0.6 | B68: =B14+$A$56 -> 47.28 | C68: =C14+$A$56 -> 64.646154 | D68: =D14+$A$56 -> 82.926316 | E68: =E14+$A$56 -> 102.19459 | F68: =F14+$A$56 -> 122.53333 | G68: =G14+$A$56 -> 144.03429 | H68: =H14+$A$56 -> 166.8 | I68: =I14+$A$56 -> 43.12 | ... O68: =O14+$A$56 -> 345.43529 | P68: =$A$56 -> 50 | Q68: =$A$56+'GWP of methane by scenario'!B$13 -> 126.36381 | R68: =$A$56+'GWP of methane by scenario'!B$14 -> 156.80584
A69: =A68-0.05 -> 0.55 | B69: =B15+$A$56 -> 46.94 | C69: =C15+$A$56 -> 64.297436 | D69: =D15+$A$56 -> 82.568421 | E69: =E15+$A$56 -> 101.82703 | F69: =F15+$A$56 -> 122.15556 | G69: =G15+$A$56 -> 143.64571 | H69: =H15+$A$56 -> 166.4 | I69: =I15+$A$56 -> 42.26 | ... O69: =O15+$A$56 -> 344.42353 | P69: =$A$56 -> 50 | Q69: =$A$56+'GWP of methane by scenario'!B$13 -> 126.36381 | R69: =$A$56+'GWP of methane by scenario'!B$14 -> 156.80584
A70: =A69-0.05 -> 0.5 | B70: =B16+$A$56 -> 46.6 | C70: =C16+$A$56 -> 63.948718 | D70: =D16+$A$56 -> 82.210526 | E70: =E16+$A$56 -> 101.45946 | F70: =F16+$A$56 -> 121.77778 | G70: =G16+$A$56 -> 143.25714 | H70: =H16+$A$56 -> 166 | I70: =I16+$A$56 -> 41.4 | ... O70: =O16+$A$56 -> 343.41176 | P70: =$A$56 -> 50 | Q70: =$A$56+'GWP of methane by scenario'!B$13 -> 126.36381 | R70: =$A$56+'GWP of methane by scenario'!B$14 -> 156.80584
A71: =A70-0.05 -> 0.45 | B71: =B17+$A$56 -> 46.26 | C71: =C17+$A$56 -> 63.6 | D71: =D17+$A$56 -> 81.852632 | E71: =E17+$A$56 -> 101.09189 | F71: =F17+$A$56 -> 121.4 | G71: =G17+$A$56 -> 142.86857 | H71: =H17+$A$56 -> 165.6 | I71: =I17+$A$56 -> 40.54 | ... O71: =O17+$A$56 -> 342.4 | P71: =$A$56 -> 50 | Q71: =$A$56+'GWP of methane by scenario'!B$13 -> 126.36381 | R71: =$A$56+'GWP of methane by scenario'!B$14 -> 156.80584
A72: =A71-0.05 -> 0.4 | B72: =B18+$A$56 -> 45.92 | C72: =C18+$A$56 -> 63.251282 | D72: =D18+$A$56 -> 81.494737 | E72: =E18+$A$56 -> 100.72432 | F72: =F18+$A$56 -> 121.02222 | G72: =G18+$A$56 -> 142.48 | H72: =H18+$A$56 -> 165.2 | I72: =I18+$A$56 -> 39.68 | ... O72: =O18+$A$56 -> 341.38824 | P72: =$A$56 -> 50 | Q72: =$A$56+'GWP of methane by scenario'!B$13 -> 126.36381 | R72: =$A$56+'GWP of methane by scenario'!B$14 -> 156.80584
... A80: =A79-0.05 -> -3.1918912e-16 | B80: =B26+$A$56 -> 43.2 | C80: =C26+$A$56 -> 60.461538 | D80: =D26+$A$56 -> 78.631579 | E80: =E26+$A$56 -> 97.783784 | F80: =F26+$A$56 -> 118 | G80: =G26+$A$56 -> 139.37143 | H80: =H26+$A$56 -> 162 | I80: =I26+$A$56 -> 32.8 | ... O80: =O26+$A$56 -> 333.29412 | P80: =$A$56 -> 50 | Q80: =$A$56+'GWP of methane by scenario'!B$13 -> 126.36381 | R80: =$A$56+'GWP of methane by scenario'!B$14 -> 156.80584

Sheet Figure S1 - 86% eff flare
A1: Figure S1 - GHG intensity of RNG systems that blend waste methane that would have been flared (99% efficient) with intentionally produced RNG
A2: RNG GHG < 0
A3: RNG GHG > FNG GHG
A4: leakage rate--> | B4: ='GWP of methane by scenario'!B4 -> 0 | C4: ='GWP of methane by scenario'!C4 -> 0.025 | D4: ='GWP of methane by scenario'!D4 -> 0.05 | E4: ='GWP of methane by scenario'!E4 -> 0.075 | F4: ='GWP of methane by scenario'!F4 -> 0.1 | G4: ='GWP of methane by scenario'!G4 -> 0.125 | H4: ='GWP of methane by scenario'!H4 -> 0.15 | I4: ='GWP of methane by scenario'!B4 -> 0 | J4: ='GWP of methane by scenario'!C4 -> 0.025 | K4: ='GWP of methane by scenario'!D4 -> 0.05 | L4: ='GWP of methane by scenario'!E4 -> 0.075 | M4: ='GWP of methane by scenario'!F4 -> 0.1 | N4: ='GWP of methane by scenario'!G4 -> 0.125 | O4: ='GWP of methane by scenario'!H4 -> 0.15
A5: % of CH4 intentionally produced | B5: GWP 100 | I5: GWP 20
A6: 1 | B6: =$A6*'GWP of methane by scenario'!B$6+(1-$A6)*'GWP of methane by scenario'!B$8 -> 0 | C6: =$A6*'GWP of methane by scenario'!C$6+(1-$A6)*'GWP of methane by scenario'!C$8 -> 17.435897 | D6: =$A6*'GWP of methane by scenario'!D$6+(1-$A6)*'GWP of methane by scenario'!D$8 -> 35.789474 | E6: =$A6*'GWP of methane by scenario'!E$6+(1-$A6)*'GWP of methane by scenario'!E$8 -> 55.135135 | F6: =$A6*'GWP of methane by scenario'!F$6+(1-$A6)*'GWP of methane by scenario'!F$8 -> 75.555556 | G6: =$A6*'GWP of methane by scenario'!G$6+(1-$A6)*'GWP of methane by scenario'!G$8 -> 97.142857 | H6: =$A6*'GWP of methane by scenario'!H$6+(1-$A6)*'GWP of methane by scenario'!H$8 -> 120 | I6: =$A6*'GWP of methane by scenario'!I$6+(1-$A6)*'GWP of methane by scenario'!I$8 -> 0 | ... O6: =$A6*'GWP of methane by scenario'!O$6+(1-$A6)*'GWP of methane by scenario'!O$8 -> 303.52941
A7: =A6-0.05 -> 0.95 | B7: =$A7*'GWP of methane by scenario'!B$6+(1-$A7)*'GWP of methane by scenario'!B$8 -> -4.76 | C7: =$A7*'GWP of methane by scenario'!C$6+(1-$A7)*'GWP of methane by scenario'!C$8 -> 12.553846 | D7: =$A7*'GWP of methane by scenario'!D$6+(1-$A7)*'GWP of methane by scenario'!D$8 -> 30.778947 | E7: =$A7*'GWP of methane by scenario'!E$6+(1-$A7)*'GWP of methane by scenario'!E$8 -> 49.989189 | F7: =$A7*'GWP of methane by scenario'!F$6+(1-$A7)*'GWP of methane by scenario'!F$8 -> 70.266667 | G7: =$A7*'GWP of methane by scenario'!G$6+(1-$A7)*'GWP of methane by scenario'!G$8 -> 91.702857 | H7: =$A7*'GWP of methane by scenario'!H$6+(1-$A7)*'GWP of methane by scenario'!H$8 -> 114.4 | I7: =$A7*'GWP of methane by scenario'!I$6+(1-$A7)*'GWP of methane by scenario'!I$8 -> -12.04 | ... O7: =$A7*'GWP of methane by scenario'!O$6+(1-$A7)*'GWP of methane by scenario'!O$8 -> 289.36471
A8: =A7-0.05 -> 0.9 | B8: =$A8*'GWP of methane by scenario'!B$6+(1-$A8)*'GWP of methane by scenario'!B$8 -> -9.52 | C8: =$A8*'GWP of methane by scenario'!C$6+(1-$A8)*'GWP of methane by scenario'!C$8 -> 7.6717949 | D8: =$A8*'GWP of methane by scenario'!D$6+(1-$A8)*'GWP of methane by scenario'!D$8 -> 25.768421 | E8: =$A8*'GWP of methane by scenario'!E$6+(1-$A8)*'GWP of methane by scenario'!E$8 -> 44.843243 | F8: =$A8*'GWP of methane by scenario'!F$6+(1-$A8)*'GWP of methane by scenario'!F$8 -> 64.977778 | G8: =$A8*'GWP of methane by scenario'!G$6+(1-$A8)*'GWP of methane by scenario'!G$8 -> 86.262857 | H8: =$A8*'GWP of methane by scenario'!H$6+(1-$A8)*'GWP of methane by scenario'!H$8 -> 108.8 | I8: =$A8*'GWP of methane by scenario'!I$6+(1-$A8)*'GWP of methane by scenario'!I$8 -> -24.08 | ... O8: =$A8*'GWP of methane by scenario'!O$6+(1-$A8)*'GWP of methane by scenario'!O$8 -> 275.2
A9: =A8-0.05 -> 0.85 | B9: =$A9*'GWP of methane by scenario'!B$6+(1-$A9)*'GWP of methane by scenario'!B$8 -> -14.28 | C9: =$A9*'GWP of methane by scenario'!C$6+(1-$A9)*'GWP of methane by scenario'!C$8 -> 2.7897436 | D9: =$A9*'GWP of methane by scenario'!D$6+(1-$A9)*'GWP of methane by scenario'!D$8 -> 20.757895 | E9: =$A9*'GWP of methane by scenario'!E$6+(1-$A9)*'GWP of methane by scenario'!E$8 -> 39.697297 | F9: =$A9*'GWP of methane by scenario'!F$6+(1-$A9)*'GWP of methane by scenario'!F$8 -> 59.688889 | G9: =$A9*'GWP of methane by scenario'!G$6+(1-$A9)*'GWP of methane by scenario'!G$8 -> 80.822857 | H9: =$A9*'GWP of methane by scenario'!H$6+(1-$A9)*'GWP of methane by scenario'!H$8 -> 103.2 | I9: =$A9*'GWP of methane by scenario'!I$6+(1-$A9)*'GWP of methane by scenario'!I$8 -> -36.12 | ... O9: =$A9*'GWP of methane by scenario'!O$6+(1-$A9)*'GWP of methane by scenario'!O$8 -> 261.03529
A10: =A9-0.05 -> 0.8 | B10: =$A10*'GWP of methane by scenario'!B$6+(1-$A10)*'GWP of methane by scenario'!B$8 -> -19.04 | C10: =$A10*'GWP of methane by scenario'!C$6+(1-$A10)*'GWP of methane by scenario'!C$8 -> -2.0923077 | D10: =$A10*'GWP of methane by scenario'!D$6+(1-$A10)*'GWP of methane by scenario'!D$8 -> 15.747368 | E10: =$A10*'GWP of methane by scenario'!E$6+(1-$A10)*'GWP of methane by scenario'!E$8 -> 34.551351 | F10: =$A10*'GWP of methane by scenario'!F$6+(1-$A10)*'GWP of methane by scenario'!F$8 -> 54.4 | G10: =$A10*'GWP of methane by scenario'!G$6+(1-$A10)*'GWP of methane by scenario'!G$8 -> 75.382857 | H10: =$A10*'GWP of methane by scenario'!H$6+(1-$A10)*'GWP of methane by scenario'!H$8 -> 97.6 | I10: =$A10*'GWP of methane by scenario'!I$6+(1-$A10)*'GWP of methane by scenario'!I$8 -> -48.16 | ... O10: =$A10*'GWP of methane by scenario'!O$6+(1-$A10)*'GWP of methane by scenario'!O$8 -> 246.87059
