Workbook

Sheet Inputs & Generation
A1: INPUTS AND ASSUMPTIONS
A2: Net Meter Credit Specifics | C2: INPUTS in Yellow
A3: Blended rate ($/kWh) | C3: 0.164
A4: Solar Site Adder ($/kWh) | C4: -0.01
A5: Solar REC Adder ($/kWh) | C5: -0.01
A6: System Specifics
A7: System Size (W-DC) | C7: 7000
A8: Generation Factor (kWh/W) | C8: 0.99 | D8: Avg rooftop FIRST YEAR GENERATION
A9: Solar Degradation / Year | C9: 0.005
A11: CUSTOMER SPECIFICS
A12: Customer Discount ($/kWh) | C12: 0
A13: Customer REC Ownership (%) | C13: 0 | D13: Retired to Utility
A14: Customer Energy Price Escalator (%) | C14: 0.025 | D14: 2.5% matches utility inflation
A16: OWNER SPECIFICS
A17: Project cost (including developer expenses/fees) ($/w) | C17: 3.3 | D17: Applies to Owner Only
A18: Interconnection Costs ($) | C18: 0
A19: Total Project Cost ($) | C19: =C17*C7 -> 23100
A20: Tax Investor from VT | C20: FALSE | D20: Not for C corps - "True or False"
A22: OWNER FINANCING SPECIFICS
A23: Percentage Financed | C23: 0
A24: Grants ($) | C24: 0
A25: Loan Interest | C25: 0
A26: Loan Term (years) | C26: 15
A27: ANNUAL OWNER EXPENSES
A28: Annual Taxes Rate ($/kWac/yr) | C28: 0
A29: Annual Lease ($/yr) | C29: 0
A30: Insurance ($/kW_dc/yr) | C30: 2 | D30: Estimated
A31: Operations and Maintenance ($/kW_dc/yr) | C31: 10 | D31: Estimated
A32: Annual increase in Expenses (%) | C32: 0.02
A33: Inverter cost ($/watt_dc) | C33: 0.3 | D33: =C33*C7 -> 2100
A34: Production meter ($/year) | C34: 150
A35: INFLATION ASSUMPTIONS
A36: Utility rate Inflation (% / yr) | C36: 0.025
A39: Year 1 Est. Generation (kWh) | C39: =C7*C8 -> 6930
A40: 25 Year FMV (%) of Original | C40: 0.2

Sheet As Net Metering Customer
H4: NET METERING CUSTOMER
G14: CURRENT Yr
A15: REC value | B15: ='Inputs & Generation'!C5 -> -0.01 | C15: =B15 -> -0.01 | D15: =B15 -> -0.01 | E15: =B15 -> -0.01 | F15: =B15 -> -0.01 | G15: =C15 -> -0.01 | H15: =G15 -> -0.01 | I15: =G15 -> -0.01 | J15: =G15 -> -0.01 | K15: =G15 -> -0.01 | L15: =IF(K15<0,K15,0) -> -0.01 | M15: =L15 -> -0.01 | N15: =L15 -> -0.01 | O15: =L15 -> -0.01 | P15: =L15 -> -0.01 | Q15: ='Inputs & Generation'!R5 -> 0 | R15: =Q15 -> 0 | S15: =Q15 -> 0 | T15: =Q15 -> 0 | U15: =Q15 -> 0 | V15: ='Inputs & Generation'!W5 -> 0 | W15: =V15 -> 0 | X15: =V15 -> 0 | Y15: =V15 -> 0 | Z15: =V15 -> 0
A16: REC retained (%) | B16: 0
A17: PROFORMA | B17: 1 | C17: =B17+1 -> 2 | D17: =C17+1 -> 3 | E17: =D17+1 -> 4 | F17: =E17+1 -> 5 | G17: =F17+1 -> 6 | H17: =G17+1 -> 7 | I17: =H17+1 -> 8 | J17: =I17+1 -> 9 | ... Z17: =Y17+1 -> 25
A18: Solar Generation (kWh) | B18: ='Inputs & Generation'!C39 -> 6930 | C18: =B18*(1-'Inputs & Generation'!$C$9) -> 6895.35 | D18: =C18*(1-'Inputs & Generation'!$C$9) -> 6860.8733 | E18: =D18*(1-'Inputs & Generation'!$C$9) -> 6826.5689 | F18: =E18*(1-'Inputs & Generation'!$C$9) -> 6792.436 | G18: =F18*(1-'Inputs & Generation'!$C$9) -> 6758.4739 | H18: =G18*(1-'Inputs & Generation'!$C$9) -> 6724.6815 | I18: =H18*(1-'Inputs & Generation'!$C$9) -> 6691.0581 | J18: =I18*(1-'Inputs & Generation'!$C$9) -> 6657.6028 | ... Z18: =Y18*(1-'Inputs & Generation'!$C$9) -> 6144.5088
A19: Base Tariff ($/kWh) | B19: ='Inputs & Generation'!C3 -> 0.164 | C19: =B19*(1+'Inputs & Generation'!$C$36) -> 0.1681 | D19: =C19*(1+'Inputs & Generation'!$C$36) -> 0.1723025 | E19: =D19*(1+'Inputs & Generation'!$C$36) -> 0.17661006 | F19: =E19*(1+'Inputs & Generation'!$C$36) -> 0.18102531 | G19: =F19*(1+'Inputs & Generation'!$C$36) -> 0.18555095 | H19: =G19*(1+'Inputs & Generation'!$C$36) -> 0.19018972 | I19: =H19*(1+'Inputs & Generation'!$C$36) -> 0.19494446 | J19: =I19*(1+'Inputs & Generation'!$C$36) -> 0.19981808 | ... Z19: =Y19*(1+'Inputs & Generation'!$C$36) -> 0.29663106
A20: Tariff + Site Adder + REC Adder | B20: ='Inputs & Generation'!$C$5+B19+'Inputs & Generation'!$C$4 -> 0.144 | C20: ='Inputs & Generation'!$C$5+C19+'Inputs & Generation'!$C$4 -> 0.1481 | D20: ='Inputs & Generation'!$C$5+D19+'Inputs & Generation'!$C$4 -> 0.1523025 | E20: ='Inputs & Generation'!$C$5+E19+'Inputs & Generation'!$C$4 -> 0.15661006 | F20: ='Inputs & Generation'!$C$5+F19+'Inputs & Generation'!$C$4 -> 0.16102531 | G20: ='Inputs & Generation'!$C$5+G19+'Inputs & Generation'!$C$4 -> 0.16555095 | H20: ='Inputs & Generation'!$C$5+H19+'Inputs & Generation'!$C$4 -> 0.17018972 | I20: ='Inputs & Generation'!$C$5+I19+'Inputs & Generation'!$C$4 -> 0.17494446 | ... K20: ='Inputs & Generation'!$C$5+K19+'Inputs & Generation'!$C$4 -> 0.18481353 | L20: ='Inputs & Generation'!$C$5+L19 -> 0.19993387 | M20: ='Inputs & Generation'!$C$5+M19 -> 0.20518221 | N20: ='Inputs & Generation'!$C$5+N19 -> 0.21056177 | O20: ='Inputs & Generation'!$C$5+O19 -> 0.21607581 | P20: ='Inputs & Generation'!$C$5+P19 -> 0.22172771 | Q20: ='Inputs & Generation'!$C$5+Q19 -> 0.2275209 | R20: ='Inputs & Generation'!$C$5+R19 -> 0.23345892 | S20: ='Inputs & Generation'!$C$5+S19 -> 0.23954539 | ... Z20: ='Inputs & Generation'!$C$5+Z19 -> 0.28663106
A21: Solar Value ($) [Amt. Customer Credit] | B21: =B18*B20 -> 997.92 | C21: =C18*C20 -> 1021.2013 | D21: =D18*D20 -> 1044.9281 | E21: =E18*E20 -> 1069.1094 | F21: =F18*F20 -> 1093.7541 | G21: =G18*G20 -> 1118.8717 | H21: =H18*H20 -> 1144.4717 | I21: =I18*I20 -> 1170.5636 | ... Z21: =Z18*Z20 -> 1761.2071
A22: Solar Cost ($) [Amt. Customer Pays for Credit] | B22: =B18*B31 -> 997.92 | C22: =C18*C31 -> 1021.2013 | D22: =D18*D31 -> 1044.9281 | E22: =E18*E31 -> 1069.1094 | F22: =F18*F31 -> 1093.7541 | G22: =G18*G31 -> 1118.8717 | H22: =H18*H31 -> 1144.4717 | I22: =I18*I31 -> 1170.5636 | ... Z22: =Z18*Z31 -> 1761.2071
A23: Savings on electricity ($) | B23: =B21-B22+(0.01*B18) -> 69.3 | C23: =C21-C22+(0.01*C18) -> 68.9535 | D23: =D21-D22+(0.01*D18) -> 68.608733 | E23: =E21-E22+(0.01*E18) -> 68.265689 | F23: =F21-F22+(0.01*F18) -> 67.92436 | G23: =G21-G22+(0.01*G18) -> 67.584739 | H23: =H21-H22+(0.01*H18) -> 67.246815 | I23: =I21-I22+(0.01*I18) -> 66.910581 | ... Q23: =Q21-Q22+(0.01*Q18) -> 64.28053 | R23: =R21-R22 -> 0 | S23: =S21-S22 -> 0 | T23: =T21-T22 -> 0 | U23: =U21-U22 -> 0 | V23: =V21-V22 -> 0 | W23: =W21-W22 -> 0 | X23: =X21-X22 -> 0 | Y23: =Y21-Y22 -> 0 | Z23: =Z21-Z22 -> 0
A24: REC Value ($) | B24: =B18*B15 -> -69.3 | C24: =C18*C15 -> -68.9535 | D24: =D18*D15 -> -68.608733 | E24: =E18*E15 -> -68.265689 | F24: =F18*F15 -> -67.92436 | G24: =G18*G15 -> -67.584739 | H24: =H18*H15 -> -67.246815 | I24: =I18*I15 -> -66.910581 | ... Z24: =Z18*Z15 -> 0
A25: REC retained value ($) | B25: =B24*$B$16 -> 0 | C25: =C24*$B$16 -> 0 | D25: =D24*$B$16 -> 0 | E25: =E24*$B$16 -> 0 | F25: =F24*$B$16 -> 0 | G25: =G24*$B$16 -> 0 | H25: =H24*$B$16 -> 0 | I25: =I24*$B$16 -> 0 | ... Z25: =Z24*$B$16 -> 0
A26: Total solar savings ($) | B26: =B25+B23 -> 69.3 | C26: =C25+C23 -> 68.9535 | D26: =D25+D23 -> 68.608733 | E26: =E25+E23 -> 68.265689 | F26: =F25+F23 -> 67.92436 | G26: =G25+G23 -> 67.584739 | H26: =H25+H23 -> 67.246815 | I26: =I25+I23 -> 66.910581 | ... Z26: =Z25+Z23 -> 0
A27: Equivalent savings off solar (%) | B27: =B26/B21 -> 0.069444444 | C27: =C26/C21 -> 0.067521945 | D27: =D26/D21 -> 0.065658804 | E27: =E26/E21 -> 0.063852857 | F27: =F26/F21 -> 0.062102037 | G27: =G26/G21 -> 0.060404366 | H27: =H26/H21 -> 0.058757955 | I27: =I26/I21 -> 0.057160997 | ... Z27: =Z26/Z21 -> 0
A28: Cumulative Savings ($) | B28: =B26 -> 69.3 | C28: =B28+C26 -> 138.2535 | D28: =C28+D26 -> 206.86223 | E28: =D28+E26 -> 275.12792 | F28: =E28+F26 -> 343.05228 | G28: =F28+G26 -> 410.63702 | H28: =G28+H26 -> 477.88384 | I28: =H28+I26 -> 544.79442 | J28: =I28+J26 -> 611.37044 | ... Z28: =Y28+Z26 -> 1068.1746
A29: Average Solar Savings | B29: =SUM(B27:Z27)/25 -> 0.035848076
A31: NMA Rate | B31: =B20 -> 0.144 | C31: =C20 -> 0.1481 | D31: =D20 -> 0.1523025 | E31: =E20 -> 0.15661006 | F31: =F20 -> 0.16102531 | G31: =G20 -> 0.16555095 | H31: =H20 -> 0.17018972 | I31: =I20 -> 0.17494446 | ... Z31: =Z20 -> 0.28663106
A32: NMA Revenues | B32: =B18*B31 -> 997.92 | C32: =C18*C31 -> 1021.2013 | D32: =D18*D31 -> 1044.9281 | E32: =E18*E31 -> 1069.1094 | F32: =F18*F31 -> 1093.7541 | G32: =G18*G31 -> 1118.8717 | H32: =H18*H31 -> 1144.4717 | I32: =I18*I31 -> 1170.5636 | ... Z32: =Z18*Z31 -> 1761.2071
A34: Solar Value | B34: =SUM(G21:Z21,B24:Z24) -> 27804.176
A35: Total Customer Expenses | B35: =SUM(G22:Z22) -> 28808.07
A36: Savings by Customer | B36: =B34-B35 -> -1003.8941
A38: From above -- Solar Value minus Savings | B38: =B34-B36 -> 28808.07
A39: Total Investor Expenses (excl principal) | B39: =SUM(#REF!) -> #REF!
A40: Total Investor Expenses (principal only ) | B40: =SUM(#REF!) -> #REF!
A41: Investor Tax costs / benefit from Depreciation | B41: =SUM(#REF!) -> #REF!
A42: Value of Tax Credit | B42: =#REF!+#REF! -> #REF!
A44: Net to Investor | B44: =SUM(B38:B43) -> #REF!

Sheet As Direct Owner RESI
H2: Direct Owner Residential
Q4: RETURNS
A5: OWNER MODEL AND ASSUMPTIONS | Q5: Amount Financed | S5: ='Inputs & Generation'!C23 -> 0
Q6: Cummulative Cashflows | S6: =NPV(0%,B56:AA56) -> 14440.848
A7: NM Compensation rate ($/kWh) | B7: ='Inputs & Generation'!C3 -> 0.164 | Q7: NPV 4% | S7: =NPV(4%,G56:AA56) -> 18296.907
A8: System Size (W DC) | B8: ='Inputs & Generation'!C7 -> 7000 | Q8: NPV 7.5% | S8: =NPV(7.5%,G56:AA56) -> 13036.976
A9: System cost ($/watt) | B9: ='Inputs & Generation'!C17 -> 3.3
A10: System Price ($) | B10: ='Inputs & Generation'!C19 -> 23100
A11: Non-ITC Costs | B11: ='Inputs & Generation'!C18 -> 0
A12: ITC Eligble Basis | B12: =B10-B11 -> 23100
A13: LOAN and TAX RATES
A14: Tax Investor Equity ($) | B14: =(1-'Inputs & Generation'!C23)*B10 -> 23100
A15: Tax Investor Tax Rate (%) | B15: 0.28
A16: Loan Interest Rate % | B16: ='Inputs & Generation'!C25 -> 0
A17: Financed Amount | B17: =B10-B14 -> 0
A18: TAX CREDITS
A19: Federal Tax Credit (%) | B19: 0.26
A20: VT State Tax Credit (%) | B20: =0.25*B19 -> 0.065
A21: Federal Tax Credit Value ($) | B21: =B12*B19 -> 6006
A22: VT State Tax Credit Value ($) | B22: =B10*B20 -> 1501.5
A24: PROFORMA | C24: 1 | D24: =C24+1 -> 2 | E24: =D24+1 -> 3 | F24: =E24+1 -> 4 | G24: =F24+1 -> 5 | H24: =G24+1 -> 6 | I24: =H24+1 -> 7 | J24: =I24+1 -> 8 | K24: =J24+1 -> 9 | ... AA24: =Z24+1 -> 25
A25: Depreciation Schedule (can distibute) | C25: 0 | D25: 0 | E25: 0 | F25: 0 | G25: 0
A26: Depreciation Value | C26: =($B$10 - 0.5*$B$21)*C25 -> 0 | D26: =($B$10 - 0.5*$B$21)*D25 -> 0 | E26: =($B$10 - 0.5*$B$21)*E25 -> 0 | F26: =($B$10 - 0.5*$B$21)*F25 -> 0 | G26: =($B$10 - 0.5*$B$21)*G25 -> 0 | H26: =($B$10 - 0.5*$B$21)*H25 -> 0 | I26: 0 | J26: 0 | K26: 0 | L26: 0 | M26: 0 | N26: 0 | O26: 0 | P26: 0 | Q26: 0 | R26: 0 | S26: 0 | T26: 0 | U26: 0 | V26: 0 | W26: 0 | X26: 0 | Y26: 0 | Z26: 0 | AA26: 0
A27: Taxable Income (Loss) pre-depreciation | C27: =C49-C26 -> 695.62 | D27: =D49-D26 -> 717.58784 | E27: =E49-E26 -> 739.96622 | F27: =F49-F26 -> 762.76343 | G27: =G49-G26 -> 785.98792 | H27: =H49-H26 -> 809.6483 | I27: =-1*(I26-I49) -> 833.75337 | J27: =-1*(J26-J49) -> 858.31208 | K27: =-1*(K26-K49) -> 883.33356 | L27: =-1*(L26-L49) -> 908.82715 | M27: =-1*(M26-M49) -> -61099.286 | N27: =-1*(N26-N49) -> -215.14882 | O27: =-1*(O26-O49) -> -213.34908 | P27: =-1*(P26-P49) -> -211.53324 | ... AA27: =-1*(AA26-AA49) -> -128.95267
A28: Investor Tax Benefit (Liability) | C28: =-1*C27*$B$15 -> -194.7736 | D28: =-1*D27*$B$15 -> -200.92459 | E28: =-1*E27*$B$15 -> -207.19054 | F28: =-1*F27*$B$15 -> -213.57376 | G28: =-1*G27*$B$15 -> -220.07662 | H28: =-1*H27*$B$15 -> -226.70152
A29: Federal Tax Credit | C29: =B21 -> 6006
A30: State Tax Credit | C30: =IF('Inputs & Generation'!C20,B22,0) -> 0
A32: Revenue (see customer tab)
A33: SOLAR NMC ($) PAID BY CUSTOMER | C33: ='As Net Metering Customer'!B21 -> 997.92 | D33: ='As Net Metering Customer'!C21 -> 1021.2013 | E33: ='As Net Metering Customer'!D21 -> 1044.9281 | F33: ='As Net Metering Customer'!E21 -> 1069.1094 | G33: ='As Net Metering Customer'!F21 -> 1093.7541 | H33: ='As Net Metering Customer'!G22 -> 1118.8717 | I33: ='As Net Metering Customer'!H22 -> 1144.4717 | J33: ='As Net Metering Customer'!I22 -> 1170.5636 | K33: ='As Net Metering Customer'!J22 -> 1197.1573 | L33: ='As Net Metering Customer'!K22 -> 1224.263 | M33: ='As Net Metering Customer'!L22 -> 1317.8027 | N33: ='As Net Metering Customer'!M22 -> 1345.6336 | O33: ='As Net Metering Customer'!N22 -> 1374.0095 | ... AA33: ='As Net Metering Customer'!Z22 -> 1761.2071
A34: REC payments ($) levelized at value of 1c | C34: ='As Net Metering Customer'!B24 -> -69.3 | D34: ='As Net Metering Customer'!C24 -> -68.9535 | E34: ='As Net Metering Customer'!D24 -> -68.608733 | F34: ='As Net Metering Customer'!E24 -> -68.265689 | G34: ='As Net Metering Customer'!F24 -> -67.92436 | H34: ='As Net Metering Customer'!G24 -> -67.584739 | I34: ='As Net Metering Customer'!H24 -> -67.246815 | J34: ='As Net Metering Customer'!I24 -> -66.910581 | ... AA34: ='As Net Metering Customer'!Z24 -> 0
A35: Total revenue ($) | C35: =C33+C34 -> 928.62 | D35: =D33+D34 -> 952.24784 | E35: =E33+E34 -> 976.31942 | F35: =F33+F34 -> 1000.8437 | G35: =G33+G34 -> 1025.8298 | H35: =H33+H34 -> 1051.287 | I35: =I33+I34 -> 1077.2248 | J35: =J33+J34 -> 1103.653 | ... AA35: =AA33+AA34 -> 1761.2071
A37: Project Expenses
A38: Property tax ($/yr) | C38: =-'Inputs & Generation'!C28*'Inputs & Generation'!C7/1000/1.5 -> 0 | D38: =C38+(C38*'Inputs & Generation'!$C$32) -> 0 | E38: =D38+(D38*'Inputs & Generation'!$C$32) -> 0 | F38: =E38+(E38*'Inputs & Generation'!$C$32) -> 0 | G38: =F38+(F38*'Inputs & Generation'!$C$32) -> 0 | H38: =G38+(G38*'Inputs & Generation'!$C$32) -> 0 | I38: =H38+(H38*'Inputs & Generation'!$C$32) -> 0 | J38: =I38+(I38*'Inputs & Generation'!$C$32) -> 0 | K38: =J38+(J38*'Inputs & Generation'!$C$32) -> 0 | ... AA38: =Z38+(Z38*'Inputs & Generation'!$C$32) -> 0
A39: Lease ($/year) | C39: 1 | D39: =C39*(1+'Inputs & Generation'!$C32) -> 1.02 | E39: =D39*(1+'Inputs & Generation'!$C32) -> 1.0404 | F39: =E39*(1+'Inputs & Generation'!$C32) -> 1.061208 | G39: =F39*(1+'Inputs & Generation'!$C32) -> 1.0824322 | H39: =G39*(1+'Inputs & Generation'!$C32) -> 1.1040808 | I39: =H39*(1+'Inputs & Generation'!$C32) -> 1.1261624 | J39: =I39*(1+'Inputs & Generation'!$C32) -> 1.1486857 | K39: =J39*(1+'Inputs & Generation'!$C32) -> 1.1716594 | ... AA39: =Z39*(1+'Inputs & Generation'!$C32) -> 1.6084372
A40: Production meter ($/year) | C40: =-'Inputs & Generation'!C34 -> -150 | D40: =C40 -> -150 | E40: =D40 -> -150 | F40: =E40 -> -150 | G40: =F40 -> -150 | H40: =G40 -> -150 | I40: =H40 -> -150 | J40: =I40 -> -150 | K40: =J40 -> -150 | ... AA40: =Z40 -> -150
A41: Insurance ($/yr) | C41: =-('Inputs & Generation'!C30*'Inputs & Generation'!C7/1000) -> -14 | D41: =C41+(C41*'Inputs & Generation'!$C$32) -> -14.28 | E41: =D41+(D41*'Inputs & Generation'!$C$32) -> -14.5656 | F41: =E41+(E41*'Inputs & Generation'!$C$32) -> -14.856912 | G41: =F41+(F41*'Inputs & Generation'!$C$32) -> -15.15405 | H41: =G41+(G41*'Inputs & Generation'!$C$32) -> -15.457131 | I41: =H41+(H41*'Inputs & Generation'!$C$32) -> -15.766274 | J41: =I41+(I41*'Inputs & Generation'!$C$32) -> -16.081599 | K41: =J41+(J41*'Inputs & Generation'!$C$32) -> -16.403231 | L41: =K41+(K41*'Inputs & Generation'!$C$32) -> -16.731296 | M41: =L41+(L41*'Inputs & Generation'!$C$32)-60000 -> -60017.066 | N41: =M41+(M41*'Inputs & Generation'!$C$32)+60000 -> -1217.4072 | O41: =N41+(N41*'Inputs & Generation'!$C$32) -> -1241.7554 | P41: =O41+(O41*'Inputs & Generation'!$C$32) -> -1266.5905 | Q41: =P41+(P41*'Inputs & Generation'!$C$32) -> -1291.9223 | R41: =Q41+(Q41*'Inputs & Generation'!$C$32) -> -1317.7607 | S41: =R41+(R41*'Inputs & Generation'!$C$32) -> -1344.116 | T41: =S41+(S41*'Inputs & Generation'!$C$32) -> -1370.9983 | U41: =T41+(T41*'Inputs & Generation'!$C$32) -> -1398.4182 | V41: =U41+(U41*'Inputs & Generation'!$C$32) -> -1426.3866 | ... AA41: =Z41+(Z41*'Inputs & Generation'!$C$32) -> -1574.8461
A42: Operations and Maintenance ($/yr) (includes inverters replaced Y11) | C42: =-('Inputs & Generation'!C31*'Inputs & Generation'!C7/1000) -> -70 | D42: =C42+(C42*'Inputs & Generation'!$C$32) -> -71.4 | E42: =D42+(D42*'Inputs & Generation'!$C$32) -> -72.828 | F42: =E42+(E42*'Inputs & Generation'!$C$32) -> -74.28456 | G42: =F42+(F42*'Inputs & Generation'!$C$32) -> -75.770251 | H42: =G42+(G42*'Inputs & Generation'!$C$32) -> -77.285656 | I42: =H42+(H42*'Inputs & Generation'!$C$32) -> -78.831369 | J42: =I42+(I42*'Inputs & Generation'!$C$32) -> -80.407997 | K42: =J42+(J42*'Inputs & Generation'!$C$32) -> -82.016157 | L42: =K42+(K42*'Inputs & Generation'!$C$32) -> -83.65648 | M42: =L42+(L42*'Inputs & Generation'!$C$32)-'Inputs & Generation'!D33 -> -2185.3296 | N42: =M42+(M42*'Inputs & Generation'!$C$32)+'Inputs & Generation'!D33 -> -129.0362 | O42: =N42+(N42*'Inputs & Generation'!$C$32) -> -131.61693 | P42: =O42+(O42*'Inputs & Generation'!$C$32) -> -134.24926 | Q42: =P42+(P42*'Inputs & Generation'!$C$32) -> -136.93425 | R42: =Q42+(Q42*'Inputs & Generation'!$C$32) -> -139.67293 | S42: =R42+(R42*'Inputs & Generation'!$C$32) -> -142.46639 | T42: =S42+(S42*'Inputs & Generation'!$C$32) -> -145.31572 | U42: =T42+(T42*'Inputs & Generation'!$C$32) -> -148.22204 | V42: =U42+(U42*'Inputs & Generation'!$C$32) -> -151.18648 | ... AA42: =Z42+(Z42*'Inputs & Generation'!$C$32) -> -166.92209
A43: Loan payment* | C43: =PMT('Inputs & Generation'!$C$25,'Inputs & Generation'!$C$26,$B$17) -> 0 | D43: =PMT('Inputs & Generation'!$C$25,'Inputs & Generation'!$C$26,$B$17) -> 0 | E43: =PMT('Inputs & Generation'!$C$25,'Inputs & Generation'!$C$26,$B$17) -> 0 | F43: =PMT('Inputs & Generation'!$C$25,'Inputs & Generation'!$C$26,$B$17) -> 0 | G43: =PMT('Inputs & Generation'!$C$25,'Inputs & Generation'!$C$26,$B$17) -> 0 | H43: =PMT('Inputs & Generation'!$C$25,'Inputs & Generation'!$C$26,$B$17) -> 0 | I43: =PMT('Inputs & Generation'!$C$25,'Inputs & Generation'!$C$26,$B$17) -> 0 | J43: =PMT('Inputs & Generation'!$C$25,'Inputs & Generation'!$C$26,$B$17) -> 0 | ... W43: =PMT('Inputs & Generation'!$C$25,'Inputs & Generation'!$C$26,$B$17) -> 0
A44: Loan interest payment | C44: =-B17*'Inputs & Generation'!C25 -> 0 | D44: =-C45*'Inputs & Generation'!$C$25 -> 0 | E44: =-D45*'Inputs & Generation'!$C$25 -> 0 | F44: =-E45*'Inputs & Generation'!$C$25 -> 0 | G44: =-F45*'Inputs & Generation'!$C$25 -> 0 | H44: =-G45*'Inputs & Generation'!$C$25 -> 0 | I44: =-H45*'Inputs & Generation'!$C$25 -> 0 | J44: =-I45*'Inputs & Generation'!$C$25 -> 0 | K44: =-J45*'Inputs & Generation'!$C$25 -> 0 | ... W44: =-V45*'Inputs & Generation'!$C$25 -> 0
A45: Principal remaining | C45: =B17+C46 -> 0 | D45: =C45+D46 -> 0 | E45: =D45+E46 -> 0 | F45: =E45+F46 -> 0 | G45: =F45+G46 -> 0 | H45: =C45 -> 0 | I45: =H45+I46 -> 0 | J45: =I45+J46 -> 0 | K45: =J45+K46 -> 0 | L45: =K45+L46 -> 0 | M45: =L45+M46 -> 0 | N45: =M45+N46 -> 0 | O45: =N45+O46 -> 0 | P45: =O45+P46 -> 0 | ... W45: =V45+W46 -> 0
...

Sheet Results
C2: Year | D2: Scenarios | E2: NM Regime And ITC | F2: Residential Payback (Years) | G2: Notes
C3: 2018 | D3: 1 | E3: NM 2.0 @30% ITC | F3: 10.9 | G3: ($3.00/WDC)
C4: 2019 | D4: 2 | E4: NM2.1 @30% ITC | F4: 11.3 | G4: ($3.00/WDC)
C5: 2020 | D5: 3 | E5: NM2.2 @26% ITC | F5: 12.9 | G5: ($3.00/WDC)
C6: 2021 | D6: 4 | E6: NM2.3 @26% ITC | F6: 13.5 | G6: ($3.00/WDC)
C7: 2022 | D7: 5 | E7: NM2.4 @26% ITC | F7: 14 | G7: ($3.00/WDC)
C8: 2023 | D8: 6 | E8: NM-PSD @26% ITC | F8: 14.6 | G8: PROPOSED BY PSD Base (-.01) REC ($3.00/WDC)
C9: 2023 | D9: 7 | E9: NM-PSD @22% ITC | F9: 15.1 | G9: PSD Base Jan 1,2023 ITC Change
C10: 2023 | D10: 8 | E10: NM-PSD @22% ITC | F10: 16.2 | G10: PSD Base w/ 10% inflation (3.30/WDC)
C11: 2024 | D11: 9 | E11: NM-PSD @no-ITC | F11: 18.1 | G11: PSD Base Jan 1, 2024 ITC Change
C12: 2024 | D12: 10 | E12: NM-PSD @no-ITC | F12: 19.3 | G12: PSD Base w/ 10% inflation (3.30/WDC)
C13: 2024 | D13: 11 | E13: NM-PSD @no-ITC | F13: 20 | G13: PSD Base w/ 10% inflation and 16.4c residential rate

Sheet Results (2)
C2: Year | D2: Scenarios | E2: NM Regime And ITC | F2: Residential Payback (Years) | G2: Cat I Application Rate MW/YR | H2: Notes | L2: Year | M2: Estimated Residential Solar Payback
C3: 2018 | D3: 1 | E3: NM 2.0 @30% ITC | F3: 10.9 | G3: 19.2 | H3: ($3.00/WDC) | L3: 2018 | M3: 10.9
C4: 2019 | D4: 2 | E4: NM2.1 @30% ITC | F4: 11.3 | G4: 18 | H4: ($3.00/WDC) | L4: 2019 | M4: 11.3
C5: 2020 | D5: 3 | E5: NM2.2 @26% ITC | F5: 12.9 | G5: =(13.45+9.3+2.6)*12/19 -> 16.010526 | H5: ($3.00/WDC) | L5: 2020 | M5: 12.9
C6: 2021 | D6: 4 | E6: NM2.3 @26% ITC | F6: 13.5 | G6: =(7.9+9.14)*12/7 -> 29.211429 | H6: ($3.00/WDC) | L6: 2021 | M6: 13.5
C7: 2022 | D7: 5 | E7: NM2.4 @26% ITC | F7: 14 | G7: =(7.1+5.2)*(12/8) -> 18.45 | H7: ($3.00/WDC) | L7: 2022 | M7: 14
C8: 2023 | D8: 6 | E8: NM-PSD @26% ITC | F8: 14.6 | G8: na | H8: PROPOSED BY PSD Base (-.01) REC ($3.00/WDC) | L8: Proposed 2023 | M8: =F9 -> 15.1
C9: 2023 | D9: 7 | E9: NM-PSD @22% ITC | F9: 15.1 | G9: na | H9: PSD Base Jan 1,2023 ITC Change | L9: Proposed 2024 | M9: =F11 -> 18.1
C10: 2023 | D10: 8 | E10: NM-PSD @22% ITC | F10: 16.2 | G10: na | H10: PSD Base w/ 10% inflation (3.30/WDC)
C11: 2024 | D11: 9 | E11: NM-PSD @no-ITC | F11: 18.1 | G11: na | H11: PSD Base Jan 1, 2024 ITC Change
C12: 2024 | D12: 10 | E12: NM-PSD @no-ITC | F12: 19.3 | G12: na | H12: PSD Base w/ 10% inflation (3.30/WDC)
C13: 2024 | D13: 11 | E13: NM-PSD @no-ITC | F13: 20 | G13: na | H13: PSD Base w/ 10% inflation and 16.4c residential rate
