Workbook

Sheet Inputs & Generation
A1: INPUTS AND ASSUMPTIONS
A2: Net Meter Credit Specifics | C2: INPUTS in Yellow
A3: Blended rate ($/kWh) | C3: 0.1714
A4: Solar Site Adder ($/kWh) | C4: -0.04
A5: Solar REC Adder ($/kWh) | C5: -0.01
A6: System Specifics
A7: System Size (W-DC) | C7: 755000
A8: Generation Factor (kWh/W) | C8: 1.18 | D8: Average VT FIRST YEAR GENERATION
A9: Solar Degradation / Year | C9: 0.005
A11: CUSTOMER SPECIFICS
A12: Customer Discount ($/kWh) | C12: 0
A13: Customer REC Ownership (%) | C13: 0 | D13: Retired to Utility
A14: Customer Energy Price Escalator (%) | C14: 0.025 | D14: 2.5% matched utility inflation
A16: OWNER SPECIFICS
A17: Project cost (including developer expenses/fees) ($/w) | C17: 2.2 | D17: Applies to Owner Only
A18: Interconnection Costs ($) | C18: 225000
A19: Total Project Cost ($) | C19: =C17*C7 -> 1661000
A20: Tax Investor from VT | C20: FALSE | D20: Not for C corps - "True or False"
A22: OWNER FINANCING SPECIFICS
A23: Percentage Financed | C23: 0
A24: Grants ($) | C24: 0
A25: Loan Interest | C25: 0.0525
A26: Loan Term (years) | C26: 15
A27: ANNUAL OWNER EXPENSES
A28: Annual Taxes Rate ($/kWac/yr) | C28: 12
A29: Annual Lease ($/yr) | C29: 10000
A30: Insurance ($/kW_dc/yr) | C30: 6
A31: Operations and Maintenance ($/kW_dc/yr) | C31: 8
A32: Annual increase in Expenses (%) | C32: 0.02
A33: Inverter cost ($/watt_dc) | C33: 0.12 | D33: =C33*C7 -> 90600
A34: Production meter ($/year) | C34: 150
A35: INFLATION ASSUMPTIONS
A36: Utility rate Inflation (% / yr) | C36: 0.025
A39: Year 1 Est. Generation (kWh) | C39: =C7*C8 -> 890900
A40: 25 Year FMV (%) of Original | C40: 0.2

Sheet As Net Metering Customer
H4: NET METERING CUSTOMER
G14: CURRENT Yr
A15: REC value | B15: ='Inputs & Generation'!C5 -> -0.01 | C15: =B15 -> -0.01 | D15: =B15 -> -0.01 | E15: =B15 -> -0.01 | F15: =B15 -> -0.01 | G15: =C15 -> -0.01 | H15: =G15 -> -0.01 | I15: =G15 -> -0.01 | J15: =G15 -> -0.01 | K15: =G15 -> -0.01 | L15: =IF(K15<0,K15,0) -> -0.01 | M15: =L15 -> -0.01 | N15: =L15 -> -0.01 | O15: =L15 -> -0.01 | P15: =L15 -> -0.01 | Q15: ='Inputs & Generation'!R5 -> 0 | R15: =Q15 -> 0 | S15: =Q15 -> 0 | T15: =Q15 -> 0 | U15: =Q15 -> 0 | V15: ='Inputs & Generation'!W5 -> 0 | W15: =V15 -> 0 | X15: =V15 -> 0 | Y15: =V15 -> 0 | Z15: =V15 -> 0
A16: REC retained (%) | B16: 0
A17: PROFORMA | B17: 1 | C17: =B17+1 -> 2 | D17: =C17+1 -> 3 | E17: =D17+1 -> 4 | F17: =E17+1 -> 5 | G17: =F17+1 -> 6 | H17: =G17+1 -> 7 | I17: =H17+1 -> 8 | J17: =I17+1 -> 9 | ... Z17: =Y17+1 -> 25
A18: Solar Generation (kWh) | B18: ='Inputs & Generation'!C39 -> 890900 | C18: =B18*(1-'Inputs & Generation'!$C$9) -> 886445.5 | D18: =C18*(1-'Inputs & Generation'!$C$9) -> 882013.27 | E18: =D18*(1-'Inputs & Generation'!$C$9) -> 877603.21 | F18: =E18*(1-'Inputs & Generation'!$C$9) -> 873215.19 | G18: =F18*(1-'Inputs & Generation'!$C$9) -> 868849.11 | H18: =G18*(1-'Inputs & Generation'!$C$9) -> 864504.87 | I18: =H18*(1-'Inputs & Generation'!$C$9) -> 860182.34 | J18: =I18*(1-'Inputs & Generation'!$C$9) -> 855881.43 | ... Z18: =Y18*(1-'Inputs & Generation'!$C$9) -> 789919.61
A19: Base Tariff ($/kWh) | B19: ='Inputs & Generation'!C3 -> 0.1714 | C19: =B19*(1+'Inputs & Generation'!$C$36) -> 0.175685 | D19: =C19*(1+'Inputs & Generation'!$C$36) -> 0.18007712 | E19: =D19*(1+'Inputs & Generation'!$C$36) -> 0.18457905 | F19: =E19*(1+'Inputs & Generation'!$C$36) -> 0.18919353 | G19: =F19*(1+'Inputs & Generation'!$C$36) -> 0.19392337 | H19: =G19*(1+'Inputs & Generation'!$C$36) -> 0.19877145 | I19: =H19*(1+'Inputs & Generation'!$C$36) -> 0.20374074 | J19: =I19*(1+'Inputs & Generation'!$C$36) -> 0.20883426 | ... Z19: =Y19*(1+'Inputs & Generation'!$C$36) -> 0.31001563
A20: Tariff + Site Adder + REC Adder | B20: ='Inputs & Generation'!$C$5+B19+'Inputs & Generation'!$C$4 -> 0.1214 | C20: ='Inputs & Generation'!$C$5+C19+'Inputs & Generation'!$C$4 -> 0.125685 | D20: ='Inputs & Generation'!$C$5+D19+'Inputs & Generation'!$C$4 -> 0.13007712 | E20: ='Inputs & Generation'!$C$5+E19+'Inputs & Generation'!$C$4 -> 0.13457905 | F20: ='Inputs & Generation'!$C$5+F19+'Inputs & Generation'!$C$4 -> 0.13919353 | G20: ='Inputs & Generation'!$C$5+G19+'Inputs & Generation'!$C$4 -> 0.14392337 | H20: ='Inputs & Generation'!$C$5+H19+'Inputs & Generation'!$C$4 -> 0.14877145 | I20: ='Inputs & Generation'!$C$5+I19+'Inputs & Generation'!$C$4 -> 0.15374074 | ... K20: ='Inputs & Generation'!$C$5+K19+'Inputs & Generation'!$C$4 -> 0.16405511 | L20: ='Inputs & Generation'!$C$5+L19 -> 0.20940649 | M20: ='Inputs & Generation'!$C$5+M19 -> 0.21489165 | N20: ='Inputs & Generation'!$C$5+N19 -> 0.22051394 | O20: ='Inputs & Generation'!$C$5+O19 -> 0.22627679 | P20: ='Inputs & Generation'!$C$5+P19 -> 0.23218371 | Q20: ='Inputs & Generation'!$C$5+Q19 -> 0.23823831 | R20: ='Inputs & Generation'!$C$5+R19 -> 0.24444426 | S20: ='Inputs & Generation'!$C$5+S19 -> 0.25080537 | ... Z20: ='Inputs & Generation'!$C$5+Z19 -> 0.30001563
A21: Solar Value ($) [Amt. Customer Credit] | B21: =B18*B20 -> 108155.26 | C21: =C18*C20 -> 111412.9 | D21: =D18*D20 -> 114729.75 | E21: =E18*E20 -> 118107.01 | F21: =F18*F20 -> 121545.9 | G21: =G18*G20 -> 125047.69 | H21: =H18*H20 -> 128613.64 | I21: =I18*I20 -> 132245.07 | ... Z21: =Z18*Z20 -> 236988.23
A22: Solar Cost ($) [Amt. Customer Pays for Credit] | B22: =B18*B31 -> 108155.26 | C22: =C18*C31 -> 111412.9 | D22: =D18*D31 -> 114729.75 | E22: =E18*E31 -> 118107.01 | F22: =F18*F31 -> 121545.9 | G22: =G18*G31 -> 125047.69 | H22: =H18*H31 -> 128613.64 | I22: =I18*I31 -> 132245.07 | ... Z22: =Z18*Z31 -> 236988.23
A23: Savings on electricity ($)
A24: REC Value ($) | B24: =B18*B15 -> -8909 | C24: =C18*C15 -> -8864.455 | D24: =D18*D15 -> -8820.1327 | E24: =E18*E15 -> -8776.0321 | F24: =F18*F15 -> -8732.1519 | G24: =G18*G15 -> -8688.4911 | H24: =H18*H15 -> -8645.0487 | I24: =I18*I15 -> -8601.8234 | ... Z24: =Z18*Z15 -> 0
A25: REC retained value ($) | B25: =B24*$B$16 -> 0 | C25: =C24*$B$16 -> 0 | D25: =D24*$B$16 -> 0 | E25: =E24*$B$16 -> 0 | F25: =F24*$B$16 -> 0 | G25: =G24*$B$16 -> 0 | H25: =H24*$B$16 -> 0 | I25: =I24*$B$16 -> 0 | ... Z25: =Z24*$B$16 -> 0
A26: Total solar savings ($) | B26: =B25+B23 -> 0 | C26: =C25+C23 -> 0 | D26: =D25+D23 -> 0 | E26: =E25+E23 -> 0 | F26: =F25+F23 -> 0 | G26: =G25+G23 -> 0 | H26: =H25+H23 -> 0 | I26: =I25+I23 -> 0 | ... Z26: =Z25+Z23 -> 0
A27: Equivalent savings off solar (%) | B27: =B26/B21 -> 0 | C27: =C26/C21 -> 0 | D27: =D26/D21 -> 0 | E27: =E26/E21 -> 0 | F27: =F26/F21 -> 0 | G27: =G26/G21 -> 0 | H27: =H26/H21 -> 0 | I27: =I26/I21 -> 0 | ... Z27: =Z26/Z21 -> 0
A28: Cumulative Savings ($) | B28: =B26 -> 0 | C28: =B28+C26 -> 0 | D28: =C28+D26 -> 0 | E28: =D28+E26 -> 0 | F28: =E28+F26 -> 0 | G28: =F28+G26 -> 0 | H28: =G28+H26 -> 0 | I28: =H28+I26 -> 0 | J28: =I28+J26 -> 0 | ... Z28: =Y28+Z26 -> 0
A29: Average Solar Savings | B29: =SUM(B27:Z27)/25 -> 0
A31: NMA Rate | B31: =B20 -> 0.1214 | C31: =C20 -> 0.125685 | D31: =D20 -> 0.13007712 | E31: =E20 -> 0.13457905 | F31: =F20 -> 0.13919353 | G31: =G20 -> 0.14392337 | H31: =H20 -> 0.14877145 | I31: =I20 -> 0.15374074 | ... Z31: =Z20 -> 0.30001563
A32: NMA Revenues | B32: =B18*B31 -> 108155.26 | C32: =C18*C31 -> 111412.9 | D32: =D18*D31 -> 114729.75 | E32: =E18*E31 -> 118107.01 | F32: =F18*F31 -> 121545.9 | G32: =G18*G31 -> 125047.69 | H32: =H18*H31 -> 128613.64 | I32: =I18*I31 -> 132245.07 | ... Z32: =Z18*Z31 -> 236988.23
A34: Solar Value | B34: =SUM(G21:Z21,B24:Z24) -> 3621919
A35: Total Customer Expenses | B35: =SUM(G22:Z22) -> 3750976.7
A36: Savings by Customer | B36: =B34-B35 -> -129057.61
A38: From above -- Solar Value minus Savings | B38: =B34-B36 -> 3750976.7
A39: Total Investor Expenses (excl principal) | B39: =SUM(#REF!) -> #REF!
A40: Total Investor Expenses (principal only ) | B40: =SUM(#REF!) -> #REF!
A41: Investor Tax costs / benefit from Depreciation | B41: =SUM(#REF!) -> #REF!
A42: Value of Tax Credit | B42: =#REF!+#REF! -> #REF!
A44: Net to Investor | B44: =SUM(B38:B43) -> #REF!

Sheet As Direct Owner COMM
H1: Direct Ownership
A4: OWNER MODEL AND ASSUMPTIONS
A6: NM Compensation rate ($/kWh) | B6: ='Inputs & Generation'!C3 -> 0.1714
A7: System Size (W DC) | B7: ='Inputs & Generation'!C7 -> 755000
A8: System cost ($/watt) | B8: ='Inputs & Generation'!C17 -> 2.2
A9: System Price ($) | B9: ='Inputs & Generation'!C19 -> 1661000
A10: Non-ITC Costs | B10: ='Inputs & Generation'!C18 -> 225000
A11: ITC Eligble Basis | B11: =B9-B10 -> 1436000
A12: LOAN and TAX RATES
A13: Tax Investor Equity ($) | B13: =(1-'Inputs & Generation'!C23)*B9 -> 1661000
A14: Tax Investor Tax Rate (%) | B14: 0.28
A15: Loan Interest Rate % | B15: ='Inputs & Generation'!C25 -> 0.0525
A16: Financed Amount | B16: =B9-B13 -> 0
A17: TAX CREDITS
A18: Federal Tax Credit (%) | B18: 0.26
A19: VT State Tax Credit (%) | B19: =0.25*B18 -> 0.065
A20: Federal Tax Credit Value ($) | B20: =B11*B18 -> 373360
A21: VT State Tax Credit Value ($) | B21: =B9*B19 -> 107965
A23: PROFORMA | C23: 1 | D23: =C23+1 -> 2 | E23: =D23+1 -> 3 | F23: =E23+1 -> 4 | G23: =F23+1 -> 5 | H23: =G23+1 -> 6 | I23: =H23+1 -> 7 | J23: =I23+1 -> 8 | K23: =J23+1 -> 9 | ... AA23: =Z23+1 -> 25
A24: Depreciation Schedule (can distibute) | C24: 0.2 | D24: 0.2 | E24: 0.2 | F24: 0.2 | G24: 0.2
A25: Depreciation Value | C25: =($B$9 - 0.5*$B$20)*C24 -> 294864 | D25: =($B$9 - 0.5*$B$20)*D24 -> 294864 | E25: =($B$9 - 0.5*$B$20)*E24 -> 294864 | F25: =($B$9 - 0.5*$B$20)*F24 -> 294864 | G25: =($B$9 - 0.5*$B$20)*G24 -> 294864 | H25: =($B$9 - 0.5*$B$20)*H24 -> 0 | I25: 0 | J25: 0 | K25: 0 | L25: 0 | M25: 0 | N25: 0 | O25: 0 | P25: 0 | Q25: 0 | R25: 0 | S25: 0 | T25: 0 | U25: 0 | V25: 0 | W25: 0 | X25: 0 | Y25: 0 | Z25: 0 | AA25: 0
A26: Taxable Income (Loss) pre-depreciation | C26: =C48-C25 -> -202377.74 | D26: =D48-D25 -> -199207.75 | E26: =E48-E25 -> -195981.43 | F26: =F48-F25 -> -192697.61 | G26: =G48-G25 -> -189355.12 | H26: =H48-H25 -> 108911.23 | I26: =-1*(I25-I48) -> 112374.66 | J26: =-1*(J25-J48) -> 115900.43 | K26: =-1*(K25-K48) -> 119489.81 | L26: =-1*(L25-L48) -> 123144.08 | M26: =-1*(M25-M48) -> 10158.344 | N26: =-1*(N25-N48) -> 161364.94 | O26: =-1*(O25-O48) -> 164993.09 | P26: =-1*(P25-P48) -> 168691.23 | ... AA26: =-1*(AA25-AA48) -> 222310.12
A27: Investor Tax Benefit (Liability) | C27: =-1*C26*$B$14 -> 56665.767 | D27: =-1*D26*$B$14 -> 55778.171 | E27: =-1*E26*$B$14 -> 54874.799 | F27: =-1*F26*$B$14 -> 53955.33 | G27: =-1*G26*$B$14 -> 53019.435 | H27: =-1*H26*$B$14 -> -30495.143 | I27: =-1*I26*$B$14 -> -31464.905 | J27: =-1*J26*$B$14 -> -32452.121 | ... AA27: =-1*AA26*$B$14 -> -62246.832
A28: Federal Tax Credit | C28: =B20 -> 373360
A29: State Tax Credit | C29: =IF('Inputs & Generation'!C20,B21,0) -> 0
A31: Revenue (see customer tab)
A32: SOLAR NMC ($) PAID BY CUSTOMER | C32: ='As Net Metering Customer'!B21 -> 108155.26 | D32: ='As Net Metering Customer'!C21 -> 111412.9 | E32: ='As Net Metering Customer'!D21 -> 114729.75 | F32: ='As Net Metering Customer'!E21 -> 118107.01 | G32: ='As Net Metering Customer'!F21 -> 121545.9 | H32: ='As Net Metering Customer'!G22 -> 125047.69 | I32: ='As Net Metering Customer'!H22 -> 128613.64 | J32: ='As Net Metering Customer'!I22 -> 132245.07 | K32: ='As Net Metering Customer'!J22 -> 135943.29 | L32: ='As Net Metering Customer'!K22 -> 139709.67 | M32: ='As Net Metering Customer'!L22 -> 177439.34 | N32: ='As Net Metering Customer'!M22 -> 181176.72 | O32: ='As Net Metering Customer'!N22 -> 184987.33 | ... AA32: ='As Net Metering Customer'!Z22 -> 236988.23
A33: REC payments ($) levelized at value of 1c | C33: ='As Net Metering Customer'!B24 -> -8909 | D33: ='As Net Metering Customer'!C24 -> -8864.455 | E33: ='As Net Metering Customer'!D24 -> -8820.1327 | F33: ='As Net Metering Customer'!E24 -> -8776.0321 | G33: ='As Net Metering Customer'!F24 -> -8732.1519 | H33: ='As Net Metering Customer'!G24 -> -8688.4911 | I33: ='As Net Metering Customer'!H24 -> -8645.0487 | J33: ='As Net Metering Customer'!I24 -> -8601.8234 | ... AA33: ='As Net Metering Customer'!Z24 -> 0
A34: Total revenue ($) | C34: =C32+C33 -> 99246.26 | D34: =D32+D33 -> 102548.45 | E34: =E32+E33 -> 105909.62 | F34: =F32+F33 -> 109330.98 | G34: =G32+G33 -> 112813.75 | H34: =H32+H33 -> 116359.2 | I34: =I32+I33 -> 119968.6 | J34: =J32+J33 -> 123643.25 | ... AA34: =AA32+AA33 -> 236988.23
A36: Project Expenses
A37: Property tax ($/yr) | C37: =-'Inputs & Generation'!C28*'Inputs & Generation'!C7/1000/1.5 -> -6040 | D37: =C37+(C37*'Inputs & Generation'!$C$32) -> -6160.8 | E37: =D37+(D37*'Inputs & Generation'!$C$32) -> -6284.016 | F37: =E37+(E37*'Inputs & Generation'!$C$32) -> -6409.6963 | G37: =F37+(F37*'Inputs & Generation'!$C$32) -> -6537.8902 | H37: =G37+(G37*'Inputs & Generation'!$C$32) -> -6668.6481 | I37: =H37+(H37*'Inputs & Generation'!$C$32) -> -6802.021 | J37: =I37+(I37*'Inputs & Generation'!$C$32) -> -6938.0614 | K37: =J37+(J37*'Inputs & Generation'!$C$32) -> -7076.8227 | ... AA37: =Z37+(Z37*'Inputs & Generation'!$C$32) -> -9714.961
A38: Lease ($/year) | C38: ='Inputs & Generation'!C29 -> 10000 | D38: =C38*(1+'Inputs & Generation'!$C32) -> 10200 | E38: =D38*(1+'Inputs & Generation'!$C32) -> 10404 | F38: =E38*(1+'Inputs & Generation'!$C32) -> 10612.08 | G38: =F38*(1+'Inputs & Generation'!$C32) -> 10824.322 | H38: =G38*(1+'Inputs & Generation'!$C32) -> 11040.808 | I38: =H38*(1+'Inputs & Generation'!$C32) -> 11261.624 | J38: =I38*(1+'Inputs & Generation'!$C32) -> 11486.857 | K38: =J38*(1+'Inputs & Generation'!$C32) -> 11716.594 | ... AA38: =Z38*(1+'Inputs & Generation'!$C32) -> 16084.372
A39: Production meter ($/year) | C39: =-'Inputs & Generation'!C34 -> -150 | D39: =C39 -> -150 | E39: =D39 -> -150 | F39: =E39 -> -150 | G39: =F39 -> -150 | H39: =G39 -> -150 | I39: =H39 -> -150 | J39: =I39 -> -150 | K39: =J39 -> -150 | ... AA39: =Z39 -> -150
A40: Insurance ($/yr) | C40: =-('Inputs & Generation'!C30*'Inputs & Generation'!C7/1000) -> -4530 | D40: =C40+(C40*'Inputs & Generation'!$C$32) -> -4620.6 | E40: =D40+(D40*'Inputs & Generation'!$C$32) -> -4713.012 | F40: =E40+(E40*'Inputs & Generation'!$C$32) -> -4807.2722 | G40: =F40+(F40*'Inputs & Generation'!$C$32) -> -4903.4177 | H40: =G40+(G40*'Inputs & Generation'!$C$32) -> -5001.486 | I40: =H40+(H40*'Inputs & Generation'!$C$32) -> -5101.5158 | J40: =I40+(I40*'Inputs & Generation'!$C$32) -> -5203.5461 | K40: =J40+(J40*'Inputs & Generation'!$C$32) -> -5307.617 | L40: =K40+(K40*'Inputs & Generation'!$C$32) -> -5413.7693 | M40: =L40+(L40*'Inputs & Generation'!$C$32)-60000 -> -65522.045 | N40: =M40+(M40*'Inputs & Generation'!$C$32)+60000 -> -6832.4856 | O40: =N40+(N40*'Inputs & Generation'!$C$32) -> -6969.1353 | P40: =O40+(O40*'Inputs & Generation'!$C$32) -> -7108.518 | Q40: =P40+(P40*'Inputs & Generation'!$C$32) -> -7250.6884 | R40: =Q40+(Q40*'Inputs & Generation'!$C$32) -> -7395.7022 | S40: =R40+(R40*'Inputs & Generation'!$C$32) -> -7543.6162 | T40: =S40+(S40*'Inputs & Generation'!$C$32) -> -7694.4885 | U40: =T40+(T40*'Inputs & Generation'!$C$32) -> -7848.3783 | V40: =U40+(U40*'Inputs & Generation'!$C$32) -> -8005.3459 | ... AA40: =Z40+(Z40*'Inputs & Generation'!$C$32) -> -8838.5487
A41: Operations and Maintenance ($/yr) (includes inverters replaced Y11) | C41: =-('Inputs & Generation'!C31*'Inputs & Generation'!C7/1000) -> -6040 | D41: =C41+(C41*'Inputs & Generation'!$C$32) -> -6160.8 | E41: =D41+(D41*'Inputs & Generation'!$C$32) -> -6284.016 | F41: =E41+(E41*'Inputs & Generation'!$C$32) -> -6409.6963 | G41: =F41+(F41*'Inputs & Generation'!$C$32) -> -6537.8902 | H41: =G41+(G41*'Inputs & Generation'!$C$32) -> -6668.6481 | I41: =H41+(H41*'Inputs & Generation'!$C$32) -> -6802.021 | J41: =I41+(I41*'Inputs & Generation'!$C$32) -> -6938.0614 | K41: =J41+(J41*'Inputs & Generation'!$C$32) -> -7076.8227 | L41: =K41+(K41*'Inputs & Generation'!$C$32) -> -7218.3591 | M41: =L41+(L41*'Inputs & Generation'!$C$32)-'Inputs & Generation'!D33 -> -97962.726 | N41: =M41+(M41*'Inputs & Generation'!$C$32)+'Inputs & Generation'!D33 -> -9321.9808 | O41: =N41+(N41*'Inputs & Generation'!$C$32) -> -9508.4204 | P41: =O41+(O41*'Inputs & Generation'!$C$32) -> -9698.5888 | Q41: =P41+(P41*'Inputs & Generation'!$C$32) -> -9892.5606 | R41: =Q41+(Q41*'Inputs & Generation'!$C$32) -> -10090.412 | S41: =R41+(R41*'Inputs & Generation'!$C$32) -> -10292.22 | T41: =S41+(S41*'Inputs & Generation'!$C$32) -> -10498.064 | U41: =T41+(T41*'Inputs & Generation'!$C$32) -> -10708.026 | V41: =U41+(U41*'Inputs & Generation'!$C$32) -> -10922.186 | ... AA41: =Z41+(Z41*'Inputs & Generation'!$C$32) -> -12058.976
A42: Loan payment* | C42: =PMT('Inputs & Generation'!$C$25,'Inputs & Generation'!$C$26,$B$16) -> 0 | D42: =PMT('Inputs & Generation'!$C$25,'Inputs & Generation'!$C$26,$B$16) -> 0 | E42: =PMT('Inputs & Generation'!$C$25,'Inputs & Generation'!$C$26,$B$16) -> 0 | F42: =PMT('Inputs & Generation'!$C$25,'Inputs & Generation'!$C$26,$B$16) -> 0 | G42: =PMT('Inputs & Generation'!$C$25,'Inputs & Generation'!$C$26,$B$16) -> 0 | H42: =PMT('Inputs & Generation'!$C$25,'Inputs & Generation'!$C$26,$B$16) -> 0 | I42: =PMT('Inputs & Generation'!$C$25,'Inputs & Generation'!$C$26,$B$16) -> 0 | J42: =PMT('Inputs & Generation'!$C$25,'Inputs & Generation'!$C$26,$B$16) -> 0 | ... W42: =PMT('Inputs & Generation'!$C$25,'Inputs & Generation'!$C$26,$B$16) -> 0
A43: Loan interest payment | C43: =-B16*'Inputs & Generation'!C25 -> 0 | D43: =-C44*'Inputs & Generation'!$C$25 -> 0 | E43: =-D44*'Inputs & Generation'!$C$25 -> 0 | F43: =-E44*'Inputs & Generation'!$C$25 -> 0 | G43: =-F44*'Inputs & Generation'!$C$25 -> 0 | H43: =-G44*'Inputs & Generation'!$C$25 -> 0 | I43: =-H44*'Inputs & Generation'!$C$25 -> 0 | J43: =-I44*'Inputs & Generation'!$C$25 -> 0 | K43: =-J44*'Inputs & Generation'!$C$25 -> 0 | ... W43: =-V44*'Inputs & Generation'!$C$25 -> 0
A44: Principal remaining | C44: =B16+C45 -> 0 | D44: =C44+D45 -> 0 | E44: =D44+E45 -> 0 | F44: =E44+F45 -> 0 | G44: =F44+G45 -> 0 | H44: =C44 -> 0 | I44: =H44+I45 -> 0 | J44: =I44+J45 -> 0 | K44: =J44+K45 -> 0 | L44: =K44+L45 -> 0 | M44: =L44+M45 -> 0 | N44: =M44+N45 -> 0 | O44: =N44+O45 -> 0 | P44: =O44+P45 -> 0 | ... W44: =V44+W45 -> 0
A45: Prinicipal payment | C45: =C42-C43 -> 0 | D45: =D42-D43 -> 0 | E45: =E42-E43 -> 0 | F45: =F42-F43 -> 0 | G45: =G42-G43 -> 0 | H45: =H42-H43 -> 0 | I45: =I42-I43 -> 0 | J45: =J42-J43 -> 0 | ... W45: =W42-W43 -> 0
A47: Total expenses (excl prinicipal) | C47: =SUM(C37:C41, C43) -> -6760 | D47: =SUM(D37:D41, D43) -> -6892.2 | E47: =SUM(E37:E41, E43) -> -7027.044 | F47: =SUM(F37:F41, F43) -> -7164.5849 | G47: =SUM(G37:G41, G43) -> -7304.8766 | H47: =SUM(H37:H41, H43) -> -7447.9741 | I47: =SUM(I37:I41, I43) -> -7593.9336 | J47: =SUM(J37:J41, J43) -> -7742.8123 | ... AA47: =SUM(AA37:AA41, AA43) -> -14678.113
...

Sheet Results
E2: Year | F2: NM Regime and ITC% | G2: Scenario | H2: Payback (Years) | I2: Annualized Cat III Application MW/YR | J2: Notes on Variations
E3: 2018 | F3: NM 2.0 @30% ITC | G3: 1 | H3: 6 | I3: 36.5 | J3: ($2.2/WDC)
E4: 2019 | F4: NM2.1 @30% ITC | G4: 2 | H4: 7 | I4: 20 | J4: ($2.2/WDC)
E5: 2020 | F5: NM2.2 @26% ITC | G5: 3 | H5: 8.1 | I5: =(5.2+22.2+6.5)*(12/19) -> 21.410526 | J5: ($2.2/WDC)
E6: 2021 | F6: NM2.3 @26% ITC | G6: 4 | H6: 9 | I6: =8.3*(12/7) -> 14.228571 | J6: ($2.2/WDC)
E7: 2022 | F7: NM2.4 @26% ITC | G7: 5 | H7: 9.1 | I7: =0.237*(12/8) -> 0.3555 | J7: ($2.2/WDC)
E8: 2023 | F8: NM-PSD @26% ITC | G8: 6 | H8: 10 | J8: PROPOSED BY PSD Base (-.01) REC
E9: 2023 | F9: NM-PSD @22% ITC | G9: 7 | H9: 10.1 | J9: PSD Base Jan 1,2023 ITC Change
E10: 2023 | F10: NM-PSD @22% ITC | G10: 8 | H10: 11 | J10: PSD Base w/ 10% inflation (2.42/WDC)
E11: 2024 | F11: NM-PSD @10% ITC | G11: 9 | H11: 11.5 | J11: PSD Base Jan 1, 2024 ITC Change
E12: 2024 | F12: NM-PSD @10% ITC | G12: 10 | H12: 12.2 | J12: PSD Base w/ 10% inflation (2.42/WDC)
E13: 2024 | F13: NM-PSD @10% ITC | G13: 11 | H13: 12.8 | J13: PSD Base w/ 10% inflation and 16.4c residential rate
