Workbook
Name Utility: 'Blended Rate (2019 EIA)'!$B$11:$B$27
Name Utility: 'Blended Rate'!$B$11:$B$27

Sheet Blended Rate
C2: Proposed weighted statewide average of all electric company blended residential retail rates: | F2: =SUMPRODUCT(B11:B27,J11:J27)/SUM(B11:B27) -> 0.17140971
C3: Current statewide blended rate as dopted in Order 20-0097 on 11/12/2020 | F3: 0.16413
E4: Recommended Change: | F4: =F2-F3 -> 0.0072797069
B8: 2020 | C8: 2020 | D8: 2020 | E8: 2020 | F8: 2020 | G8: 2022 | H8: 2022 | I8: 2022
A9: Utility | B9: Sales to ultimate customers | C9: Share of VT load | D9: Residential sales | E9: Residential Customers | F9: Avg residential consumption | G9: Low block size | H9: Low block rate | I9: Highest residential rate | J9: Blended rate
B10: kWh | C10: % | D10: kWh | E10: # | F10: kWh | G10: kWh | H10: $/kWh | I10: $/kWh | J10: $/kWh
A11: Barton | B11: 14023921 | C11: =B11/$B$28 -> 0.0026451605 | D11: 10862720 | E11: 1969 | F11: =D11/E11 -> 5516.8715 | G11: 100 | H11: 0.09216 | I11: 0.19393 | J11: =((F11-12*G11)*I11+12*G11*H11)/F11 -> 0.17179354
A12: BED | B12: 3.1129816e+08 | C12: =B12/$B$28 -> 0.058716359 | D12: 88811583 | E12: 17457 | F12: =D12/E12 -> 5087.4482 | G12: 100 | H12: 0.116173 | I12: 0.158815 | J12: =((F12-12*G12)*I12+12*G12*H12)/F12 -> 0.14875683
A13: Enosburg | B13: 26392777 | C13: =B13/$B$28 -> 0.0049781463 | D13: 3787555.4 | E13: 581 | F13: =D13/E13 -> 6519.0283 | G13: 100 | H13: 0.07086 | I13: 0.16756 | J13: =((F13-12*G13)*I13+12*G13*H13)/F13 -> 0.1497598
A14: GMP | B14: 4040762208 | C14: =B14/$B$28 -> 0.76215949 | D14: 1554516504 | E14: 222757 | F14: =D14/E14 -> 6978.5304 | G14: 0 | H14: 0.1765 | I14: 0.1765 | J14: =((F14-12*G14)*I14+12*G14*H14)/F14 -> 0.1765 | K14: *rate increase request awaiting PUC determination
A15: Hardwick | B15: 34606425 | C15: =B15/$B$28 -> 0.0065273861 | D15: 24488770 | E15: 4203 | F15: =D15/E15 -> 5826.4977 | G15: 100 | H15: 0.06285 | I15: 0.17885 | J15: =((F15-12*G15)*I15+12*G15*H15)/F15 -> 0.15495915
A16: Hyde Park | B16: 12334461 | C16: =B16/$B$28 -> 0.0023264983 | D16: 8495487 | E16: 1198 | F16: =D16/E16 -> 7091.3915 | G16: 100 | H16: 0.10061 | I16: 0.18022 | J16: =((F16-12*G16)*I16+12*G16*H16)/F16 -> 0.16674845
A17: Jacksonville | B17: 4965830 | C17: =B17/$B$28 -> 0.0009366437 | D17: 3637588 | E17: 663 | F17: =D17/E17 -> 5486.5581 | G17: 175 | H17: 0.07732 | I17: 0.18589 | J17: =((F17-12*G17)*I17+12*G17*H17)/F17 -> 0.14433444
A18: Johnson | B18: 11552861 | C18: =B18/$B$28 -> 0.0021790747 | D18: 5474159.2 | E18: 811 | F18: =D18/E18 -> 6749.8881 | G18: 100 | H18: 0.1052 | I18: 0.162 | J18: =((F18-12*G18)*I18+12*G18*H18)/F18 -> 0.15190205
A19: Ludlow | B19: 50520779 | C19: =B19/$B$28 -> 0.0095291158 | D19: 18985814 | E19: 3048 | F19: =D19/E19 -> 6228.9416 | G19: 125 | H19: 0.0523 | I19: 0.1179 | J19: =((F19-12*G19)*I19+12*G19*H19)/F19 -> 0.10210277
A20: Lyndonville | B20: 59984812 | C20: =B20/$B$28 -> 0.0113142 | D20: 32187261 | E20: 4866 | F20: =D20/E20 -> 6614.7269 | G20: 75 | H20: 0.07399 | I20: 0.14953 | J20: =((F20-12*G20)*I20+12*G20*H20)/F20 -> 0.13925202
A21: Morrisville | B21: 46065123 | C21: =B21/$B$28 -> 0.0086887 | D21: 22894833 | E21: 3602 | F21: =D21/E21 -> 6356.1446 | G21: 100 | H21: 0.0834 | I21: 0.15358 | J21: =((F21-12*G21)*I21+12*G21*H21)/F21 -> 0.14033046
A22: Northfield | B22: 26928889 | C22: =B22/$B$28 -> 0.0050792665 | D22: 10696038 | E22: 1620 | F22: =D22/E22 -> 6602.4926 | G22: 100 | H22: 0.06351 | I22: 0.13705 | J22: =((F22-12*G22)*I22+12*G22*H22)/F22 -> 0.12368414
A23: Orleans | B23: 11948933 | C23: =B23/$B$28 -> 0.0022537809 | D23: 4042098 | E23: 577 | F23: =D23/E23 -> 7005.3692 | G23: 100 | H23: 0.07548 | I23: 0.11933 | J23: =((F23-12*G23)*I23+12*G23*H23)/F23 -> 0.11181862
A24: Stowe | B24: 70140913 | C24: =B24/$B$28 -> 0.013229821 | D24: 26164935 | E24: 3494 | F24: =D24/E24 -> 7488.5332 | G24: 76 | H24: 0.0825 | I24: 0.1698 | J24: =((F24-12*G24)*I24+12*G24*H24)/F24 -> 0.15916806
A25: Swanton | B25: 53737132 | C25: =B25/$B$28 -> 0.010135777 | D25: 25597220 | E25: 3255 | F25: =D25/E25 -> 7863.9693 | G25: 0 | H25: 0.12133 | I25: 0.12133 | J25: =((F25-12*G25)*I25+12*G25*H25)/F25 -> 0.12133
A26: VEC | B26: 453299908 | C26: =B26/$B$28 -> 0.08550041 | D26: 232524425 | E26: 34946 | F26: =D26/E26 -> 6653.8209 | G26: 100 | H26: 0.09193 | I26: 0.18556 | J26: =((F26-12*G26)*I26+12*G26*H26)/F26 -> 0.16867406
A27: WEC | B27: 73164749 | C27: =B27/$B$28 -> 0.013800171 | D27: 65083759 | E27: 10955 | F27: =D27/E27 -> 5941.0095 | G27: 100 | H27: 0.08476 | I27: 0.2222 | J27: =((F27-12*G27)*I27+12*G27*H27)/F27 -> 0.19443906
A28: TOTALS | B28: =SUM(B11:B27) -> 5.3017279e+09 | C28: =SUM(C11:C27) -> 1 | D28: =SUM(D11:D27) -> 2.1382507e+09 | E28: =SUM(E11:E27) -> 316002

Sheet EIA 861-2019
D1: 1 | E1: 2 | F1: 3 | G1: 4 | H1: 5 | I1: 6 | J1: 7 | K1: 8 | L1: 9 | M1: 10 | N1: 11 | O1: 12 | P1: 13 | Q1: 14 | R1: 15 | S1: 16 | T1: 17 | U1: 18 | V1: 19 | W1: 20 | X1: 21 | Y1: 22 | Z1: 23
A2: Utility Characteristics | L2: RESIDENTIAL | O2: COMMERCIAL | R2: INDUSTRIAL | U2: TRANSPORTATION | X2: TOTAL
L3: Revenues | M3: Sales | N3: Customers | O3: Revenues | P3: Sales | Q3: Customers | R3: Revenues | S3: Sales | T3: Customers | U3: Revenues | V3: Sales | W3: Customers | X3: Revenues | Y3: Sales | Z3: Customers
A4: Data Year | B4: Utility Number | C4: Utility Name | D4: Utility Name Key | E4: Part | F4: Service Type | G4: Data Type O = Observed I = Imputed | H4: State | I4: Ownership | J4: BA Code | K4: Short Form | L4: Thousand Dollars | M4: Megawatthours | N4: Count | O4: Thousand Dollars | P4: Megawatthours | Q4: Count | R4: Thousand Dollars | S4: Megawatthours | T4: Count | U4: Thousand Dollars | V4: Megawatthours | W4: Count | X4: Thousand Dollars | Y4: Megawatthours | Z4: Count
A5: 2019 | B5: 1299 | C5: Barton Village, Inc | D5: ='Blended Rate'!A11 -> Barton | E5: A | F5: Bundled | G5: O | H5: VT | I5: Municipal | J5: ISNE | K5: Y | L5: 1993.3 | M5: 10099 | N5: 1958 | O5: 720.3 | P5: 3466 | Q5: 200 | R5: . | S5: . | T5: . | U5: . | V5: . | W5: . | X5: 2713.6 | Y5: 13565 | Z5: 2158
A6: 2019 | B6: 2548 | C6: City of Burlington Electric - (VT) | D6: ='Blended Rate'!A12 -> BED | E6: A | F6: Bundled | G6: O | H6: VT | I6: Municipal | J6: ISNE | L6: 12944.4 | M6: 82161 | N6: 17260 | O6: 25240.2 | P6: 174741 | Q6: 3918 | R6: 7522.7 | S6: 65699 | T6: 9 | U6: 0 | V6: 0 | W6: 0 | X6: 45707.3 | Y6: 322601 | Z6: 21187
A7: 2019 | B7: 5915 | C7: Village of Enosburg Falls - (VT) | D7: ='Blended Rate'!A13 -> Enosburg | E7: A | F7: Bundled | G7: O | H7: VT | I7: Municipal | J7: ISNE | K7: Y | L7: 2193.6 | M7: 13655 | N7: 1544 | O7: 494 | P7: 3017 | Q7: 198 | R7: 1296.4 | S7: 9590 | T7: 20 | U7: . | V7: . | W7: . | X7: 3984 | Y7: 26262 | Z7: 1762
A8: 2019 | B8: 7601 | C8: Green Mountain Power Corp | D8: ='Blended Rate'!A14 -> GMP | E8: A | F8: Bundled | G8: O | H8: VT | I8: IOU | J8: ISNE | L8: 265161 | M8: 1501956 | N8: 222599 | O8: 240671 | P8: 1478366 | Q8: 44060 | R8: 123030 | S8: 1148104 | T8: 72 | U8: . | V8: . | W8: . | X8: 628862 | Y8: 4128426 | Z8: 266731
A9: 2019 | B9: 8104 | C9: Town of Hardwick | D9: ='Blended Rate'!A15 -> Hardwick | E9: A | F9: Bundled | G9: O | H9: VT | I9: Municipal | J9: ISNE | L9: 4280 | M9: 23752 | N9: 4025 | O9: 927 | P9: 4999 | Q9: 379 | R9: 857 | S9: 5057 | T9: 29 | U9: . | V9: . | W9: . | X9: 6064 | Y9: 33808 | Z9: 4433
A10: 2019 | B10: 9144 | C10: Village of Hyde Park - (VT) | D10: ='Blended Rate'!A16 -> Hyde Park | E10: A | F10: Bundled | G10: O | H10: VT | I10: Municipal | J10: ISNE | K10: Y | L10: 1445.7 | M10: 8195 | N10: 1191 | O10: 717.5 | P10: 3739 | Q10: 169 | R10: 0 | S10: 0 | T10: 0 | U10: 0 | V10: 0 | W10: 0 | X10: 2163.2 | Y10: 11934 | Z10: 1360
A11: 2019 | B11: 9610 | C11: Village of Jacksonville - (VT) | D11: ='Blended Rate'!A17 -> Jacksonville | E11: A | F11: Bundled | G11: O | H11: VT | I11: Municipal | J11: ISNE | K11: Y | L11: 586.4 | M11: 3469 | N11: 656 | O11: 104.9 | P11: 572 | Q11: 51 | R11: 144.1 | S11: 866 | T11: 4 | U11: . | V11: . | W11: . | X11: 835.4 | Y11: 4907 | Z11: 711
A12: 2019 | B12: 9806 | C12: Village of Johnson - (VT) | D12: ='Blended Rate'!A18 -> Johnson | E12: A | F12: Bundled | G12: O | H12: VT | I12: Municipal | J12: ISNE | K12: Y | L12: 893 | M12: 5134 | N12: 805 | O12: 324.7 | P12: 1678 | Q12: 156 | R12: 930.3 | S12: 5770 | T12: 16 | U12: 0 | V12: 0 | W12: 0 | X12: 2148 | Y12: 12582 | Z12: 977
A13: 2019 | B13: 11305 | C13: Village of Ludlow - (VT) | D13: ='Blended Rate'!A19 -> Ludlow | E13: A | F13: Bundled | G13: O | H13: VT | I13: Municipal | J13: ISNE | L13: 2199.5 | M13: 18768 | N13: 3045 | O13: 2941.5 | P13: 20912 | Q13: 707 | R13: 3107.1 | S13: 15660 | T13: 4 | U13: 0 | V13: 0 | W13: 0 | X13: 8248.1 | Y13: 55340 | Z13: 3756
A14: 2019 | B14: 11359 | C14: Village of Lyndonville - (VT) | D14: ='Blended Rate'!A20 -> Lyndonville | E14: A | F14: Bundled | G14: O | H14: VT | I14: Municipal | J14: ISNE | L14: 4913.6 | M14: 31804 | N14: 4836 | O14: 1840.4 | P14: 12105 | Q14: 888 | R14: 2359 | S14: 18118 | T14: 41 | U14: . | V14: . | W14: . | X14: 9113 | Y14: 62027 | Z14: 5765
A15: 2019 | B15: 12989 | C15: Village of Morrisville - (VT) | D15: ='Blended Rate'!A21 -> Morrisville | E15: A | F15: Bundled | G15: O | H15: VT | I15: Municipal | J15: ISNE | L15: 3374.5 | M15: 21461 | N15: 3551 | O15: 2807.4 | P15: 17800 | Q15: 644 | R15: 854 | S15: 5918 | T15: 4 | U15: . | V15: . | W15: . | X15: 7035.9 | Y15: 45179 | Z15: 4199
A16: 2019 | B16: 13789 | C16: Village of Northfield - (VT) | D16: ='Blended Rate'!A22 -> Northfield | E16: A | F16: Bundled | G16: O | H16: VT | I16: Municipal | J16: ISNE | L16: 1404.7 | M16: 10187 | N16: 1620 | O16: 504 | P16: 4162 | Q16: 235 | R16: 1848.9 | S16: 14475 | T16: 13 | U16: 0 | V16: 0 | W16: 0 | X16: 3757.6 | Y16: 28824 | Z16: 1868
A17: 2019 | B17: 14261 | C17: Village of Orleans - (VT) | D17: ='Blended Rate'!A23 -> Orleans | E17: A | F17: Bundled | G17: O | H17: VT | I17: Municipal | J17: ISNE | K17: Y | L17: 510.9 | M17: 3938 | N17: 575 | O17: 304.1 | P17: 2126 | Q17: 89 | R17: 1010.2 | S17: 6624 | T17: 1 | U17: 0 | V17: 0 | W17: 0 | X17: 1825.2 | Y17: 12688 | Z17: 665
A18: 2019 | B18: 18371 | C18: Village of Swanton - (VT) | D18: ='Blended Rate'!A25 -> Swanton | E18: A | F18: Bundled | G18: O | H18: VT | I18: Municipal | J18: ISNE | L18: 3396 | M18: 26100 | N18: 3289 | O18: 3392 | P18: 27039 | Q18: 434 | R18: . | S18: . | T18: . | U18: . | V18: . | W18: . | X18: 6788 | Y18: 53139 | Z18: 3723
A19: 2019 | B19: 19791 | C19: Vermont Electric Cooperative, Inc | D19: ='Blended Rate'!A26 -> VEC | E19: A | F19: Bundled | G19: O | H19: VT | I19: Cooperative | J19: ISNE | L19: 42488.9 | M19: 222491 | N19: 34880 | O19: 19219.6 | P19: 124081 | Q19: 4673 | R19: 11216.1 | S19: 104365 | T19: 16 | U19: 0 | V19: 0 | W19: 0 | X19: 72924.6 | Y19: 450937 | Z19: 39569
A20: 2019 | B20: 20151 | C20: Washington Electric Coop - (VT) | D20: ='Blended Rate'!A27 -> WEC | E20: A | F20: Bundled | G20: O | H20: VT | I20: Cooperative | J20: ISNE | L20: 13818 | M20: 59671 | N20: 10941 | O20: 1138 | P20: 5045 | Q20: 660 | R20: 582 | S20: 3642 | T20: 12 | U20: . | V20: . | W20: . | X20: 15538 | Y20: 68358 | Z20: 11613
A21: 2019 | B21: 27316 | C21: Town of Stowe- (VT) | D21: ='Blended Rate'!A24 -> Stowe | E21: A | F21: Bundled | G21: O | H21: VT | I21: Municipal | J21: ISNE | L21: 4432.2 | M21: 24151 | N21: 3405 | O21: 6274.4 | P21: 42879 | Q21: 858 | R21: 1171.7 | S21: 7767 | T21: 1 | U21: 0 | V21: 0 | W21: 0 | X21: 11878.3 | Y21: 74797 | Z21: 4264

Sheet Blended Rate (2019 EIA)
C2: Proposed weighted statewide average of all electric company blended residential retail rates: | F2: =SUMPRODUCT(B11:B27,J11:J27)/SUM(B11:B27) -> 0.17019117
C3: Current statewide blended rate as dopted in Order 20-0097 on 11/12/2020 | F3: 0.16413
E4: Recommended Change: | F4: =F2-F3 -> 0.0060611735
C6: Statewide blended rate as dopted in Order 18-0086 on 5/1/2018 | F6: 0.15417
B8: 2019 EIA | C8: 2019 EIA | D8: 2019 EIA | E8: 2019 EIA | F8: 2019 EIA | G8: 2022 | H8: 2022 | I8: 2022
A9: Utility | B9: Sales to ultimate customers | C9: Share of VT load | D9: Residential sales | E9: Residential Customers | F9: Avg residential consumption | G9: Low block size | H9: Low block rate | I9: Highest residential rate | J9: Blended rate | K9: Notes | L9: Rate Source
B10: MWh | C10: % | D10: MWh | E10: # | F10: kWh | G10: kWh | H10: $/kWh | I10: $/kWh | J10: $/kWh
A11: Barton | B11: =VLOOKUP(A11,'EIA 861-2019'!$D$5:$Z$21,22,FALSE) -> 13565 | C11: =B11/$B$28 -> 0.0025095396 | D11: =VLOOKUP(A11,'EIA 861-2019'!$D$5:$Z$21,10,FALSE) -> 10099 | E11: =VLOOKUP(A11,'EIA 861-2019'!$D$5:$Z$21,11,FALSE) -> 1958 | F11: =D11/E11*1000 -> 5157.8141 | G11: 100 | H11: 0.09216 | I11: 0.19393 | J11: =((F11-12*G11)*I11+12*G11*H11)/F11 -> 0.17025253 | K11: no change | L11: https://bartonvt.com/wp-content/uploads/2017/11/Barton-Rates.pdf
A12: BED | B12: =VLOOKUP(A12,'EIA 861-2019'!$D$5:$Z$21,22,FALSE) -> 322601 | C12: =B12/$B$28 -> 0.059681532 | D12: =VLOOKUP(A12,'EIA 861-2019'!$D$5:$Z$21,10,FALSE) -> 82161 | E12: =VLOOKUP(A12,'EIA 861-2019'!$D$5:$Z$21,11,FALSE) -> 17260 | F12: =D12/E12*1000 -> 4760.197 | G12: 100 | H12: 0.108068 | I12: 0.147735 | J12: =((F12-12*G12)*I12+12*G12*H12)/F12 -> 0.13773533 | K12: no change | L12: https://www.burlingtonelectric.com/bed-rates-fees/#residential-service
A13: Enosburg | B13: =VLOOKUP(A13,'EIA 861-2019'!$D$5:$Z$21,22,FALSE) -> 26262 | C13: =B13/$B$28 -> 0.0048584982 | D13: =VLOOKUP(A13,'EIA 861-2019'!$D$5:$Z$21,10,FALSE) -> 13655 | E13: =VLOOKUP(A13,'EIA 861-2019'!$D$5:$Z$21,11,FALSE) -> 1544 | F13: =D13/E13*1000 -> 8843.9119 | G13: 100 | H13: 0.07086 | I13: 0.16756 | J13: =((F13-12*G13)*I13+12*G13*H13)/F13 -> 0.15443911 | L13: https://villageofenosburgfalls.org/wp-content/uploads/2021/01/Utility-Billing-Rates-effective-07-01-2020.pdf
A14: GMP | B14: =VLOOKUP(A14,'EIA 861-2019'!$D$5:$Z$21,22,FALSE) -> 4128426 | C14: =B14/$B$28 -> 0.76376325 | D14: =VLOOKUP(A14,'EIA 861-2019'!$D$5:$Z$21,10,FALSE) -> 1501956 | E14: =VLOOKUP(A14,'EIA 861-2019'!$D$5:$Z$21,11,FALSE) -> 222599 | F14: =D14/E14*1000 -> 6747.3618 | G14: 0 | H14: 0.1765 | I14: 0.1765 | J14: =((F14-12*G14)*I14+12*G14*H14)/F14 -> 0.1765 | L14: https://greenmountainpower.com/wp-content/uploads/2021/09/Rate-1-Residential-Service-10.1.21.pdf
A15: Hardwick | B15: =VLOOKUP(A15,'EIA 861-2019'!$D$5:$Z$21,22,FALSE) -> 33808 | C15: =B15/$B$28 -> 0.0062545163 | D15: =VLOOKUP(A15,'EIA 861-2019'!$D$5:$Z$21,10,FALSE) -> 23752 | E15: =VLOOKUP(A15,'EIA 861-2019'!$D$5:$Z$21,11,FALSE) -> 4025 | F15: =D15/E15*1000 -> 5901.118 | G15: 100 | H15: 0.06285 | I15: 0.17885 | J15: =((F15-12*G15)*I15+12*G15*H15)/F15 -> 0.15526125 | K15: no change | L15: https://www.hardwickelectric.com/images/pdf/HED-Electric-Rates.pdf
A16: Hyde Park | B16: =VLOOKUP(A16,'EIA 861-2019'!$D$5:$Z$21,22,FALSE) -> 11934 | C16: =B16/$B$28 -> 0.0022078028 | D16: =VLOOKUP(A16,'EIA 861-2019'!$D$5:$Z$21,10,FALSE) -> 8195 | E16: =VLOOKUP(A16,'EIA 861-2019'!$D$5:$Z$21,11,FALSE) -> 1191 | F16: =D16/E16*1000 -> 6880.7725 | G16: 100 | H16: 0.10061 | I16: 0.18022 | J16: =((F16-12*G16)*I16+12*G16*H16)/F16 -> 0.16633609 | L16: https://www.villageofhydepark.com/_files/ugd/e53882_5520cab439884ccaaef57825a3fbe055.pdf
A17: Jacksonville | B17: =VLOOKUP(A17,'EIA 861-2019'!$D$5:$Z$21,22,FALSE) -> 4907 | C17: =B17/$B$28 -> 0.00090780027 | D17: =VLOOKUP(A17,'EIA 861-2019'!$D$5:$Z$21,10,FALSE) -> 3469 | E17: =VLOOKUP(A17,'EIA 861-2019'!$D$5:$Z$21,11,FALSE) -> 656 | F17: =D17/E17*1000 -> 5288.1098 | G17: 175 | H17: 0.07732 | I17: 0.18589 | J17: =((F17-12*G17)*I17+12*G17*H17)/F17 -> 0.14277497 | K17: no change | L17: https://vppsa.com/wp-content/uploads/2018/12/Jacksonville-Rate-Schedules.pdf
A18: Johnson | B18: =VLOOKUP(A18,'EIA 861-2019'!$D$5:$Z$21,22,FALSE) -> 12582 | C18: =B18/$B$28 -> 0.0023276835 | D18: =VLOOKUP(A18,'EIA 861-2019'!$D$5:$Z$21,10,FALSE) -> 5134 | E18: =VLOOKUP(A18,'EIA 861-2019'!$D$5:$Z$21,11,FALSE) -> 805 | F18: =D18/E18*1000 -> 6377.6398 | G18: 100 | H18: 0.1052 | I18: 0.162 | J18: =((F18-12*G18)*I18+12*G18*H18)/F18 -> 0.15131266 | K18: no change | L18: https://vppsa.com/wp-content/uploads/2021/11/Johnson-Rate-Schedules.pdf
A19: Ludlow | B19: =VLOOKUP(A19,'EIA 861-2019'!$D$5:$Z$21,22,FALSE) -> 55340 | C19: =B19/$B$28 -> 0.010237959 | D19: =VLOOKUP(A19,'EIA 861-2019'!$D$5:$Z$21,10,FALSE) -> 18768 | E19: =VLOOKUP(A19,'EIA 861-2019'!$D$5:$Z$21,11,FALSE) -> 3045 | F19: =D19/E19*1000 -> 6163.5468 | G19: 125 | H19: 0.0523 | I19: 0.1179 | J19: =((F19-12*G19)*I19+12*G19*H19)/F19 -> 0.10193517 | K19: no change | L19: https://ludlowelectric.com/wp-content/uploads/2022/01/2022-Rate-Sheet-Herbicide-Notice.pdf
A20: Lyndonville | B20: =VLOOKUP(A20,'EIA 861-2019'!$D$5:$Z$21,22,FALSE) -> 62027 | C20: =B20/$B$28 -> 0.011475062 | D20: =VLOOKUP(A20,'EIA 861-2019'!$D$5:$Z$21,10,FALSE) -> 31804 | E20: =VLOOKUP(A20,'EIA 861-2019'!$D$5:$Z$21,11,FALSE) -> 4836 | F20: =D20/E20*1000 -> 6576.5095 | G20: 75 | H20: 0.07399 | I20: 0.14953 | J20: =((F20-12*G20)*I20+12*G20*H20)/F20 -> 0.1391923 | K20: no change | L20: no change (PDF on PUC website)
A21: Morrisville | B21: =VLOOKUP(A21,'EIA 861-2019'!$D$5:$Z$21,22,FALSE) -> 45179 | C21: =B21/$B$28 -> 0.0083581636 | D21: =VLOOKUP(A21,'EIA 861-2019'!$D$5:$Z$21,10,FALSE) -> 21461 | E21: =VLOOKUP(A21,'EIA 861-2019'!$D$5:$Z$21,11,FALSE) -> 3551 | F21: =D21/E21*1000 -> 6043.6497 | G21: 100 | H21: 0.0834 | I21: 0.15358 | J21: =((F21-12*G21)*I21+12*G21*H21)/F21 -> 0.13964537 | K21: no change | L21: https://www.mwlvt.com/rates
A22: Northfield | B22: =VLOOKUP(A22,'EIA 861-2019'!$D$5:$Z$21,22,FALSE) -> 28824 | C22: =B22/$B$28 -> 0.005332471 | D22: =VLOOKUP(A22,'EIA 861-2019'!$D$5:$Z$21,10,FALSE) -> 10187 | E22: =VLOOKUP(A22,'EIA 861-2019'!$D$5:$Z$21,11,FALSE) -> 1620 | F22: =D22/E22*1000 -> 6288.2716 | G22: 100 | H22: 0.06351 | I22: 0.13705 | J22: =((F22-12*G22)*I22+12*G22*H22)/F22 -> 0.12301626 | K22: no change | L22: https://www.northfield-vt.gov/_files/ugd/1c4c06_96f023351e3744279753c53fedb55a6b.pdf
A23: Orleans | B23: =VLOOKUP(A23,'EIA 861-2019'!$D$5:$Z$21,22,FALSE) -> 12688 | C23: =B23/$B$28 -> 0.0023472936 | D23: =VLOOKUP(A23,'EIA 861-2019'!$D$5:$Z$21,10,FALSE) -> 3938 | E23: =VLOOKUP(A23,'EIA 861-2019'!$D$5:$Z$21,11,FALSE) -> 575 | F23: =D23/E23*1000 -> 6848.6957 | G23: 100 | H23: 0.07548 | I23: 0.11933 | J23: =((F23-12*G23)*I23+12*G23*H23)/F23 -> 0.11164679 | K23: no change | L23: https://vppsa.com/wp-content/uploads/2021/06/Orleans-Rate-Schedules.pdf
A24: Stowe | B24: =VLOOKUP(A24,'EIA 861-2019'!$D$5:$Z$21,22,FALSE) -> 74797 | C24: =B24/$B$28 -> 0.013837525 | D24: =VLOOKUP(A24,'EIA 861-2019'!$D$5:$Z$21,10,FALSE) -> 24151 | E24: =VLOOKUP(A24,'EIA 861-2019'!$D$5:$Z$21,11,FALSE) -> 3405 | F24: =D24/E24*1000 -> 7092.8047 | G24: 76 | H24: 0.0825 | I24: 0.1698 | J24: =((F24-12*G24)*I24+12*G24*H24)/F24 -> 0.15857488 | K24: no change | L24: https://www.stoweelectric.com/images/rates/2018Rates/Draft_-_01_-_RESGEN_-_Clean_3-15-19.pdf
A25: Swanton | B25: =VLOOKUP(A25,'EIA 861-2019'!$D$5:$Z$21,22,FALSE) -> 53139 | C25: =B25/$B$28 -> 0.0098307721 | D25: =VLOOKUP(A25,'EIA 861-2019'!$D$5:$Z$21,10,FALSE) -> 26100 | E25: =VLOOKUP(A25,'EIA 861-2019'!$D$5:$Z$21,11,FALSE) -> 3289 | F25: =D25/E25*1000 -> 7935.5427 | G25: 0 | H25: 0.12133 | I25: 0.12133 | J25: =((F25-12*G25)*I25+12*G25*H25)/F25 -> 0.12133 | K25: no change | L25: http://www.swantonvillage.org/wp-content/uploads/2020/10/Residential-A.pdf
A26: VEC | B26: =VLOOKUP(A26,'EIA 861-2019'!$D$5:$Z$21,22,FALSE) -> 450937 | C26: =B26/$B$28 -> 0.08342383 | D26: =VLOOKUP(A26,'EIA 861-2019'!$D$5:$Z$21,10,FALSE) -> 222491 | E26: =VLOOKUP(A26,'EIA 861-2019'!$D$5:$Z$21,11,FALSE) -> 34880 | F26: =D26/E26*1000 -> 6378.7557 | G26: 100 | H26: 0.09193 | I26: 0.18556 | J26: =((F26-12*G26)*I26+12*G26*H26)/F26 -> 0.16794591 | L26: https://vermontelectric.coop/rates-and-tariffs
A27: WEC | B27: =VLOOKUP(A27,'EIA 861-2019'!$D$5:$Z$21,22,FALSE) -> 68358 | C27: =B27/$B$28 -> 0.012646303 | D27: =VLOOKUP(A27,'EIA 861-2019'!$D$5:$Z$21,10,FALSE) -> 59671 | E27: =VLOOKUP(A27,'EIA 861-2019'!$D$5:$Z$21,11,FALSE) -> 10941 | F27: =D27/E27*1000 -> 5453.889 | G27: 200 | H27: 0.08476 | I27: 0.2222 | J27: =((F27-12*G27)*I27+12*G27*H27)/F27 -> 0.16171912 | K27: current until July 2022 | L27: https://35coti2fdydv27b6wjrhdxq9-wpengine.netdna-ssl.com/wp-content/uploads/2020/07/COMPARISON-OF-CURRENT-RATES-Updated-with-Rate-Design-v2.pdf
A28: TOTALS | B28: =SUM(B11:B27) -> 5405374 | C28: =SUM(C11:C27) -> 1 | D28: =SUM(D11:D27) -> 2066992 | E28: =SUM(E11:E27) -> 316180
