Workbook

Sheet Trees Vs PV Summary
A1: CARBON SAVINGS
A2: PV versus Trees
A4: PV Carbon Savings (ISO NE Control Area) | C4: Tree Carbon Savings Per Year (VT)
A5: kWh | B5: lbs | C5: Acres | D5: lbs | F5: Insert Values in Red Text Cells For Your Proposed Project
A6: 1 | B6: ='Array Related Carbon'!J37 -> 0.97 | C6: 1 | D6: ='Vermont Forest Info'!C7 -> 1460
A8: Annual PV Production Decline | D8: Tons of Carbon Attributed to PV Array Manufacturing and Construction
A9: 0.005 | D9: ='Array Related Carbon'!D33 -> 1042.8278
A10: Annual Tree Growth Rate assumption
A11: 0.02
E12: Multiple of Carbon Savings over 30 YR Timeframe by Clearing a Treed Site in VT to do PV vs Leaving Trees and Not Doing PV
A13: AC Size of Project | C13: 500KW
A14: First year kWh Production of Project | C14: 847000
A15: Tree Acreage Cleared for Project | C15: 6
E16: =B41/C41 -> 55.697042
A18: Carbon Savings Compared
A19: Yr | B19: PV - Tons of Carbon Avoided Net of Fabrication and Construction | C19: Trees - Tons of Carbon Sequestered
A20: 1 | B20: 0 | C20: =C15*D6/2000 -> 4.38
A21: 2 | B21: 0 | C21: =C20*(1+A$11) -> 4.4676
A22: 3 | B22: 65.3 | C22: =C21*(1+A$11) -> 4.556952
A23: 4 | B23: ='Array Related Carbon'!B6*B$6/2000 -> 404.66383 | C23: =C22*(1+A$11) -> 4.648091
A24: 5 | B24: ='Array Related Carbon'!B7*B$6/2000 -> 402.64051 | C24: =C23*(1+A$11) -> 4.7410529
A25: 6 | B25: ='Array Related Carbon'!B8*B$6/2000 -> 400.62731 | C25: =C24*(1+A$11) -> 4.8358739
A26: 7 | B26: ='Array Related Carbon'!B9*B$6/2000 -> 398.62417 | C26: =C25*(1+A$11) -> 4.9325914
A27: 8 | B27: ='Array Related Carbon'!B10*B$6/2000 -> 396.63105 | C27: =C26*(1+A$11) -> 5.0312432
A28: 9 | B28: ='Array Related Carbon'!B11*B$6/2000 -> 394.6479 | C28: =C27*(1+A$11) -> 5.1318681
A29: 10 | B29: ='Array Related Carbon'!B12*B$6/2000 -> 392.67466 | C29: =C28*(1+A$11) -> 5.2345055
A30: 11 | B30: ='Array Related Carbon'!B13*B$6/2000 -> 390.71129 | C30: =C29*(1+A$11) -> 5.3391956
A31: 12 | B31: ='Array Related Carbon'!B14*B$6/2000 -> 388.75773 | C31: =C30*(1+A$11) -> 5.4459795
A32: 13 | B32: ='Array Related Carbon'!B15*B$6/2000 -> 386.81394 | C32: =C31*(1+A$11) -> 5.5548991
A33: 14 | B33: ='Array Related Carbon'!B16*B$6/2000 -> 384.87987 | C33: =C32*(1+A$11) -> 5.665997
A34: 15 | B34: ='Array Related Carbon'!B17*B$6/2000 -> 382.95547 | C34: =C33*(1+A$11) -> 5.779317
... A49: 30 | B49: ='Array Related Carbon'!B32*B$6/2000 -> 355.21761 | C49: =C48*(1+A$11) -> 7.7781997
A50: Total | B50: =SUM(B20:B49) -> 10309.762 | C50: =SUM(C20:C49) -> 177.68819
A55: Notes
A56: 1 | B56: PV Manufacturer and construction carbon effects 'paid off' part way through year 3
B57: NREL estimated that solar power produces lifetime emissions of 40g CO2 equivalent per kilowatt-hour. Lifetime emissions means from raw material extraction, through production, transportation, construction, decomissioning and disposal. A study published by Nature Energy was more optimistic, with estimated emissions below 21 g CO2 eq / kWh. Using the Nature Energy figure would make the the PV vs Tree comparison even more lopsided in favor of PV.
A58: 2 | B58: PV Carbon Savings based on 2019 emissions profile of ISO NE emitting LMUs.
B59: See pg 33 at https://www.iso-ne.com/static-assets/documents/2021/03/2019_air_emissions_report.pdf
A60: 3 | B60: Tree Carbon Savings Based on 2016 Vermont Forest Cover and CO2 absorbtion rates.
B61: See Pgs 2-3 at https://fpr.vermont.gov/sites/fpr/files/Forest_and_Forestry/The_Forest_Ecosystem/Library/Forest%20Carbon%20Inventory%20_Mar%202017_final.pdf

Sheet Array Related Carbon
A2: Yr | B2: kWh Produced by Project | C2: PV - Tons of Carbon Avoided | D2: Carbon Emissions, in Tons, Attributed to Manufacturing of project Equipment and Project Construction
A3: 1 | B3: ='Trees Vs PV Summary'!C14 -> 847000 | C3: =B3*'Trees Vs PV Summary'!B$6/2000 -> 410.795 | D3: =B3*40/E$23/2000 -> 37.346338
A4: 2 | B4: =B3*(1-'Trees Vs PV Summary'!A$9) -> 842765 | C4: =B4*'Trees Vs PV Summary'!B$6/2000 -> 408.74102 | D4: =B4*40/E$23/2000 -> 37.159606
A5: 3 | B5: =B4*(1-'Trees Vs PV Summary'!A$9) -> 838551.18 | C5: =B5*'Trees Vs PV Summary'!B$6/2000 -> 406.69732 | D5: =B5*40/E$23/2000 -> 36.973808
A6: 4 | B6: =B5*(1-'Trees Vs PV Summary'!A$9) -> 834358.42 | C6: =B6*'Trees Vs PV Summary'!B$6/2000 -> 404.66383 | D6: =B6*40/E$23/2000 -> 36.788939
A7: 5 | B7: =B6*(1-'Trees Vs PV Summary'!A$9) -> 830186.63 | C7: =B7*'Trees Vs PV Summary'!B$6/2000 -> 402.64051 | D7: =B7*40/E$23/2000 -> 36.604994
A8: 6 | B8: =B7*(1-'Trees Vs PV Summary'!A$9) -> 826035.69 | C8: =B8*'Trees Vs PV Summary'!B$6/2000 -> 400.62731 | D8: =B8*40/E$23/2000 -> 36.421969
A9: 7 | B9: =B8*(1-'Trees Vs PV Summary'!A$9) -> 821905.52 | C9: =B9*'Trees Vs PV Summary'!B$6/2000 -> 398.62417 | D9: =B9*40/E$23/2000 -> 36.239859
A10: 8 | B10: =B9*(1-'Trees Vs PV Summary'!A$9) -> 817795.99 | C10: =B10*'Trees Vs PV Summary'!B$6/2000 -> 396.63105 | D10: =B10*40/E$23/2000 -> 36.05866
A11: 9 | B11: =B10*(1-'Trees Vs PV Summary'!A$9) -> 813707.01 | C11: =B11*'Trees Vs PV Summary'!B$6/2000 -> 394.6479 | D11: =B11*40/E$23/2000 -> 35.878367
A12: 10 | B12: =B11*(1-'Trees Vs PV Summary'!A$9) -> 809638.47 | C12: =B12*'Trees Vs PV Summary'!B$6/2000 -> 392.67466 | D12: =B12*40/E$23/2000 -> 35.698975
A13: 11 | B13: =B12*(1-'Trees Vs PV Summary'!A$9) -> 805590.28 | C13: =B13*'Trees Vs PV Summary'!B$6/2000 -> 390.71129 | D13: =B13*40/E$23/2000 -> 35.52048 | E13: Grams of Carbon Emitted during Solar Panel Manufacturing Process in units of per kWh of energy produced by array over 30 yr life
A14: 12 | B14: =B13*(1-'Trees Vs PV Summary'!A$9) -> 801562.33 | C14: =B14*'Trees Vs PV Summary'!B$6/2000 -> 388.75773 | D14: =B14*40/E$23/2000 -> 35.342878
A15: 13 | B15: =B14*(1-'Trees Vs PV Summary'!A$9) -> 797554.52 | C15: =B15*'Trees Vs PV Summary'!B$6/2000 -> 386.81394 | D15: =B15*40/E$23/2000 -> 35.166163 | E15: 40
A16: 14 | B16: =B15*(1-'Trees Vs PV Summary'!A$9) -> 793566.74 | C16: =B16*'Trees Vs PV Summary'!B$6/2000 -> 384.87987 | D16: =B16*40/E$23/2000 -> 34.990332 | E16: https://www.nrel.gov/docs/fy13osti/56487.pdf
A17: 15 | B17: =B16*(1-'Trees Vs PV Summary'!A$9) -> 789598.91 | C17: =B17*'Trees Vs PV Summary'!B$6/2000 -> 382.95547 | D17: =B17*40/E$23/2000 -> 34.815381
A18: 16 | B18: =B17*(1-'Trees Vs PV Summary'!A$9) -> 785650.92 | C18: =B18*'Trees Vs PV Summary'!B$6/2000 -> 381.04069 | D18: =B18*40/E$23/2000 -> 34.641304
A19: 17 | B19: =B18*(1-'Trees Vs PV Summary'!A$9) -> 781722.66 | C19: =B19*'Trees Vs PV Summary'!B$6/2000 -> 379.13549 | D19: =B19*40/E$23/2000 -> 34.468097
A20: 18 | B20: =B19*(1-'Trees Vs PV Summary'!A$9) -> 777814.05 | C20: =B20*'Trees Vs PV Summary'!B$6/2000 -> 377.23981 | D20: =B20*40/E$23/2000 -> 34.295757
A21: 19 | B21: =B20*(1-'Trees Vs PV Summary'!A$9) -> 773924.98 | C21: =B21*'Trees Vs PV Summary'!B$6/2000 -> 375.35361 | D21: =B21*40/E$23/2000 -> 34.124278
A22: 20 | B22: =B21*(1-'Trees Vs PV Summary'!A$9) -> 770055.35 | C22: =B22*'Trees Vs PV Summary'!B$6/2000 -> 373.47685 | D22: =B22*40/E$23/2000 -> 33.953657 | E22: Grams per lb | G22: ISO NE Carbon at the Margin 2019
A23: 21 | B23: =B22*(1-'Trees Vs PV Summary'!A$9) -> 766205.08 | C23: =B23*'Trees Vs PV Summary'!B$6/2000 -> 371.60946 | D23: =B23*40/E$23/2000 -> 33.783888 | E23: 453.592
A24: 22 | B24: =B23*(1-'Trees Vs PV Summary'!A$9) -> 762374.05 | C24: =B24*'Trees Vs PV Summary'!B$6/2000 -> 369.75141 | D24: =B24*40/E$23/2000 -> 33.614969 | E24: Carbon Lbs/kWh
A25: 23 | B25: =B24*(1-'Trees Vs PV Summary'!A$9) -> 758562.18 | C25: =B25*'Trees Vs PV Summary'!B$6/2000 -> 367.90266 | D25: =B25*40/E$23/2000 -> 33.446894 | E25: =40/E23 -> 0.088184977
A26: 24 | B26: =B25*(1-'Trees Vs PV Summary'!A$9) -> 754769.37 | C26: =B26*'Trees Vs PV Summary'!B$6/2000 -> 366.06314 | D26: =B26*40/E$23/2000 -> 33.27966
A27: 25 | B27: =B26*(1-'Trees Vs PV Summary'!A$9) -> 750995.52 | C27: =B27*'Trees Vs PV Summary'!B$6/2000 -> 364.23283 | D27: =B27*40/E$23/2000 -> 33.113261
A28: 26 | B28: =B27*(1-'Trees Vs PV Summary'!A$9) -> 747240.55 | C28: =B28*'Trees Vs PV Summary'!B$6/2000 -> 362.41166 | D28: =B28*40/E$23/2000 -> 32.947695
A29: 27 | B29: =B28*(1-'Trees Vs PV Summary'!A$9) -> 743504.34 | C29: =B29*'Trees Vs PV Summary'!B$6/2000 -> 360.59961 | D29: =B29*40/E$23/2000 -> 32.782957
A30: 28 | B30: =B29*(1-'Trees Vs PV Summary'!A$9) -> 739786.82 | C30: =B30*'Trees Vs PV Summary'!B$6/2000 -> 358.79661 | D30: =B30*40/E$23/2000 -> 32.619042
A31: 29 | B31: =B30*(1-'Trees Vs PV Summary'!A$9) -> 736087.89 | C31: =B31*'Trees Vs PV Summary'!B$6/2000 -> 357.00263 | D31: =B31*40/E$23/2000 -> 32.455947
A32: 30 | B32: =B31*(1-'Trees Vs PV Summary'!A$9) -> 732407.45 | C32: =B32*'Trees Vs PV Summary'!B$6/2000 -> 355.21761 | D32: =B32*40/E$23/2000 -> 32.293667
A33: Total | B33: =SUM(B3:B32) -> 23650918 | C33: =SUM(C3:C32) -> 11470.695 | D33: =SUM(D3:D32) -> 1042.8278
I37: LMU lbs/kWh | J37: =970/1000 -> 0.97
E40: Other Sources of Info
E41: https:/ / www.epa.gov/ energy/ greenhouse-gas-equivalencies-calculator

Sheet Vermont Forest Info
D1: Units
A2: 2016 | B2: Millions of Acres of Forest | C2: 4.5 | F2: https://fpr.vermont.gov/sites/fpr/files/Forest_and_Forestry/The_Forest_Ecosystem/Library/Forest%20Carbon%20Inventory%20_Mar%202017_final.pdf
A3: 2016 | B3: Carbon Absorbtion by VT Forests (above ground biomass) | C3: 3 | D3: MMTCO2e
C4: 3.3 | D4: US Tons
B6: Absorbtion per VT Forest Acre | C6: 0.73 | D6: US Tons
C7: 1460 | D7: Lbs
A15: Other Sources of Info
A16: https:/ / www.epa.gov/ energy/ greenhouse-gas-equivalencies-calculator
