Workbook

Sheet Original Fixed Rate Calculation
A3: 2019 Customers as Reported to Efficiency Vermont by the DUs (as filed April 9, 2021)
A5: Electric Distribution Utility | B5: Residential | C5: Commercial Non-Demand | D5: Commerial Demand | E5: Industrial Non-Demand | F5: Industrial Demand
A6: Barton | B6: 1957 | C6: 187 | D6: 27 | E6: 0 | F6: 0
A7: Enosburg Falls | B7: 1544 | C7: 194 | D7: 24 | E7: 0 | F7: 0
A8: Green Mountain Power | B8: 222748 | C8: 34221 | D8: 8999 | E8: 0 | F8: 70
A9: Hardwick | B9: 4020 | C9: 398 | D9: 29
A10: Hyde Park | B10: 1359 | C10: 158 | D10: 3 | E10: 0 | F10: 0
A11: Jacksonville | B11: 656 | C11: 51 | D11: 4 | E11: 0 | F11: 0
A12: Johnson | B12: 805 | C12: 122 | D12: 16 | E12: 0 | F12: 0
A13: Ludlow | B13: 3090 | C13: 607 | D13: 48 | E13: 0 | F13: 69
A14: Lyndonville | B14: 4836 | C14: 882 | D14: 41 | E14: 0 | F14: 0
A15: Morrisville | B15: 3498 | C15: 550 | D15: 94 | E15: 0 | F15: 0
A16: Northfield | B16: 1620 | C16: 578 | D16: 16 | E16: 0 | F16: 1
A17: Orleans | B17: 569 | C17: 89 | D17: 0 | E17: 0 | F17: 1
A18: Stowe | B18: 3405 | C18: =757+14 -> 771 | D18: 101 | E18: 0 | F18: 1
A19: Swanton | B19: 3278 | C19: 343 | D19: 93 | E19: 0 | F19: 0
A20: Vermont Electric Coop (VEC) | B20: 34880 | C20: 4540 | D20: 146 | E20: 6 | F20: 10
A21: Washington Electric Coop (WEC) | B21: =130586/12 -> 10882.167 | C21: =8008/12 -> 667.33333 | D21: 0 | E21: 0 | F21: =144/12 -> 12
A22: Total Customers Subject to EEC Charge | B22: =SUM(B6:B21) -> 299147.17 | C22: =SUM(C6:C21) -> 44358.333 | D22: =SUM(D6:D21) -> 9641 | E22: =SUM(E6:E21) -> 6 | F22: =SUM(F6:F21) -> 164
A24: Consumption and Demand Values from 20-2022-PET
A25: Distribution Utility Reported 2019 kWh Consumption | B25: 1984975915 | C25: =312108910+13126578-1227571 -> 324007917 | D25: 1491129438 | E25: 5578093 | F25: 727465365
A26: Estimated 2019 Net Meter Gross Consumption (July-Dec = 47.3%) | B26: =2017308355-B25 -> 32332440 | C26: 1912986 | D26: 0 | E26: 0 | F26: 0
A27: Commercial and Industrial Forecast Adjustments | B27: 0 | C27: =-139765576-D27 -> -7288103 | D27: -132477473 | E27: =6789470-E25 -> 1211377 | F27: =700597467-F25 -> -26867898
A28: Total Consumption | B28: =SUM(B25:B27) -> 2017308355 | C28: =SUM(C25:C27) -> 318632800 | D28: =SUM(D25:D27) -> 1358651965 | E28: =SUM(E25:E27) -> 6789470 | F28: =SUM(F25:F27) -> 700597467
A29: Average 2019 kWh Consumption per Customer | B29: =B28/B22 -> 6743.5315 | C29: =C28/C22 -> 7183.1554 | D29: =D28/D22 -> 140924.38 | E29: =E28/E22 -> 1131578.3 | F29: =F28/F22 -> 4271935.8
A31: Distribution Utility Reported 2019 kWh Consumption | B31: N/A | C31: N/A | D31: ='2019 Reported Sales'!F24 -> 4837869.9 | E31: N/A | F31: ='2019 Reported Sales'!I24 -> 1734103.4
A32: Commercial and Industrial Forecast Adjustments | D32: -757125.01 | F32: -218822.7
A33: Adjusted Demand Totals | D33: =SUM(D31:D32) -> 4080744.8 | E33: N/A | F33: =SUM(F31:F32) -> 1515280.7
A34: Average 2019 kW Demand per Customer | B34: N/A | C34: N/A | D34: =D33/D22 -> 423.26987 | E34: N/A | F34: =F33/F22 -> 9239.5165
A37: 2021 EEC kWh Rates | B37: 0.011881085 | C37: 0.010236808 | D37: 0.006619772 | E37: 0.0075702524 | F37: 0.0052086164
A38: 2021 Average kWh Charge per Customer | B38: =B37*B29 -> 80.120473 | C38: =C37*C29 -> 73.532581 | D38: =D37*D29 -> 932.88727 | E38: =E37*E29 -> 8566.3335 | F38: =F37*F29 -> 22250.875
A40: 2021 EEC kW Rates | B40: N/A | C40: N/A | D40: 1.13825 | E40: N/A | F40: 1.21316
A41: 2021 Average EEC kW Charges per Customer | B41: N/A | C41: N/A | D41: =D40*0 -> 0 | E41: N/A | F41: =F40*0 -> 0
A43: Total Average Annual EEC Charge per Customer | B43: =B38 -> 80.120473 | C43: =C38 -> 73.532581 | D43: =D38+D41 -> 932.88727 | E43: =E38 -> 8566.3335 | F43: =F38+F41 -> 22250.875
A44: Total Average Monthly EEC Charge per Customer
A46: ORIGINAL 2021 Monthly Fixed Fee EEC Charge per Net Metered Customer without a Gross Consumption Meter | B46: =B43/12 -> 6.6767061 | C46: =C43/12 -> 6.1277151 | D46: =D43/12 -> 77.740606 | E46: =E43/12 -> 713.86113 | F46: =F43/12 -> 1854.2396

Sheet Original with Corrections
A3: 2019 Customers as Reported to Efficiency Vermont by the DUs (original with corrections April 29, 2021)
A5: Electric Distribution Utility | B5: Residential | C5: Commercial Non-Demand | D5: Commerial Demand | E5: Industrial Non-Demand | F5: Industrial Demand
A6: Barton | B6: 1957 | C6: 187 | D6: 27 | E6: 0 | F6: 0
A7: Enosburg Falls | B7: 1544 | C7: 194 | D7: 24 | E7: 0 | F7: 0
A8: Green Mountain Power | B8: 222748 | C8: 34221 | D8: 8999 | E8: 0 | F8: 70
A9: Hardwick | B9: 4020 | C9: 398 | D9: 29
A10: Hyde Park | B10: 1359 | C10: 158 | D10: 3 | E10: 0 | F10: 0
A11: Jacksonville | B11: 656 | C11: 51 | D11: 4 | E11: 0 | F11: 0
A12: Johnson | B12: 805 | C12: 122 | D12: 16 | E12: 0 | F12: 0
A13: Ludlow | B13: 3090 | C13: 607 | D13: 48 | E13: 0 | F13: 69
A14: Lyndonville | B14: 4836 | C14: 882 | D14: 41 | E14: 0 | F14: 0
A15: Morrisville | B15: 3498 | C15: 550 | D15: 94 | E15: 0 | F15: 0
A16: Northfield | B16: 1620 | C16: 578 | D16: 16 | E16: 0 | F16: 1
A17: Orleans | B17: 569 | C17: 89 | D17: 0 | E17: 0 | F17: 1
A18: Stowe | B18: 3405 | C18: =757+14 -> 771 | D18: 101 | E18: 0 | F18: 1
A19: Swanton | B19: 3278 | C19: 343 | D19: 93 | E19: 0 | F19: 0
A20: Vermont Electric Coop (VEC) | B20: 34880 | C20: 4540 | D20: 146 | E20: 6 | F20: 10
A21: Washington Electric Coop (WEC) | B21: =130586/12 -> 10882.167 | C21: =8008/12 -> 667.33333 | D21: 0 | E21: 0 | F21: =144/12 -> 12
A22: Total Customers Subject to EEC Charge | B22: =SUM(B6:B21) -> 299147.17 | C22: =SUM(C6:C21) -> 44358.333 | D22: =SUM(D6:D21) -> 9641 | E22: =SUM(E6:E21) -> 6 | F22: =SUM(F6:F21) -> 164
A24: Consumption and Demand Values from 20-2022-PET
A25: Distribution Utility Reported 2019 kWh Consumption | B25: ='2019 Reported Sales'!B24 -> 1.9830062e+09 | C25: ='2019 Reported Sales'!C24+'2019 Reported Sales'!D24 -> 3.2523549e+08 | D25: ='2019 Reported Sales'!E24 -> 1494771203 | E25: ='2019 Reported Sales'!G24 -> 5578093 | F25: ='2019 Reported Sales'!H24 -> 723823600
A26: Estimated 2019 Net Meter Gross Consumption (July-Dec = 47.3%) | B26: =2017308355-B25 -> 34302196 | C26: 1912986 | D26: 0 | E26: 0 | F26: 0
A27: Commercial and Industrial Forecast Adjustments | B27: 0 | C27: =-139765576-D27 -> -7288103 | D27: -132477473 | E27: =6789470-E25 -> 1211377 | F27: =700597467-F25 -> -23226133
A28: Total Consumption | B28: =SUM(B25:B27) -> 2017308355 | C28: =SUM(C25:C27) -> 3.1986037e+08 | D28: =SUM(D25:D27) -> 1362293730 | E28: =SUM(E25:E27) -> 6789470 | F28: =SUM(F25:F27) -> 700597467
A29: Average 2019 kWh Consumption per Customer | B29: =B28/B22 -> 6743.5315 | C29: =C28/C22 -> 7210.8293 | D29: =D28/D22 -> 141302.12 | E29: =E28/E22 -> 1131578.3 | F29: =F28/F22 -> 4271935.8
A31: Distribution Utility Reported 2019 kWh Consumption | B31: N/A | C31: N/A | D31: ='2019 Reported Sales'!F24 -> 4837869.9 | E31: N/A | F31: ='2019 Reported Sales'!I24 -> 1734103.4
A32: Commercial and Industrial Forecast Adjustments | D32: -757125.01 | F32: -218822.7
A33: Adjusted Demand Totals | D33: =SUM(D31:D32) -> 4080744.8 | E33: N/A | F33: =SUM(F31:F32) -> 1515280.7
A34: Average 2019 kW Demand per Customer | B34: N/A | C34: N/A | D34: =D33/D22 -> 423.26987 | E34: N/A | F34: =F33/F22 -> 9239.5165
A37: 2021 EEC kWh Rates | B37: 0.011881085 | C37: 0.010236808 | D37: 0.006619772 | E37: 0.0075702524 | F37: 0.0052086164
A38: 2021 Average kWh Charge per Customer | B38: =B37*B29 -> 80.120473 | C38: =C37*C29 -> 73.815874 | D38: =D37*D29 -> 935.38781 | E38: =E37*E29 -> 8566.3335 | F38: =F37*F29 -> 22250.875
A40: 2021 EEC kW Rates | B40: N/A | C40: N/A | D40: 1.13825 | E40: N/A | F40: 1.21316
A41: 2021 Average EEC kW Charges per Customer | B41: N/A | C41: N/A | D41: =D40*0 -> 0 | E41: N/A | F41: =F40*0 -> 0
A43: Total Average Annual EEC Charge per Customer | B43: =B38 -> 80.120473 | C43: =C38 -> 73.815874 | D43: =D38+D41 -> 935.38781 | E43: =E38 -> 8566.3335 | F43: =F38+F41 -> 22250.875
A44: Total Average Monthly EEC Charge per Customer
A46: CORRECTED 2021 Monthly Fixed Fee EEC Charge per Net Metered Customer without a Gross Consumption Meter | B46: =B43/12 -> 6.6767061 | C46: =C43/12 -> 6.1513228 | D46: =D43/12 -> 77.948984 | E46: =E43/12 -> 713.86113 | F46: =F43/12 -> 1854.2396

Sheet Revised without C&I Forecast
A3: 2019 Customers as Reported to Efficiency Vermont by the DUs (revised April 29, 2021)
A5: Electric Distribution Utility | B5: Residential | C5: Commercial Non-Demand | D5: Commerial Demand | E5: Industrial Non-Demand | F5: Industrial Demand
A6: Barton | B6: 1957 | C6: 187 | D6: 27 | E6: 0 | F6: 0
A7: Enosburg Falls | B7: 1544 | C7: 194 | D7: 24 | E7: 0 | F7: 0
A8: Green Mountain Power | B8: 222748 | C8: 34221 | D8: 8999 | E8: 0 | F8: 70
A9: Hardwick | B9: 4020 | C9: 398 | D9: 29
A10: Hyde Park | B10: 1359 | C10: 158 | D10: 3 | E10: 0 | F10: 0
A11: Jacksonville | B11: 656 | C11: 51 | D11: 4 | E11: 0 | F11: 0
A12: Johnson | B12: 805 | C12: 122 | D12: 16 | E12: 0 | F12: 0
A13: Ludlow | B13: 3090 | C13: 607 | D13: 48 | E13: 0 | F13: 69
A14: Lyndonville | B14: 4836 | C14: 882 | D14: 41 | E14: 0 | F14: 0
A15: Morrisville | B15: 3498 | C15: 550 | D15: 94 | E15: 0 | F15: 0
A16: Northfield | B16: 1620 | C16: 578 | D16: 16 | E16: 0 | F16: 1
A17: Orleans | B17: 569 | C17: 89 | D17: 0 | E17: 0 | F17: 1
A18: Stowe | B18: 3405 | C18: =757+14 -> 771 | D18: 101 | E18: 0 | F18: 1
A19: Swanton | B19: 3278 | C19: 343 | D19: 93 | E19: 0 | F19: 0
A20: Vermont Electric Coop (VEC) | B20: 34880 | C20: 4540 | D20: 146 | E20: 6 | F20: 10
A21: Washington Electric Coop (WEC) | B21: =130586/12 -> 10882.167 | C21: =8008/12 -> 667.33333 | D21: 0 | E21: 0 | F21: =144/12 -> 12
A22: Total Customers Subject to EEC Charge | B22: =SUM(B6:B21) -> 299147.17 | C22: =SUM(C6:C21) -> 44358.333 | D22: =SUM(D6:D21) -> 9641 | E22: =SUM(E6:E21) -> 6 | F22: =SUM(F6:F21) -> 164
A24: Consumption and Demand Values from 20-2022-PET
A25: Distribution Utility Reported 2019 kWh Consumption | B25: ='Original with Corrections'!B25 -> 1.9830062e+09 | C25: ='Original with Corrections'!C25 -> 3.2523549e+08 | D25: ='Original with Corrections'!D25 -> 1494771203 | E25: ='Original with Corrections'!E25 -> 5578093 | F25: ='Original with Corrections'!F25 -> 723823600
A26: Estimated 2019 Net Meter Gross Consumption (Jan-Dec = 100%) | B26: ='Original with Corrections'!B26/0.473 -> 72520500 | C26: ='Original with Corrections'!C26/0.473 -> 4044367.9 | D26: ='Original with Corrections'!D26 -> 0 | E26: ='Original with Corrections'!E26 -> 0 | F26: ='Original with Corrections'!F26 -> 0
A27: Commercial and Industrial Forecast Adjustments (removed) | B27: 0 | C27: 0 | D27: 0 | E27: 0 | F27: 0
A28: Total Consumption | B28: =SUM(B25:B27) -> 2.0555267e+09 | C28: =SUM(C25:C27) -> 3.2927986e+08 | D28: =SUM(D25:D27) -> 1494771203 | E28: =SUM(E25:E27) -> 5578093 | F28: =SUM(F25:F27) -> 723823600
A29: Average 2019 kWh Consumption per Customer | B29: =B28/B22 -> 6871.2891 | C29: =C28/C22 -> 7423.1792 | D29: =D28/D22 -> 155043.17 | E29: =E28/E22 -> 929682.17 | F29: =F28/F22 -> 4413558.5
A31: Distribution Utility Reported 2019 kWh Consumption | B31: N/A | C31: N/A | D31: ='Original with Corrections'!D31 -> 4837869.9 | E31: N/A | F31: ='Original with Corrections'!F31 -> 1734103.4
A32: Commercial and Industrial Forecast Adjustments (removed) | D32: 0 | F32: 0
A33: Adjusted Demand Totals | D33: =SUM(D31:D32) -> 4837869.9 | E33: N/A | F33: =SUM(F31:F32) -> 1734103.4
A34: Average 2019 kW Demand per Customer | B34: N/A | C34: N/A | D34: =D33/D22 -> 501.80167 | E34: N/A | F34: =F33/F22 -> 10573.801
A37: 2021 EEC kWh Rates | B37: 0.011881085 | C37: 0.010236808 | D37: 0.006619772 | E37: 0.0075702524 | F37: 0.0052086164
A38: 2021 Average kWh Charge per Customer | B38: =B37*B29 -> 81.638371 | C38: =C37*C29 -> 75.989659 | D38: =D37*D29 -> 1026.3504 | E38: =E37*E29 -> 7037.9286 | F38: =F37*F29 -> 22988.533
A40: 2021 EEC kW Rates | B40: N/A | C40: N/A | D40: 1.13825 | E40: N/A | F40: 1.21316
A41: 2021 Average EEC kW Charges per Customer | B41: N/A | C41: N/A | D41: =D40*0 -> 0 | E41: N/A | F41: =F40*0 -> 0
A43: Total Average Annual EEC Charge per Customer | B43: =B38 -> 81.638371 | C43: =C38 -> 75.989659 | D43: =D38+D41 -> 1026.3504 | E43: =E38 -> 7037.9286 | F43: =F38+F41 -> 22988.533
A44: Total Average Monthly EEC Charge per Customer
A46: 2021 Monthly Fixed Fee EEC Charge per Net Metered Customer without a Gross Consumption Meter | B46: =B43/12 -> 6.8031976 | C46: =C43/12 -> 6.3324716 | D46: =D43/12 -> 85.529203 | E46: =E43/12 -> 586.49405 | F46: =F43/12 -> 1915.7111
A48: Original Filing | B48: ='Original Fixed Rate Calculation'!B46 -> 6.6767061 | C48: ='Original Fixed Rate Calculation'!C46 -> 6.1277151 | D48: ='Original Fixed Rate Calculation'!D46 -> 77.740606 | E48: ='Original Fixed Rate Calculation'!E46 -> 713.86113 | F48: ='Original Fixed Rate Calculation'!F46 -> 1854.2396

Sheet 2019 Reported Sales
B6: Residential | C6: Commercial Non-Demand | D6: Streetlights | E6: Commercial Demand | G6: Industrial Non-Demand | H6: Industrial Demand
A7: Utility | B7: kWh | C7: kWh | D7: kWh | E7: kWh | F7: kW | G7: kWh | H7: kWh | I7: kW
A8: Barton | B8: 10099154 | C8: =1017070 -> 1017070 | D8: 115951 | E8: 2332694 | F8: 7531 | G8: 0 | H8: 0 | I8: 0
A9: Enosburg Falls | B9: 13654274 | C9: 2326872 | D9: 126686 | E9: 10154065 | F9: 23474.8 | G9: 0 | H9: 0 | I9: 0
A10: Green Mountain Power | B10: 1501327000 | C10: =191542863 -> 191542863 | D10: 9592000 | E10: 1277876137 | F10: 4092514 | G10: 0 | H10: 587276733 | I10: 1433190
A11: Hardwick | B11: 23390271 | C11: 5056167 | D11: 104191.48 | E11: 5355407 | F11: 19825.964 | G11: 0 | H11: 0 | I11: 0
A12: Hyde Park | B12: 8195337 | C12: 2256753 | D12: 43984 | E12: 1433440 | F12: 4892 | G12: 0 | H12: 0 | I12: 0
A13: Jacksonville | B13: 3468887 | C13: 552438 | D13: 52164 | E13: 865613 | F13: 4748 | G13: 0 | H13: 0 | I13: 0
A14: Johnson | B14: 5134304 | C14: 1614205 | D14: 63661 | E14: 5770337 | F14: 13541 | G14: 0 | H14: 0 | I14: 0
A15: Ludlow | B15: 16822880 | C15: 5491335 | D15: 324996 | E15: 12851887 | F15: 42958 | G15: 0 | H15: 19848414 | I15: 76731
A16: Lyndonville | B16: 30981386 | C16: 12187559 | D16: 477436 | E16: 17724798 | F16: 55604 | G16: 0 | H16: 0 | I16: 0
A17: Morrisville | B17: 21460397 | C17: 5438160 | D17: 38145 | E17: 18243106 | F17: 52354 | G17: 0 | H17: 0 | I17: 0
A18: Northfield | B18: 10186640 | C18: 2384371 | D18: 89453 | E18: 7314434 | F18: 19284.52 | G18: 0 | H18: 8849076 | I18: 18636.402
A19: Orleans | B19: 3938087 | C19: 2001449 | D19: 124446 | E19: 0 | F19: 0 | G19: 0 | H19: 6624000 | I19: 25547
A20: Stowe | B20: 24609956 | C20: 7041489 | D20: 47599 | E20: 35790331 | F20: 103570.73 | G20: 0 | H20: 7767120 | I20: 32260
A21: Swanton | B21: 26143717 | C21: 3169912 | D21: 126916 | E21: 23698018 | F21: 88468 | G21: 0 | H21: 0 | I21: 0
A22: Vermont Electric Coop (VEC). | B22: 2.2212359e+08 | C22: =64983133 -> 64983133 | D22: 1639471 | E22: 71719171 | F22: 297499 | G22: 5578093 | H22: 93458257 | I22: 147739
A23: Washington Electric Coop (WEC) | B23: 61470276 | C23: 5045134 | D23: 159479 | E23: 3641765 | F23: 11604.848 | G23: 0 | H23: 0 | I23: 0
A24: Totals | B24: =SUM(B8:B23) -> 1.9830062e+09 | C24: =SUM(C8:C23) -> 312108910 | D24: =SUM(D8:D23) -> 13126578 | E24: =SUM(E8:E23) -> 1494771203 | F24: =SUM(F8:F23) -> 4837869.9 | G24: =SUM(G8:G23) -> 5578093 | H24: =SUM(H8:H23) -> 723823600 | I24: =SUM(I8:I23) -> 1734103.4
