Workbook
Name \P: #REF!
Name \P: #REF!
Name \P: #REF!
Name _TAB5: [1]J:K!$A$35:$L$47
Name a: #REF!
Name aaa: [1]results!#REF!
Name aaaa: [1]results!#REF!
Name Annual_Avoid_Cost: [1]results!#REF!
Name Annual_avoided_cost: #REF!
Name Annual_Savings: #REF!
Name ap: [1]results!#REF!
Name avoid_cost: #REF!
Name B_LOAD: #REF!
Name B_LOAD: #REF!
Name B_LOAD: #REF!
Name BASE: #REF!
Name baseinc: '[2]Use per DD'!#REF!
Name baseinc: '[2]Use per DD'!#REF!
Name baseinc: '[2]Use per DD'!#REF!
Name CER: #REF!
Name CNC: #REF!
Name CP_Labor: #REF!
Name CSR: #REF!
Name CurrentYr1: [3]Ref!$E$35
Name CurrentYr2: [3]Ref!$E$36
Name CurrentYr3: [3]Ref!$E$37
Name CURTAIL: #REF!
Name CURTAIL: #REF!
Name Date_of_Filing: [3]Ref!$E$9
Name dd: [1]results!#REF!
Name Dist_Comp: [3]Ref!$E$7
Name ECM_Database: #REF!
Name Enduse_Lookup: #REF!
Name FB_LOAD: #REF!
Name FB_LOAD: #REF!
Name FH_FACTOR: #REF!
Name FH_FACTOR: #REF!
Name GNP: [1]M!$H$3
Name H_FACTOR: #REF!
Name H_FACTOR: #REF!
Name IB_LOAD: #REF!
Name IB_LOAD: #REF!
Name IH_FACTOR: #REF!
Name IH_FACTOR: #REF!
Name JG_Labor: #REF!
Name JSP_Labor: #REF!
Name KH_Labor: #REF!
Name MAR_Labor: #REF!
Name Measure_Lookup: #REF!
Name Measure_Screening: #REF!
Name MJP_Labor: #REF!
Name MONTHLY: #REF!
Name MONTHLY: #REF!
Name NOM_DR: [1]M!$H$4
Name PA: [3]Ref!$E$8
Name PAGE1: #REF!
Name PAGE1: #REF!
Name PAGE10: #REF!
Name PAGE10: #REF!
Name PAGE11: #REF!

Sheet Proposed CY 2017 rate
A2: Volumetric Rate Development for energy (Mcf)
C4: Forecasted | D4: Forecasted | E4: GEEC To Be | F4: RATE | G4: Final Rates with GRT and WT adj | H4: GEEC Projected Revenues | I4: Class Share GEEC Revenues | K4: Current GEEC Rates
C5: 2017 | D5: 2017 | E5: Billed | F5: per Mcf
B6: % of Total Revenue | C6: Mcf | D6: Revenue | E6: By Rate Class | F6: w/o Tax
A8: Residential | B8: ='CY 2019-2020 forecast'!#REF! -> #REF! | C8: ='CY 2019-2020 forecast'!#REF! -> #REF! | D8: ='CY 2019-2020 forecast'!#REF! -> #REF! | E8: =B8*$B$19 -> #REF! | F8: =+E8/C8 -> #REF! | G8: =+F8/0.9895 -> #REF! | H8: =+G8*C8 -> #REF! | I8: =H8/$H$14 -> #REF! | K8: 0.0453 | L8: =(G8/10)/K8-1 -> #REF!
A9: G1 Class | B9: ='CY 2019-2020 forecast'!#REF! -> #REF! | C9: ='CY 2019-2020 forecast'!#REF! -> #REF! | D9: ='CY 2019-2020 forecast'!#REF! -> #REF! | E9: =B9*$B$19 -> #REF! | F9: =+E9/C9 -> #REF! | G9: =+F9/0.9895 -> #REF! | H9: =+G9*C9 -> #REF! | I9: =H9/$H$14 -> #REF! | K9: 0.0428 | L9: =(G9/10)/K9-1 -> #REF!
A10: G2 Class | B10: ='CY 2019-2020 forecast'!#REF! -> #REF! | C10: ='CY 2019-2020 forecast'!#REF! -> #REF! | D10: ='CY 2019-2020 forecast'!#REF! -> #REF! | E10: =B10*$B$19 -> #REF! | F10: =+E10/C10 -> #REF! | G10: =+F10/0.9895 -> #REF! | H10: =+G10*C10 -> #REF! | I10: =H10/$H$14 -> #REF! | K10: 0.0332 | L10: =(G10/10)/K10-1 -> #REF!
A11: G3 Class | B11: ='CY 2019-2020 forecast'!#REF! -> #REF! | C11: ='CY 2019-2020 forecast'!#REF! -> #REF! | D11: ='CY 2019-2020 forecast'!#REF! -> #REF! | E11: =B11*$B$19 -> #REF! | F11: =+E11/C11 -> #REF! | G11: =+F11/0.9895 -> #REF! | H11: =+G11*C11 -> #REF! | I11: =H11/$H$14 -> #REF! | K11: 0.0334 | L11: =(G11/10)/K11-1 -> #REF!
A12: G4 Class | B12: ='CY 2019-2020 forecast'!#REF! -> #REF! | C12: ='CY 2019-2020 forecast'!#REF! -> #REF! | D12: ='CY 2019-2020 forecast'!#REF! -> #REF! | E12: =B12*$B$19 -> #REF! | F12: =+E12/C12 -> #REF! | G12: =+F12/0.9895 -> #REF! | H12: =+G12*C12 -> #REF! | I12: =H12/$H$14 -> #REF! | K12: 0.0258 | L12: =(G12/10)/K12-1 -> #REF!
A13: Interruptible | B13: ='CY 2019-2020 forecast'!#REF! -> #REF! | C13: ='CY 2019-2020 forecast'!#REF! -> #REF! | D13: ='CY 2019-2020 forecast'!#REF! -> #REF! | E13: =B13*$B$19 -> #REF! | F13: =+E13/C13 -> #REF! | G13: =+F13/0.9895 -> #REF! | H13: =+G13*C13 -> #REF! | I13: =H13/$H$14 -> #REF! | K13: 0.0186 | L13: =(G13/10)/K13-1 -> #REF!
B14: =SUM(B8:B13) -> #REF! | C14: =SUM(C8:C13) -> #REF! | D14: =SUM(D8:D13) -> #REF! | E14: =SUM(E8:E13) -> #REF! | F14: =+E14/C14 -> #REF! | G14: =+F14/0.992 -> #REF! | H14: =SUM(H8:H13) -> #REF!
A17: EEU budget CY 2017 | B17: 3221755
A18: Under Collections 2016 | B18: =-'EEU balance'!I15 -> 0
A19: Revenue Requirements CY 2017 | B19: =B17+B18 -> 3221755
B20: =B19/0.9895 -> 3255942.4
A23: WX tax Adjustment (formula=rate w/o tax/.9895)

Sheet Prop EEC 2021 Rates VGS
A1: Attachment: VGS Proposed 2021 EEC rates | H1: VGS Proposal
B2: Forecasted 2021 Mcf | C2: Current GEEC Rates | D2: Projected GEEC Revenues at Current Rates | E2: Class Share GEEC Revenues at Current Rates | F2: GEEC To Be Billed by Rate Class | G2: Proposed GEEC Rates per MCf | H2: Proposed GEEC Rates per CCf | I2: Percent Change GEEC
L5: Projected Avg | M5: Projected Avg | P5: EEC 2021 Proposed
L6: # customers | M6: Mcf/Part | N6: EEC Current | O6: EEC 20201 Proposed | P6: Annual Variance | Q6: Monthly Variance
A7: Residential | B7: ='CY 2019-2020 forecast'!AR20-'AVG Liap customers'!C24 -> 3814078.4 | C7: ='VGS rates'!AX7 -> 0.048 | D7: =C7*B7*10 -> 1830757.6 | E7: =D7/$D$14 -> 0.5239697 | F7: =E7*$C$29 -> 1886899.1 | G7: =ROUND(F7/B7,4) -> 0.4947 | H7: =G7/10 -> 0.04947 | I7: =H7/C7-1 -> 0.030625 | L7: ='CY 2019-2020 forecast'!AR33-2043 -> 45961.917 | M7: =B7/L7 -> 82.98345 | N7: =M7*10*C7 -> 39.832056 | O7: =$M7*10*$H7 -> 41.051913 | P7: =O7-N7 -> 1.2198567 | Q7: =P7/12 -> 0.10165473
A8: Low Income | B8: ='AVG Liap customers'!C24 -> 189266.6 | C8: =C7*0.8 -> 0.0384 | D8: =C8*B8*10 -> 72678.374 | E8: =D8/$D$14 -> 0.020800823 | F8: =E8*$C$29 -> 74907.108 | G8: =ROUND(F8/B8,4) -> 0.3958 | H8: =G8/10 -> 0.03958 | I8: =H8/C8-1 -> 0.030729167 | L8: 2043 | M8: =B8/L8 -> 92.641507 | N8: =M8*10*C8 -> 35.574339 | O8: =$M8*10*$H8 -> 36.667508 | P8: =O8-N8 -> 1.0931698 | Q8: =P8/12 -> 0.091097482
A9: G1 Class | B9: ='CY 2019-2020 forecast'!AR21 -> 625765 | C9: ='VGS rates'!AX14 -> 0.0454 | D9: =C9*B9*10 -> 284097.31 | E9: =D9/$D$14 -> 0.081309716 | F9: =E9*$C$29 -> 292809.36 | G9: =ROUND(F9/B9,4) -> 0.4679 | H9: =G9/10 -> 0.04679 | I9: =H9/C9-1 -> 0.03061674 | L9: ='CY 2019-2020 forecast'!AR34 -> 4025.75 | M9: =B9/L9 -> 155.4406 | N9: =M9*10*C9 -> 70.570033 | O9: =$M9*10*$H9 -> 72.730657 | P9: =O9-N9 -> 2.1606244 | Q9: =P9/12 -> 0.18005203
A10: G2 Class | B10: ='CY 2019-2020 forecast'!AR22 -> 202541 | C10: ='VGS rates'!AX21 -> 0.0352 | D10: =C10*B10*10 -> 71294.432 | E10: =D10/$D$14 -> 0.020404734 | F10: =E10*$C$29 -> 73480.726 | G10: =ROUND(F10/B10,4) -> 0.3628 | H10: =G10/10 -> 0.03628 | I10: =H10/C10-1 -> 0.030681818 | L10: ='CY 2019-2020 forecast'!AR35 -> 1030.4167 | M10: =B10/L10 -> 196.56223 | N10: =M10*10*C10 -> 69.189906 | O10: =$M10*10*$H10 -> 71.312778 | P10: =O10-N10 -> 2.1228721 | Q10: =P10/12 -> 0.17690601
A11: G3 Class | B11: ='CY 2019-2020 forecast'!AR23 -> 732801 | C11: ='VGS rates'!AX28 -> 0.0354 | D11: =C11*B11*10 -> 259411.55 | E11: =D11/$D$14 -> 0.07424456 | F11: =E11*$C$29 -> 267366.59 | G11: =ROUND(F11/B11,4) -> 0.3649 | H11: =G11/10 -> 0.03649 | I11: =H11/C11-1 -> 0.03079096 | L11: ='CY 2019-2020 forecast'!AR36 -> 501.5 | M11: =B11/L11 -> 1461.2183 | N11: =M11*10*C11 -> 517.27129 | O11: =$M11*10*$H11 -> 533.19857 | P11: =O11-N11 -> 15.92728 | Q11: =P11/12 -> 1.3272733
A12: G4 Class | B12: ='CY 2019-2020 forecast'!AR24 -> 1545171 | C12: ='VGS rates'!AX35 -> 0.0273 | D12: =C12*B12*10 -> 421831.68 | E12: =D12/$D$14 -> 0.12072981 | F12: =E12*$C$29 -> 434767.45 | G12: =ROUND(F12/B12,4) -> 0.2814 | H12: =G12/10 -> 0.02814 | I12: =H12/C12-1 -> 0.030769231 | L12: ='CY 2019-2020 forecast'!AR37 -> 554.5 | M12: =B12/L12 -> 2786.6023 | N12: =M12*10*C12 -> 760.74244 | O12: =$M12*10*$H12 -> 784.1499 | P12: =O12-N12 -> 23.40746 | Q12: =P12/12 -> 1.9506216
A13: Interruptible | B13: ='CY 2019-2020 forecast'!AR28 -> 2811895 | C13: 0.0197 | D13: =C13*B13*10 -> 553943.31 | E13: =D13/$D$14 -> 0.15854065 | F13: =E13*$C$29 -> 570930.38 | G13: =ROUND(F13/B13,4) -> 0.203 | H13: =G13/10 -> 0.0203 | I13: =H13/C13-1 -> 0.030456853 | L13: ='CY 2019-2020 forecast'!AR41 -> 41.916667 | M13: =B13/L13 -> 67082.982 | N13: =M13*10*C13 -> 13215.347 | O13: =$M13*10*$H13 -> 13617.845 | P13: =O13-N13 -> 402.49789 | Q13: =P13/12 -> 33.541491
A14: Totals | B14: =SUM(B7:B13) -> 9921518 | C14: =(B7*C7+B8*C8+B9*C9+B10*C10+B11*C11+B12*C12+B13*C13)/B14 -> 0.035216529 | D14: =SUM(D7:D13) -> 3494014.3 | E14: =SUM(E7:E13) -> 1 | F14: =SUM(F7:F13) -> 3601160.7 | G14: =ROUND(F14/B14,4) -> 0.363 | H14: =(B7*H7+B8*H8+B9*H9+B10*H10+B11*H11+B12*H12+B13*H13)/B14 -> 0.036295237 | I14: =H14/C14-1 -> 0.030630731
A17: VGS Proposed Budget 2021 | C17: ='PSD Budget Inves Totals 21-23'!B4 -> 4593333 | D17: VGS PUC order dated 10/22/2020 in case 19-3272-PET
A18: Give back per Case 20-2241 | C18: =-'Reallocation 2016-2017'!O34 -> -177840 | D18: VGS reallocation of leftover funds from prior reporting year case 20-2241
A19: Under Collections | C19: =-'EEU balance'!I78 -> 3592.7883
A20: CY2021 Funding requirements | C20: =SUM(C17:C19) -> 4419085.8
K21: 1205755 | L21: PUC approved level of investment
A22: VGS BAU EEU Natural Gas EEC FUND Collections 2021 | C22: =D14 -> 3494014.3 | D22: Projected fund collections at current rates (Business as Usual) | K22: =C18 -> -177840 | L22: Reallocation
A23: Difference to be Financed | C23: =C20-C22 -> 925071.49 | D23: Level of investment for 2021 (CY2021 Funding requirements - VGS BAU Collections) | K23: =C19 -> 3592.7883 | L23: Under collections
K24: ='PSD Budget Inves Totals 21-23'!B25-C22 -> -31436.745 | L24: Due to higher load we are collecting more
A25: Amorization of Difference to be Financed | C25: =C23/15 -> 61671.433 | D25: AMORTIZATION OF PRINCIPAL ONLY (level of financing divided by 15 years)
K26: =SUM(K22:K24) -> -205683.96
A27: Amount to be collected in EEC | C27: =C22+C25 -> 3555685.7 | D27: Fund collections plus principal on loan only | H27: =G27*0.081 -> 0 | K27: -75000 | L27: Principal in PSD included in Yr one investment - not needed for BAU allows loan amount to be reduced and also allows for more constant rate impact in 2022
A29: Total EEC Collection required for 2021 | C29: =C27/C31 -> 3601160.7 | D29: Adjusted for GRT and Weatherization | K29: =K21-C23 -> 280683.51
A31: Gross receipts tax | C31: =1/C32 -> 0.98737213 | D31: GRT increased to .00525 effective 7/1/19. DPS/PUC remains at .003. Wx .0075
A32: GRT times Wx | C32: =(1.00525*1.0075) -> 1.0127894
A35: Gross Receipts | D35: GRT .00525 effective 7/1/19
A36: Weatherization Tax | D36: Wx .0075

Sheet PSD Budget Inves Totals 21-23
A2: PSD Recommendations - VGS Budgets, EEC Collections, Investment Levels
B3: 2021 | C3: 2022 | D3: 2023 | E3: 2024 | F3: 2025 | G3: 2026 | H3: 2027 | I3: 2028 | J3: 2029 | K3: 2030
A4: Total VGS Budget | B4: 4593333 | C4: 5262600 | D4: 5765226 | E4: 6267878.3 | F4: 6270557 | G4: 5773262.6 | H4: 5275995.2 | I4: 4778755.2 | J4: 4531542.7 | K4: 4284358.2
A5: VGS Investment Level | B5: 1205755.4 | C5: 2006848.2 | D5: 2659473.5 | E5: 3398117.4 | F5: 3660721.7 | G5: 3336927.3 | H5: 2913286.9 | I5: 2414799.9 | J5: 2091465.5 | K5: 1693283.2
B7: 2031 | C7: 2032 | D7: 2033 | E7: 2034 | F7: 2035 | G7: 2036 | H7: 2037 | I7: 2038 | J7: 2039 | K7: 2040
A8: Total VGS Budget | B8: 4407201.8 | C8: 4533673.8 | D8: 4663882.5 | E8: 4797939.5 | F8: 4935959.6 | G8: 5078061.1 | H8: 5224365.9 | I8: 5374999.5 | J8: 5530091.1 | K8: 5689773.8
A9: VGS Investment Level | B9: 1645404 | C9: 1551248.3 | D9: 1435923.7 | E9: 1324541 | F9: 1167214.6 | G9: 914062.13 | H9: 665204.79 | I9: 320767.48 | J9: -0.13306955 | K9: 0.47710153
A11: PSD Budgets by Category
A13: By Category | B13: 44197 | C13: 44592 | D13: 44957 | E13: 45322 | F13: 45688 | G13: 46053 | H13: 46418 | I13: 46783 | J13: 47149 | K13: 47514 | L13: 47879 | M13: 48244 | N13: 48610 | O13: 48975 | P13: 49340 | Q13: 49705 | R13: 50071 | S13: 50436 | T13: 50801 | U13: 51166
A14: RA | B14: 4047752.8 | C14: 4731869.8 | D14: 5332595.8 | E14: 5780669.7 | F14: 5651563.5 | G14: 5286803 | H14: 4760966.2 | I14: 4159325.9 | J14: 4017204.1 | K14: 3770899 | L14: 3757159.1 | M14: 4009673 | N14: 4121852.5 | O14: 4146612.8 | P14: 4383098.4 | Q14: 4536827.6 | R14: 4541551.5 | S14: 4822636.3 | T14: 4959488.9 | U14: 5004774.6
A15: DSS | B15: 260000.21 | C15: 262600.21 | D15: 265226.21 | E15: 267878.47 | F15: 270557.26 | G15: 273262.83 | H15: 275995.46 | I15: 278755.41 | J15: 281542.97 | K15: 284358.4 | L15: 287201.98 | M15: 290074 | N15: 292974.74 | O15: 295904.49 | P15: 298863.53 | Q15: 301852.17 | R15: 304870.69 | S15: 307919.4 | T15: 310998.59 | U15: 314108.58
A16: DPS Evaluation | B16: 260700 | C16: 257930 | D16: 142120 | E16: 208718 | F16: 322732 | G16: 202156 | H16: 212892 | I16: 329187 | J16: 206199.12 | K16: 217149.84 | L16: 335770.74 | M16: 221493 | N16: 221492.84 | O16: 342486.15 | P16: 225922.86 | Q16: 225922.69 | R16: 349335.88 | S16: 230441.32 | T16: 230441.15 | U16: 356322.6
A17: TEPF Clearing House | B17: 14880 | C17: 0 | D17: 14880 | E17: 0 | F17: 14880 | G17: 0 | H17: 14880 | I17: 0 | J17: 14880 | K17: 0 | L17: 14880 | M17: 0 | N17: 14880 | O17: 0 | P17: 14880 | Q17: 0 | R17: 14880 | S17: 0 | T17: 14880 | U17: 0
A18: Fiscal Agent | B18: 2500 | C18: 2550 | D18: 2601 | E18: 2653.02 | F18: 2706.0804 | G18: 2760.202 | H18: 2815.406 | I18: 2871.7142 | J18: 2929.1485 | K18: 2987.7314 | L18: 3047.486 | M18: 3108.4358 | N18: 3170.6045 | O18: 3234.0166 | P18: 3298.6969 | Q18: 3364.6708 | R18: 3431.9643 | S18: 3500.6035 | T18: 3570.6156 | U18: 3642.0279
A19: Fiscal Agent Audit | B19: 7500 | C19: 7650 | D19: 7803 | E19: 7959.06 | F19: 8118.2412 | G19: 8280.606 | H19: 8446.2181 | I19: 8615.1425 | J19: 8787.4454 | K19: 8963.1943 | L19: 9142.4581 | M19: 9325.3073 | N19: 9511.8135 | O19: 9702.0497 | P19: 9896.0907 | Q19: 10094.013 | R19: 10295.893 | S19: 10501.811 | T19: 10711.847 | U19: 10926.084
A20: Total Other Costs | B20: 285580 | C20: 268130 | D20: 167404 | E20: 219330.08 | F20: 348436.32 | G20: 213196.81 | H20: 239033.62 | I20: 340673.86 | J20: 232795.71 | K20: 229100.77 | L20: 362840.68 | M20: 233926.74 | N20: 249055.25 | O20: 355422.22 | P20: 253997.65 | Q20: 239381.38 | R20: 377943.73 | S20: 244443.73 | T20: 259603.61 | U20: 370890.71
A21: Total EEU | B21: 4593333 | C21: 5262600 | D21: 5765226 | E21: 6267878.3 | F21: 6270557 | G21: 5773262.6 | H21: 5275995.2 | I21: 4778755.2 | J21: 4531542.7 | K21: 4284358.2 | L21: 4407201.8 | M21: 4533673.8 | N21: 4663882.5 | O21: 4797939.5 | P21: 4935959.6 | Q21: 5078061.1 | R21: 5224365.9 | S21: 5374999.5 | T21: 5530091.1 | U21: 5689773.8
B22: =B14+B15+B20 -> 4593333 | C22: =C14+C15+C20 -> 5262600 | D22: =D14+D15+D20 -> 5765226 | E22: =E14+E15+E20 -> 6267878.3 | F22: =F14+F15+F20 -> 6270557 | G22: =G14+G15+G20 -> 5773262.6 | H22: =H14+H15+H20 -> 5275995.2 | I22: =I14+I15+I20 -> 4778755.2 | ... U22: =U14+U15+U20 -> 5689773.8
A24: Invest ment | B24: =B5 -> 1205755.4 | C24: =C5 -> 2006848.2 | D24: =D5 -> 2659473.5 | E24: =E5 -> 3398117.4 | F24: =F5 -> 3660721.7 | G24: =G5 -> 3336927.3 | H24: =H5 -> 2913286.9 | I24: =I5 -> 2414799.9 | ... K24: =K5 -> 1693283.2 | L24: =B9 -> 1645404 | M24: =C9 -> 1551248.3 | N24: =D9 -> 1435923.7 | O24: =E9 -> 1324541 | P24: =F9 -> 1167214.6 | Q24: =G9 -> 914062.13 | R24: =H9 -> 665204.79 | S24: =I9 -> 320767.48 | ... U24: =K9 -> 0.47710153
A25: Per TJ DRP file, VGS collections based on load with no EEC change | B25: ='[5]15 years_PSD Surrebuttal'!F$44 -> 3462577.6 | C25: ='[5]15 years_PSD Surrebuttal'!G$44 -> 3480751.8 | D25: ='[5]15 years_PSD Surrebuttal'!H$44 -> 3505752.5 | E25: ='[5]15 years_PSD Surrebuttal'!I$44 -> 3529760.8 | F25: ='[5]15 years_PSD Surrebuttal'!J$44 -> 3534835.4 | G25: ='[5]15 years_PSD Surrebuttal'!K$44 -> 3536335.3 | H25: ='[5]15 years_PSD Surrebuttal'!L$44 -> 3537708.3 | I25: ='[5]15 years_PSD Surrebuttal'!M$44 -> 3538955.3 | ... U25: ='[5]15 years_PSD Surrebuttal'!Y$44 -> 3494102.4
A27: Add'l added on to BAU (hard keyed by TJ) | B27: 75000 | C27: 225000 | D27: 400000 | E27: 660000 | F27: 925000 | G27: 1100000 | H27: 1175000 | I27: 1175000 | J27: 1100000 | K27: 950000 | L27: 775000 | M27: 550000 | N27: 300000 | O27: 50000 | P27: -250000 | Q27: -650000 | R27: -1050000 | S27: -1550000 | T27: -2030879 | U27: -2195671
A29: Per TJ Formula- Investment Level | B29: =B22-B25+B27 -> 1205755.4 | C29: =C22-C25+C27 -> 2006848.2 | D29: =D22-D25+D27 -> 2659473.5 | E29: =E22-E25+E27 -> 3398117.4 | F29: =F22-F25+F27 -> 3660721.7 | G29: =G22-G25+G27 -> 3336927.3 | H29: =H22-H25+H27 -> 2913286.9 | I29: =I22-I25+I27 -> 2414799.9 | ... U29: =U22-U25+U27 -> 0.47710153

Sheet Reallocation 2016-2017
B1: PUC order dated 9/24/2020 approving return of 177840 to ratepayer
B2: Case No. 20-2241-PET
O34: 177840 | P34: reallocation given back to ratepayer in 2021 EEC

Sheet EEU balance
B1: EEU RUNNING BALANCE | C1: Prior Plan, not included
C2: Actuals
C3: Projected
C4: Projected Jan to only include firm
B5: Represents | C5: Collections | D5: VGS only (RA/DSS invoices) | E5: Sub Total
C6: FUNDS | D6: COST | F6: Gross Receipts Tax | G6: Wx | M6: RA | N6: DSS | O6: Other | P6: Collections | Q6: Projected Collections
B7: 42370 | C7: 55002.94 | D7: 164408.91 | F7: =C7*0.003 -> 165.00882 | G7: =C7*0.0075 -> 412.52205 | L7: =B7 -> 42370 | M7: 164408.91 | N7: 0
B8: 42401 | C8: 458193.97 | D8: 207702.49 | F8: =C8*0.003 -> 1374.5819 | G8: =C8*0.0075 -> 3436.4548 | L8: =B8 -> 42401 | M8: 204012.36 | N8: 3690.132
B9: 42446 | C9: 398489.3 | D9: 244267.1 | E9: =C7+C8+C9-D7-D8-D9 -> 295307.71 | F9: =C9*0.003 -> 1195.4679 | G9: =C9*0.0075 -> 2988.6698 | L9: =B9 -> 42446 | M9: 224519.13 | N9: 19747.97
B10: 42461 | C10: 332224.94 | D10: 268271.97 | E10: =E9+C10-D10 -> 359260.68 | F10: =C10*0.003 -> 996.67482 | G10: =C10*0.0075 -> 2491.687 | L10: =B10 -> 42461 | M10: 226358.12 | N10: 41913.848
B11: 42491 | C11: 213830.56 | D11: 208270.09 | E11: =E10+C11-D11 -> 364821.15 | F11: =C11*0.003 -> 641.49168 | G11: =C11*0.0075 -> 1603.7292 | L11: =B11 -> 42491 | M11: 189219.01 | N11: 19051.078
B12: 42538 | C12: 117903.35 | D12: 313098.16 | E12: =E11+C12-D12 -> 169626.34 | F12: =C12*0.003 -> 353.71005 | G12: =C12*0.0075 -> 884.27513 | L12: =B12 -> 42538 | M12: 287399.32 | N12: 25698.838
B13: 42568 | C13: 97329.07 | D13: 217902.87 | E13: =E12+C13-D13 -> 49052.54 | F13: =C13*0.003 -> 291.98721 | G13: =C13*0.0075 -> 729.96803 | L13: =B13 -> 42568 | M13: 189122.6 | N13: 28780.269
B14: 42583 | C14: 92437.87 | D14: 341931.99 | E14: =E13+C14-D14 -> -200441.58 | F14: =C14*0.003 -> 277.31361 | G14: =C14*0.0075 -> 693.28402 | L14: =B14 -> 42583 | M14: 324963.9 | N14: 16968.09
B15: 42614 | C15: 96871.19 | D15: 250578.6 | E15: =E14+C15-D15 -> -354148.99 | F15: =C15*0.003 -> 290.61357 | G15: =C15*0.0075 -> 726.53392 | L15: =B15 -> 42614 | M15: 266819.67 | N15: -16241.068
B16: 42644 | C16: 123869.16 | D16: 184051.02 | E16: =E15+C16-D16 -> -414330.85 | F16: =C16*0.003 -> 371.60748 | G16: =C16*0.0075 -> 929.0187 | L16: =B16 -> 42644 | M16: 154388.07 | N16: 29662.95
B17: 42675 | C17: 238339.64 | D17: 241613.66 | E17: =E16+C17-D17 -> -417604.87 | F17: =C17*0.003 -> 715.01892 | G17: =C17*0.0075 -> 1787.5473 | L17: =B17 -> 42675 | M17: 224593.35 | N17: 17020.311
B18: 42705 | C18: 360415.26 | D18: 280887.78 | E18: =E17+C18-D18 -> -338077.39 | F18: =C18*0.003 -> 1081.2458 | G18: =C18*0.0075 -> 2703.1145 | L18: =B18 -> 42705 | M18: 257957.03 | N18: 22930.739
B19: 42736 | C19: 446549.8 | D19: 241588.75 | E19: =E18+C19-D19 -> -133116.34 | F19: =C19*0.003 -> 1339.6494 | G19: =C19*0.0075 -> 3349.1235 | L19: =B19 -> 42736 | M19: 226534.17 | N19: 15054.581
B20: 42767 | C20: 490176.58 | D20: 211993.73 | E20: =E19+C20-D20 -> 145066.51 | F20: =C20*0.003 -> 1470.5297 | G20: =C20*0.0075 -> 3676.3243 | L20: =B20 -> 42767 | M20: 191460.7 | N20: 20533.031
B21: 42811 | C21: 481436.94 | D21: 234826.3 | E21: =E20+C21-D21 -> 391677.15 | F21: =C21*0.003 -> 1444.3108 | G21: =C21*0.0075 -> 3610.777 | L21: =B21 -> 42811 | M21: 207343.47 | N21: 27482.827
... B30: 43070 | C30: 431916.35 | D30: 246954.56 | E30: =E29+C30-D30 -> 48358.52 | F30: =C30*0.003 -> 1295.749 | G30: =C30*0.0075 -> 3239.3726 | L30: =B30 -> 43070 | M30: 228709.6 | N30: 18244.964
B31: 43101 | C31: =P31 -> 675290.08 | D31: =M31+N31 -> 251949.52 | E31: =E30+C31-D31 -> 471699.08 | F31: =C31*0.003 -> 2025.8702 | G31: =C31*0.0075 -> 5064.6756 | L31: =B31 -> 43101 | M31: 227653.19 | N31: 24296.327 | O31: 0 | P31: 675290.08 | Q31: 549579.6
B32: 43132 | C32: =P32 -> 549836.54 | D32: =M32+N32 -> 198923.05 | E32: =E31+C32-D32 -> 822612.57 | F32: =C32*0.003 -> 1649.5096 | G32: =C32*0.0075 -> 4123.7741 | L32: =B32 -> 43132 | M32: 185231.46 | N32: 13691.589 | O32: 0 | P32: 549836.54 | Q32: 571508.83
B33: 43163 | C33: =P33 -> 430463.79 | D33: =M33+N33 -> 211167.39 | E33: =E32+C33-D33 -> 1041909 | F33: =C33*0.003 -> 1291.3914 | G33: =C33*0.0075 -> 3228.4785 | L33: =B33 -> 43163 | M33: 193339.51 | N33: 17827.875 | O33: 0 | P33: 430463.79 | Q33: 508208.68
B34: 43194 | C34: =P34 -> 414893.27 | D34: =M34+N34 -> 180068.08 | E34: =E33+C34-D34 -> 1276734.2 | F34: =C34*0.003 -> 1244.6798 | G34: =C34*0.0075 -> 3111.6995 | L34: =B34 -> 43194 | M34: 161938.35 | N34: 18129.732 | O34: 0 | P34: 414893.27 | Q34: 377301.32
B35: 43225 | C35: =P35 -> 243616.46 | D35: =M35+N35 -> 225683.73 | E35: =E34+C35-D35 -> 1294666.9 | F35: =C35*0.003 -> 730.84937 | G35: =C35*0.0075 -> 1827.1234 | L35: =B35 -> 43225 | M35: 198603.29 | N35: 27080.436 | O35: 0 | P35: 243616.46 | Q35: 221403.81
B36: 43256 | C36: =P36 -> 133680.46 | D36: =M36+N36 -> 220164.01 | E36: =E35+C36-D36 -> 1208183.4 | F36: =C36*0.003 -> 401.04139 | G36: =C36*0.0075 -> 1002.6035 | L36: =B36 -> 43256 | M36: 200692.28 | N36: 19471.733 | O36: 0 | P36: 133680.46 | Q36: 135303.09
B37: 43287 | C37: =P37 -> 110437.7 | D37: =M37+N37 -> 137158.77 | E37: =E36+C37-D37 -> 1181462.3 | F37: =C37*0.003 -> 331.3131 | G37: =C37*0.0075 -> 828.28276 | L37: =B37 -> 43287 | M37: 128852.88 | N37: 8305.8901 | O37: 0 | P37: 110437.7 | Q37: 111600.15
B38: 43313 | C38: =P38 -> 107011.5 | D38: =M38+N38 -> 327512.39 | E38: =E37+C38-D38 -> 960961.39 | F38: =C38*0.003 -> 321.03449 | G38: =C38*0.0075 -> 802.58623 | L38: =B38 -> 43313 | M38: 287861.59 | N38: 39650.804 | O38: 0 | P38: 107011.5 | Q38: 108658.86
B39: 43344 | C39: =P39 -> 112279.23 | D39: =M39+N39 -> 290918.3 | E39: =E38+C39-D39 -> 782322.32 | F39: =C39*0.003 -> 336.83768 | G39: =C39*0.0075 -> 842.09419 | L39: =B39 -> 43344 | M39: 264141.85 | N39: 26776.452 | O39: 0 | P39: 112279.23 | Q39: 116152.91
B40: 43374 | C40: =P40 -> 155670.77 | D40: =M40+N40 -> 307089.5 | E40: =E39+C40-D40 -> 630903.58 | F40: =C40*0.003 -> 467.01231 | G40: =C40*0.0075 -> 1167.5308 | L40: =B40 -> 43374 | M40: 288263.83 | N40: 18825.667 | O40: 0 | P40: 155670.77 | Q40: 155617.68
B41: 43405 | C41: =P41 -> 337830.03 | D41: =M41+N41 -> 244986.1 | E41: =E40+C41-D41 -> 723747.51 | F41: =C41*0.003 -> 1013.4901 | G41: =C41*0.0075 -> 2533.7252 | L41: =B41 -> 43405 | M41: 228467.03 | N41: 16519.069 | O41: 0 | P41: 337830.03 | Q41: 270000.5
B42: 43435 | C42: =P42 -> 469558.28 | D42: =M42+N42 -> 324152.84 | E42: =E41+C42-D42 -> 869152.95 | F42: =C42*0.003 -> 1408.6748 | G42: =C42*0.0075 -> 3521.6871 | L42: =B42 -> 43435 | M42: 308725.14 | N42: 15427.696 | O42: 0 | P42: 469558.28 | Q42: 414729.46
... B48: 43623 | C48: =P48 -> 154838.76 | D48: =M48+N48 -> 206258.52 | E48: =E47+C48-D48 -> 1933006.1 | F48: =C48*0.003 -> 464.51629 | G48: =C48*0.0075 -> 1161.2907 | L48: =B48 -> 43623 | M48: 183894.51 | N48: 22364.006 | O48: 0 | P48: 154838.76 | Q48: 135771.32
B49: 43654 | C49: =P49 -> 105663.03 | D49: =M49+N49 -> 263761.29 | E49: =E48+C49-D49 -> 1774907.9 | F49: =C49*0.00525 -> 554.73091 | G49: =C49*0.0075 -> 792.47273 | L49: =B49 -> 43654 | M49: 242415.39 | N49: 21345.901 | O49: 0 | P49: 105663.03 | Q49: 111706.77
B50: 43686 | C50: =P50 -> 107847.28 | D50: =M50+N50 -> 296672.56 | E50: =E49+C50-D50 -> 1586082.6 | F50: =C50*0.00525 -> 566.19823 | G50: =C50*0.0075 -> 808.85462 | L50: =B50 -> 43686 | M50: 270168.93 | N50: 26503.631 | O50: 0 | P50: 107847.28 | Q50: 108418.42
B51: 43717 | C51: =P51 -> 109139.23 | D51: =M51+N51 -> 227201.8 | E51: =E50+C51-D51 -> 1468020 | F51: =C51*0.00525 -> 572.98094 | G51: =C51*0.0075 -> 818.5442 | L51: =B51 -> 43717 | M51: 206190.55 | N51: 21011.255 | O51: 0 | P51: 109139.23 | Q51: 115468.02
B52: 43745 | C52: =P52 -> 153650.65 | D52: =M52+N52 -> 309809.69 | E52: =E51+C52-D52 -> 1311861 | F52: =C52*0.00525 -> 806.66593 | G52: =C52*0.0075 -> 1152.3799 | L52: =B52 -> 43745 | M52: 292636.98 | N52: 17172.708 | O52: 0 | P52: 153650.65 | Q52: 141675.83
B53: 43777 | C53: =P53 -> 297951.5 | D53: =M53+N53 -> 302235.23 | E53: =E52+C53-D53 -> 1307577.2 | F53: =C53*0.00525 -> 1564.2454 | G53: =C53*0.0075 -> 2234.6362 | L53: =B53 -> 43777 | M53: 277708.08 | N53: 24527.154 | O53: 0 | P53: 297951.5 | Q53: 273180.07
...

Sheet CY 2019-2020 forecast
B1: Base on Aug 18 FY19 excel file from LH | N1: Based on Sept FY20 from Todd L | AB1: Based on Sept FY20 from Todd L
A2: Estimated EEU Revenues | AL2: Taken from Oct PGA to get one calendar year on most recent rate case
B3: 2018 | C3: 2018 | D3: 2018 | E3: 2019 | F3: 2019 | G3: 2019 | H3: 2019 | I3: 2019 | J3: 2019 | K3: 2019 | L3: 2019 | M3: 2019 | N3: =[6]F!D2 -> 2019 | O3: =[6]F!E2 -> 2019 | P3: =[6]F!F2 -> 2019 | Q3: =[6]F!G2 -> 2020 | R3: =[6]F!H2 -> 2020 | S3: =[6]F!I2 -> 2020 | T3: =[6]F!J2 -> 2020 | U3: =[6]F!K2 -> 2020 | ... AB3: =[6]F!R2 -> 2020 | AC3: =[7]D!G$4 -> 2021 | AD3: =[7]D!H$4 -> 2021 | AE3: =[7]D!I$4 -> 2021 | AF3: =[7]D!J$4 -> 2021 | AG3: =[7]D!K$4 -> 2021 | AH3: =[7]D!L$4 -> 2021 | AI3: =[7]D!M$4 -> 2021 | AJ3: =[7]D!N$4 -> 2021 | AK3: =[7]D!O$4 -> 2021 | AL3: =[7]D!D$4 -> 2020 | AM3: =[7]D!E$4 -> 2020 | AN3: =[7]D!F$4 -> 2020
A4: Forecasted Revenue | B4: October | C4: November | D4: December | E4: January | F4: February | G4: March | H4: April | I4: May | J4: June | K4: July | L4: August | M4: September | N4: =[6]F!D3 -> October | O4: =[6]F!E3 -> November | P4: =[6]F!F3 -> December | Q4: =[6]F!G3 -> January | R4: =[6]F!H3 -> February | S4: =[6]F!I3 -> March | T4: =[6]F!J3 -> April | U4: =[6]F!K3 -> May | ... AB4: =[6]F!R3 -> December | AC4: =[7]D!G$5 -> January | AD4: =[7]D!H$5 -> February | AE4: =[7]D!I$5 -> March | AF4: =[7]D!J$5 -> April | AG4: =[7]D!K$5 -> May | AH4: =[7]D!L$5 -> June | AI4: =[7]D!M$5 -> July | AJ4: =[7]D!N$5 -> August | AK4: =[7]D!O$5 -> September | AL4: =[7]D!D$5 -> October | AM4: =[7]D!E$5 -> November | AN4: =[7]D!F$5 -> December | AP4: CY 2019 total | AQ4: CY 2020 Total | AR4: CY 2021 Total
A5: R | B5: =[8]D!C31 -> 2228356.8 | C5: =[8]D!D31 -> 4322996.7 | D5: =[8]D!E31 -> 6264470.8 | E5: =[8]D!F31 -> 7791553.6 | F5: =[8]D!G31 -> 8081722.8 | G5: =[8]D!H31 -> 7226871.9 | H5: =[8]D!I31 -> 5586925.6 | I5: =[8]D!J31 -> 3467225 | ... M5: =[8]D!N31 -> 1912627.6 | N5: =[6]D!C31 -> 2188463 | O5: =[6]D!D31 -> 3751217.5 | P5: =[6]D!E31 -> 5574170.9 | Q5: =[6]D!F31 -> 7435211.4 | R5: =[6]D!G31 -> 7424386.7 | S5: =[6]D!H31 -> 6598419.6 | T5: =[6]D!I31 -> 5122393.3 | U5: =[6]D!J31 -> 3365302 | ... AB5: =[6]D!Q31 -> 5871827.2 | AC5: =[7]D!G33 -> 7752040.7 | AD5: =[7]D!H33 -> 7757332.8 | AE5: =[7]D!I33 -> 6760332.1 | AF5: =[7]D!J33 -> 5448413.3 | AG5: =[7]D!K33 -> 3572735 | AH5: =[7]D!L33 -> 2351956.8 | AI5: =[7]D!M33 -> 1967245.4 | AJ5: =[7]D!N33 -> 1920318.2 | AK5: =[7]D!O33 -> 1916478.7 | AL5: =[7]D!D33 -> 2319292.9 | AM5: =[7]D!E33 -> 3939698.8 | AN5: =[7]D!F33 -> 5828709.8 | AP5: =SUM(E5:P5) -> 51815363 | AQ5: =SUM(Q5:AB5) -> 49868031 | AR5: =SUM(AC5:AN5) -> 51534554
A6: G1 | B6: =[8]D!C32 -> 229394.64 | C6: =[8]D!D32 -> 500908.44 | D6: =[8]D!E32 -> 909074.24 | E6: =[8]D!F32 -> 1356274.5 | F6: =[8]D!G32 -> 1416753.8 | G6: =[8]D!H32 -> 1224854 | H6: =[8]D!I32 -> 825481.11 | I6: =[8]D!J32 -> 389917.92 | ... M6: =[8]D!N32 -> 180465.41 | N6: =[6]D!C32 -> 229323.97 | O6: =[6]D!D32 -> 494639.25 | P6: =[6]D!E32 -> 864908.1 | Q6: =[6]D!F32 -> 1278800 | R6: =[6]D!G32 -> 1253340.3 | S6: =[6]D!H32 -> 1049796.2 | T6: =[6]D!I32 -> 731637.59 | U6: =[6]D!J32 -> 381440.02 | ... AB6: =[6]D!Q32 -> 923174.83 | AC6: =[7]D!G34 -> 1290140.8 | AD6: =[7]D!H34 -> 1289598.9 | AE6: =[7]D!I34 -> 1055422.5 | AF6: =[7]D!J34 -> 765328.9 | AG6: =[7]D!K34 -> 399190.38 | AH6: =[7]D!L34 -> 215035.41 | AI6: =[7]D!M34 -> 187903.94 | AJ6: =[7]D!N34 -> 186567.64 | AK6: =[7]D!O34 -> 175228.42 | AL6: =[7]D!D34 -> 238915.26 | AM6: =[7]D!E34 -> 520957.65 | AN6: =[7]D!F34 -> 903169.45 | AP6: =SUM(E6:P6) -> 7566186.6 | AQ6: =SUM(Q6:AB6) -> 7125648.9 | AR6: =SUM(AC6:AN6) -> 7227459.3
A7: G2 | B7: =[8]D!C33 -> 105729.74 | C7: =[8]D!D33 -> 132340.29 | D7: =[8]D!E33 -> 167540.33 | E7: =[8]D!F33 -> 203204.14 | F7: =[8]D!G33 -> 215885.94 | G7: =[8]D!H33 -> 204729.63 | H7: =[8]D!I33 -> 174204.87 | I7: =[8]D!J33 -> 133383.8 | ... M7: =[8]D!N33 -> 106061.22 | N7: =[6]D!C33 -> 111898.31 | O7: =[6]D!D33 -> 140479.76 | P7: =[6]D!E33 -> 178459.98 | Q7: =[6]D!F33 -> 212243.58 | R7: =[6]D!G33 -> 213327.44 | S7: =[6]D!H33 -> 196764.58 | T7: =[6]D!I33 -> 170717.65 | U7: =[6]D!J33 -> 135523.75 | ... AB7: =[6]D!Q33 -> 187296.74 | AC7: =[7]D!G35 -> 226713.67 | AD7: =[7]D!H35 -> 232797.68 | AE7: =[7]D!I35 -> 206483.78 | AF7: =[7]D!J35 -> 184377.74 | AG7: =[7]D!K35 -> 139850.7 | AH7: =[7]D!L35 -> 112771.58 | AI7: =[7]D!M35 -> 93860.074 | AJ7: =[7]D!N35 -> 102502.76 | AK7: =[7]D!O35 -> 108833.24 | AL7: =[7]D!D35 -> 114371.02 | AM7: =[7]D!E35 -> 144915.29 | AN7: =[7]D!F35 -> 188080.58 | AP7: =SUM(E7:P7) -> 1776504.3 | AQ7: =SUM(Q7:AB7) -> 1801357.1 | AR7: =SUM(AC7:AN7) -> 1855558.1
A8: G3 | B8: =[8]D!C34 -> 198977.53 | C8: =[8]D!D34 -> 487209.72 | D8: =[8]D!E34 -> 862927.51 | E8: =[8]D!F34 -> 1261770 | F8: =[8]D!G34 -> 1297702.1 | G8: =[8]D!H34 -> 1109222.5 | H8: =[8]D!I34 -> 762829.79 | I8: =[8]D!J34 -> 355123.67 | ... M8: =[8]D!N34 -> 125726.03 | N8: =[6]D!C34 -> 178597.05 | O8: =[6]D!D34 -> 436292.59 | P8: =[6]D!E34 -> 745241.59 | Q8: =[6]D!F34 -> 1059401.3 | R8: =[6]D!G34 -> 1040535.6 | S8: =[6]D!H34 -> 870311.3 | T8: =[6]D!I34 -> 605967.54 | U8: =[6]D!J34 -> 309471.68 | ... AB8: =[6]D!Q34 -> 798624.24 | AC8: =[7]D!G36 -> 1116936.3 | AD8: =[7]D!H36 -> 1127695.8 | AE8: =[7]D!I36 -> 915536.01 | AF8: =[7]D!J36 -> 664502.39 | AG8: =[7]D!K36 -> 332064.46 | AH8: =[7]D!L36 -> 145251.95 | AI8: =[7]D!M36 -> 101486.94 | AJ8: =[7]D!N36 -> 100553.7 | AK8: =[7]D!O36 -> 104426.63 | AL8: =[7]D!D36 -> 190984.96 | AM8: =[7]D!E36 -> 477200.85 | AN8: =[7]D!F36 -> 803904.49 | AP8: =SUM(E8:P8) -> 6662856.4 | AQ8: =SUM(Q8:AB8) -> 5776699.2 | AR8: =SUM(AC8:AN8) -> 6080544.4
A9: G4 | B9: =[8]D!C35 -> 643290.31 | C9: =[8]D!D35 -> 805387.15 | D9: =[8]D!E35 -> 975285.87 | E9: =[8]D!F35 -> 1156243.7 | F9: =[8]D!G35 -> 1194717.3 | G9: =[8]D!H35 -> 1132021.4 | H9: =[8]D!I35 -> 970554.97 | I9: =[8]D!J35 -> 749003.74 | ... M9: =[8]D!N35 -> 628450.02 | N9: =[6]D!C35 -> 605975.65 | O9: =[6]D!D35 -> 775405.15 | P9: =[6]D!E35 -> 921472.2 | Q9: =[6]D!F35 -> 1108130.6 | R9: =[6]D!G35 -> 1084132.5 | S9: =[6]D!H35 -> 1021134.1 | T9: =[6]D!I35 -> 888393.89 | U9: =[6]D!J35 -> 729617.94 | ... AB9: =[6]D!Q35 -> 986963.54 | AC9: =[7]D!G37 -> 1166288.4 | AD9: =[7]D!H37 -> 1157440.3 | AE9: =[7]D!I37 -> 1072767.9 | AF9: =[7]D!J37 -> 952608.9 | AG9: =[7]D!K37 -> 764772.17 | AH9: =[7]D!L37 -> 630324.2 | AI9: =[7]D!M37 -> 523768.12 | AJ9: =[7]D!N37 -> 581834.9 | AK9: =[7]D!O37 -> 591953.77 | AL9: =[7]D!D37 -> 634556.96 | AM9: =[7]D!E37 -> 813943.27 | AN9: =[7]D!F37 -> 983202.72 | AP9: =SUM(E9:P9) -> 9890657.7 | AQ9: =SUM(Q9:AB9) -> 9569914.5 | AR9: =SUM(AC9:AN9) -> 9873461.5
A10: Firm Revenues | B10: =SUM(B5:B9) -> 3405749 | C10: =SUM(C5:C9) -> 6248842.3 | D10: =SUM(D5:D9) -> 9179298.7 | E10: =SUM(E5:E9) -> 11769046 | F10: =SUM(F5:F9) -> 12206782 | G10: =SUM(G5:G9) -> 10897699 | H10: =SUM(H5:H9) -> 8319996.3 | I10: =SUM(I5:I9) -> 5094654.2 | ... AN10: =SUM(AN5:AN9) -> 8707067 | AP10: =SUM(E10:P10) -> 77711568 | AQ10: =SUM(Q10:AB10) -> 74141651 | AR10: =SUM(AC10:AN10) -> 76571578
A11: Total Interruptible | B11: =[8]D!C$38 -> 1978922.5 | C11: =[8]D!D$38 -> 2440066.4 | D11: =[8]D!E$38 -> 2890888.9 | E11: =[8]D!F$38 -> 3237858 | F11: =[8]D!G$38 -> 2726486.4 | G11: =[8]D!H$38 -> 2676638.3 | H11: =[8]D!I$38 -> 1581482.3 | I11: =[8]D!J$38 -> 1450962.8 | ... M11: =[8]D!N$38 -> 1597565.4 | N11: =[6]D!C38 -> 1700708 | O11: =[6]D!D38 -> 2515863.4 | P11: =[6]D!E38 -> 3031365.8 | Q11: =[6]D!F38 -> 3103875.5 | R11: =[6]D!G38 -> 2504513.4 | S11: =[6]D!H38 -> 2461932.4 | T11: =[6]D!I38 -> 1819535.5 | U11: =[6]D!J38 -> 1301664.3 | ... AB11: =[6]D!Q38 -> 3083452.3 | AC11: =[7]D!G$40 -> 3511815.1 | AD11: =[7]D!H$40 -> 3353357.6 | AE11: =[7]D!I$40 -> 2958824.9 | AF11: =[7]D!J$40 -> 1822004.1 | AG11: =[7]D!K$40 -> 1408439.4 | AH11: =[7]D!L$40 -> 1608214.4 | AI11: =[7]D!M$40 -> 1648739.6 | AJ11: =[7]D!N$40 -> 1639618.8 | AK11: =[7]D!O$40 -> 1579630.4 | AL11: =[7]D!D$40 -> 1656449.6 | AM11: =[7]D!E$40 -> 2268636.5 | AN11: =[7]D!F$40 -> 3404902.4 | AP11: =SUM(E11:P11) -> 24969359 | AQ11: =SUM(Q11:AB11) -> 24367043 | AR11: =SUM(AC11:AN11) -> 26860633
A12: Less Exempt Interruptible Customers | B12: =[8]F!D$255+[8]F!D$270+[8]F!D$422 -> 963197.6 | C12: =[8]F!E$255+[8]F!E$270+[8]F!E$422 -> 1278193.7 | D12: =[8]F!F$255+[8]F!F$270+[8]F!F$422 -> 1570295.7 | E12: =[8]F!G$255+[8]F!G$270+[8]F!G$422 -> 1841910.7 | F12: =[8]F!H$255+[8]F!H$270+[8]F!H$422 -> 1484261.2 | G12: =[8]F!I$255+[8]F!I$270+[8]F!I$422 -> 1386459.1 | H12: =[8]F!J$255+[8]F!J$270+[8]F!J$422 -> 724830.23 | I12: =[8]F!K$255+[8]F!K$270+[8]F!K$422 -> 658454.3 | ... M12: =[8]F!O$255+[8]F!O$270+[8]F!O$422 -> 737447.9 | N12: =[6]F!D255+[6]F!D270+[6]F!D422 -> 852974.58 | O12: =[6]F!E255+[6]F!E270+[6]F!E422 -> 1544355.4 | P12: =[6]F!F255+[6]F!F270+[6]F!F422 -> 1882543.6 | Q12: =[6]F!G255+[6]F!G270+[6]F!G422 -> 1782838.7 | R12: =[6]F!H255+[6]F!H270+[6]F!H422 -> 1377960.4 | S12: =[6]F!I255+[6]F!I270+[6]F!I422 -> 1358933 | T12: =[6]F!J255+[6]F!J270+[6]F!J422 -> 992012.11 | U12: =[6]F!K255+[6]F!K270+[6]F!K422 -> 557729.38 | ... AB12: =[6]F!R255+[6]F!R270+[6]F!R422 -> 1887309.6 | AC12: =[7]F!G$255+[7]F!G$270+[7]F!G$422 -> 2073200.9 | AD12: =[7]F!H$255+[7]F!H$270+[7]F!H$422 -> 2033817.2 | AE12: =[7]F!I$255+[7]F!I$270+[7]F!I$422 -> 1684304.1 | AF12: =[7]F!J$255+[7]F!J$270+[7]F!J$422 -> 846951.99 | AG12: =[7]F!K$255+[7]F!K$270+[7]F!K$422 -> 562290.12 | AH12: =[7]F!L$255+[7]F!L$270+[7]F!L$422 -> 774335.09 | AI12: =[7]F!M$255+[7]F!M$270+[7]F!M$422 -> 800008.21 | AJ12: =[7]F!N$255+[7]F!N$270+[7]F!N$422 -> 788812.01 | AK12: =[7]F!O$255+[7]F!O$270+[7]F!O$422 -> 807299.53 | AL12: =[7]F!D$255+[7]F!D$270+[7]F!D$422 -> 817011.29 | AM12: =[7]F!E$255+[7]F!E$270+[7]F!E$422 -> 1187623.2 | AN12: =[7]F!F$255+[7]F!F$270+[7]F!F$422 -> 2090546.1 | AP12: =SUM(E12:P12) -> 13117602 | AQ12: =SUM(Q12:AB12) -> 13244707 | AR12: =SUM(AC12:AN12) -> 14466200
A13: Net Interruptibles | B13: =B11-B12 -> 1015724.9 | C13: =C11-C12 -> 1161872.7 | D13: =D11-D12 -> 1320593.2 | E13: =E11-E12 -> 1395947.3 | F13: =F11-F12 -> 1242225.3 | G13: =G11-G12 -> 1290179.2 | H13: =H11-H12 -> 856652.07 | I13: =I11-I12 -> 792508.54 | ... AN13: =AN11-AN12 -> 1314356.3 | AP13: =SUM(E13:P13) -> 11851757 | AQ13: =SUM(Q13:AB13) -> 11122335 | AR13: =SUM(AC13:AN13) -> 12394433
A14: SUB-TOTAL: Firm + Interruptible | B14: =B10+B13 -> 4421473.9 | C14: =C10+C13 -> 7410715 | D14: =D10+D13 -> 10499892 | E14: =E10+E13 -> 13164993 | F14: =F10+F13 -> 13449007 | G14: =G10+G13 -> 12187878 | H14: =H10+H13 -> 9176648.4 | I14: =I10+I13 -> 5887162.7 | ... AN14: =AN10+AN13 -> 10021423 | AP14: =SUM(E14:P14) -> 89563325 | AQ14: =SUM(Q14:AB14) -> 85263986 | AR14: =SUM(AC14:AN14) -> 88966011
B18: =B3 -> 2018 | C18: =C3 -> 2018 | D18: =D3 -> 2018 | E18: =E3 -> 2019 | F18: =F3 -> 2019 | G18: =G3 -> 2019 | H18: =H3 -> 2019 | I18: =I3 -> 2019 | ... M18: =M3 -> 2019 | N18: =[6]D!C4 -> 2019 | O18: =O3 -> 2019 | P18: =P3 -> 2019 | Q18: =Q3 -> 2020 | R18: =R3 -> 2020 | S18: =S3 -> 2020 | T18: =T3 -> 2020 | U18: =U3 -> 2020 | V18: =V3 -> 2020 | ... AB18: =AB3 -> 2020 | AC18: =[7]D!G$4 -> 2021 | AD18: =[7]D!H$4 -> 2021 | AE18: =[7]D!I$4 -> 2021 | AF18: =[7]D!J$4 -> 2021 | AG18: =[7]D!K$4 -> 2021 | AH18: =[7]D!L$4 -> 2021 | AI18: =[7]D!M$4 -> 2021 | AJ18: =[7]D!N$4 -> 2021 | AK18: =[7]D!O$4 -> 2021 | AL18: =[7]D!D$4 -> 2020 | AM18: =[7]D!E$4 -> 2020 | AN18: =[7]D!F$4 -> 2020 | AP18: Sum | AQ18: sum | AR18: sum
A19: MCF SALES | B19: =B4 -> October | C19: =C4 -> November | D19: =D4 -> December | E19: =E4 -> January | F19: =F4 -> February | G19: =G4 -> March | H19: =H4 -> April | I19: =I4 -> May | ... M19: =M4 -> September | N19: =[6]D!C5 -> October | O19: =O4 -> November | P19: =P4 -> December | Q19: =Q4 -> January | R19: =R4 -> February | S19: =S4 -> March | T19: =T4 -> April | U19: =U4 -> May | V19: =V4 -> June | ... AB19: =AB4 -> December | AC19: =[7]D!G$5 -> January | AD19: =[7]D!H$5 -> February | AE19: =[7]D!I$5 -> March | AF19: =[7]D!J$5 -> April | AG19: =[7]D!K$5 -> May | AH19: =[7]D!L$5 -> June | AI19: =[7]D!M$5 -> July | AJ19: =[7]D!N$5 -> August | AK19: =[7]D!O$5 -> September | AL19: =[7]D!D$5 -> October | AM19: =[7]D!E$5 -> November | AN19: =[7]D!F$5 -> December | AP19: =AP4 -> CY 2019 total | AQ19: =AQ4 -> CY 2020 Total | AR19: =AR4 -> CY 2021 Total
A20: R | B20: =[8]D!C17 -> 120518 | C20: =[8]D!D17 -> 318873 | D20: =[8]D!E17 -> 501814 | E20: =[8]D!F17 -> 648588 | F20: =[8]D!G17 -> 688125 | G20: =[8]D!H17 -> 595590 | H20: =[8]D!I17 -> 440533 | I20: =[8]D!J17 -> 235062 | ... M20: =[8]D!N17 -> 88346 | N20: =[6]D!C17 -> 121157 | O20: =[6]D!D17 -> 289124 | P20: =[6]D!E17 -> 478014 | Q20: =[6]D!F17 -> 675005 | R20: =[6]D!G17 -> 695640 | S20: =[6]D!H17 -> 595377 | T20: =[6]D!I17 -> 440088 | U20: =[6]D!J17 -> 242313 | ... AB20: =[6]D!Q17 -> 483830 | AC20: =[7]D!G17 -> 693189 | AD20: =[7]D!H17 -> 705211 | AE20: =[7]D!I17 -> 588941 | AF20: =[7]D!J17 -> 455229 | AG20: =[7]D!K17 -> 255006 | AH20: =[7]D!L17 -> 131517 | AI20: =[7]D!M17 -> 88127 | AJ20: =[7]D!N17 -> 83422 | AK20: =[7]D!O17 -> 86711 | AL20: =[7]D!D17 -> 125799 | AM20: =[7]D!E17 -> 298335 | AN20: =[7]D!F17 -> 491858 | AP20: =SUM(E20:P20) -> 3890897 | AQ20: =SUM(Q20:AB20) -> 3931986 | AR20: =SUM(AC20:AN20) -> 4003345
A21: G1 | B21: =[8]D!C18 -> 9190 | C21: =[8]D!D18 -> 36622 | D21: =[8]D!E18 -> 78086 | E21: =[8]D!F18 -> 124169 | F21: =[8]D!G18 -> 132361 | G21: =[8]D!H18 -> 110930 | H21: =[8]D!I18 -> 70068 | I21: =[8]D!J18 -> 24864 | ... M21: =[8]D!N18 -> 3945 | N21: =[6]D!C18 -> 9666 | O21: =[6]D!D18 -> 40600 | P21: =[6]D!E18 -> 82987 | Q21: =[6]D!F18 -> 131097 | R21: =[6]D!G18 -> 132473 | S21: =[6]D!H18 -> 106478 | T21: =[6]D!I18 -> 69218 | U21: =[6]D!J18 -> 26415 | ... AB21: =[6]D!Q18 -> 83997 | AC21: =[7]D!G18 -> 131597 | AD21: =[7]D!H18 -> 133294 | AE21: =[7]D!I18 -> 104194 | AF21: =[7]D!J18 -> 71000 | AG21: =[7]D!K18 -> 27878 | AH21: =[7]D!L18 -> 7339 | AI21: =[7]D!M18 -> 3816 | AJ21: =[7]D!N18 -> 3747 | AK21: =[7]D!O18 -> 3227 | AL21: =[7]D!D18 -> 10046 | AM21: =[7]D!E18 -> 42960 | AN21: =[7]D!F18 -> 86667 | AP21: =SUM(E21:P21) -> 614600 | AQ21: =SUM(Q21:AB21) -> 618676 | AR21: =SUM(AC21:AN21) -> 625765
A22: G2 | B22: =[8]D!C19 -> 9815 | C22: =[8]D!D19 -> 13190 | D22: =[8]D!E19 -> 17658 | E22: =[8]D!F19 -> 22342 | F22: =[8]D!G19 -> 24510 | G22: =[8]D!H19 -> 22609 | H22: =[8]D!I19 -> 18720 | I22: =[8]D!J19 -> 13342 | ... M22: =[8]D!N19 -> 9886 | N22: =[6]D!C19 -> 11080 | O22: =[6]D!D19 -> 15437 | P22: =[6]D!E19 -> 20839 | Q22: =[6]D!F19 -> 25809 | R22: =[6]D!G19 -> 27001 | S22: =[6]D!H19 -> 23989 | T22: =[6]D!I19 -> 20264 | U22: =[6]D!J19 -> 14436 | ... AB22: =[6]D!Q19 -> 20878 | AC22: =[7]D!G19 -> 27333 | AD22: =[7]D!H19 -> 28789 | AE22: =[7]D!I19 -> 24365 | AF22: =[7]D!J19 -> 21313 | AG22: =[7]D!K19 -> 14612 | AH22: =[7]D!L19 -> 10863 | AI22: =[7]D!M19 -> 7922 | AJ22: =[7]D!N19 -> 9190 | AK22: =[7]D!O19 -> 10035 | AL22: =[7]D!D19 -> 10914 | AM22: =[7]D!E19 -> 15540 | AN22: =[7]D!F19 -> 21665 | AP22: =SUM(E22:P22) -> 186745 | AQ22: =SUM(Q22:AB22) -> 198855 | AR22: =SUM(AC22:AN22) -> 202541
A23: G3 | B23: =[8]D!C20 -> 16909 | C23: =[8]D!D20 -> 51067 | D23: =[8]D!E20 -> 95473 | E23: =[8]D!F20 -> 142875 | F23: =[8]D!G20 -> 148401 | G23: =[8]D!H20 -> 125185 | H23: =[8]D!I20 -> 84050 | I23: =[8]D!J20 -> 35575 | ... M23: =[8]D!N20 -> 8095 | N23: =[6]D!C20 -> 16626 | O23: =[6]D!D20 -> 51976 | P23: =[6]D!E20 -> 93797 | Q23: =[6]D!F20 -> 136611 | R23: =[6]D!G20 -> 137902 | S23: =[6]D!H20 -> 113365 | T23: =[6]D!I20 -> 76751 | U23: =[6]D!J20 -> 34044 | ... AB23: =[6]D!Q20 -> 94125 | AC23: =[7]D!G20 -> 144506 | AD23: =[7]D!H20 -> 146807 | AE23: =[7]D!I20 -> 116900 | AF23: =[7]D!J20 -> 82832 | AG23: =[7]D!K20 -> 36908 | AH23: =[7]D!L20 -> 11614 | AI23: =[7]D!M20 -> 5403 | AJ23: =[7]D!N20 -> 5275 | AK23: =[7]D!O20 -> 6197 | AL23: =[7]D!D20 -> 17661 | AM23: =[7]D!E20 -> 57126 | AN23: =[7]D!F20 -> 101572 | AP23: =SUM(E23:P23) -> 731904 | AQ23: =SUM(Q23:AB23) -> 689915 | AR23: =SUM(AC23:AN23) -> 732801
A24: G4 | B24: =[8]D!C21 -> 87642 | C24: =[8]D!D21 -> 111387 | D24: =[8]D!E21 -> 136446 | E24: =[8]D!F21 -> 163453 | F24: =[8]D!G21 -> 170671 | G24: =[8]D!H21 -> 160357 | H24: =[8]D!I21 -> 136474 | I24: =[8]D!J21 -> 104211 | ... M24: =[8]D!N21 -> 85981 | N24: =[6]D!C21 -> 92234 | O24: =[6]D!D21 -> 121353 | P24: =[6]D!E21 -> 145820 | Q24: =[6]D!F21 -> 177539 | R24: =[6]D!G21 -> 178314 | S24: =[6]D!H21 -> 166268 | T24: =[6]D!I21 -> 143563 | U24: =[6]D!J21 -> 112293 | ... AB24: =[6]D!Q21 -> 146660 | AC24: =[7]D!G21 -> 187150 | AD24: =[7]D!H21 -> 186764 | AE24: =[7]D!I21 -> 171175 | AF24: =[7]D!J21 -> 151038 | AG24: =[7]D!K21 -> 118570 | AH24: =[7]D!L21 -> 96080 | AI24: =[7]D!M21 -> 77521 | AJ24: =[7]D!N21 -> 87384 | AK24: =[7]D!O21 -> 89390 | AL24: =[7]D!D21 -> 96591 | AM24: =[7]D!E21 -> 127548 | AN24: =[7]D!F21 -> 155960 | AP24: =SUM(E24:P24) -> 1418998 | AQ24: =SUM(Q24:AB24) -> 1474081 | AR24: =SUM(AC24:AN24) -> 1545171
A25: Total Firm | B25: =SUM(B20:B24) -> 244074 | C25: =SUM(C20:C24) -> 531139 | D25: =SUM(D20:D24) -> 829477 | E25: =SUM(E20:E24) -> 1101427 | F25: =SUM(F20:F24) -> 1164068 | G25: =SUM(G20:G24) -> 1014671 | H25: =SUM(H20:H24) -> 749845 | I25: =SUM(I20:I24) -> 413054 | ... AN25: =SUM(AN20:AN24) -> 857722 | AP25: =SUM(E25:P25) -> 6843144 | AQ25: =SUM(Q25:AB25) -> 6913513 | AR25: =SUM(AC25:AN25) -> 7109623
A26: Interuptible Sales | B26: =[8]D!C23 -> 476924 | C26: =[8]D!D23 -> 561831 | D26: =[8]D!E23 -> 622645 | E26: =[8]D!F23 -> 690420 | F26: =[8]D!G23 -> 581872 | G26: =[8]D!H23 -> 581569 | H26: =[8]D!I23 -> 406794 | I26: =[8]D!J23 -> 380665 | ... M26: =[8]D!N23 -> 426467 | N26: =[6]D!C23 -> 510113 | O26: =[6]D!D23 -> 684692 | P26: =[6]D!E23 -> 754364 | Q26: =[6]D!F23 -> 754724 | R26: =[6]D!G23 -> 609943 | S26: =[6]D!H23 -> 612894 | T26: =[6]D!I23 -> 548714 | U26: =[6]D!J23 -> 378130 | ... AB26: =[6]D!Q23 -> 756810 | AC26: =[7]D!G29 -> 774990 | AD26: =[7]D!H29 -> 716045 | AE26: =[7]D!I29 -> 651653 | AF26: =[7]D!J29 -> 470251 | AG26: =[7]D!K29 -> 361805 | AH26: =[7]D!L29 -> 427391 | AI26: =[7]D!M29 -> 434369 | AJ26: =[7]D!N29 -> 430210 | AK26: =[7]D!O29 -> 418538 | AL26: =[7]D!D29 -> 497889 | AM26: =[7]D!E29 -> 554633 | AN26: =[7]D!F29 -> 756049 | AP26: =SUM(E26:P26) -> 6199063 | AQ26: =SUM(Q26:AB26) -> 6621416 | AR26: =SUM(AC26:AN26) -> 6493823
A27: Less Exempt Interruptible Customers | B27: =[8]F!D$247+[8]F!D$262+[8]F!D$412 -> 248124 | C27: =[8]F!E$247+[8]F!E$262+[8]F!E$412 -> 315351 | D27: =[8]F!F$247+[8]F!F$262+[8]F!F$412 -> 347396 | E27: =[8]F!G$247+[8]F!G$262+[8]F!G$412 -> 401100 | F27: =[8]F!H$247+[8]F!H$262+[8]F!H$412 -> 325915 | G27: =[8]F!I$247+[8]F!I$262+[8]F!I$412 -> 309344 | H27: =[8]F!J$247+[8]F!J$262+[8]F!J$412 -> 198314 | I27: =[8]F!K$247+[8]F!K$262+[8]F!K$412 -> 188237 | ... M27: =[8]F!O$247+[8]F!O$262+[8]F!O$412 -> 216402 | N27: =[6]F!D247+[6]F!D262+[6]F!D412 -> 281181 | O27: =[6]F!E247+[6]F!E262+[6]F!E412 -> 445826 | P27: =[6]F!F247+[6]F!F262+[6]F!F412 -> 480525 | Q27: =[6]F!G247+[6]F!G262+[6]F!G412 -> 444539 | R27: =[6]F!H247+[6]F!H262+[6]F!H412 -> 345279 | S27: =[6]F!I247+[6]F!I262+[6]F!I412 -> 348604 | T27: =[6]F!J247+[6]F!J262+[6]F!J412 -> 324973 | U27: =[6]F!K247+[6]F!K262+[6]F!K412 -> 174330 | ... AB27: =[6]F!R247+[6]F!R262+[6]F!R412 -> 480525 | AC27: =[7]D!G30 -> 474430 | AD27: =[7]D!H30 -> 449292 | AE27: =[7]D!I30 -> 384187 | AF27: =[7]D!J30 -> 236883 | AG27: =[7]D!K30 -> 155845 | AH27: =[7]D!L30 -> 225716 | AI27: =[7]D!M30 -> 231535 | AJ27: =[7]D!N30 -> 227242 | AK27: =[7]D!O30 -> 233671 | AL27: =[7]D!D30 -> 270473 | AM27: =[7]D!E30 -> 311694 | AN27: =[7]D!F30 -> 480960 | AP27: =SUM(E27:P27) -> 3430330 | AQ27: =SUM(Q27:AB27) -> 3802127 | AR27: =SUM(AC27:AN27) -> 3681928
A28: Net Interruptible | B28: =B26-B27 -> 228800 | C28: =C26-C27 -> 246480 | D28: =D26-D27 -> 275249 | E28: =E26-E27 -> 289320 | F28: =F26-F27 -> 255957 | G28: =G26-G27 -> 272225 | H28: =H26-H27 -> 208480 | I28: =I26-I27 -> 192428 | ... AN28: =AN26-AN27 -> 275089 | AP28: =SUM(E28:P28) -> 2768733 | AQ28: =SUM(Q28:AB28) -> 2819289 | AR28: =SUM(AC28:AN28) -> 2811895
A29: Total Mcf Sales | B29: =B25+B28 -> 472874 | C29: =C25+C28 -> 777619 | D29: =D25+D28 -> 1104726 | E29: =E25+E28 -> 1390747 | F29: =F25+F28 -> 1420025 | G29: =G25+G28 -> 1286896 | H29: =H25+H28 -> 958325 | I29: =I25+I28 -> 605482 | ... AN29: =AN25+AN28 -> 1132811 | AP29: =SUM(E29:P29) -> 9611877 | AQ29: =SUM(Q29:AB29) -> 9732802 | AR29: =SUM(AC29:AN29) -> 9921518
N31: =N18 -> 2019
A32: Number of Customers | N32: =N19 -> October | AP32: avg | AQ32: avg | AR32: avg
A33: R | B33: =[8]D!C7 -> 45831 | C33: =[8]D!D7 -> 46471 | D33: =[8]D!E7 -> 46838 | E33: =[8]D!F7 -> 46977 | F33: =[8]D!G7 -> 47038 | G33: =[8]D!H7 -> 47078 | H33: =[8]D!I7 -> 47071 | I33: =[8]D!J7 -> 46919 | ... M33: =[8]D!N7 -> 46109 | N33: =[6]D!C7 -> 46469 | O33: =[6]D!D7 -> 47037 | P33: =[6]D!E7 -> 47365 | Q33: =[6]D!F7 -> 47508 | R33: =[6]D!G7 -> 47557 | S33: =[6]D!H7 -> 47610 | T33: =[6]D!I7 -> 47614 | U33: =[6]D!J7 -> 47493 | ... AB33: =[6]D!Q7 -> 47985 | AC33: =[7]D!G7 -> 48293 | AD33: =[7]D!H7 -> 48343 | AE33: =[7]D!I7 -> 48399 | AF33: =[7]D!J7 -> 48407 | AG33: =[7]D!K7 -> 48278 | AH33: =[7]D!L7 -> 48004 | AI33: =[7]D!M7 -> 47687 | AJ33: =[7]D!N7 -> 47600 | AK33: =[7]D!O7 -> 47647 | AL33: =[7]D!D7 -> 47381 | AM33: =[7]D!E7 -> 47864 | AN33: =[7]D!F7 -> 48156 | AP33: =AVERAGE(E33:P33) -> 46738.167 | AQ33: =AVERAGE(Q33:AB33) -> 47330.75 | AR33: =AVERAGE(AC33:AN33) -> 48004.917
A34: G1 | B34: =[8]D!C8 -> 3927 | C34: =[8]D!D8 -> 4052 | D34: =[8]D!E8 -> 4099 | E34: =[8]D!F8 -> 4124 | F34: =[8]D!G8 -> 4132 | G34: =[8]D!H8 -> 4133 | H34: =[8]D!I8 -> 4133 | I34: =[8]D!J8 -> 4095 | ... M34: =[8]D!N8 -> 3954 | N34: =[6]D!C8 -> 3925 | O34: =[6]D!D8 -> 4054 | P34: =[6]D!E8 -> 4101 | Q34: =[6]D!F8 -> 4132 | R34: =[6]D!G8 -> 4141 | S34: =[6]D!H8 -> 4143 | T34: =[6]D!I8 -> 4146 | U34: =[6]D!J8 -> 4112 | ... AB34: =[6]D!Q8 -> 4190 | AC34: =[7]D!G8 -> 4099 | AD34: =[7]D!H8 -> 4111 | AE34: =[7]D!I8 -> 4112 | AF34: =[7]D!J8 -> 4113 | AG34: =[7]D!K8 -> 4083 | AH34: =[7]D!L8 -> 4012 | AI34: =[7]D!M8 -> 3962 | AJ34: =[7]D!N8 -> 3943 | AK34: =[7]D!O8 -> 3893 | AL34: =[7]D!D8 -> 3899 | AM34: =[7]D!E8 -> 4016 | AN34: =[7]D!F8 -> 4066 | AP34: =AVERAGE(E34:P34) -> 4048.75 | AQ34: =AVERAGE(Q34:AB34) -> 4081.8333 | AR34: =AVERAGE(AC34:AN34) -> 4025.75
A35: G2 | B35: =[8]D!C9 -> 883 | C35: =[8]D!D9 -> 887 | D35: =[8]D!E9 -> 891 | E35: =[8]D!F9 -> 892 | F35: =[8]D!G9 -> 892 | G35: =[8]D!H9 -> 893 | H35: =[8]D!I9 -> 894 | I35: =[8]D!J9 -> 894 | ... M35: =[8]D!N9 -> 879 | N35: =[6]D!C9 -> 983 | O35: =[6]D!D9 -> 988 | P35: =[6]D!E9 -> 991 | Q35: =[6]D!F9 -> 992 | R35: =[6]D!G9 -> 992 | S35: =[6]D!H9 -> 990 | T35: =[6]D!I9 -> 989 | U35: =[6]D!J9 -> 990 | ... AB35: =[6]D!Q9 -> 993 | AC35: =[7]D!G9 -> 1032 | AD35: =[7]D!H9 -> 1034 | AE35: =[7]D!I9 -> 1032 | AF35: =[7]D!J9 -> 1032 | AG35: =[7]D!K9 -> 1028 | AH35: =[7]D!L9 -> 1022 | AI35: =[7]D!M9 -> 1018 | AJ35: =[7]D!N9 -> 1018 | AK35: =[7]D!O9 -> 1067 | AL35: =[7]D!D9 -> 1021 | AM35: =[7]D!E9 -> 1029 | AN35: =[7]D!F9 -> 1032 | AP35: =AVERAGE(E35:P35) -> 914 | AQ35: =AVERAGE(Q35:AB35) -> 988.25 | AR35: =AVERAGE(AC35:AN35) -> 1030.4167
A36: G3 | B36: =[8]D!C10 -> 500 | C36: =[8]D!D10 -> 504 | D36: =[8]D!E10 -> 509 | E36: =[8]D!F10 -> 513 | F36: =[8]D!G10 -> 513 | G36: =[8]D!H10 -> 513 | H36: =[8]D!I10 -> 513 | I36: =[8]D!J10 -> 514 | ... M36: =[8]D!N10 -> 509 | N36: =[6]D!C10 -> 476 | O36: =[6]D!D10 -> 478 | P36: =[6]D!E10 -> 481 | Q36: =[6]D!F10 -> 482 | R36: =[6]D!G10 -> 483 | S36: =[6]D!H10 -> 484 | T36: =[6]D!I10 -> 484 | U36: =[6]D!J10 -> 487 | ... AB36: =[6]D!Q10 -> 487 | AC36: =[7]D!G10 -> 507 | AD36: =[7]D!H10 -> 508 | AE36: =[7]D!I10 -> 506 | AF36: =[7]D!J10 -> 501 | AG36: =[7]D!K10 -> 504 | AH36: =[7]D!L10 -> 501 | AI36: =[7]D!M10 -> 497 | AJ36: =[7]D!N10 -> 497 | AK36: =[7]D!O10 -> 490 | AL36: =[7]D!D10 -> 498 | AM36: =[7]D!E10 -> 502 | AN36: =[7]D!F10 -> 507 | AP36: =AVERAGE(E36:P36) -> 503.91667 | AQ36: =AVERAGE(Q36:AB36) -> 483.83333 | AR36: =AVERAGE(AC36:AN36) -> 501.5
A37: G4 | B37: =[8]D!C11 -> 515 | C37: =[8]D!D11 -> 517 | D37: =[8]D!E11 -> 518 | E37: =[8]D!F11 -> 519 | F37: =[8]D!G11 -> 521 | G37: =[8]D!H11 -> 522 | H37: =[8]D!I11 -> 521 | I37: =[8]D!J11 -> 524 | ... M37: =[8]D!N11 -> 522 | N37: =[6]D!C11 -> 534 | O37: =[6]D!D11 -> 536 | P37: =[6]D!E11 -> 537 | Q37: =[6]D!F11 -> 538 | R37: =[6]D!G11 -> 539 | S37: =[6]D!H11 -> 540 | T37: =[6]D!I11 -> 540 | U37: =[6]D!J11 -> 543 | ... AB37: =[6]D!Q11 -> 543 | AC37: =[7]D!G11 -> 554 | AD37: =[7]D!H11 -> 555 | AE37: =[7]D!I11 -> 555 | AF37: =[7]D!J11 -> 556 | AG37: =[7]D!K11 -> 558 | AH37: =[7]D!L11 -> 555 | AI37: =[7]D!M11 -> 555 | AJ37: =[7]D!N11 -> 557 | AK37: =[7]D!O11 -> 562 | AL37: =[7]D!D11 -> 547 | AM37: =[7]D!E11 -> 548 | AN37: =[7]D!F11 -> 552 | AP37: =AVERAGE(E37:P37) -> 525 | AQ37: =AVERAGE(Q37:AB37) -> 540.08333 | AR37: =AVERAGE(AC37:AN37) -> 554.5
A38: Total Firm | B38: =SUM(B33:B37) -> 51656 | C38: =SUM(C33:C37) -> 52431 | D38: =SUM(D33:D37) -> 52855 | E38: =SUM(E33:E37) -> 53025 | F38: =SUM(F33:F37) -> 53096 | G38: =SUM(G33:G37) -> 53139 | H38: =SUM(H33:H37) -> 53132 | I38: =SUM(I33:I37) -> 52946 | ... AN38: =SUM(AN33:AN37) -> 54313 | AP38: =AVERAGE(E38:P38) -> 52729.833 | AQ38: =AVERAGE(Q38:AB38) -> 53424.75 | AR38: =AVERAGE(AC38:AN38) -> 54117.083
A39: Interuptible Sales | B39: =[8]D!C$12 -> 46 | C39: =[8]D!D$12 -> 44 | D39: =[8]D!E$12 -> 44 | E39: =[8]D!F$12 -> 43 | F39: =[8]D!G$12 -> 43 | G39: =[8]D!H$12 -> 43 | H39: =[8]D!I$12 -> 46 | I39: =[8]D!J$12 -> 47 | ... M39: =[8]D!N$12 -> 46 | N39: =[6]D!C12 -> 46 | O39: =[6]D!D12 -> 45 | P39: =[6]D!E12 -> 44 | Q39: =[6]D!F12 -> 43 | R39: =[6]D!G12 -> 43 | S39: =[6]D!H12 -> 43 | T39: =[6]D!I12 -> 45 | U39: =[6]D!J12 -> 46 | ... AB39: =[6]D!Q12 -> 44 | AC39: =[7]D!G12 -> 43 | AD39: =[7]D!H12 -> 43 | AE39: =[7]D!I12 -> 43 | AF39: =[7]D!J12 -> 45 | AG39: =[7]D!K12 -> 46 | AH39: =[7]D!L12 -> 46 | AI39: =[7]D!M12 -> 46 | AJ39: =[7]D!N12 -> 46 | AK39: =[7]D!O12 -> 46 | AL39: =[7]D!D12 -> 46 | AM39: =[7]D!E12 -> 45 | AN39: =[7]D!F12 -> 44 | AP39: =AVERAGE(E39:P39) -> 45.083333 | AQ39: =AVERAGE(Q39:AB39) -> 44.916667 | AR39: =AVERAGE(AC39:AN39) -> 44.916667
A40: Less Exempt Interruptible Customers | B40: 3 | C40: 3 | D40: 3 | E40: 3 | F40: 3 | G40: 3 | H40: 3 | I40: 3 | J40: 3 | K40: 3 | L40: 3 | M40: 3 | N40: 3 | O40: 3 | P40: 3 | Q40: 3 | R40: 3 | S40: 3 | T40: 3 | U40: 3 | V40: 3 | W40: 3 | X40: 3 | Y40: 3 | Z40: 3 | AA40: 3 | AB40: 3 | AC40: 3 | AD40: 3 | AE40: 3 | AF40: 3 | AG40: 3 | AH40: 3 | AI40: 3 | AJ40: 3 | AK40: 3 | AL40: 3 | AM40: 3 | AN40: 3 | AP40: =AVERAGE(E40:P40) -> 3 | AQ40: =AVERAGE(Q40:AB40) -> 3 | AR40: =AVERAGE(AC40:AN40) -> 3
A41: Net Interruptible | B41: =B39-B40 -> 43 | C41: =C39-C40 -> 41 | D41: =D39-D40 -> 41 | E41: =E39-E40 -> 40 | F41: =F39-F40 -> 40 | G41: =G39-G40 -> 40 | H41: =H39-H40 -> 43 | I41: =I39-I40 -> 44 | ... AN41: =AN39-AN40 -> 41 | AP41: =AVERAGE(E41:P41) -> 42.083333 | AQ41: =AVERAGE(Q41:AB41) -> 41.916667 | AR41: =AVERAGE(AC41:AN41) -> 41.916667
A42: Total customers | B42: =B41+B38 -> 51699 | C42: =C41+C38 -> 52472 | D42: =D41+D38 -> 52896 | E42: =E41+E38 -> 53065 | F42: =F41+F38 -> 53136 | G42: =G41+G38 -> 53179 | H42: =H41+H38 -> 53175 | I42: =I41+I38 -> 52990 | ... AN42: =AN41+AN38 -> 54354 | AP42: =AVERAGE(E42:P42) -> 52771.917 | AQ42: =AVERAGE(Q42:AB42) -> 53466.667 | AR42: =AVERAGE(AC42:AN42) -> 54159
A45: Data source
A46: old source for 2017 EEC charge factored Nov 2016 was Jan-Dec -February 2017 PGA file
...

Sheet EEU PSD Proposed budgets18-20
A1: EEU 2015-02 - September 22, 2015
A3: VGS TPP NG EEC Budget Recommendation
A4: Funded via Natual Gas EEC | C4: 2016 | D4: 2017 | E4: 2-yr Total
A5: Vermont Gas EE Program
A6: Resource Acquisition | C6: 2513464.3 | D6: 2720276 | E6: 5233740.3
A7: Non-Resource Acquisition | C7: 243964 | D7: 251449 | E7: 495413
B8: Sub-total | C8: 2757428.3 | D8: 2971725 | E8: 5729153.3
A9: Other
A10: DPS Evaluation | C10: 216860 | D10: 224360 | E10: 441220 | F10: modified 11/10/2015 (to reflect updated DPS Evaluation proposed costs as filed on 9/29/15)
A11: TEPF Clearinghouse | C11: 75330 | D11: 17670 | E11: 93000 | F11: Modified 11/10/2015 (to reflect VGS TEPF Clearinghouse cost-share)
A12: Fiscal Agent | C12: 5500 | D12: 5500 | E12: 11000 | G12: Total TEPF Clearing house cost for 2016-17
A13: Fiscal Agent Audit | C13: 2500 | D13: 2500 | E13: 5000 | I13: VGS Share 31%
B14: Sub-total | C14: 300190 | D14: 250030 | E14: 550220
B15: Natural Gas EEC-Funded Total | C15: 3057618.3 | D15: 3221755 | E15: 6279373.3
A21: DRP Case No. EEU-2016-03
A22: Approved
A23: PUC order | D23: pg # in document | E23: VGS | F23: 2018 | G23: 2019 | H23: 2020 | I23: Total 3 yr
A24: PUC Order 7/7/2017 | D24: pg 26 & 63 | E24: RA | F24: 2889201 | G24: 3014426 | H24: 3030476 | I24: =SUM(F24:H24) -> 8934103
D25: pg 14 | E25: DSS | F25: 259757 | G25: 267135 | H25: 269536 | I25: =SUM(F25:H25) -> 796428
A26: PUC order 10/12/2017 | D26: pg 19 | E26: Thermal Clearing House | F26: 14880 | G26: 14880 | H26: 14880 | I26: =SUM(F26:H26) -> 44640
E27: VGS Total | F27: =SUM(F24:F26) -> 3163838 | G27: =SUM(G24:G26) -> 3296441 | H27: =SUM(H24:H26) -> 3314892 | I27: =SUM(I24:I26) -> 9775171
E28: Potential Study
D29: pg 16 | E29: Eval ng | F29: 212500 | G29: 209300 | H29: 251800 | I29: =SUM(F29:H29) -> 673600
D30: pg 18 | E30: Fiscal Agent ng | F30: 7399 | G30: 7547 | H30: 7698 | I30: =SUM(F30:H30) -> 22644
D31: pg 18 | E31: Independent Audit ng | F31: 2500 | G31: 2550 | H31: 2601 | I31: =SUM(F31:H31) -> 7651
F32: =SUM(F29:F31) -> 222399 | G32: =SUM(G29:G31) -> 219397 | H32: =SUM(H29:H31) -> 262099 | I32: =SUM(I29:I31) -> 703895
E34: Total VGS EEC Budget | F34: =F32+F27 -> 3386237 | G34: =G32+G27 -> 3515838 | H34: =H32+H27 -> 3576991 | I34: =I32+I27 -> 10479066
E36: DPS eval/fiscal/TEPF | F36: =F32+F26 -> 237279 | G36: =G32+G26 -> 234277 | H36: =H32+H26 -> 276979

Sheet AVG Liap customers
C1: CY 2021
A2: Total CY2018 Residential | C2: ='CY 2019-2020 forecast'!AQ20 -> 3931986
A3: Low Income | C3: =C24 -> 189266.6
A5: Percent LIAP | C5: =C3/C2 -> 0.048135115
A6: Percent Rate R | C6: =(1-C5) -> 0.95186489
D16: Projected | O16: Projected | P16: Projected | Q16: Projected | R16: Projected
A17: Rate R | B17: Rate R | C17: Projected CY2021 | D17: Oct | E17: Nov | F17: Dec | G17: Jan | H17: Feb | I17: Mar | J17: Apr | K17: May | L17: June | M17: July | N17: Aug | O17: Sept | P17: Oct | Q17: Nov | R17: Dec
A19: # of Customers Enrolled in LIAP annual | B19: # of Customers Enrolled in LIAP | C19: =SUM(G19:R19) -> 24511 | D19: 2069 | E19: 2032 | F19: 2185 | G19: 2521 | H19: 2176 | I19: 1967 | J19: 1948 | K19: 1909 | L19: 1935 | M19: 1861 | N19: 1782 | O19: 2126 | P19: 2069 | Q19: 2032 | R19: 2185
A21: Average MCFUsage (MCF/Bill) | B21: Average MCFUsage (MCF/Bill) | D21: 2.7961059 | E21: 7.8934074 | F21: 11.433277 | G21: 14.367549 | H21: 16.045734 | I21: 12.531164 | J21: 9.7805224 | K21: 5.7932132 | L21: 3.2413866 | M21: 1.7685863 | N21: 1.7523215 | O21: 1.8239294 | P21: 2.7961059 | Q21: 7.8934074 | R21: 11.433277
A24: Total Mcf LIAP/Month | B24: Total Mcf LIAP/Month | C24: =SUM(G24:R24) -> 189266.6 | D24: =D21*D19 -> 5785.1432 | E24: =E21*E19 -> 16039.404 | F24: =F21*F19 -> 24981.71 | G24: =G21*G19 -> 36220.59 | H24: =H21*H19 -> 34915.518 | I24: =I21*I19 -> 24648.799 | J24: =J21*J19 -> 19052.458 | K24: =K21*K19 -> 11059.244 | ... R24: =R21*R19 -> 24981.71
B27: Monthly count | C27: =C19/12 -> 2042.5833

Sheet Rate Impact VGS
A1: VERMONT GAS SYSTEMS
A2: COMPARISON OF RATES | B2: COMPARISON OF RATES
A3: Firm Rate Impact Overall - Current and VGS Proposed Rates
E5: Current Rates effective 8/6/2019 | F5: Revenues at Current Rates | I5: Rates effective 11/1/2020, with Proposed new EEC charge | J5: Revenues at Current Rates
A7: Rate R
B8: Daily Access Charge | D8: ='CY 2019-2020 forecast'!AQ33 -> 47330.75 | E8: ='VGS rates'!BI4 -> 0.726 | F8: =E8*$D8*365 -> 12542175 | I8: ='VGS rates'!BM4 -> 0.7622 | J8: =I8*$D8*365 -> 13167557 | K8: =J8/F8-1 -> 0.049862259
B9: Monthly Equivalent | E9: =E8*365/12 -> 22.0825 | I9: =I8*365/12 -> 23.183583
B10: Natural Gas Charge | D10: ='CY 2019-2020 forecast'!AQ20 -> 3931986 | E10: ='VGS rates'!BI5 -> 0.3461 | F10: =E10*10*$D10 -> 13608604 | I10: ='VGS rates'!BM5 -> 0.3461 | J10: =I10*10*$D10 -> 13608604 | K10: =J10/F10-1 -> 0
B11: Distribution Charge | E11: ='VGS rates'!BI6 -> 0.6195 | F11: =E11*10*$D10 -> 24358653 | I11: ='VGS rates'!BM6 -> 0.6504 | J11: =I11*10*$D10 -> 25573637 | K11: =J11/F11-1 -> 0.049878935
B12: Total VGS Revenues | F12: =SUM(F8:F11) -> 50509432 | J12: =SUM(J8:J11) -> 52349797 | K12: =J12/F12-1 -> 0.036436063
B13: LIAP | E13: ='VGS rates'!BI8 -> 0.11 | F13: =E13*$D8*12 -> 62476.59 | I13: ='VGS rates'!BM8 -> 0.11 | J13: =I13*$D8*12 -> 62476.59 | K13: =J13/F13-1 -> 0
B14: VGS Revenues with LIAP | F14: =F13+F12 -> 50571909 | J14: =J13+J12 -> 52412274
B15: EEU Charge | E15: ='VGS rates'!BI7 -> 0.048 | F15: =E15*10*$D10 -> 1887353.3 | I15: ='VGS rates'!BM7 -> 0.04947 | J15: =I15*10*$D10 -> 1945153.5 | K15: =J15/F15-1 -> 0.030625
B16: Total Residential Revenues with EEU | F16: =F15+F14 -> 52459262 | J16: =J15+J14 -> 54357427 | K16: =J16/F16-1 -> 0.036183602
A18: Rate G1
B19: Daily Access Charge | D19: ='CY 2019-2020 forecast'!AQ34 -> 4081.8333 | E19: ='VGS rates'!BI11 -> 1.2032 | F19: =E19*$D19*365 -> 1792610.6 | I19: ='VGS rates'!BM11 -> 1.2632 | J19: =I19*$D19*365 -> 1882002.7 | K19: =J19/F19-1 -> 0.049867021
B20: Monthly Equivalent | E20: =E19*365/12 -> 36.597333 | I20: =I19*365/12 -> 38.422333
B21: Natural Gas Charge | D21: ='CY 2019-2020 forecast'!AQ21 -> 618676 | E21: ='VGS rates'!BI12 -> 0.4021 | F21: =E21*10*$D21 -> 2487696.2 | I21: ='VGS rates'!BM12 -> 0.4021 | J21: =I21*10*$D21 -> 2487696.2 | K21: =J21/F21-1 -> 0
B22: Distribution Charge | E22: ='VGS rates'!BI13 -> 0.482 | F22: =E22*10*$D21 -> 2982018.3 | I22: ='VGS rates'!BM13 -> 0.506 | J22: =I22*10*$D21 -> 3130500.6 | K22: =J22/F22-1 -> 0.049792531
B23: Total VGS Revenues | F23: =SUM(F19:F22) -> 7262325.1 | J23: =SUM(J19:J22) -> 7500199.5 | K23: =J23/F23-1 -> 0.032754577
B24: LIAP | E24: ='VGS rates'!BI15 -> 0.16 | F24: =E24*$D19*12 -> 7837.12 | I24: ='VGS rates'!BM15 -> 0.16 | J24: =I24*$D19*12 -> 7837.12 | K24: =J24/F24-1 -> 0
B25: VGS Revenues with LIAP | F25: =F24+F23 -> 7270162.2 | J25: =J24+J23 -> 7508036.6
B26: EEU Charge | E26: ='VGS rates'!BI14 -> 0.0454 | F26: =E26*10*$D21 -> 280878.9 | I26: ='VGS rates'!BM14 -> 0.04679 | J26: =I26*10*$D21 -> 289478.5 | K26: =J26/F26-1 -> 0.03061674
B27: Total G1 Revenues with EEU | F27: =F26+F25 -> 7551041.1 | J27: =J26+J25 -> 7797515.1 | K27: =J27/F27-1 -> 0.03264106
A29: Rate G2
B30: Daily Access Charge | D30: ='CY 2019-2020 forecast'!AQ35 -> 988.25 | E30: ='VGS rates'!BI18 -> 1.2032 | F30: =E30*$D30*365 -> 434007.78 | I30: ='VGS rates'!BM18 -> 1.2632 | J30: =I30*$D30*365 -> 455650.45 | K30: =J30/F30-1 -> 0.049867021
B31: Monthly Equivalent | E31: =E30*365/12 -> 36.597333 | I31: =I30*365/12 -> 38.422333
B32: Natural Gas Charge | D32: ='CY 2019-2020 forecast'!AQ22 -> 198855 | E32: ='VGS rates'!BI19 -> 0.2971 | F32: =E32*10*$D32 -> 590798.2 | I32: ='VGS rates'!BM19 -> 0.2971 | J32: =I32*10*$D32 -> 590798.2 | K32: =J32/F32-1 -> 0
B33: Distribution Charge | E33: ='VGS rates'!BI20 -> 0.4012 | F33: =E33*10*$D32 -> 797806.26 | I33: ='VGS rates'!BM20 -> 0.4212 | J33: =I33*10*$D32 -> 837577.26 | K33: =J33/F33-1 -> 0.049850449
B34: Total VGS Revenues | F34: =SUM(F30:F33) -> 1822612.2 | J34: =SUM(J30:J33) -> 1884025.9 | K34: =J34/F34-1 -> 0.033695415
