Workbook

Sheet 2019 FA Data
D3: 2 | E3: 3 | F3: 4 | G3: 5 | H3: 6 | I3: 7 | J3: 8 | K3: 9
D4: 2019 Consumption Data | L4: Total
A5: Distribution Utility | C5: Utility | D5: Residential kWh | E5: Commercial Non-Demand kWh | F5: Streetlights kWh | G5: Commercial Demand kWh | H5: Commercial Demand kW | I5: Industrial Non-Demand kWh | J5: Industrial Demand kWh | K5: Industrial Demand kW | L5: kWh | M5: kW
A6: Barton Village, Inc | B6: Barton Villlage, Inc Electric Department | C6: Barton | D6: 10123377 | E6: 1050281 | F6: 115951 | G6: 2327417 | H6: 7487 | I6: 0 | J6: 0 | K6: 0 | L6: =SUM(D6:G6,I6:J6) -> 13617026 | M6: =H6+K6 -> 7487
A7: Enosburg Falls | B7: Enosburg Falls Water & Light Dept. | C7: Enosburg Falls | D7: 13646733 | E7: 2442317 | F7: 128609 | G7: 10147575 | H7: 23481.6 | I7: 0 | J7: 0 | K7: 0 | L7: =SUM(D7:G7,I7:J7) -> 26365234 | M7: =H7+K7 -> 23481.6
A8: Green Mountain Power | B8: Green Mountain Power Corporation | C8: Green Mountain Power | D8: 1490143897 | E8: 189962700 | F8: 9662377 | G8: 1264600601 | H8: 3852051.3 | I8: 0 | J8: 599895104 | K8: 1133262 | L8: =SUM(D8:G8,I8:J8) -> 3554264679 | M8: =H8+K8 -> 4985313.3
A9: Hardwick Electric Department | B9: Hardwick Electric Dept, Town of | C9: Hardwick | D9: 23390271 | E9: 5056167 | F9: 104191.48 | G9: 5355407 | H9: 19825.964 | I9: 0 | J9: 0 | K9: 0 | L9: =SUM(D9:G9,I9:J9) -> 33906036 | M9: =H9+K9 -> 19825.964
A10: Hyde Park | B10: Hyde Park Electric Dept., Village of | C10: Hyde Park | D10: 7024184.5 | E10: 1923063 | F10: 70111 | G10: 1210520 | H10: 41788.4 | I10: 0 | J10: 0 | K10: 0 | L10: =SUM(D10:G10,I10:J10) -> 10227878 | M10: =H10+K10 -> 41788.4
A11: Jacksonville | B11: Jacksonville Electric Company, Village of | C11: Jacksonville | D11: 3470729 | E11: 552438 | F11: 52164 | G11: 865613 | H11: 4748 | I11: 0 | J11: 0 | K11: 0 | L11: =SUM(D11:G11,I11:J11) -> 4940944 | M11: =H11+K11 -> 4748
A12: Johnson | B12: Johnson Water & Light Dept., Village of | C12: Johnson | D12: 5225830 | E12: 1854106 | F12: 64258 | G12: 6164327 | H12: 13534 | I12: 0 | J12: 0 | K12: 0 | L12: =SUM(D12:G12,I12:J12) -> 13308521 | M12: =H12+K12 -> 13534
A13: Village of Ludlow Electric Light Dept | B13: Ludlow Electric Light Dept., Village of | C13: Ludlow | D13: 16788708 | E13: 5489466 | F13: 324996 | G13: 12855166 | H13: 42958.183 | I13: 0 | J13: 19853479 | K13: 76731 | L13: =SUM(D13:G13,I13:J13) -> 55311815 | M13: =H13+K13 -> 119689.18
A14: Lyndonville | B14: Lyndonville Electric Dept., Village of | C14: Lyndonville | D14: 28411514 | E14: 12187559 | F14: 477435 | G14: 17726842 | H14: 55604.28 | I14: 0 | J14: 0 | K14: 0 | L14: =SUM(D14:G14,I14:J14) -> 58803351 | M14: =H14+K14 -> 55604.28
A15: Morrisville Water & Light Department | B15: Morrisville Water & Light Dept., Village of | C15: Morrisville | D15: 21389476 | E15: 5430579 | F15: 70646 | G15: 18276573 | H15: 52476.4 | I15: 0 | J15: 0 | K15: 0 | L15: =SUM(D15:G15,I15:J15) -> 45167274 | M15: =H15+K15 -> 52476.4
A16: Northfield | B16: Northfield Elevtric Dept., Village of | C16: Northfield | D16: 10193675 | E16: 2577052 | F16: 89430 | G16: 7176697 | H16: 19300.288 | I16: 0 | J16: 8855839 | K16: 18598.458 | L16: =SUM(D16:G16,I16:J16) -> 28892693 | M16: =H16+K16 -> 37898.746
A17: Orleans Electric Departemnt | B17: Orleans Electric Dept., Village of | C17: Orleans | D17: 3938086 | E17: 1825887.1 | F17: 139088 | G17: 0 | H17: 0 | I17: 0 | J17: 6132492 | K17: 25547 | L17: =SUM(D17:G17,I17:J17) -> 12035553 | M17: =H17+K17 -> 25547
... A21: Washington Electric Co-op, Inc | B21: Washington Electric Cooperative, Inc. | C21: Washington Electric Coop (WEC) | D21: 61470226 | E21: 5116719 | F21: 152439 | G21: 3834136 | H21: 11604.848 | I21: 0 | J21: 0 | K21: 0 | L21: =SUM(D21:G21,I21:J21) -> 70573520 | M21: =H21+K21 -> 11604.848
A22: Total | C22: Total | D22: =SUM(D6:D21) -> 1.9671493e+09 | E22: =SUM(E6:E21) -> 3.1223804e+08 | F22: =SUM(F6:F21) -> 13255455 | G22: =SUM(G6:G21) -> 1476949060 | H22: =SUM(H6:H21) -> 4359777.7 | I22: =SUM(I6:I21) -> 5869669 | J22: =SUM(J6:J21) -> 730271104 | K22: =SUM(K6:K21) -> 1628440.5 | ... M22: =SUM(M6:M21) -> 5988218.2
C26: 2019 Calculated Revenue by Sector | D26: With Tax | E26: Net of Tax
C27: Residential | D27: 26973979 | E27: 26704239 | H27: With Tax | I27: Net of Tax | J27: kWh | K27: kW
C28: Commercial Non-Demand | D28: 3406517 | E28: 3372451.8 | G28: Residential | H28: =D27 -> 26973979 | I28: =E27 -> 26704239 | J28: =D22 -> 1.9671493e+09 | K28: =0 -> 0
C29: Commercial Demand (kWh) | D29: 10442030 | E29: 10337610 | G29: Commercial | H29: =SUM(D28:D30,D34) -> 18955899 | I29: =SUM(E28:E30,E34) -> 18766340 | J29: =E22+F22+G22 -> 1.8024426e+09 | K29: =H22 -> 4359777.7
C30: Commercial Demand (kW) | D30: 4962735 | E30: 4913107.7 | G30: Industrial | H30: =SUM(D31:D33) -> 5832835.6 | I30: =SUM(E31:E33) -> 5774507.2 | J30: =J22+I22 -> 736140773 | K30: =K22 -> 1628440.5
C31: Industrial Non-Demand | D31: 45196.46 | E31: 44744.49 | G31: Total | H31: =SUM(H28:H30) -> 51762714 | I31: =SUM(I28:I30) -> 51245086 | J31: =SUM(J28:J30) -> 4.5057326e+09
C32: Industrial Demand (kWh) | D32: 3812015.2 | E32: 3773895
C33: Industrial Demand (kW) | D33: 1975624 | E33: 1955867.7
C34: Street & Area Lights | D34: 144617.03 | E34: 143170.85
C35: Total | D35: 51762714 | E35: 51245086

Sheet 2019 Detailed True-up
A5: Commercial Efficiency Charge b | B5: Commercial Efficiency Charge | C5: 75209 | D5: 0.01091 | E5: 820.51
A6: Commercial Efficiency Charge c | B6: Commercial Efficiency Charge | C6: 203174 | D6: 0.00707 | E6: 1436.42 | I6: 2019 Actual Revenue | K6: 2019 Approved Budgets
A7: Commercial Efficiency Charge d | B7: Commercial Efficiency Charge | C7: 566 | D7: 1.13827 | E7: 644.26 | H7: Sector | I7: With Tax | J7: No Tax | K7: Rates | L7: Consumption | M7: Revenue | N7: Variance
A8: Street and Area Light Efficienc | B8: Street and Area Light Efficiency Charge | C8: 10441 | D8: 0.00966 | E8: 100.83 | G8: Residential Efficiency Charge | H8: Residential | I8: =SUMIF(A$5:A$1086,G8,E$5:E$1086) -> 27007336 | J8: =I8*0.99 -> 26737262 | K8: 0.01371 | L8: 1931666733 | M8: =L8*K8 -> 26483151 | N8: =I8-M8 -> 524184.92 | P8: =J8/J$16 -> 0.52180992 | Q8: =J21/J$29 -> 0.51643048
A9: Residential Efficiency Charge | B9: Residential Efficiency Charge | C9: 998607 | D9: 0.01413 | E9: 14110.32 | G9: Commercial Efficiency Charge b | H9: Commercial Non-Demand | I9: =SUMIF(A$5:A$1086,G9,E$5:E$1086) -> 3408238.7 | J9: =I9*0.99 -> 3374156.3 | K9: 0.01091 | L9: 3.1943173e+08 | M9: =L9*K9 -> 3485000.2 | N9: =I9-M9 -> -76761.495 | P9: =J9/J$16 -> 0.065850729 | Q9: =J22/J$29 -> 0.065406663
A10: Residential Efficiency Charge | B10: Residential Efficiency Charge | C10: 994345 | D10: 0.0130206 | E10: 12946.97 | G10: Commercial Efficiency Charge c | H10: Commecrial Demand kWh | I10: =SUMIF(A$5:A$1086,G10,E$5:E$1086) -> 10441994 | J10: =I10*0.99 -> 10337574 | K10: 0.00707 | L10: 1.5205517e+09 | M10: =L10*K10 -> 10750300 | N10: =I10-M10 -> -308306.22 | P10: =J10/J$16 -> 0.20175023 | Q10: =J23/J$29 -> 0.20176219
A11: Commercial Efficiency Charge b | B11: Commercial Efficiency Charge | C11: 79216 | D11: 0.01091 | E11: 864.25 | G11: Commercial Efficiency Charge d | H11: Commercial Demand kW | I11: =SUMIF(A$5:A$1086,G11,E$5:E$1086) -> 4919859.1 | J11: =I11*0.99 -> 4870660.5 | K11: 1.1383 | L11: 4836803.5 | M11: =L11*K11 -> 5505733.4 | N11: =I11-M11 -> -585874.32 | P11: =J11/J$16 -> 0.095056814 | Q11: =J24/J$29 -> 0.10333189
A12: Commercial Efficiency Charge c | B12: Commercial Efficiency Charge | C12: 190447 | D12: 0.00707 | E12: 1346.46 | G12: Industrial Efficiency Charge e | H12: Industrial Non-Demand | I12: =SUMIF(A$5:A$1086,G12,E$5:E$1086) -> 45196.46 | J12: =I12*0.99 -> 44744.495 | K12: 0.0077 | L12: 9972776 | M12: =L12*K12 -> 76790.375 | N12: =I12-M12 -> -31593.915 | P12: =J12/J$16 -> 0.00087324279 | Q12: =J25/J$29 -> 0.0015877346
A13: Street and Area Light Efficienc | B13: Street and Area Light Efficiency Charge | C13: 10441 | D13: 0.00966 | E13: 100.83 | G13: Industrial Efficiency Charge f | H13: Industrial Demand kWh | I13: =SUMIF(A$5:A$1086,G13,E$5:E$1086) -> 3814580.8 | J13: =I13*0.99 -> 3776435 | K13: 0.00522 | L13: 703687893 | M13: =L13*K13 -> 3673250.8 | N13: =I13-M13 -> 141330 | P13: =J13/J$16 -> 0.073701683 | Q13: =J26/J$29 -> 0.075948936
A14: Commercial Efficiency Charge d | B14: Commercial Efficiency Charge | C14: 600 | D14: 1.13827 | E14: 682.96 | G14: Industrial Efficiency Charge g | H14: Industrial Demand kW | I14: =SUMIF(A$5:A$1086,G14,E$5:E$1086) -> 1975622.3 | J14: =I14*0.99 -> 1955866.1 | K14: 1.2132 | L14: 1416502.9 | M14: =L14*K14 -> 1718501.3 | N14: =I14-M14 -> 257121.04 | P14: =J14/J$16 -> 0.038171086 | Q14: =J27/J$29 -> 0.035532108
A15: Residential Efficiency Charge | B15: Residential Efficiency Charge | C15: 855969 | D15: 0.01371 | E15: 11735.33 | G15: Street and Area Light Efficienc | H15: Street Lights | I15: =SUMIF(A$5:A$1086,G15,E$5:E$1086) -> 144210.33 | J15: =I15*0.99 -> 142768.23 | K15: =K9 -> 0.01091 | N15: =I15-M15 -> 144210.33
A16: Commercial Efficiency Charge b | B16: Commercial Efficiency Charge | C16: 86482 | D16: 0.01091 | E16: 943.52 | H16: Total Collections | I16: =SUM(I8:I15) -> 51757038 | J16: =SUM(J8:J15) -> 51239467 | M16: =SUM(M8:M15) -> 51692727 | N16: =SUM(N8:N15) -> 64310.337
A17: Commercial Efficiency Charge c | B17: Commercial Efficiency Charge | C17: 173739 | D17: 0.00707 | E17: 1228.34
A18: Commercial Efficiency Charge d | B18: Commercial Efficiency Charge | C18: 578 | D18: 1.1383 | E18: 657.94
A19: Street and Area Light Efficienc | B19: Street and Area Light Efficiency Charge | C19: 10703 | D19: 0.0096506 | E19: 103.29 | I19: 2020 Actual Revenue | K19: 2020 Approved Budgets | P19: 2021
A20: Residential Efficiency Charge | B20: Residential Efficiency Charge | C20: 757868 | D20: 0.01371 | E20: 10390.37 | H20: Sector | I20: With Tax | J20: No Tax | K20: Rates | L20: Consumption | M20: Revenue | N20: Variance | P20: Budgets
A21: Commercial Efficiency Charge b | B21: Commercial Efficiency Charge | C21: 69236 | D21: 0.01091 | E21: 755.36 | H21: Residential | I21: =J21/0.99 -> 23639021 | J21: 23402630 | K21: 0.01188 | L21: 2017249821 | M21: =L21*K21 -> 23964928 | N21: =I21-M21 -> -325907.27
A22: Commercial Efficiency Charge c | B22: Commercial Efficiency Charge | C22: 181164 | D22: 0.00707 | E22: 1280.83 | H22: Commercial Non-Demand | I22: =J22/0.99 -> 2993916 | J22: =M34*J$34 -> 2963976.8 | K22: 0.01024 | L22: 3.2159515e+08 | M22: =L22*K22 -> 3293134.3 | N22: =I22-M22 -> -299218.39
A23: Commercial Efficiency Charge d | B23: Commercial Efficiency Charge | C23: 574 | D23: 1.1383 | E23: 653.38 | H23: Commecrial Demand kWh | I23: =J23/0.99 -> 9235436 | J23: =M35*J$34 -> 9143081.6 | K23: 0.00662 | L23: 1.5331313e+09 | M23: =L23*K23 -> 10149329 | N23: =I23-M23 -> -913893.38
A24: Street and Area Light Efficienc | B24: Street and Area Light Efficiency Charge | C24: 9206 | D24: 0.01091 | E24: 100.44 | H24: Commercial Demand kW | I24: =J24/0.99 -> 4729900.2 | J24: =M36*J$34 -> 4682601.2 | K24: 1.13825 | L24: 4871856.8 | M24: =L24*K24 -> 5545391 | N24: =I24-M24 -> -815490.73
A25: Street and Area Light Efficienc | B25: Street and Area Light Efficiency Charge | C25: 9206 | D25: 0.01091 | E25: 100.44 | H25: Industrial Non-Demand | I25: =J25/0.99 -> 72676.753 | J25: =J$35*M37 -> 71949.985 | K25: 0.00757 | L25: 8702978 | M25: =L25*K25 -> 65881.543 | N25: =I25-M25 -> 6795.2093
A26: Commercial Efficiency Charge d | B26: Commercial Efficiency Charge | C26: 626 | D26: 1.1383 | E26: 712.58 | H26: Industrial Demand kWh | I26: =J26/0.99 -> 3476476.6 | J26: =J$35*M38 -> 3441711.8 | K26: 0.00521 | L26: 714469990 | M26: =L26*K26 -> 3722388.6 | N26: =I26-M26 -> -245912.08
A27: Commercial Efficiency Charge c | B27: Commercial Efficiency Charge | C27: 218053 | D27: 0.00707 | E27: 1541.64 | H27: Industrial Demand kW | I27: =J27/0.99 -> 1626442 | J27: =J$35*M39 -> 1610177.6 | K27: 1.21316 | L27: 1390845.4 | M27: =L27*K27 -> 1687318 | N27: =I27-M27 -> -60876.008
A28: Commercial Efficiency Charge b | B28: Commercial Efficiency Charge | C28: 127295 | D28: 0.01091 | E28: 1388.79 | H28: Street Lights | I28: 0 | J28: =I28*0.99 -> 0 | K28: =K22 -> 0.01024 | N28: =I28-M28 -> 0
A29: Residential Efficiency Charge | B29: Residential Efficiency Charge | C29: 839500 | D29: 0.01371 | E29: 11509.54 | H29: Total Collections | I29: =SUM(I21:I28) -> 45773868 | J29: =SUM(J21:J28) -> 45316129 | M29: =SUM(M21:M28) -> 48428371 | N29: =SUM(N21:N28) -> -2654502.6
A30: Commercial Efficiency Charge d | B30: Commercial Efficiency Charge | C30: 564 | D30: 1.1383156 | E30: 642.01
A31: Street and Area Light Efficienc | B31: Street and Area Light Efficiency Charge | C31: 9503 | D31: 0.01091 | E31: 103.68
A32: Commercial Efficiency Charge c | B32: Commercial Efficiency Charge | C32: 163173 | D32: 0.00707 | E32: 1153.63
A33: Commercial Efficiency Charge b | B33: Commercial Efficiency Charge | C33: 101117 | D33: 0.01091 | E33: 1103.19
A34: Residential Efficiency Charge | B34: Residential Efficiency Charge | C34: 804055 | D34: 0.01371 | E34: 11023.6 | J34: 16789660 | L34: CND | M34: =M9/SUM(M$9:M$11) -> 0.17653585
A35: Residential Efficiency Charge | B35: Residential Efficiency Charge | C35: 674248 | D35: 0.01371 | E35: 9243.94 | J35: 5123839.4 | L35: CD kWh | M35: =M10/SUM(M$9:M$11) -> 0.54456623
A36: Commercial Efficiency Charge b | B36: Commercial Efficiency Charge | C36: 99176 | D36: 0.01091 | E36: 1082.01 | L36: CD kW | M36: =M11/SUM(M$9:M$11) -> 0.27889792
A37: Commercial Efficiency Charge c | B37: Commercial Efficiency Charge | C37: 165212 | D37: 0.00707 | E37: 1168.05 | L37: I ND | M37: =M12/SUM(M$12:M$14) -> 0.014042201
A38: Commercial Efficiency Charge d | B38: Commercial Efficiency Charge | C38: 626 | D38: 1.1383156 | E38: 712.59 | L38: I D kWh | M38: =M13/SUM(M$12:M$14) -> 0.67170564
A39: Street and Area Light Efficienc | B39: Street and Area Light Efficiency Charge | C39: 9206 | D39: 0.01091 | E39: 100.44 | L39: I D kW | M39: =M14/SUM(M$12:M$14) -> 0.31425216
A40: Commercial Efficiency Charge d | B40: Commercial Efficiency Charge | C40: 727 | D40: 1.1383156 | E40: 827.56
A41: Street and Area Light Efficienc | B41: Street and Area Light Efficiency Charge | C41: 9269 | D41: 0.0109106 | E41: 101.13
A42: Commercial Efficiency Charge c | B42: Commercial Efficiency Charge | C42: 268808 | D42: 0.00707 | E42: 1900.47
A43: Commercial Efficiency Charge b | B43: Commercial Efficiency Charge | C43: 79597 | D43: 0.01091 | E43: 868.4
A44: Residential Efficiency Charge | B44: Residential Efficiency Charge | C44: 774225 | D44: 0.01371 | E44: 10614.62
...

Sheet Sheet1
C5: 2019 Electric Sales | I5: 2021 EEC Rate Calculation
A6: Sector | B6: Units | C6: Revenue | D6: % Revenue by Sector | E6: Consumption | F6: % Consumption by Sector | I6: Budget | J6: Collections by Sector | K6: Consumption | L6: Rates | P6: 2020 Rates | Q6: % Change
A7: Residential | B7: kWh | C7: ='Util Rev and Load Data'!C40 -> 3.2178078e+08 | D7: =C7/C$16 -> 0.4778101 | E7: ='Util Rev and Load Data'!C86 -> 2.0173084e+09 | F7: =E7/E16 -> #DIV/0! | I7: ='EEC Calculation'!B41 -> 47158169 | J7: =I$7*D7 -> 22532649 | K7: ='EEC Calculation'!C68 -> 2.0173084e+09 | L7: =J7/K7 -> 0.011169661 | P7: ='EEC Rates Report'!C8 -> 0.01051418 | Q7: =L7/P7-1 -> 0.062342477
A8: Commercial
A9: Non Demand | B9: kWh | C9: ='Util Rev and Load Data'!G40+'Util Rev and Load Data'!H40 -> 58989806 | D9: =C9/C$16 -> 0.087593563 | E9: ='Util Rev and Load Data'!I86 -> 3.259209e+08 | F9: =E9/E$16 -> #DIV/0! | J9: =I$7*D9 -> 4130752 | K9: ='EEC Calculation'!C101 -> 3.186328e+08 | L9: =J9/K9 -> 0.012963989 | P9: ='EEC Rates Report'!C9 -> 0.012477734 | Q9: =L9/P9-1 -> 0.038969761
A10: Demand | B10: kWh | C10: ='Util Rev and Load Data'!K40 -> 1.3914374e+08 | D10: =C10/C$16 -> 0.2066136 | E10: ='Util Rev and Load Data'!K86 -> 1491129438 | F10: =E10/E$16 -> #DIV/0! | J10: =I$7*D10 -> 9743518.9 | K10: ='EEC Calculation'!B106 -> 1.358652e+09 | L10: =J10/K10 -> 0.0071714605 | P10: ='EEC Rates Report'!C14 -> 0.0079624133 | Q10: =L10/P10-1 -> -0.09933581
A11: Demand | B11: kW | C11: ='Util Rev and Load Data'!L40 -> 69849291 | D11: =C11/C$16 -> 0.10371874 | E11: ='Util Rev and Load Data'!L86 -> 4826265 | F11: =E11/E$16 -> #DIV/0! | J11: =I$7*D11 -> 4891185.8 | K11: ='EEC Calculation'!B109 -> 4069140 | L11: =J11/K11 -> 1.2020195 | P11: ='EEC Rates Report'!C15 -> 1.5076281 | Q11: =L11/P11-1 -> -0.20270821
A12: Industrial
A13: Non Demand | B13: kWh | C13: ='Util Rev and Load Data'!S40 -> 1216637 | D13: =C13/C$16 -> 0.001806576 | E13: ='Util Rev and Load Data'!S86 -> 5578093 | F13: =E13/E$16 -> #DIV/0! | J13: =I$7*D13 -> 85194.818 | K13: ='EEC Calculation'!C118 -> 6789470.1 | L13: =J13/K13 -> 0.012548081 | P13: ='EEC Rates Report'!C10 -> 0.0070952838 | Q13: =L13/P13-1 -> 0.76851004
A14: Demand | B14: kWh | C14: ='Util Rev and Load Data'!V40 -> 58358599 | D14: =C14/C$16 -> 0.086656288 | E14: ='Util Rev and Load Data'!V86 -> 727465365 | F14: =E14/E$16 -> #DIV/0! | J14: =I$7*D14 -> 4086551.9 | K14: ='EEC Calculation'!B123 -> 7.0059747e+08 | L14: =J14/K14 -> 0.0058329527 | P14: ='EEC Rates Report'!C17 -> 0.0047700573 | Q14: =L14/P14-1 -> 0.22282656
A15: Demand | B15: kW | C15: ='Util Rev and Load Data'!W40 -> 24110245 | D15: =C15/C$16 -> 0.035801139 | E15: ='Util Rev and Load Data'!W86 -> 1745708.2 | F15: =E15/E$16 -> #DIV/0! | J15: =I$7*D15 -> 1688316.2 | K15: ='EEC Calculation'!B126 -> 1526885.5 | L15: =J15/K15 -> 1.1057254 | P15: ='EEC Rates Report'!C18 -> 1.0669089 | Q15: =L15/P15-1 -> 0.036382182
A16: Totals | C16: =SUM(C7:C15) -> 6.734491e+08 | D16: =SUM(D7:D15) -> 1 | F16: =SUM(F7:F15) -> #DIV/0! | J16: =SUM(J7:J15) -> 47158169
C19: 2019 EEC Sales | I19: 2021 EEC Rate Calculation
A20: Sector | B20: Units | C20: Revenue | D20: % Revenue by Sector | E20: Consumption | I20: Budget | J20: Collections by Sector | K20: Consumption | L20: Rates | M20: Consumption Change % | P20: 2020 Rates | Q20: % Change | T20: Sector Shifts | U20: Intra-Sector Shifts
A21: Residential | B21: kWh | C21: ='2019 Detailed True-up'!J8 -> 26737262 | D21: =C21/C$30 -> 0.52180992 | E21: =E7 -> 2.0173084e+09 | F21: =C21*M21 -> 25400399 | G21: =F21/F$30 -> 0.51992471 | I21: =I7 -> 47158169 | J21: =I$21*G21 -> 24518697 | K21: =K7 -> 2.0173084e+09 | L21: =J21/K21 -> 0.012154164 | M21: =1-2.5*2% -> 0.95 | P21: =P7 -> 0.01051418 | Q21: =L21/P21-1 -> 0.15597829 | S21: =L21-P21 -> 0.0016399839 | T21: =-S21*K21 -> -3308353.3 | V21: =(J21+T21)/K21 -> 0.01051418 | W21: =V21/P21-1 -> 0
A22: Commercial
A23: Non Demand | B23: kWh | C23: ='2019 Detailed True-up'!J9+'2019 Detailed True-up'!J15 -> 3516924.5 | D23: =C23/C$30 -> 0.068637024 | E23: =E9 -> 3.259209e+08 | F23: =C23*M23 -> 3319976.8 | G23: =F23/F$30 -> 0.067957119 | J23: =I$21*G23 -> 3204733.3 | K23: =K9 -> 3.186328e+08 | L23: =J23/K23 -> 0.010057763 | M23: =1-0.028*2 -> 0.944 | P23: =P9 -> 0.012477734 | Q23: =L23/P23-1 -> -0.19394315 | S23: =J23/SUM(J$23:J$29) -> 0.14155513 | T23: =-T$21*S23 -> 468314.37 | V23: =(T23+J23)/K23 -> 0.011527525 | W23: =V23/P23-1 -> -0.076152379
A24: Demand | B24: kWh | C24: ='2019 Detailed True-up'!J10 -> 10337574 | D24: =C24/C$30 -> 0.20175023 | E24: =E10 -> 1491129438 | F24: =C24*M24 -> 9758670.1 | G24: =F24/F$30 -> 0.19975173 | J24: =I$21*G24 -> 9419925.9 | K24: =K10 -> 1.358652e+09 | L24: =J24/K24 -> 0.0069332884 | M24: =1-0.028*2 -> 0.944 | P24: =P10 -> 0.0079624133 | Q24: =L24/P24-1 -> -0.12924786 | S24: =J24/SUM(J$23:J$29) -> 0.41608417 | T24: =-T$21*S24 -> 1376553.4 | V24: =(T24+J24)/K24 -> 0.0079464643 | W24: =V24/P24-1 -> -0.0020030327
A25: Demand | B25: kW | C25: ='2019 Detailed True-up'!J11 -> 4870660.5 | D25: =C25/C$30 -> 0.095056814 | E25: =E11 -> 4826265 | F25: =C25*M25 -> 4597903.5 | G25: =F25/F$30 -> 0.0941152 | J25: =I$21*G25 -> 4438300.5 | K25: =K11 -> 4069140 | L25: =J25/K25 -> 1.090722 | M25: =1-0.028*2 -> 0.944 | P25: =P11 -> 1.5076281 | Q25: =L25/P25-1 -> -0.27653115 | S25: =J25/SUM(J$23:J$29) -> 0.19604258 | T25: =-T$21*S25 -> 648578.12 | V25: =(T25+J25)/K25 -> 1.2501115 | W25: =V25/P25-1 -> -0.17080914
A26: Industrial
A27: Non Demand | B27: kWh | C27: ='2019 Detailed True-up'!J12 -> 44744.495 | D27: =C27/C$30 -> 0.00087324279 | E27: =E13 -> 5578093 | F27: =C27*M27 -> 44744.495 | G27: =F27/F$30 -> 0.00091588201 | J27: =I$21*G27 -> 43191.319 | K27: =K13 -> 6789470.1 | L27: =J27/K27 -> 0.0063615154 | M27: 1 | P27: =P13 -> 0.0070952838 | Q27: =L27/P27-1 -> -0.10341636 | S27: =J27/SUM(J$23:J$29) -> 0.0019077883 | T27: =-T$21*S27 -> 6311.6376 | V27: =(T27+J27)/K27 -> 0.007291137 | W27: =V27/P27-1 -> 0.027603284
A28: Demand | B28: kWh | C28: ='2019 Detailed True-up'!J13 -> 3776435 | D28: =C28/C$30 -> 0.073701683 | E28: =E14 -> 727465365 | F28: =C28*M28 -> 3776435 | G28: =F28/F$30 -> 0.077300433 | J28: =I$21*G28 -> 3645346.9 | K28: =K14 -> 7.0059747e+08 | L28: =J28/K28 -> 0.0052031974 | M28: 1 | P28: =P14 -> 0.0047700573 | Q28: =L28/P28-1 -> 0.090803964 | S28: =J28/SUM(J$23:J$29) -> 0.16101731 | T28: =-T$21*S28 -> 532702.15 | V28: =(T28+J28)/K28 -> 0.0059635515 | W28: =V28/P28-1 -> 0.25020542
A29: Demand | B29: kW | C29: ='2019 Detailed True-up'!J14 -> 1955866.1 | D29: =C29/C$30 -> 0.038171086 | E29: =E15 -> 1745708.2 | F29: =C29*M29 -> 1955866.1 | G29: =F29/F$30 -> 0.040034926 | J29: =I$21*G29 -> 1887973.8 | K29: =K15 -> 1526885.5 | L29: =J29/K29 -> 1.2364868 | M29: 1 | P29: =P15 -> 1.0669089 | Q29: =L29/P29-1 -> 0.15894314 | S29: =J29/SUM(J$23:J$29) -> 0.083393016 | T29: =-T$21*S29 -> 275893.56 | V29: =(T29+J29)/K29 -> 1.4171772 | W29: =V29/P29-1 -> 0.32830192
A30: Totals | C30: =SUM(C21:C29) -> 51239467 | D30: =SUM(D21:D29) -> 1 | F30: =SUM(F21:F29) -> 48853995 | J30: =SUM(J21:J29) -> 47158169
K31: =K21+K23+K24+K27+K28 -> 4.4019801e+09
K32: =K25+K29 -> 5596025.6

Sheet Gross Consumption
Q3: We have 8020.54 kW of systems over 15 kW in size
A4: VEC NM Data | J4: Customers | Q4: 6797.92 kW of what we consider commercial accounts, 44 accounts total
J5: Type | K5: Total | L5: Residential | M5: Commercial | N5: C % | Q5: 1222.62 kW of residential accounts, 32 accounts total
J6: Solar | K6: =SUM(L6:M6) -> 1532 | L6: 1465 | M6: 67 | N6: =M6/K6 -> 0.043733681
J7: Wind | K7: =SUM(L7:M7) -> 36 | L7: 30 | M7: 6 | N7: =M7/K7 -> 0.16666667
J8: Other | K8: =SUM(L8:M8) -> 3 | L8: 1 | M8: 2 | N8: =M8/K8 -> 0.66666667
J9: All | K9: =SUM(K6:K8) -> 1571 | L9: =SUM(L6:L8) -> 1496 | M9: =SUM(M6:M8) -> 75 | N9: =M9/K9 -> 0.047740293 | Q9: kW | R9: kWh | S9: kWh/kW | T9: % of kW
P10: Massie (W) | Q10: 6.1 | R10: 6500 | S10: =R10/Q10 -> 1065.5738 | T10: =R10/(Q10*1000) -> 1.0655738
P11: NREL.gov | Q11: 1.5 | R11: 3600 | S11: =R11/Q11 -> 2400 | T11: =R11/(Q11*1000) -> 2.4
J14: Capacity kW "Small" <7/1/18 | N14: =K16/18169 -> 0.55854367 | P14: Energy kWh | V14: Energy kWh (behind the meter=56%; 6 months)
J15: Type | K15: Total | L15: Residential | M15: Commercial | N15: C % | P15: Type | Q15: Total | R15: Residential | S15: Commercial | T15: C % | V15: Type | W15: Total | X15: Residential | Y15: Commercial | Z15: C %
J16: Solar | K16: =SUM(L16:M16) -> 10148.18 | L16: =11157.86-1223 -> 9934.86 | M16: =7011.32-6798 -> 213.32 | N16: =M16/K16 -> 0.021020518 | P16: Solar | Q16: =SUM(R16:S16) -> 10813634 | R16: =L16*$S$10 -> 10586326 | S16: =M16*$S$10 -> 227308.2 | T16: =S16/Q16 -> 0.021020518 | V16: Solar | W16: =Q16*V107 -> 5114051.8 | X16: =R16*V107 -> 5006551.7 | Y16: =S16*V107 -> 107500.02 | Z16: =Y16/W16 -> 0.021020518
J17: Wind | K17: =SUM(L17:M17) -> 278.04 | L17: 190.54 | M17: 87.5 | N17: =M17/K17 -> 0.31470292 | P17: Wind | Q17: =SUM(R17:S17) -> 667296 | R17: =L17*S11 -> 457296 | S17: =M17*S11 -> 210000 | T17: =S17/Q17 -> 0.31470292 | V17: Wind | W17: 0 | X17: =W17*(1-N7) -> 0 | Y17: =W17-X17 -> 0 | Z17: =Y17/W17 -> #DIV/0!
J18: Other | K18: =SUM(L18:M18) -> 290.87 | L18: 9.12 | M18: 281.75 | N18: =M18/K18 -> 0.96864579 | P18: Other | Q18: =SUM(R18:S18) -> 290.87 | R18: 9.12 | S18: 281.75 | T18: =S18/Q18 -> 0.96864579 | V18: Other | W18: =SUM(X18:Y18) -> 290.87 | X18: 9.12 | Y18: 281.75 | Z18: =Y18/W18 -> 0.96864579
J19: All | K19: =SUM(K16:K18) -> 10717.09 | L19: =SUM(L16:L18) -> 10134.52 | M19: =SUM(M16:M18) -> 582.57 | N19: =M19/K19 -> 0.054358972 | P19: All | Q19: =SUM(Q16:Q18) -> 11481221 | R19: =SUM(R16:R18) -> 11043631 | S19: =SUM(S16:S18) -> 437589.95 | T19: =S19/Q19 -> 0.038113536 | V19: All | W19: =SUM(W16:W18) -> 5114342.6 | X19: =SUM(X16:X18) -> 5006560.9 | Y19: =SUM(Y16:Y18) -> 107781.77 | Z19: =Y19/W19 -> 0.021074413
A23: VPPSA NM Data
M26: 6 months | N26: =1-N9 -> 0.95225971 | O26: =1-N26 -> 0.047740293 | S26: 2019 | T26: Last 6 months | U26: Residential | V26: Commercial | W26: Small %
K27: 2019 | L27: Total Gross | M27: 0.47 | N27: R | O27: CN/D | R27: WEC | S27: ='2019 FA Data'!D21*0.036 -> 2212928.1 | T27: =S27*V$107 -> 1046551.8 | U27: =T27 -> 1046551.8 | V27: 0 | W27: 1 | X27: provided by WEC all data
K28: Barton | L28: 163295 | M28: =L28*M$27 -> 76748.65 | N28: =M28*N$26 -> 73084.647 | O28: =M28-N28 -> 3664.003 | R28: GMP | S28: =Y106*1000 -> 56138000 | T28: =S28*V$107 -> 26549135 | U28: =W107*1000 -> 24818225 | V28: =X107*1000 -> 1730910.1 | W28: =R55 -> 0.32927611 | X28: provided by GMP for systems active prior to 7/1/2018
K29: Enosburg Falls | L29: 171000 | M29: =L29*M$27 -> 80370 | N29: =M29*N$26 -> 76533.113 | O29: =M29-N29 -> 3836.8873 | R29: Hyde Park | S29: =8195337*0.036 -> 295032.13 | T29: =S29*V$107 -> 139528.44 | U29: =T29*0.95 -> 132552.02 | V29: =T29-U29 -> 6976.4222 | X29: estimated at 3.6% of retail residential sales
K30: Hardwick | L30: 433344 | M30: =L30*M$27 -> 203671.68 | N30: =M30*N$26 -> 193948.33 | O30: =M30-N30 -> 9723.3456 | R30: Stowe | S30: ='Util Rev and Load Data'!C82*0.036 -> 885958.4 | T30: =S30*V$107 -> 418993 | U30: =T30*0.95 -> 398043.35 | V30: =T30-U30 -> 20949.65 | X30: estimated at 3.6% of retail residential sales
K31: Jacksonville | L31: 53666 | M31: =L31*M$27 -> 25223.02 | N31: =M31*N$26 -> 24018.866 | O31: =M31-N31 -> 1204.1544 | R31: VPPSA | S31: =L39 -> 2079077 | T31: =M39 -> 977166.66 | U31: =N39 -> 930515.99 | V31: =O39 -> 46650.2 | W31: =0.2 -> 0.2 | X31: estimated by VPPSA
K32: Johnson | L32: 38012 | M32: =L32*M$27 -> 17865.64 | N32: =M32*N$26 -> 17012.729 | O32: =M32-N32 -> 852.91088 | R32: VEC | S32: =Q16 -> 10813634 | T32: =S32*V$107 -> 5114051.8 | U32: =X16 -> 5006551.7 | V32: =Y16 -> 107500.02 | W32: =0.56 -> 0.56 | X32: provided by VEC
K33: Ludlow | L33: 38257 | M33: =L33*M$27 -> 17980.79 | N33: =M33*N$26 -> 17122.382 | O33: =M33-N33 -> 858.40818 | U33: =SUM(U27:U32) -> 32332440 | V33: =SUM(V27:V32) -> 1912986.4
K34: Lyndonville | L34: 333189 | M34: =L34*M$27 -> 156598.83 | N34: =M34*N$26 -> 149122.76 | O34: =M34-N34 -> 7476.074 | R34: Total kWh added | T34: =SUM(T27:T33) -> 34245427
K35: Morrisville | L35: 479564 | M35: =L35*M$27 -> 225395.08 | N35: =M35*N$26 -> 214634.65 | O35: =M35-N35 -> 10760.427 | R35: 2nd half 2019 Res Sales | T35: =T36*V107 -> 9.5362417e+08 | U35: =T34/T35 -> 0.03591082 | V35: % of retail estimated sales
K36: Northfield | L36: 164693 | M36: =L36*M$27 -> 77405.71 | N36: =M36*N$26 -> 73710.339 | O36: =M36-N36 -> 3695.3713 | R36: 100% 2019 Residential Sales | T36: 2.0164331e+09
K37: Orleans | L37: 18776 | M37: =L37*M$27 -> 8824.72 | N37: =M37*N$26 -> 8403.4253 | O37: =M37-N37 -> 421.29472
K38: Swanton | L38: 185281 | M38: =L38*M$27 -> 87082.07 | N38: =M38*N$26 -> 82924.746 | O38: =M38-N38 -> 4157.3235
K39: Total | L39: =SUM(L28:L38) -> 2079077 | M39: =SUM(M27:M38) -> 977166.66 | N39: =SUM(N28:N38) -> 930515.99 | O39: =SUM(O28:O38) -> 46650.2 | R39: Assumptions:
R40: <15kw are behind the meter
R41: 95% <15kw are residential
R42: >15 kw are better off in front of the meter
A52: GMP | E52: Data as of 11/16/18
B53: Small 0-15kW | E53: Size | F53: Status | G53: Solar NM 1.0 | I53: Solar NM 2.0 | K53: Solar NM 2.1 | M53: Non-Solar NM | O53: NM Totals
B54: Medium >15kW – 150kW | G54: # | H54: Capacity (MW) | I54: # | J54: Capacity (MW) | K54: # | L54: Capacity (MW) | M54: # | N54: Capacity (MW) | O54: # | P54: Capacity (MW) | Q54: MW <7/1/18 | T54: kWh Prior to 7/1/18
B55: Large >150kW and up | E55: Small | F55: Active | G55: 6379 | H55: 38.9 | I55: 1923 | J55: 12.5 | K55: 139 | L55: 0.9 | M55: 82 | N55: 0.5 | O55: 8523 | P55: 52.8 | Q55: =H55+J55 -> 51.4 | R55: =Q55/Q$61 -> 0.32927611 | T55: =(H55+J55)*S10*1000 -> 54770492
F56: Proposed | G56: 1 | H56: 0 | I56: 373 | J56: 3.1 | K56: 234 | L56: 1.7 | M56: 3 | N56: 0 | O56: 611 | P56: 4.8
B57: Assume Small are only ones behind the meter | E57: Medium | F57: Active | G57: 416 | H57: 32.2 | I57: 76 | J57: 4.7 | K57: 2 | L57: 0 | M57: 17 | N57: 1.6 | O57: 511 | P57: 38.5 | Q57: =H57+J57 -> 36.9 | R57: =Q57/Q$61 -> 0.23638693
F58: Proposed | G58: 3 | H58: 0.3 | I58: 113 | J58: 10.9 | K58: 20 | L58: 0.7 | M58: 1 | N58: 0.1 | O58: 137 | P58: 12
...

Sheet 2018-2020 C&I Comp
A8: Utility Sales Year | B8: Industrial Non-Demand kWh | C8: Industrial Demand kWh | D8: Industrial Demand On-Peak kW | E8: Total Industrial kWh | F8: kWh Change | H8: Industrial Non-Demand kWh Revenue | I8: Industrial Demand kWh Revenue | J8: Industrial Demand On-Peak kW Revenue | K8: Total Industrial Revenue | L8: Revenue Change | N8: $/kWh | P8: $/kW
A9: Actual 2016 | B9: 7951752 | C9: 727398788 | D9: 1558525 | E9: =C9+B9 -> 735350540 | H9: 338928 | I9: 54187521 | J9: 22198986 | K9: =SUM(H9:J9) -> 76725435 | N9: =(I9+H9)/E9 -> 0.074150281 | P9: =J9/D9 -> 14.243587
A10: Actual 2017 | B10: 9972776 | C10: 703687893 | D10: 1416502.9 | E10: =C10+B10 -> 713660669 | F10: =E10/E9-1 -> -0.029495961 | H10: 819118 | I10: 51376605 | J10: 21813347 | K10: =SUM(H10:J10) -> 74009071 | L10: =K10/K9-1 -> -0.035403698 | N10: =(I10+H10)/E10 -> 0.073138013 | O10: =N10/N9-1 -> -0.013651566 | P10: =J10/D10 -> 15.399437 | Q10: =P10/P9-1 -> 0.081148847
A11: Actual 2018 | B11: 8702978 | C11: 714469990 | D11: 1390845.4 | E11: =C11+B11 -> 723172968 | F11: =E11/E10-1 -> 0.013328882 | H11: 842442 | I11: 52070330 | J11: 21750354 | K11: =SUM(H11:J11) -> 74663126 | L11: =K11/K10-1 -> 0.0088375047 | N11: =(I11+H11)/E11 -> 0.073167519 | O11: =N11/N10-1 -> 0.0004034263 | P11: =J11/D11 -> 15.638226 | Q11: =P11/P10-1 -> 0.015506291
A12: Actual 2019 | B12: 5578093 | C12: 727465365 | D12: 1745708.2 | E12: =C12+B12 -> 733043458 | F12: =E12/E11-1 -> 0.013648865 | H12: ='Util Rev and Load Data'!S42 -> 1216637 | I12: ='Util Rev and Load Data'!V42 -> 58358599 | J12: ='Util Rev and Load Data'!W42 -> 24110245 | K12: =SUM(H12:J12) -> 83685481 | L12: =K12/K11-1 -> 0.12084083 | N12: =(I12+H12)/E12 -> 0.081271083 | O12: =N12/N11-1 -> 0.11075357 | P12: =J12/D12 -> 13.811154 | Q12: =P12/P11-1 -> -0.11683372
A13: Projected 2020 | B13: 6568991.2 | C13: 6.7784651e+08 | D13: 1526885.5 | E13: =C13+B13 -> 6.844155e+08 | F13: =E13/E12-1 -> -0.066337072 | H13: =H12/B12*B13 -> 1432761.7 | I13: =I12/C12*C13 -> 54378084 | J13: =J12/D12*D13 -> 21088051 | K13: =SUM(H13:J13) -> 76898896 | L13: =K13/K12-1 -> -0.081096318 | N13: =(I13+H13)/E13 -> 0.081545268 | O13: =N13/N12-1 -> 0.0033737062 | P13: =J13/D13 -> 13.811154 | Q13: =P13/P12-1 -> 0
A17: Utility Sales Year | B17: Commercial Non-Demand kWh | C17: Commercial Demand kWh | D17: Commercial Demand On-Peak kW | E17: Total Commercial kWh | F17: kWh Change | H17: Commercial Non-Demand kWh Revenue | I17: Commercial Demand kWh Revenue | J17: Commercial Demand On-Peak kW Revenue | K17: Total Commercial Revenue | L17: Revenue Change | N17: $/kWh | P17: $/kW
A18: Actual 2016 | B18: 371655561 | C18: 1527382956 | D18: 5164505 | E18: =C18+B18 -> 1899038517 | H18: 55567412 | I18: 131188104 | J18: 63193395 | K18: =SUM(H18:J18) -> 249948911 | N18: =(I18+H18)/E18 -> 0.098342142 | P18: =J18/D18 -> 12.236099
A19: Actual 2017 | B19: 3.1940373e+08 | C19: 1.5205517e+09 | D19: 4836803.5 | E19: =C19+B19 -> 1.8399554e+09 | F19: =E19/E18-1 -> -0.03111211 | H19: 55445976 | I19: 1.3081897e+08 | J19: 63687239 | K19: =SUM(H19:J19) -> 2.4995219e+08 | L19: =K19/K18-1 -> 1.3100602e-05 | N19: =(I19+H19)/E19 -> 0.1012334 | O19: =N19/N18-1 -> 0.029400008 | P19: =J19/D19 -> 13.167216 | Q19: =P19/P18-1 -> 0.07609593
A20: Actual 2018 | B20: 3.2156115e+08 | C20: 1.5331313e+09 | D20: 4871856.8 | E20: =C20+B20 -> 1.8546925e+09 | F20: =E20/E19-1 -> 0.008009462 | H20: 55566697 | I20: 1.2958258e+08 | J20: 65266311 | K20: =SUM(H20:J20) -> 2.5041559e+08 | L20: =K20/K19-1 -> 0.0018539846 | N20: =(I20+H20)/E20 -> 0.099827483 | O20: =N20/N19-1 -> -0.013887896 | P20: =J20/D20 -> 13.396599 | Q20: =P20/P19-1 -> 0.017420732
A21: Actual 2019 | B21: =325920903.142882-1912896 -> 3.2400801e+08 | C21: 1491129438 | D21: 4826265 | E21: =C21+B21 -> 1.8151374e+09 | F21: =E21/E20-1 -> -0.021327001 | H21: ='Util Rev and Load Data'!G42+'Util Rev and Load Data'!H42 -> 58989806 | I21: ='Util Rev and Load Data'!K42 -> 1.3914374e+08 | J21: ='Util Rev and Load Data'!L42 -> 69849291 | K21: =SUM(H21:J21) -> 2.6798284e+08 | L21: =K21/K20-1 -> 0.070152351 | N21: =(I21+H21)/E21 -> 0.10915622 | O21: =N21/N20-1 -> 0.093448599 | P21: =J21/D21 -> 14.472742 | Q21: =P21/P20-1 -> 0.080329601
A22: Projected 2020 | B22: ='EEC Calculation'!K71 -> 315935328 | C22: ='EEC Calculation'!K72 -> 1347149932 | D22: ='EEC Calculation'!K68 -> 4069140 | E22: =C22+B22 -> 1663085260 | F22: =E22/E21-1 -> -0.083768965 | H22: =H21/B21*B22 -> 57520071 | I22: =I21/C21*C22 -> 1.2570839e+08 | J22: =J21/D21*D22 -> 58891616 | K22: =SUM(H22:J22) -> 2.4212008e+08 | L22: =K22/K21-1 -> -0.096509017 | N22: =(I22+H22)/E22 -> 0.11017382 | O22: =N22/N21-1 -> 0.0093224253 | P22: =J22/D22 -> 14.472742 | Q22: =P22/P21-1 -> 0
A25: Utility Sales Year | B25: Residential kWh
A26: Actual 2018 | B26: 2017249821
A27: Actual 2019 | B27: 1.9849759e+09
A28: Projected 2020 | B28: 2.0769354e+09

Sheet 2018-2019 Comp
B5: Residential | F5: Commercial (less than 1,000 kw) | R5: Industrial (1,000 or greater kW)
A6: 2019 | G6: Non Demand Customers | K6: Demand Customers | R6: Non Demand | U6: Demand Customers | AA6: Total | AB6: Other
C7: Energy and | G7: Energy & | L7: Capacity (Billed) | P7: Total | S7: Energy & | W7: Capacity (Billed) | AA7: Industrial | AB7: Revenue | AC7: Total Company
A8: Company | C8: Capacity | G8: Capacity | H8: Lights | I8: Total | K8: Energy | L8: On-Peak | M8: Off Peak | N8: Total | P8: Commercial | S8: Capacity | V8: Energy | W8: On-Peak | X8: Off Peak | Y8: Total
A9: Unit of Measure | C9: kWh | G9: kWh | H9: kWh | I9: kWh | K9: kWh | L9: kW | M9: kW | N9: kW | P9: kWh | S9: kWh | V9: kWh | W9: kW | X9: kW | Y9: kW | AA9: kWh | AB9: kWh | AC9: kWh | AD9: kW
A10: Cell Formula | I10: G+H | N10: L+M | P10: I+K | Y10: W+X | AA10: S+V | AC10: C+P+AA+AB | AD10: N+Y
A11: Authorized EEC Exclusions
A13: GMP | C13: 0 | G13: 0 | H13: 0 | I13: =+G13+H13 -> 0 | K13: 0 | L13: 0 | M13: 0 | N13: =+L13+M13 -> 0 | O13: 0 | P13: =+I13+K13 -> 0 | S13: 0 | V13: 404984526 | W13: 639781 | X13: 604649 | Y13: =+W13+X13 -> 1244430 | AA13: =+S13+V13 -> 404984526 | AB13: 0 | AC13: =+C13+P13+AA13+AB13 -> 404984526 | AD13: =+N13+Y13 -> 1244430
V14: 186523954 | W14: 318851 | X14: 312790 | Y14: =+W14+X14 -> 631641 | AA14: =+S14+V14 -> 186523954 | AB14: 0 | AC14: =+C14+P14+AA14+AB14 -> 186523954 | AD14: =+N14+Y14 -> 631641
A16: Total Exclusions (see Note 2) | C16: =+C13 -> 0 | I16: =+G16+H16 -> 0 | N16: =+L16+M16 -> 0 | P16: =+I16+K16 -> 0 | S16: =+S13 -> 0 | V16: =SUM(V13:V15) -> 591508480 | W16: =SUM(W13:W15) -> 958632 | X16: =SUM(X13:X15) -> 917439 | Y16: =SUM(Y13:Y15) -> 1876071 | Z16: =SUM(Z13:Z15) -> 0 | AA16: =SUM(AA13:AA15) -> 591508480 | AC16: =SUM(AC13:AC15) -> 591508480 | AD16: =SUM(AD13:AD15) -> 1876071
A18: kWh and kW Subject To EEC Charge:
A19: Barton | C19: 10176904 | G19: 1020967.9 | H19: 115951 | I19: =+G19+H19 -> 1136918.9 | K19: 2332694 | L19: 7531 | M19: 0 | N19: =+L19+M19 -> 7531 | P19: =+I19+K19 -> 3469612.9 | S19: 0 | V19: =VLOOKUP($A19,'2019 FA Data'!$C$6:$K$21,8) -> 0 | W19: =VLOOKUP($A19,'2019 FA Data'!$C$6:$K$21,9) -> 0 | X19: 0 | Y19: =+W19+X19 -> 0 | AA19: =+S19+V19 -> 0 | AB19: 0 | AC19: =+C19+P19+AA19+AB19 -> 13646516 | AD19: =+N19+Y19 -> 7531
A20: Enosburg Falls | C20: 13735692 | G20: 2330953.8 | H20: 126686 | I20: =+G20+H20 -> 2457639.8 | K20: 10154065 | L20: 23474.8 | M20: 0 | N20: =+L20+M20 -> 23474.8 | P20: =+I20+K20 -> 12611705 | S20: 0 | V20: =VLOOKUP($A20,'2019 FA Data'!$C$6:$K$21,8) -> 0 | W20: =VLOOKUP($A20,'2019 FA Data'!$C$6:$K$21,9) -> 0 | X20: 0 | Y20: =+W20+X20 -> 0 | AA20: =+S20+V20 -> 0 | AB20: 0 | AC20: =+C20+P20+AA20+AB20 -> 26347397 | AD20: =+N20+Y20 -> 23474.8
A21: Green Mountain Power | C21: 1.5281645e+09 | G21: 1.9209057e+08 | H21: 9592000 | I21: =+G21+H21 -> 2.0168257e+08 | K21: 1277876137 | L21: 4092514 | M21: 2353651 | N21: =+L21+M21 -> 6446165 | P21: =+I21+K21 -> 1.4795587e+09 | S21: 0 | V21: 587276733 | W21: 1433190 | X21: 1563793 | Y21: =+W21+X21 -> 2996983 | AA21: =+S21+V21 -> 587276733 | AB21: 0 | AC21: =+C21+P21+AA21+AB21 -> 3.595e+09 | AD21: =+N21+Y21 -> 9443148
A22: Hardwick | C22: 23596599 | G22: 10343.985 | H22: 104191.48 | I22: =+G22+H22 -> 114535.46 | K22: =VLOOKUP($A22,'2019 FA Data'!$C$6:$K$21,5) -> 5355407 | L22: =VLOOKUP($A22,'2019 FA Data'!$C$6:$K$21,6) -> 19825.964 | M22: 0 | N22: =+L22+M22 -> 19825.964 | P22: =+I22+K22 -> 5469942.5 | S22: =VLOOKUP($A22,'2019 FA Data'!$C$6:$K$21,7) -> 0 | V22: =VLOOKUP($A22,'2019 FA Data'!$C$6:$K$21,8) -> 0 | W22: =VLOOKUP($A22,'2019 FA Data'!$C$6:$K$21,9) -> 0 | X22: 0 | Y22: =+W22+X22 -> 0 | AA22: =+S22+V22 -> 0 | AB22: 0 | AC22: =+C22+P22+AA22+AB22 -> 29066541 | AD22: =+N22+Y22 -> 19825.964
A23: Hyde Park | C23: 7586337 | G23: 2256753 | H23: 43984 | I23: =+G23+H23 -> 2300737 | K23: =3754074-G23 -> 1497321 | L23: 47639 | M23: 0 | N23: =+L23+M23 -> 47639 | P23: =+I23+K23 -> 3798058 | S23: =VLOOKUP($A23,'2019 FA Data'!$C$6:$K$21,7) -> 0 | V23: =VLOOKUP($A23,'2019 FA Data'!$C$6:$K$21,8) -> 0 | W23: =VLOOKUP($A23,'2019 FA Data'!$C$6:$K$21,9) -> 0 | X23: 0 | Y23: =+W23+X23 -> 0 | AA23: =+S23+V23 -> 0 | AB23: 0 | AC23: =+C23+P23+AA23+AB23 -> 11384395 | AD23: =+N23+Y23 -> 47639
A24: Jacksonville | C24: 3494439 | G24: 556319.02 | H24: 52164 | I24: =+G24+H24 -> 608483.02 | K24: 865613 | L24: 4748 | M24: 0 | N24: =+L24+M24 -> 4748 | P24: =+I24+K24 -> 1474096 | S24: =VLOOKUP($A24,'2019 FA Data'!$C$6:$K$21,7) -> 0 | V24: =VLOOKUP($A24,'2019 FA Data'!$C$6:$K$21,8) -> 0 | W24: =VLOOKUP($A24,'2019 FA Data'!$C$6:$K$21,9) -> 0 | X24: 0 | Y24: =+W24+X24 -> 0 | AA24: =+S24+V24 -> 0 | AB24: 0 | AC24: =+C24+P24+AA24+AB24 -> 4968535 | AD24: =+N24+Y24 -> 4748
A25: Johnson | C25: 5088001.6 | G25: 1462518.4 | H25: 62979 | I25: =+G25+H25 -> 1525497.4 | K25: 1632596 | L25: 3996 | M25: 0 | N25: =+L25+M25 -> 3996 | P25: =+I25+K25 -> 3158093.4 | S25: =VLOOKUP($A25,'2019 FA Data'!$C$6:$K$21,7) -> 0 | V25: =VLOOKUP($A25,'2019 FA Data'!$C$6:$K$21,8) -> 0 | W25: =VLOOKUP($A25,'2019 FA Data'!$C$6:$K$21,9) -> 0 | X25: 0 | Y25: =+W25+X25 -> 0 | AA25: =+S25+V25 -> 0 | AB25: 0 | AC25: =+C25+P25+AA25+AB25 -> 8246095 | AD25: =+N25+Y25 -> 3996
A26: Ludlow | C26: 16841095 | G26: 5492248.2 | H26: 347690 | I26: =+G26+H26 -> 5839938.2 | K26: 11814012 | L26: 42958 | M26: 0 | N26: =+L26+M26 -> 42958 | P26: =+I26+K26 -> 17653950 | S26: =VLOOKUP($A26,'2019 FA Data'!$C$6:$K$21,7) -> 0 | V26: 20863595 | W26: 76731 | X26: 0 | Y26: =+W26+X26 -> 76731 | AA26: =+S26+V26 -> 20863595 | AB26: 0 | AC26: =+C26+P26+AA26+AB26 -> 55358640 | AD26: =+N26+Y26 -> 119689
A27: Lyndonville | C27: 28570156 | G27: 7953.2702 | H27: 477435 | I27: =+G27+H27 -> 485388.27 | K27: =VLOOKUP($A27,'2019 FA Data'!$C$6:$K$21,5) -> 17726842 | L27: =VLOOKUP($A27,'2019 FA Data'!$C$6:$K$21,6) -> 55604.28 | M27: 0 | N27: =+L27+M27 -> 55604.28 | P27: =+I27+K27 -> 18212231 | S27: =VLOOKUP($A27,'2019 FA Data'!$C$6:$K$21,7) -> 0 | V27: =VLOOKUP($A27,'2019 FA Data'!$C$6:$K$21,8) -> 0 | W27: =VLOOKUP($A27,'2019 FA Data'!$C$6:$K$21,9) -> 0 | X27: 0 | Y27: =+W27+X27 -> 0 | AA27: =+S27+V27 -> 0 | AB27: 0 | AC27: =+C27+P27+AA27+AB27 -> 46782386 | AD27: =+N27+Y27 -> 55604.28
A28: Morrisville | C28: 21688732 | G28: 5449607.3 | H28: 38145 | I28: =+G28+H28 -> 5487752.3 | K28: 18243106 | L28: 52354 | M28: 0 | N28: =+L28+M28 -> 52354 | P28: =+I28+K28 -> 23730858 | S28: =VLOOKUP($A28,'2019 FA Data'!$C$6:$K$21,7) -> 0 | V28: =VLOOKUP($A28,'2019 FA Data'!$C$6:$K$21,8) -> 0 | W28: =VLOOKUP($A28,'2019 FA Data'!$C$6:$K$21,9) -> 0 | X28: 0 | Y28: =+W28+X28 -> 0 | AA28: =+S28+V28 -> 0 | AB28: 0 | AC28: =+C28+P28+AA28+AB28 -> 45419590 | AD28: =+N28+Y28 -> 52354
A29: Northfield | C29: 10272090 | G29: 3931.246 | H29: 89430 | I29: =+G29+H29 -> 93361.246 | K29: =VLOOKUP($A29,'2019 FA Data'!$C$6:$K$21,5) -> 7176697 | L29: =VLOOKUP($A29,'2019 FA Data'!$C$6:$K$21,6) -> 19300.288 | M29: 0 | N29: =+L29+M29 -> 19300.288 | P29: =+I29+K29 -> 7270058.2 | S29: =VLOOKUP($A29,'2019 FA Data'!$C$6:$K$21,7) -> 0 | V29: =VLOOKUP($A29,'2019 FA Data'!$C$6:$K$21,8) -> 8855839 | W29: =VLOOKUP($A29,'2019 FA Data'!$C$6:$K$21,9) -> 18598.458 | X29: 0 | Y29: =+W29+X29 -> 18598.458 | AA29: =+S29+V29 -> 8855839 | AB29: 0 | AC29: =+C29+P29+AA29+AB29 -> 26397988 | AD29: =+N29+Y29 -> 37898.746
A30: Orleans | C30: 3947026.8 | G30: 2001897.2 | H30: 124446 | I30: =+G30+H30 -> 2126343.2 | K30: =VLOOKUP($A30,'2019 FA Data'!$C$6:$K$21,5) -> 0 | L30: =VLOOKUP($A30,'2019 FA Data'!$C$6:$K$21,6) -> 0 | M30: 0 | N30: =+L30+M30 -> 0 | P30: =+I30+K30 -> 2126343.2 | S30: =VLOOKUP($A30,'2019 FA Data'!$C$6:$K$21,7) -> 0 | V30: 6624000 | W30: =VLOOKUP($A30,'2019 FA Data'!$C$6:$K$21,9) -> 25547 | X30: 0 | Y30: =+W30+X30 -> 25547 | AA30: =+S30+V30 -> 6624000 | AB30: 0 | AC30: =+C30+P30+AA30+AB30 -> 12697370 | AD30: =+N30+Y30 -> 25547
A31: Stowe | C31: 24609956 | G31: 7041489 | H31: 47599 | I31: =+G31+H31 -> 7089088 | K31: =VLOOKUP($A31,'2019 FA Data'!$C$6:$K$21,5) -> 35790331 | L31: =VLOOKUP($A31,'2019 FA Data'!$C$6:$K$21,6) -> 103570.73 | M31: 0 | N31: =+L31+M31 -> 103570.73 | P31: =+I31+K31 -> 42879419 | S31: =VLOOKUP($A31,'2019 FA Data'!$C$6:$K$21,7) -> 0 | V31: =VLOOKUP($A31,'2019 FA Data'!$C$6:$K$21,8) -> 7767120 | W31: =VLOOKUP($A31,'2019 FA Data'!$C$6:$K$21,9) -> 32260 | X31: 0 | Y31: =+W31+X31 -> 32260 | AA31: =+S31+V31 -> 7767120 | AB31: 0 | AC31: =+C31+P31+AA31+AB31 -> 75256495 | AD31: =+N31+Y31 -> 135830.73
A32: Swanton | C32: 26231935 | G32: 3174334.7 | H32: 126916 | I32: =+G32+H32 -> 3301250.7 | K32: 23698018 | L32: 88468 | M32: 0 | N32: =+L32+M32 -> 88468 | P32: =+I32+K32 -> 26999269 | S32: =VLOOKUP($A32,'2019 FA Data'!$C$6:$K$21,7) -> 0 | V32: =VLOOKUP($A32,'2019 FA Data'!$C$6:$K$21,8) -> 0 | W32: =VLOOKUP($A32,'2019 FA Data'!$C$6:$K$21,9) -> 0 | X32: 0 | Y32: =+W32+X32 -> 0 | AA32: =+S32+V32 -> 0 | AB32: 0 | AC32: =+C32+P32+AA32+AB32 -> 53231204 | AD32: =+N32+Y32 -> 88468
A33: Vermont Electric Coop (VEC). | C33: 2.2741676e+08 | G33: 65097069 | H33: 1639471 | I33: =+G33+H33 -> 66736540 | K33: 71719171 | L33: 297499 | M33: 0 | N33: =+L33+M33 -> 297499 | P33: =+I33+K33 -> 1.3845571e+08 | S33: 5578093 | V33: 93458257 | W33: 147739 | X33: 0 | Y33: =+W33+X33 -> 147739 | AA33: =+S33+V33 -> 99036350 | AB33: 0 | AC33: =+C33+P33+AA33+AB33 -> 4.6490882e+08 | AD33: =+N33+Y33 -> 445238
A34: Washington Electric Coop (WEC) | C34: 57231916 | G34: 5045134 | H34: 159479 | I34: =+G34+H34 -> 5204613 | K34: 0 | L34: 0 | M34: 0 | N34: =+L34+M34 -> 0 | P34: =+I34+K34 -> 5204613 | S34: =VLOOKUP($A34,'2019 FA Data'!$C$6:$K$21,7) -> 0 | V34: 3641765 | W34: 11604.848 | X34: 0 | Y34: =+W34+X34 -> 11604.848 | AA34: =+S34+V34 -> 3641765 | AB34: 0 | AC34: =+C34+P34+AA34+AB34 -> 66078294 | AD34: =+N34+Y34 -> 11604.848
A35: Total Subject to EEC Charge | C35: =SUM(C19:C34) -> 2.0086522e+09 | G35: =SUM(G19:G34) -> 2.9304209e+08 | H35: =SUM(H19:H34) -> 13148566 | I35: =G35+H35 -> 3.0619065e+08 | K35: =SUM(K19:K34) -> 1.485882e+09 | L35: =SUM(L19:L34) -> 4859483.1 | M35: =SUM(M19:M34) -> 2353651 | N35: =+L35+M35 -> 7213134.1 | P35: =SUM(P19:P34) -> 1.7920727e+09 | S35: =SUM(S19:S34) -> 5578093 | V35: =SUM(V19:V34) -> 728487309 | W35: =SUM(W19:W34) -> 1745670.3 | X35: =SUM(X19:X34) -> 1563793 | Y35: =SUM(Y19:Y34) -> 3309463.3 | AA35: =SUM(AA19:AA34) -> 734065402 | AB35: =SUM(AB19:AB34) -> 0 | AC35: =SUM(AC19:AC34) -> 4.5347902e+09 | AD35: =SUM(AD19:AD34) -> 10522597
A37: Total Statewide | C37: =C16+C35 -> 2.0086522e+09 | G37: =G16+G35 -> 2.9304209e+08 | H37: =H16+H35 -> 13148566 | I37: =I16+I35 -> 3.0619065e+08 | K37: =K16+K35 -> 1.485882e+09 | L37: =L16+L35 -> 4859483.1 | M37: =M16+M35 -> 2353651 | N37: =N16+N35 -> 7213134.1 | P37: =P16+P35 -> 1.7920727e+09 | S37: =S16+S35 -> 5578093 | V37: =V16+V35 -> 1319995789 | W37: =W16+W35 -> 2704302.3 | X37: =X16+X35 -> 2481232 | Y37: =Y16+Y35 -> 5185534.3 | AA37: =AA16+AA35 -> 1325573882 | AB37: =AB16+AB35 -> 0 | AC37: =AC16+AC35 -> 5.1262987e+09 | AD37: =AD16+AD35 -> 12398668
B40: Residential | F40: Commercial (less than 1,000 kw) | R40: Industrial (1,000 or greater kW)
A41: 2018 | G41: Non Demand Customers | K41: Demand Customers | R41: Non Demand | U41: Demand Customers | AA41: Total | AB41: Other
C42: Energy and | G42: Energy & | L42: Capacity (Billed) | P42: Total | S42: Energy & | W42: Capacity (Billed) | AA42: Industrial | AB42: Revenue | AC42: Total Company
A43: Company | C43: Capacity | G43: Capacity | H43: Lights | I43: Total | K43: Energy | L43: On-Peak | M43: Off Peak | N43: Total | P43: Commercial | S43: Capacity | V43: Energy | W43: On-Peak | X43: Off Peak | Y43: Total
A44: Unit of Measure | C44: kWh | G44: kWh | H44: kWh | I44: kWh | K44: kWh | L44: kW | M44: kW | N44: kW | P44: kWh | S44: kWh | V44: kWh | W44: kW | X44: kW | Y44: kW | AA44: kWh | AB44: kWh | AC44: kWh | AD44: kW
A45: Cell Formula | I45: G+H | N45: L+M | P45: I+K | Y45: W+X | AA45: S+V | AC45: C+P+AA+AB | AD45: N+Y
A46: Authorized EEC Exclusions
A48: GMP | C48: 0 | G48: 0 | H48: 0 | I48: =+G48+H48 -> 0 | K48: 0 | L48: 0 | M48: 0 | N48: =+L48+M48 -> 0 | O48: 0 | P48: =+I48+K48 -> 0 | S48: 0 | V48: 404984526 | W48: 639781 | X48: 604649 | Y48: =+W48+X48 -> 1244430 | AA48: =+S48+V48 -> 404984526 | AB48: 0 | AC48: =+C48+P48+AA48+AB48 -> 404984526 | AD48: =+N48+Y48 -> 1244430
V49: 186523954 | W49: 318851 | X49: 312790 | Y49: =+W49+X49 -> 631641 | AA49: =+S49+V49 -> 186523954 | AB49: 0 | AC49: =+C49+P49+AA49+AB49 -> 186523954 | AD49: =+N49+Y49 -> 631641
A51: Total Exclusions (see Note 2) | C51: =+C48 -> 0 | I51: =+G51+H51 -> 0 | N51: =+L51+M51 -> 0 | P51: =+I51+K51 -> 0 | S51: =+S48 -> 0 | V51: =SUM(V48:V50) -> 591508480 | W51: =SUM(W48:W50) -> 958632 | X51: =SUM(X48:X50) -> 917439 | Y51: =SUM(Y48:Y50) -> 1876071 | Z51: =SUM(Z48:Z50) -> 0 | AA51: =SUM(AA48:AA50) -> 591508480 | AC51: =SUM(AC48:AC50) -> 591508480 | AD51: =SUM(AD48:AD50) -> 1876071
A53: kWh and kW Subject To EEC Charge:
...

Sheet Util Rev and Load Data
A1: EFFICIENCY VERMONT
A2: ENERGY EFFICIENCY CHARGE
A3: RATE CALCULATION
A4: RATE YEAR 2021
A5: INFORMATION REQUIREMENT SUMMARY
A6: PER PUC RULE 5.300
A7: STATEWIDE SUMMARY
A8: A | B8: B | C8: C | D8: D | E8: E | F8: F | G8: G | H8: H | I8: I | J8: J | K8: K | L8: L | M8: M | N8: N | O8: O | P8: P | Q8: Q | R8: R | S8: S | T8: T | U8: U | V8: V. | W8: W | X8: X | Y8: Y | Z8: Z | AA8: AA | AB8: AB | AC8: AC | AD8: AD
A9: 2019 REVENUES (See Note 1)
B10: Residential | F10: Commercial (less than 1,000 kW) | R10: Industrial (1,000 or greater kW)
F11: Non Demand Customers | J11: Demand Customers | R11: Non Demand Customers | U11: Demand Customers | AD11: Annual
B12: Customer | C12: Energy and | F12: Customer | G12: Energy & | J12: Customer | L12: Capacity (Billed) | P12: Total | R12: Customer | S12: Energy & | U12: Customer | W12: Capacity (Billed) | AA12: Total | AB12: Other | AC12: Total | AD12: Report and or
A13: Company | B13: Charge | C13: Capacity | D13: Total | F13: Charge | G13: Capacity | H13: Lights | I13: Total | J13: Charge | K13: Energy | L13: On-Peak | M13: Off Peak | N13: Total | O13: Total Demand | P13: Commercial | R13: Charge | S13: Capacity | T13: Total | U13: Charge | V13: Energy | W13: On-Peak | X13: Off Peak | Y13: Total | Z13: Total Demand | AA13: Industrial | AB13: Revenue | AC13: Company | AD13: FERC Form 1
A14: Unit of Measure | B14: $ | C14: $ | D14: $ | F14: $ | G14: $ | H14: $ | I14: $ | J14: $ | K14: $ | L14: $ | M14: $ | N14: $ | O14: $ | P14: $ | R14: $ | S14: $ | T14: $ | U14: $ | V14: $ | W14: $ | X14: $ | Y14: $ | Z14: $ | AA14: $ | AB14: $ | AC14: $ | AD14: $
A15: Cell Formula | D15: B+C | I15: F+G+H | N15: L+M | O15: J+K+N | P15: I+O | T15: R+S | Y15: W+X | Z15: U+V+Y | AA15: T+Z | AC15: D+P+AA+AB
A16: Authorized EEC Exclusions
A18: GMP Customers | B18: 0 | C18: 0 | D18: =+C18+B18 -> 0 | F18: 0 | G18: 0 | H18: 0 | I18: =+F18+G18+H18 -> 0 | J18: 0 | K18: 0 | L18: 0 | M18: 0 | N18: =+L18+M18 -> 0 | O18: =+J18+K18+N18 -> 0 | P18: =+I18+O18 -> 0 | R18: 0 | S18: 0 | T18: =+S18+R18 -> 0 | U18: 64005 | V18: 42587678 | W18: 6408791 | X18: 2823956 | Y18: =+W18+X18 -> 9232747 | Z18: =+U18+V18+Y18 -> 51884430 | AA18: =+T18+Z18 -> 51884430 | AC18: =D18+P18+AA18+AB18 -> 51884430
A19: GMP Customer 2 | B19: 0 | C19: 0 | D19: =+C19+B19 -> 0 | F19: 0 | G19: 0 | H19: 0 | I19: =+F19+G19+H19 -> 0 | J19: 0 | K19: 0 | L19: 0 | M19: 0 | N19: =+L19+M19 -> 0 | O19: =+J19+K19+N19 -> 0 | P19: =+I19+O19 -> 0 | R19: 0 | S19: 0 | T19: =+S19+R19 -> 0 | Y19: =+W19+X19 -> 0 | Z19: =+U19+V19+Y19 -> 0 | AA19: =+T19+Z19 -> 0 | AC19: =D19+P19+AA19+AB19 -> 0
A21: Total Exclusions (see Note 2) | D21: =+D18 -> 0 | I21: =+I18 -> 0 | N21: =+N18 -> 0 | O21: =+O18 -> 0 | P21: =+P18 -> 0 | T21: =+T18 -> 0 | Y21: =+Y19+Y18 -> 9232747 | Z21: =+Z19+Z18 -> 51884430 | AA21: =+AA19+AA18 -> 51884430 | AC21: =+AC19+AC18 -> 51884430
A23: Retail Sales Subject To EEC Charge:
A24: Barton | B24: 246497.56 | C24: 1746784.5 | D24: =+C24+B24 -> 1993282 | F24: 24398.4 | G24: 194182.54 | H24: 34252.94 | I24: =+F24+G24+H24 -> 252833.88 | J24: 25816.32 | K24: 349141.68 | L24: 92480.68 | M24: 0 | N24: =+L24+M24 -> 92480.68 | O24: =+J24+K24+N24 -> 467438.68 | P24: =+I24+O24 -> 720272.56 | R24: 0 | S24: 0 | T24: =+S24+R24 -> 0 | U24: 0 | V24: 0 | W24: 0 | X24: 0 | Y24: =+W24+X24 -> 0 | Z24: =+U24+V24+Y24 -> 0 | AA24: =+T24+Z24 -> 0 | AB24: 0 | AC24: =D24+P24+AA24+AB24 -> 2713554.6
A25: Enosburg Falls | B25: 171411.75 | C25: 2022161 | D25: =+C25+B25 -> 2193572.8 | F25: 31972.98 | G25: 348495.62 | H25: 26797.32 | I25: =+F25+G25+H25 -> 407265.92 | J25: 13207.68 | K25: 1072277.2 | L25: 297697.59 | M25: 0 | N25: =+L25+M25 -> 297697.59 | O25: =+J25+K25+N25 -> 1383182.5 | P25: =+I25+O25 -> 1790448.4 | R25: 0 | S25: 0 | T25: =+S25+R25 -> 0 | U25: 0 | V25: 0 | W25: 0 | X25: 0 | Y25: =+W25+X25 -> 0 | Z25: =+U25+V25+Y25 -> 0 | AA25: =+T25+Z25 -> 0 | AB25: 0 | AC25: =D25+P25+AA25+AB25 -> 3984021.2
A26: Green Mountain Power | B26: 39709169 | C26: 246947115 | D26: =+C26+B26 -> 286656284 | F26: 6055572 | G26: 34639961 | H26: 4506950 | I26: =+F26+G26+H26 -> 45202483 | J26: 7481796 | K26: 119141151 | L26: 61645883 | M26: 9056269 | N26: =+L26+M26 -> 70702152 | O26: =+J26+K26+N26 -> 197325099 | P26: =+I26+O26 -> 242527582 | R26: 0 | S26: 0 | T26: =+S26+R26 -> 0 | U26: 382773 | V26: 47424450 | W26: 19804569 | X26: 4337415 | Y26: =+W26+X26 -> 24141984 | Z26: =+U26+V26+Y26 -> 71949207 | AA26: =+T26+Z26 -> 71949207 | AB26: 0 | AC26: =D26+P26+AA26+AB26 -> 601133073
A27: Hardwick | B27: 527932.35 | C27: 3702907.9 | D27: =+C27+B27 -> 4230840.3 | F27: 72025.85 | G27: 847828.15 | H27: 44613 | I27: =+F27+G27+H27 -> 964467 | J27: 48727.98 | K27: 516563.28 | L27: 346032.7 | M27: 0 | N27: =+L27+M27 -> 346032.7 | O27: =+J27+K27+N27 -> 911323.96 | P27: =+I27+O27 -> 1875791 | R27: 0 | S27: 0 | T27: =+S27+R27 -> 0 | U27: 0 | V27: 0 | W27: 0 | X27: 0 | Y27: =+W27+X27 -> 0 | Z27: =+U27+V27+Y27 -> 0 | AA27: =+T27+Z27 -> 0 | AB27: 0 | AC27: =D27+P27+AA27+AB27 -> 6106631.2
A28: Hyde Park | B28: 216714.4 | C28: 1258567.1 | D28: =+C28+B28 -> 1475281.5 | F28: 34539.12 | G28: 584675.63 | H28: 11456.41 | I28: =+F28+G28+H28 -> 630671.16 | J28: 9817.32 | K28: 97575.77 | L28: 0 | M28: 0 | N28: =+L28+M28 -> 0 | O28: =+J28+K28+N28 -> 107393.09 | P28: =+I28+O28 -> 738064.25 | R28: 0 | S28: 0 | T28: =+S28+R28 -> 0 | U28: 0 | V28: 0 | W28: 0 | X28: 0 | Y28: =+W28+X28 -> 0 | Z28: =+U28+V28+Y28 -> 0 | AA28: =+T28+Z28 -> 0 | AB28: 0 | AC28: =D28+P28+AA28+AB28 -> 2213345.7
A29: Jacksonville | B29: 62779.69 | C29: 527167.39 | D29: =+C29+B29 -> 589947.08 | F29: 4065.57 | G29: 97540.54 | H29: 3280.08 | I29: =+F29+G29+H29 -> 104886.19 | J29: 984.96 | K29: 79189.96 | L29: 63908.08 | M29: 0 | N29: =+L29+M29 -> 63908.08 | O29: =+J29+K29+N29 -> 144083 | P29: =+I29+O29 -> 248969.19 | R29: 0 | S29: 0 | T29: =+S29+R29 -> 0 | U29: 0 | V29: 0 | W29: 0 | X29: 0 | Y29: =+W29+X29 -> 0 | Z29: =+U29+V29+Y29 -> 0 | AA29: =+T29+Z29 -> 0 | AB29: 0 | AC29: =D29+P29+AA29+AB29 -> 838916.27
A30: Johnson | B30: 117503 | C30: 775451 | D30: =+C30+B30 -> 892954 | F30: 32787 | G30: 276772 | H30: 15152 | I30: =+F30+G30+H30 -> 324711 | J30: 13487 | K30: 615115 | L30: 301663 | M30: 0 | N30: =+L30+M30 -> 301663 | O30: =+J30+K30+N30 -> 930265 | P30: =+I30+O30 -> 1254976 | R30: 0 | S30: 0 | T30: =+S30+R30 -> 0 | U30: 0 | V30: 0 | W30: 0 | X30: 0 | Y30: =+W30+X30 -> 0 | Z30: =+U30+V30+Y30 -> 0 | AA30: =+T30+Z30 -> 0 | AB30: 0 | AC30: =D30+P30+AA30+AB30 -> 2147930
A31: Ludlow | B31: 350029 | C31: 1911281 | D31: =+C31+B31 -> 2261310 | F31: 198953 | G31: 829203 | H31: 126811 | I31: =+F31+G31+H31 -> 1154967 | J31: 86319 | K31: 889496 | L31: 933897 | M31: 0 | N31: =+L31+M31 -> 933897 | O31: =+J31+K31+N31 -> 1909712 | P31: =+I31+O31 -> 3064679 | R31: 0 | S31: 0 | T31: =+S31+R31 -> 0 | U31: 122739 | V31: 1657280 | W31: 1142148 | X31: 0 | Y31: =+W31+X31 -> 1142148 | Z31: =+U31+V31+Y31 -> 2922167 | AA31: =+T31+Z31 -> 2922167 | AB31: 0 | AC31: =D31+P31+AA31+AB31 -> 8248156
A32: Lyndonville | B32: 542698 | C32: 4271118 | D32: =+C32+B32 -> 4813816 | F32: 163136.75 | G32: 1677267.2 | H32: 99757 | I32: =+F32+G32+H32 -> 1940161 | J32: 85142.71 | K32: 1344767.8 | L32: 928706.53 | M32: 0 | N32: =+L32+M32 -> 928706.53 | O32: =+J32+K32+N32 -> 2358617 | P32: =+I32+O32 -> 4298778 | R32: 0 | S32: 0 | T32: =+S32+R32 -> 0 | U32: 0 | V32: 0 | W32: 0 | X32: 0 | Y32: =+W32+X32 -> 0 | Z32: =+U32+V32+Y32 -> 0 | AA32: =+T32+Z32 -> 0 | AB32: 0 | AC32: =D32+P32+AA32+AB32 -> 9112594
A33: Morrisville | B33: 368857 | C33: 3005656 | D33: =+C33+B33 -> 3374513 | F33: 73904 | G33: 802995 | H33: 22597 | I33: =+F33+G33+H33 -> 899496 | J33: 62829 | K33: 2135603 | L33: 563428 | M33: 0 | N33: =+L33+M33 -> 563428 | O33: =+J33+K33+N33 -> 2761860 | P33: =+I33+O33 -> 3661356 | R33: 0 | S33: 0 | T33: =+S33+R33 -> 0 | U33: 0 | V33: 0 | W33: 0 | X33: 0 | Y33: =+W33+X33 -> 0 | Z33: =+U33+V33+Y33 -> 0 | AA33: =+T33+Z33 -> 0 | AB33: 0 | AC33: =D33+P33+AA33+AB33 -> 7035869
A34: Northfield | B34: 155746.44 | C34: 1248827.5 | D34: =+C34+B34 -> 1404573.9 | F34: 37280.53 | G34: 344172.76 | H34: 25796.15 | I34: =+F34+G34+H34 -> 407249.44 | J34: 5808.36 | K34: 663660.57 | L34: 170860.85 | M34: 0 | N34: =+L34+M34 -> 170860.85 | O34: =+J34+K34+N34 -> 840329.78 | P34: =+I34+O34 -> 1247579.2 | R34: 0 | S34: 0 | T34: =+S34+R34 -> 0 | U34: 6088.68 | V34: 975963.65 | W34: 123186.62 | X34: 0 | Y34: =+W34+X34 -> 123186.62 | Z34: =+U34+V34+Y34 -> 1105238.9 | AA34: =+T34+Z34 -> 1105238.9 | AB34: 0 | AC34: =D34+P34+AA34+AB34 -> 3757392.1
A35: Orleans | B35: 68745 | C35: 442118 | D35: =+C35+B35 -> 510863 | F35: 25202 | G35: 258344 | H35: 20553 | I35: =+F35+G35+H35 -> 304099 | J35: 0 | K35: 0 | L35: 0 | M35: 0 | N35: =+L35+M35 -> 0 | O35: =+J35+K35+N35 -> 0 | P35: =+I35+O35 -> 304099 | R35: 0 | S35: 0 | T35: =+S35+R35 -> 0 | U35: 15817 | V35: 667633 | W35: 326746 | X35: 0 | Y35: =+W35+X35 -> 326746 | Z35: =+U35+V35+Y35 -> 1010196 | AA35: =+T35+Z35 -> 1010196 | AB35: 0 | AC35: =D35+P35+AA35+AB35 -> 1825158
... A39: Washington Electric Coop (WEC) | B39: 1801554.8 | C39: 11930801 | D39: =+C39+B39 -> 13732356 | F39: 97057.41 | G39: 1041309.8 | H39: 85287.1 | I39: =+F39+G39+H39 -> 1223654.3 | J39: 0 | K39: 0 | L39: 0 | M39: 0 | N39: =+L39+M39 -> 0 | O39: =+J39+K39+N39 -> 0 | P39: =+I39+O39 -> 1223654.3 | R39: 0 | S39: 0 | T39: =+S39+R39 -> 0 | U39: 3543.48 | V39: 397334.9 | W39: 180665.92 | X39: 0 | Y39: =+W39+X39 -> 180665.92 | Z39: =+U39+V39+Y39 -> 581544.3 | AA39: =+T39+Z39 -> 581544.3 | AB39: 0 | AC39: =D39+P39+AA39+AB39 -> 15537555
A40: Total Subject to EEC Charge | B40: =SUM(B24:B39) -> 52481327 | C40: =SUM(C24:C39) -> 3.2178078e+08 | D40: =B40+C40 -> 3.7426211e+08 | F40: =SUM(F24:F39) -> 7970880.5 | G40: =SUM(G24:G39) -> 53259836 | H40: =SUM(H24:H39) -> 5729970.1 | I40: =F40+G40+H40 -> 66960686 | J40: =SUM(J24:J39) -> 8111840 | K40: =SUM(K24:K39) -> 1.3914374e+08 | L40: =SUM(L24:L39) -> 69849291 | M40: =SUM(M24:M39) -> 9056269 | N40: =L40+M40 -> 78905560 | O40: =J40+K40+N40 -> 2.2616114e+08 | P40: =I40+O40 -> 2.9312183e+08 | R40: =SUM(R24:R39) -> 16471 | S40: =SUM(S24:S39) -> 1216637 | T40: =R40+S40 -> 1233108 | U40: =SUM(U24:U39) -> 664680.9 | V40: =SUM(V24:V39) -> 58358599 | W40: =SUM(W24:W39) -> 24110245 | X40: =SUM(X24:X39) -> 4337415 | Y40: =W40+X40 -> 28447660 | Z40: =U40+V40+Y40 -> 87470940 | AA40: =T40+Z40 -> 88704048 | AB40: =SUM(AB24:AB39) -> 0 | AC40: =SUM(AC24:AC39) -> 7.5608798e+08 | AD40: =SUM(AD24:AD39) -> 0
A42: All Other Utilities | B42: =B40 -> 52481327 | C42: =C40 -> 3.2178078e+08 | D42: =D40 -> 3.7426211e+08 | F42: =F40 -> 7970880.5 | G42: =G40 -> 53259836 | H42: =H40 -> 5729970.1 | I42: =I40 -> 66960686 | J42: =J40 -> 8111840 | K42: =K40 -> 1.3914374e+08 | L42: =L40 -> 69849291 | M42: =M40 -> 9056269 | ... P42: =P40 -> 2.9312183e+08 | R42: =R40 -> 16471 | S42: =S40 -> 1216637 | T42: =T40 -> 1233108 | U42: =U40 -> 664680.9 | V42: =V40 -> 58358599 | W42: =W40 -> 24110245 | X42: =X40 -> 4337415 | Y42: =Y40 -> 28447660 | ... AD42: =AD40 -> 0
A44: Total Statewide | B44: xxx | C44: xxx | D44: =D40+D21 -> 3.7426211e+08 | F44: xxx | G44: xxx | H44: =H40+H21 -> 5729970.1 | I44: xxx | J44: xxx | K44: xxx | L44: xxx | M44: xxx | N44: xxx | O44: xxx | P44: =P40+P21 -> 2.9312183e+08 | R44: xxx | S44: xxx | T44: xxx | U44: xxx | V44: xxx | W44: xxx | X44: xxx | Y44: xxx | Z44: xxx | AA44: =AA40+AA21 -> 1.4058848e+08 | AC44: =AC40+AC21 -> 8.0797241e+08
A46: As Reported To FERC/Annual Report | B46: xxx | C46: xxx | F46: xxx | G46: xxx | I46: xxx | J46: xxx | K46: xxx | L46: xxx | M46: xxx | N46: xxx | O46: xxx | R46: xxx | S46: xxx | T46: xxx | U46: xxx | V46: xxx | W46: xxx | X46: xxx | Y46: xxx | Z46: xxx
A48: Difference | B48: xxx | C48: xxx | D48: =D44-D46 -> 3.7426211e+08 | F48: xxx | G48: xxx | H48: =H44-H46 -> 5729970.1 | I48: xxx | J48: xxx | K48: xxx | L48: xxx | M48: xxx | N48: xxx | O48: xxx | P48: =P44-P46 -> 2.9312183e+08 | R48: xxx | S48: xxx | T48: xxx | U48: xxx | V48: xxx | W48: xxx | X48: xxx | Y48: xxx | Z48: xxx | AA48: =AA44-AA46 -> 1.4058848e+08 | AB48: =AB44-AB46 -> 0 | AC48: =AC44-AC46 -> 8.0797241e+08
A54: A | B54: B | C54: C | D54: D | E54: E | F54: F | G54: G | H54: H | I54: I | J54: J | K54: K | L54: L | M54: M | N54: N | O54: O | P54: P | Q54: Q | R54: R | S54: S | T54: T | U54: U | V54: V. | W54: W | X54: X | Y54: Y | Z54: Z | AA54: AA | AB54: AB | AC54: AC | AD54: AD
A55: 2019 BILLING DETERMINANTS (See Note 1)
...

Sheet EEC Uncollectibles
A1: EFFICIENCY VERMONT
A2: 2021-2023 EEC Rate Calculation
A3: Uncollectible Calculation
C5: 2019 | D5: 2019 | E5: 2019 | G5: 2020 | I5: 2020 | J5: 2020 | K5: 2020 | M5: 2021 | O5: 2021 | P5: 2021 | Q5: 2021 | S5: 2022
C6: Estimated | D6: Actual | E6: True-Up | G6: Estimated | I6: Estimated | J6: Actual | K6: True-Up | M6: Estimated | O6: Estimated | P6: Actual | Q6: True-Up | S6: Estimated
C7: (Note A) | D7: Note (B) | E7: Note (C) | G7: Note (D) | I7: (Note A) | J7: Note (B) | K7: Note (C) | M7: Note (D) | O7: (Note A) | P7: Note (B) | Q7: Note (C) | S7: Note (D)
B8: Barton Village Inc. Electric Dept | C8: 0 | D8: 0 | E8: =C8-D8 -> 0 | G8: =+D8 -> 0 | I8: =G8*3 -> 0 | J8: =I8 -> 0 | K8: =I8-J8 -> 0 | M8: =+J8 -> 0 | O8: =M8 -> 0 | P8: =O8 -> 0 | Q8: =O8-P8 -> 0 | S8: =+P8 -> 0
B9: Enosburg Falls Water & Light Dept | C9: -457.89 | D9: -427.02 | E9: =+D9-C9 -> 30.87 | G9: =+D9 -> -427.02 | I9: -440 | J9: =I9 -> -440 | K9: =+J9-I9 -> 0 | M9: =+J9 -> -440 | O9: =M9 -> -440 | P9: =O9 -> -440 | Q9: =+P9-O9 -> 0 | S9: =+P9 -> -440
