Workbook

Sheet EEC Rate Development
A1: Vermont Electric Utility Revenue and Billing Determinant Collection Form
A2: for Efficiency Vermont's Energy Efficiency Charge (EEC) Rate Calculation
A4: Revenues and Billing Determinants Calendar Year: | B4: 2019
A5: Current Calendar Year: | B5: 2020 | E5: Users: Please enter date in yellow highlighted cells below as applicable.
A6: EEC Rate Year beginning February 1: | B6: 2021 | D6: Reconcile and explain any values in this worksheet that do not match the utility's FERC Form 1 filing or its annual reports filed with DPS
A8: Enter utility name from dropdown list in cell below | B8: Residential | F8: Commercial (less than 1,000 kW) (See Note 1) | S8: Industrial (1,000 or greater kW)
A9: Green Mountain Power Corporation | F9: Non Demand Customers | K9: Demand Customers | S9: Non-Demand Customers | W9: Demand Customers
B10: Number of | C10: Customer | D10: Energy and | E10: Total | F10: Number of | G10: Customer | H10: Energy & | I10: Street Lights | J10: Total | K10: Number of | L10: Customer | N10: Capacity (Billed) | Q10: Total | R10: Total | S10: Number of | T10: Customer | U10: Energy & | V10: Total | W10: Number of | X10: Customer | Z10: Capacity (Billed) | AC10: Total | AD10: Total | AE10: Other | AF10: Total Company
B11: Customers | C11: Charge | D11: Capacity | E11: Residential | F11: Customers | G11: Charge | H11: Capacity | I11: (See Note 4) | J11: Non-Demand | K11: Customers | L11: Charge | M11: Energy | N11: On-Peak | O11: Off Peak | P11: Total | Q11: Demand | R11: Commercial | S11: Customers | T11: Charge | U11: Capacity | V11: Non-Demand | W11: Customers | X11: Charge | Y11: Energy | Z11: On-Peak | AA11: Off Peak | AB11: Total | AC11: Demand | AD11: Industrial | AE11: (Note 5)
A12: ="Enter "&TEXT(B4,"000")&" Revenues" -> Enter 2019 Revenues
A13: EEC Exemptions per 5.303 (B)(1) (See Note 2)
A14: Exemption 1: SMEEP Customers | B14: N/A | C14: 0 | D14: 0 | E14: =SUM(C14:D14) -> 0 | F14: N/A | G14: 0 | H14: 0 | I14: 0 | J14: =SUM(G14:I14) -> 0 | K14: N/A | L14: 0 | M14: 0 | N14: 0 | O14: 0 | P14: =N14+O14 -> 0 | Q14: =L14+M14+P14 -> 0 | R14: =Q14+J14 -> 0 | S14: N/A | T14: 0 | U14: 0 | V14: =T14+U14 -> 0 | W14: N/A | X14: =59082+4923 -> 64005 | Y14: =31728362+10859316 -> 42587678 | Z14: =2739537+3669254 -> 6408791 | AA14: =1771424+1052532 -> 2823956 | AB14: =Z14+AA14 -> 9232747 | AC14: =X14+Y14+AB14 -> 51884430 | AD14: =V14+AC14 -> 51884430 | AE14: 0 | AF14: =AE14+AD14+R14+E14 -> 51884430
A15: Exemption 2: ENTER EXEMPTION TYPE | B15: N/A | C15: 0 | D15: 0 | E15: =SUM(C15:D15) -> 0 | F15: N/A | G15: 0 | H15: 0 | I15: 0 | J15: =SUM(G15:I15) -> 0 | K15: N/A | L15: 0 | M15: 0 | N15: 0 | O15: 0 | P15: =N15+O15 -> 0 | Q15: =L15+M15+P15 -> 0 | R15: =Q15+J15 -> 0 | S15: N/A | T15: 0 | U15: 0 | V15: =T15+U15 -> 0 | W15: N/A | X15: 0 | Y15: 0 | Z15: 0 | AA15: 0 | AB15: =Z15+AA15 -> 0 | AC15: =X15+Y15+AB15 -> 0 | AD15: =V15+AC15 -> 0 | AE15: 0 | AF15: =AE15+AD15+R15+E15 -> 0
A16: Total Exemptions | B16: N/A | C16: =SUM(C14:C15) -> 0 | D16: =SUM(D14:D15) -> 0 | E16: =SUM(C16:D16) -> 0 | F16: N/A | G16: =SUM(G14:G15) -> 0 | H16: =SUM(H14:H15) -> 0 | I16: =SUM(I14:I15) -> 0 | J16: =SUM(J14:J15) -> 0 | K16: N/A | L16: =SUM(L14:L15) -> 0 | M16: =SUM(M14:M15) -> 0 | N16: =SUM(N14:N15) -> 0 | O16: =SUM(O14:O15) -> 0 | P16: =SUM(P14:P15) -> 0 | Q16: =SUM(Q14:Q15) -> 0 | R16: =SUM(R14:R15) -> 0 | S16: N/A | T16: =SUM(T14:T15) -> 0 | U16: =SUM(U14:U15) -> 0 | V16: =SUM(V14:V15) -> 0 | W16: N/A | X16: =SUM(X14:X15) -> 64005 | Y16: =SUM(Y14:Y15) -> 42587678 | Z16: =SUM(Z14:Z15) -> 6408791 | AA16: =SUM(AA14:AA15) -> 2823956 | AB16: =SUM(AB14:AB15) -> 9232747 | AC16: =SUM(AC14:AC15) -> 51884430 | AD16: =SUM(AD14:AD15) -> 51884430 | AE16: =SUM(AE14:AE15) -> 0 | AF16: =SUM(AF14:AF15) -> 51884430
A18: All Other Customers | B18: N/A | C18: 39709169 | D18: 246947115 | E18: =SUM(C18:D18) -> 286656284 | F18: N/A | G18: 6055572 | H18: 34639961 | I18: 4506950 | J18: =SUM(G18:I18) -> 45202483 | K18: N/A | L18: 7481796 | M18: 119141151 | N18: 61645883 | O18: 9056269 | P18: =SUM(N18:O18) -> 70702152 | Q18: =L18+M18+P18 -> 197325099 | R18: =Q18+J18 -> 242527582 | S18: N/A | T18: =T19-T16 -> 0 | U18: =U19-U16 -> 0 | V18: =V19-V16 -> 0 | W18: N/A | X18: =X19-X16 -> 382773 | Y18: =Y19-Y16 -> 47424450 | Z18: =Z19-Z16 -> 19804569 | AA18: =AA19-AA16 -> 4337415 | AB18: =AB19-AB16 -> 24141984 | AC18: =AC19-AC16 -> 71949207 | AD18: =AC18+V18 -> 71949207 | AE18: 0 | AF18: =AE18+AD18+R18+E18 -> 601133073
A19: Total Utility Revenue | B19: N/A | C19: =C18+C16 -> 39709169 | D19: =D18+D16 -> 246947115 | E19: =E18+E16 -> 286656284 | F19: N/A | G19: =G18+G16 -> 6055572 | H19: =H18+H16 -> 34639961 | I19: =I18+I16 -> 4506950 | J19: =J18+J16 -> 45202483 | K19: N/A | L19: =L18+L16 -> 7481796 | M19: =M18+M16 -> 119141151 | N19: =N18+N16 -> 61645883 | O19: =O18+O16 -> 9056269 | P19: =P18+P16 -> 70702152 | Q19: =Q18+Q16 -> 197325099 | R19: =R18+R16 -> 242527582 | S19: N/A | T19: 0 | U19: 0 | V19: =T19+U19 -> 0 | W19: N/A | X19: 446778 | Y19: 90012128 | Z19: 26213360 | AA19: 7161371 | AB19: =Z19+AA19 -> 33374731 | AC19: =X19+Y19+AB19 -> 123833637 | AD19: =V19+AC19 -> 123833637 | AE19: =AE18+AE16 -> 0 | AF19: =SUM(AF16:AG18) -> 653017503
A21: As Reported To FERC or DPS | B21: N/A | C21: N/A | D21: N/A | E21: ='Lighting Reconciliation'!C24 -> 286919159 | F21: N/A | G21: N/A | H21: N/A | I21: ='Lighting Reconciliation'!I24 -> 2558298 | J21: N/A | K21: N/A | L21: N/A | M21: N/A | N21: N/A | O21: N/A | P21: N/A | Q21: N/A | R21: ='Lighting Reconciliation'!E24+'Lighting Reconciliation'!I24 -> 242259298 | S21: N/A | T21: N/A | U21: N/A | V21: N/A | W21: N/A | X21: N/A | Y21: N/A | Z21: N/A | AA21: N/A | AB21: N/A | AC21: N/A | AD21: ='Lighting Reconciliation'!G24 -> 123839046 | AE21: ='Lighting Reconciliation'!K24 -> 0 | AF21: ='Lighting Reconciliation'!M24 -> 653017503
A23: Difference | B23: N/A | C23: N/A | D23: N/A | E23: =E19-E21 -> -262875 | F23: N/A | G23: N/A | H23: N/A | I23: =I19-I21 -> 1948652 | J23: N/A | K23: N/A | L23: N/A | M23: N/A | N23: N/A | O23: N/A | P23: N/A | Q23: N/A | R23: =R19-R21 -> 268284 | S23: N/A | T23: N/A | U23: N/A | V23: N/A | W23: N/A | X23: N/A | Y23: N/A | Z23: N/A | AA23: N/A | AB23: N/A | AC23: N/A | AD23: =AD19-AD21 -> -5409 | AE23: =AE19-AE21 -> 0 | AF23: =AF19-AF21 -> 0
A26: ="Enter "&TEXT(B4,"000")&" Billing Determinants" -> Enter 2019 Billing Determinants
A27: Units of measure | B27: Count | C27: N/A | D27: kWh | E27: kWh | F27: Count | G27: N/A | H27: kWh | I27: kWh | J27: kWh | K27: Count | L27: N/A | M27: kWh | N27: kW | O27: kW | P27: kW | Q27: kWh | R27: kWh | S27: Count | T27: N/A | U27: kWh | V27: kWh | W27: Count | X27: N/A | Y27: kWh | Z27: kW | AA27: kW | AB27: kW | AC27: kWh | AD27: kWh | AE27: kWh | AF27: kWh | AG27: kW
A28: EEC Exemptions per 5.303 (B)(1) (See Note 2)
A29: Exemption 1: SMEEP Customers | B29: N/A | C29: N/A | D29: N/A | E29: N/A | F29: N/A | G29: N/A | H29: N/A | I29: N/A | J29: N/A | K29: N/A | L29: N/A | M29: N/A | N29: N/A | O29: N/A | P29: N/A | Q29: =M29 -> N/A | R29: N/A | S29: N/A | T29: N/A | U29: N/A | V29: N/A | W29: =1+1 -> 2 | X29: N/A | Y29: =397498414+163312853 -> 560811267 | Z29: =624467+304375 -> 928842 | AA29: =600076+298326 -> 898402 | AB29: =SUM(Z29:AA29) -> 1827244 | AC29: =Y29 -> 560811267 | AD29: =AC29 -> 560811267 | AE29: N/A | AF29: =AD29 -> 560811267 | AG29: =AB29 -> 1827244
A30: Exemption 2: ENTER EXEMPTION TYPE | B30: 0 | C30: N/A | D30: 0 | E30: =D30 -> 0 | F30: 0 | G30: N/A | H30: 0 | I30: 0 | J30: =I30+H30 -> 0 | K30: 0 | L30: N/A | M30: 0 | N30: 0 | O30: 0 | P30: =SUM(N30:O30) -> 0 | Q30: =M30 -> 0 | R30: =Q30+J30 -> 0 | S30: 0 | T30: N/A | U30: 0 | V30: =U30 -> 0 | W30: 0 | X30: N/A | Y30: 0 | Z30: 0 | AA30: 0 | AB30: =SUM(Z30:AA30) -> 0 | AC30: =Y30 -> 0 | AD30: =AC30+U30 -> 0 | AE30: 0 | AF30: =AD30+R30+E30+AE30 -> 0 | AG30: =AB30+P30 -> 0
A31: Total Exemptions | B31: =B30 -> 0 | C31: N/A | D31: =D30 -> 0 | E31: =E30 -> 0 | F31: =F30 -> 0 | G31: N/A | H31: =SUM(H29:H30) -> 0 | I31: =SUM(I29:I30) -> 0 | J31: =SUM(J29:J30) -> 0 | K31: =SUM(K30) -> 0 | L31: N/A | M31: =SUM(M29:M30) -> 0 | N31: =SUM(N29:N30) -> 0 | O31: =SUM(O29:O30) -> 0 | P31: =SUM(P29:P30) -> 0 | Q31: =M31 -> 0 | R31: =R30 -> 0 | S31: =SUM(S30) -> 0 | T31: N/A | U31: =U30 -> 0 | V31: =V30 -> 0 | W31: =SUM(W29:W30) -> 2 | X31: N/A | Y31: =SUM(Y29:Y30) -> 560811267 | Z31: =SUM(Z29:Z30) -> 928842 | AA31: =SUM(AA29:AA30) -> 898402 | AB31: =SUM(Z31:AA31) -> 1827244 | AC31: =SUM(AC29:AC30) -> 560811267 | AD31: =SUM(AD29:AD30) -> 560811267 | AE31: =AE30 -> 0 | AF31: =SUM(AF29:AF30) -> 560811267 | AG31: =SUM(AG29:AG30) -> 1827244
A33: Net Metered Customers Gross Consumption (See Note 3) | B33: 0 | C33: N/A | D33: 0 | E33: =D33 -> 0 | F33: 0 | G33: N/A | H33: 0 | I33: 0 | J33: =I33+H33 -> 0 | K33: 0 | L33: N/A | M33: 0 | N33: 0 | O33: 0 | P33: =SUM(N33:O33) -> 0 | Q33: =M33 -> 0 | R33: =Q33+J33 -> 0 | S33: 0 | T33: N/A | U33: 0 | V33: =U33 -> 0 | W33: 0 | X33: N/A | Y33: 0 | Z33: 0 | AA33: 0 | AB33: =SUM(Z33:AA33) -> 0 | AC33: =Y33 -> 0 | AD33: =AC33+U33 -> 0 | AE33: 0 | AF33: =+R33+E33+AD33+AE33 -> 0 | AG33: =AB33+P33 -> 0
A34: All Other Customers | B34: =238299-14107-185-1259 -> 222748 | C34: N/A | D34: 1501327000 | E34: =D34 -> 1501327000 | F34: =32231+1990 -> 34221 | G34: N/A | H34: 191542863 | I34: 9592000 | J34: =I34+H34 -> 201134863 | K34: =5298+21+3680 -> 8999 | L34: N/A | M34: 1277876137 | N34: 4092514 | O34: 2353651 | P34: =SUM(N34:O34) -> 6446165 | Q34: =M34 -> 1277876137 | R34: =Q34+J34 -> 1479011000 | S34: 0 | T34: N/A | U34: 0 | V34: =U34 -> 0 | W34: =71+1-2 -> 70 | X34: N/A | Y34: =Y35-Y31-Y33 -> 587276733 | Z34: =Z35-Z31-Z33 -> 1433190 | AA34: =AA35-AA31-AA33 -> 1563793 | AB34: =SUM(Z34:AA34) -> 2996983 | AC34: =Y34 -> 587276733 | AD34: =AC34+U34 -> 587276733 | AE34: 0 | AF34: =+R34+E34+AD34+AE34 -> 3567614733 | AG34: =AB34+P34 -> 9443148
A35: Total Utility Billing Determinants | B35: =SUM(B31:B34) -> 222748 | C35: N/A | D35: =SUM(D31:D34) -> 1501327000 | E35: =SUM(E31:E34) -> 1501327000 | F35: =SUM(F31:F34) -> 34221 | G35: N/A | H35: =SUM(H31:H34) -> 191542863 | I35: =SUM(I31:I34) -> 9592000 | J35: =SUM(J31:J34) -> 201134863 | K35: =SUM(K31:K34) -> 8999 | L35: N/A | M35: =SUM(M31:M34) -> 1277876137 | N35: =SUM(N31:N34) -> 4092514 | O35: 1 | P35: =SUM(P31:P34) -> 6446165 | Q35: =SUM(Q31:Q34) -> 1277876137 | R35: =SUM(R31:R34) -> 1479011000 | S35: =SUM(S31:S34) -> 0 | T35: N/A | U35: =SUM(U31:U34) -> 0 | V35: =SUM(V31:V34) -> 0 | W35: =SUM(W31:W34) -> 72 | X35: N/A | Y35: 1148088000 | Z35: 2362032 | AA35: 2462195 | AB35: =Z35+AA35 -> 4824227 | AC35: =AC31+AC34+AC33 -> 1148088000 | AD35: =SUM(AD31:AD34) -> 1148088000 | AE35: =SUM(AE31:AE34) -> 0 | AF35: =SUM(AF31:AF34) -> 4128426000 | AG35: =SUM(AG31:AG34) -> 11270392
A37: As Reported To FERC or DPS | B37: N/A | C37: N/A | D37: N/A | E37: ='Lighting Reconciliation'!C3 -> 1501957000 | F37: N/A | G37: N/A | H37: N/A | I37: ='Lighting Reconciliation'!I3 -> 3809000 | J37: N/A | K37: N/A | L37: N/A | M37: N/A | N37: N/A | O37: N/A | P37: N/A | Q37: N/A | R37: ='Lighting Reconciliation'!E3+'Lighting Reconciliation'!I3 -> 1478366000 | S37: N/A | T37: N/A | U37: N/A | V37: N/A | W37: N/A | X37: N/A | Y37: N/A | Z37: N/A | AA37: N/A | AB37: N/A | AC37: N/A | AD37: =+'Lighting Reconciliation'!G3 -> 1148103000 | AE37: ='Lighting Reconciliation'!K3 -> 0 | AF37: ='Lighting Reconciliation'!M3 -> 4128426000 | AG37: N/A
A39: Difference | B39: N/A | C39: N/A | D39: N/A | E39: =E35-E37 -> -630000 | F39: N/A | G39: N/A | H39: N/A | I39: =I35-I37 -> 5783000 | J39: N/A | K39: N/A | L39: N/A | M39: N/A | N39: N/A | O39: N/A | P39: N/A | Q39: N/A | R39: =R35-R37 -> 645000 | S39: N/A | T39: N/A | U39: N/A | V39: N/A | W39: N/A | X39: N/A | Y39: N/A | Z39: N/A | AA39: N/A | AB39: N/A | AC39: N/A | AD39: =AD35-AD37 -> -15000 | AE39: =AE35-AE37 -> 0 | AF39: =AF35-AF37 -> 0 | AG39: N/A
B41: Note 1: The following definitions shall apply for "Commercial" and "Industrial" Customer/Rate Classes; Commercial-less than 1,000 kW per month for all months during the preceding calendar year; Industrial-1,000 kW or more per month for any month during the preceding calendar year. "Rate Classes" and "Total Company" revenues and kWh as reported here and as reported to FERC and the DPS should agree, however, if they do not the information reported here must be in accordance with the definitions shown above and any differences reconciled and reported on the a reconciliation worksheets within this workbook.
B43: Note 2: Authorized Exclusions per PUC Rule 5.303 (B)(1) (see below) - Please provide Narrative description on all Exclusions. Rule 5.303 (B)(1): For the Electric EEC, all retail customers’ electric bills shall be subject to, and shall be used in the calculation of, the Electric EEC, except bills for: (1) service provided under generation displacement contracts to customers who do not receive energy efficiency services; (2) station service exempted by the Commission in its October 15, 2004, Order in Docket 6987; (3) service provided under any other special contracts specifically exempted by the Commission in its October 15, 2004, Order in Docket 6987, and successors to those contracts, if specifically exempted by the Commission at the time that such successor contracts are approved; (4) station service provided to the Kingdom Community Wind facility and the Jay Synchronous Condenser; and (5) any service specifically exempted by Commission Order, for good cause shown, with explicit reference to this rule. | L43: Enter Reason for Exemption Here:
B45: Note 3: Volumetric Calculation per PUC Rule 5.303 (B)(2) (see below) - Please provide an estimate of the sum of all consumption generated through customers' net metering system Rule 5.303 (B)(2): The Electric EEC shall be applied in a volumetric manner to the gross electric consumption of each retail customer unless the application of the charge is expressly exempted by operation of law. For purposes of net-metering systems, as defined in 30 V.S.A. § 8002, gross electric consumption means the electricity a net-metering customer has consumed from the grid plus the electricity the customer consumed from the customer’s net-metering system. If, as of the effective date of this rule, a net-metering customer does not have the equipment necessary for their distribution utility to determine their gross electric consumption, the customer shall pay a Fixed Monthly EEC, unless the customer chooses to install the equipment necessary for their distribution utility to determine their gross electric consumption, in which case the customer shall be charged the Electric EEC based upon the customer’s gross consumption. The Fixed Monthly EEC shall be determined by rate class and shall be based upon the average statewide monthly consumption and demand for the previous year for the rate class times the Electric EEC rate for the year the rate is being implemented.
B47: Note 4: At PSD direction the values of street lighting revenue and consumption in column "I" is included in column "R".
B49: Note 5: Please provide what end uses or customer types are included in the Other category | I49: Enter end uses or customer types here

Sheet Lookups
A3: Utility Lookup
A4: Barton Village, Inc. Electric Dept.
A5: Enosburg Falls Water & Light Dept.
A6: Green Mountain Power Corporation
A7: Hardwick Electric Dept., Town of
A8: Hyde Park Electric Dept., Village of
A9: Jacksonville Electric Company, Village of
A10: Johnson Water & Light Dept., Village of
A11: Ludlow Electric Light Dept., Village of
A12: Lyndonville Electric Dept., Village of
A13: Morrisville Water & Light Dept., Village of
A14: Northfield Electric Dept., Village of
... A19: Washington Electric Cooperative, Inc.

Sheet Lighting Reconciliation
A1: KWH | C1: Residential | E1: Commercial | G1: Industrial | I1: Lighting | K1: Other
A3: As Reported to FERC | C3: 1501957000 | E3: 1474557000 | G3: 1148103000 | I3: 3809000 | K3: 0 | M3: =SUM(C3:K3) -> 4128426000
A5: Transfer of Security Lighting
A6: to Lighting Category | C6: -630000 | I6: =-C6 -> 630000
A8: Transfer of Security Lighting
A9: to Lighting Category | E9: -5138000 | I9: =-E9 -> 5138000
A11: Transfer of Security Lighting
A12: to Lighting Category | G12: -15000 | I12: =-G12 -> 15000
C13: _____________ | E13: _____________ | G13: ____________ | I13: ___________ | K13: _______
A14: SubTotal | C14: =SUM(C3:C12) -> 1501327000 | E14: =SUM(E3:E12) -> 1469419000 | G14: =SUM(G3:G12) -> 1148088000 | I14: =SUM(I3:I12) -> 9592000 | K14: =SUM(K3:K12) -> 0 | M14: =SUM(C14:K14) -> 4128426000
A16: Inclusion of Lighting in Template | E16: =+I14 -> 9592000
C17: _____________ | E17: _____________ | G17: ____________ | I17: ___________ | K17: _______
A18: DPS EEC Categories | C18: =+C14+C16 -> 1501327000 | E18: =+E14+E16 -> 1479011000 | G18: =+G14+G16 -> 1148088000 | I18: =+I14+I16 -> 9592000 | K18: =+K14+K16 -> 0
A22: Revenue | C22: Residential | E22: Commercial | G22: Industrial | I22: Lighting | K22: Other
A24: As Reported to FERC | C24: 286919159 | E24: 239701000 | G24: 123839046 | I24: 2558298 | K24: 0 | M24: =SUM(C24:K24) -> 653017503
A26: Transfer of Security Lighting
A27: to Lighting Category | C27: -262875 | I27: =-C27 -> 262875
A29: Transfer of Security Lighting
A30: to Lighting Category | E30: -1680368 | I30: =-E30 -> 1680368
A32: Transfer of Security Lighting
A33: to Lighting Category | G33: -5409 | I33: =-G33 -> 5409
C34: _____________ | E34: _____________ | G34: ____________ | I34: ___________ | K34: _______
A35: SubTotal | C35: =SUM(C24:C33) -> 286656284 | E35: =SUM(E24:E33) -> 238020632 | G35: =SUM(G24:G33) -> 123833637 | I35: =SUM(I24:I33) -> 4506950 | K35: =SUM(K24:K33) -> 0 | M35: =SUM(C35:K35) -> 653017503
A37: Inclusion of Lighting in Template | E37: =+I35 -> 4506950
C38: _____________ | E38: _____________ | G38: ____________ | I38: ___________ | K38: _______
A39: DPS EEC Categories | C39: =+C35+C37 -> 286656284 | E39: =+E35+E37 -> 242527582 | G39: =+G35+G37 -> 123833637 | I39: =+I35+I37 -> 4506950 | K39: =+K35+K37 -> 0

Sheet Uncollectibles
A1: Uncollectibles
A3: 5.304(C) | B3: The methodologies for calculating the Energy Efficiency Charge rates shall use information regarding utility uncollectible amounts related to the Energy Efficiency Charge. This information shall be provided by each distribution utility to the Commission, the Department, and the EEU serving its territory on or before August 1 of each calendar year, using the electronic filing format designated for this purpose by the EEU serving that utility’s territory.
A5: 5.304(C) 1. | B5: The specific information to be provided by each electric distribution utility shall be:
B6: The actual amount of uncollectibles related to the Energy Efficiency Charge for the first six months of the current calendar year. In determining uncollectible amounts attributable to the Energy Efficiency Charge, a distribution utility may include, after exhausting reasonably available remedies, a partial non-payment of a bill by a customer, provided that the only portion of such nonpayment attributed to the Energy Efficiency Charge is that amount determined by multiplying the partial non-payment by a fraction with the numerator consisting of the Energy Efficiency Charge amount on the bill and the denominator consisting of the total amount on the bill. If a utility’s billing system does not allow the actual amount of non-payments attributed to the Energy Efficiency Charge to be easily determined, a utility may calculate the amount of uncollectible amounts attributed to the Energy Efficiency Charge by multiplying the utility’s total amount of uncollectible amounts by a fraction with the numerator consisting of the utility’s Energy Efficiency Charge billings and the denominator consisting of the utility’s retail billings for the same time period.
B7: A reasonable estimate of the uncollectibles related to the Energy Efficiency Charge for the remaining six months of the current calendar year.
B8: A carrying charge for uncollectibles related to the Energy Efficiency Charge for the current calendar year. This charge shall be calculated by multiplying the uncollectibles related to the Energy Efficiency Charge for the current calendar year by either the distribution utility’s Allowance for Funds Used During Construction rate or, if the distribution utility does not have such a rate, the distribution utility’s short-term borrowing rate.
A10: 5.304(C) 2. | B10: The specific information to be provided by the EEUs shall be:
B11: The difference between the prior year’s estimates of the uncollectibles related to the Energy Efficiency Charge for the last six months of the prior calendar year and the actual uncollectibles related to the Energy Efficiency Charge for that period. This difference shall be calculated by subtracting the prior year’s estimate from the sum of the actual amounts provided by the distribution utilities when they requested reimbursement for their prior year’s uncollectibles related to the Energy Efficiency Charge pursuant to Section 5.310. The result may be a positive or negative number.
B14: ="Utility estimated uncollectibles related to the "&TEXT('EEC Rate Development'!B5,"000")&" Energy Efficiency Charge" -> Utility estimated uncollectibles related to the 2020 Energy Efficiency Charge
B15: first six months of the current calendar year | C15: 99297.14
B16: estimate of the remaining six months of the current calendar year | C16: 56688.86
C17: =C15+C16 -> 155986 | D17: total
