Workbook

Sheet Summary
A1: 1 MWh Value - no peak shift | J1: 1 kW system - no peak shift | S1: 1 kW system - Peak Shift
A3: Losses | B3: 0.03
A4: Reserve Ratio | B4: 0.2
A5: Energy Cost Inflation | B5: 0.025
B7: 2020 | C7: 2021 | D7: 2022 | E7: 2023 | F7: 2024 | K7: 2020 | L7: 2021 | M7: 2022 | N7: 2023 | O7: 2024 | T7: 2020 | U7: 2021 | V7: 2022 | W7: 2023 | X7: 2024
A8: Quantity | J8: Quantity | S8: Quantity
A9: kWh | B9: 1000 | C9: =B9 -> 1000 | D9: =C9 -> 1000 | E9: =D9 -> 1000 | F9: =E9 -> 1000 | J9: kWh | K9: =B9*'solar_value 16-18'!$G$1 -> 1217.741 | L9: =K9 -> 1217.741 | M9: =L9 -> 1217.741 | N9: =M9 -> 1217.741 | O9: =N9 -> 1217.741 | S9: kWh | T9: =K9 -> 1217.741 | U9: =L9 -> 1217.741 | V9: =M9 -> 1217.741 | W9: =N9 -> 1217.741 | X9: =O9 -> 1217.741
A10: VT Peak kW | B10: =K10/'solar_value 16-18'!$G$1 -> 0.01027664 | C10: =L10/'solar_value 16-18'!$G$1 -> 0.01027664 | D10: =M10/'solar_value 16-18'!$G$1 -> 0.01027664 | E10: =N10/'solar_value 16-18'!$G$1 -> 0.01027664 | F10: =O10/'solar_value 16-18'!$G$1 -> 0.01027664 | J10: VT Peak kW | K10: 0.012514286 | L10: 0.012514286 | M10: 0.012514286 | N10: 0.012514286 | O10: 0.012514286 | S10: VT Peak kW | T10: 0.0061469303 | U10: 0.0044334432 | V10: 0.0044334432 | W10: 0.0044334432 | X10: 0.0044334432
A11: ISO-NE Peak kW | B11: =K11/'solar_value 16-18'!$G$1 -> 0.30442555 | C11: =B11 -> 0.30442555 | D11: =C11 -> 0.30442555 | E11: =D11 -> 0.30442555 | F11: =E11 -> 0.30442555 | J11: ISO-NE Peak kW | K11: 0.37071147 | L11: =K11 -> 0.37071147 | M11: =L11 -> 0.37071147 | N11: =M11 -> 0.37071147 | O11: =N11 -> 0.37071147 | S11: ISO-NE Peak kW | T11: 0.27185464 | U11: 0.27185464 | V11: 0.27185464 | W11: 0.27185464 | X11: 0.27185464
A13: Price | J13: Price | S13: Price
A14: Energy $/kWh | B14: 0.03682139 | C14: 0.036318803 | D14: 0.037226773 | E14: 0.038157443 | F14: 0.039111379 | J14: Energy $/kWh | K14: =B14 -> 0.03682139 | L14: =C14 -> 0.036318803 | M14: =D14 -> 0.037226773 | N14: =E14 -> 0.038157443 | O14: =F14 -> 0.039111379 | S14: Energy $/kWh | T14: =K14 -> 0.03682139 | U14: =L14 -> 0.036318803 | V14: =M14 -> 0.037226773 | W14: =N14 -> 0.038157443 | X14: =O14 -> 0.039111379
A15: Ancillary $/kWh | B15: 0.002475063 | C15: =B15*(1+$B$5) -> 0.0025369396 | D15: =C15*(1+$B$5) -> 0.0026003631 | E15: =D15*(1+$B$5) -> 0.0026653721 | F15: =E15*(1+$B$5) -> 0.0027320064 | J15: Ancillary $/kWh | K15: =B15 -> 0.002475063 | L15: =C15 -> 0.0025369396 | M15: =D15 -> 0.0026003631 | N15: =E15 -> 0.0026653721 | O15: =F15 -> 0.0027320064 | S15: Ancillary $/kWh | T15: =K15 -> 0.002475063 | U15: =L15 -> 0.0025369396 | V15: =M15 -> 0.0026003631 | W15: =N15 -> 0.0026653721 | X15: =O15 -> 0.0027320064
A16: VT Peak $/kW | B16: 120.5 | C16: 126.5 | D16: 132.5 | E16: 135.75451 | F16: 139.69941 | J16: VT Peak $/kW | K16: 120.5 | L16: 126.5 | M16: 132.5 | N16: 135.75451 | O16: 139.69941 | S16: VT Peak $/kW | T16: 120.5 | U16: 126.5 | V16: 132.5 | W16: 135.75451 | X16: 139.69941
A17: ISO-NE Peak $/kW | B17: 72.25 | C17: 58.917 | D17: 49.755 | E17: 46.265 | F17: 47.421625 | J17: ISO-NE Peak $/kW | K17: 72.25 | L17: 58.917 | M17: 49.755 | N17: 46.265 | O17: 47.421625 | S17: ISO-NE Peak $/kW | T17: 72.25 | U17: 58.917 | V17: 49.755 | W17: 46.265 | X17: 47.421625
A20: $ | G20: Total | J20: $ | P20: Total | S20: $ | Y20: Total
A21: Energy | B21: =B9*B14 -> 36.82139 | C21: =C9*C14 -> 36.318803 | D21: =D9*D14 -> 37.226773 | E21: =E9*E14 -> 38.157443 | F21: =F9*F14 -> 39.111379 | G21: =SUM(B21:F21) -> 187.63579 | J21: Energy | K21: =K9*K14 -> 44.838916 | L21: =L9*L14 -> 44.226895 | M21: =M9*M14 -> 45.332568 | N21: =N9*N14 -> 46.465882 | O21: =O9*O14 -> 47.627529 | P21: =SUM(K21:O21) -> 228.49179 | S21: Energy | T21: =T9*T14 -> 44.838916 | U21: =U9*U14 -> 44.226895 | V21: =V9*V14 -> 45.332568 | W21: =W9*W14 -> 46.465882 | X21: =X9*X14 -> 47.627529 | Y21: =SUM(T21:X21) -> 228.49179
A22: Ancillary | B22: =B9*B15 -> 2.475063 | C22: =C9*C15 -> 2.5369396 | D22: =D9*D15 -> 2.6003631 | E22: =E9*E15 -> 2.6653721 | F22: =F9*F15 -> 2.7320064 | G22: =SUM(B22:F22) -> 13.009744 | J22: Ancillary | K22: =K9*K15 -> 3.0139857 | L22: =L9*L15 -> 3.0893353 | M22: =M9*M15 -> 3.1665687 | N22: =N9*N15 -> 3.2457329 | O22: =O9*O15 -> 3.3268762 | P22: =SUM(K22:O22) -> 15.842499 | S22: Ancillary | T22: =T9*T15 -> 3.0139857 | U22: =U9*U15 -> 3.0893353 | V22: =V9*V15 -> 3.1665687 | W22: =W9*W15 -> 3.2457329 | X22: =X9*X15 -> 3.3268762 | Y22: =SUM(T22:X22) -> 15.842499
A23: VT Peak | B23: =B10*B16 -> 1.2383351 | C23: =C10*C16 -> 1.299995 | D23: =D10*D16 -> 1.3616548 | E23: =E10*E16 -> 1.3951002 | F23: =F10*F16 -> 1.4356405 | G23: =SUM(B23:F23) -> 6.7307256 | J23: VT Peak | K23: =K10*K16 -> 1.5079714 | L23: =L10*L16 -> 1.5830572 | M23: =M10*M16 -> 1.6581429 | N23: =N10*N16 -> 1.6988707 | O23: =O10*O16 -> 1.7482383 | P23: =SUM(K23:O23) -> 8.1962805 | S23: VT Peak | T23: =T10*T16 -> 0.7407051 | U23: =U10*U16 -> 0.56083056 | V23: =V10*V16 -> 0.58743122 | W23: =W10*W16 -> 0.60185991 | X23: =X10*X16 -> 0.61934937 | Y23: =SUM(T23:X23) -> 3.1101762
A24: ISO-NE | B24: =B11*B17*(1+$B$4) -> 26.393696 | C24: =C11*C17*(1+$B$4) -> 21.523008 | D24: =D11*D17*(1+$B$4) -> 18.176032 | E24: =E11*E17*(1+$B$4) -> 16.901098 | F24: =F11*F17*(1+$B$4) -> 17.323625 | G24: =SUM(B24:F24) -> 100.31746 | J24: ISO-NE | K24: =K11*K17*(1+$B$4) -> 32.140685 | L24: =L11*L17*(1+$B$4) -> 26.20945 | M24: =M11*M17*(1+$B$4) -> 22.133699 | N24: =N11*N17*(1+$B$4) -> 20.58116 | O24: =O11*O17*(1+$B$4) -> 21.095689 | P24: =SUM(K24:O24) -> 122.16068 | S24: ISO-NE | T24: =T11*T17*(1+$B$4) -> 23.569797 | U24: =U11*U17*(1+$B$4) -> 19.220231 | V24: =V11*V17*(1+$B$4) -> 16.231353 | W24: =W11*W17*(1+$B$4) -> 15.092826 | X24: =X11*X17*(1+$B$4) -> 15.470146 | Y24: =SUM(T24:X24) -> 89.584353
A25: Total | B25: =SUM(B21:B24) -> 66.928483 | C25: =SUM(C21:C24) -> 61.678746 | D25: =SUM(D21:D24) -> 59.364823 | E25: =SUM(E21:E24) -> 59.119013 | F25: =SUM(F21:F24) -> 60.602651 | G25: =SUM(G21:G24) -> 307.69372 | J25: Total | K25: =SUM(K21:K24) -> 81.501558 | L25: =SUM(L21:L24) -> 75.108737 | M25: =SUM(M21:M24) -> 72.290979 | N25: =SUM(N21:N24) -> 71.991645 | O25: =SUM(O21:O24) -> 73.798332 | P25: =SUM(P21:P24) -> 374.69125 | S25: Total | T25: =SUM(T21:T24) -> 72.163403 | U25: =SUM(U21:U24) -> 67.097293 | V25: =SUM(V21:V24) -> 65.317921 | W25: =SUM(W21:W24) -> 65.4063 | X25: =SUM(X21:X24) -> 67.043901 | Y25: =SUM(Y21:Y24) -> 337.02882
A26: Total with Losses | B26: =B25*(1+$B$3) -> 68.936338 | C26: =C25*(1+$B$3) -> 63.529109 | D26: =D25*(1+$B$3) -> 61.145768 | E26: =E25*(1+$B$3) -> 60.892583 | F26: =F25*(1+$B$3) -> 62.420731 | G26: =G25*(1+$B$3) -> 316.92453 | J26: Total with Losses | K26: =K25*(1+$B$3) -> 83.946604 | L26: =L25*(1+$B$3) -> 77.362 | M26: =M25*(1+$B$3) -> 74.459708 | N26: =N25*(1+$B$3) -> 74.151395 | O26: =O25*(1+$B$3) -> 76.012282 | P26: =P25*(1+$B$3) -> 385.93199
A28: Total ($/kWh) | B28: =+B26/B9 -> 0.068936338 | C28: =+C26/C9 -> 0.063529109 | D28: =+D26/D9 -> 0.061145768 | E28: =+E26/E9 -> 0.060892583 | F28: =+F26/F9 -> 0.062420731 | S28: $/kWh | T28: 2020 | U28: 2021 | V28: 2022 | W28: 2023 | X28: 2024
S29: =+S21 -> Energy | T29: =+T21/T$9 -> 0.03682139 | U29: =+U21/U$9 -> 0.036318803 | V29: =+V21/V$9 -> 0.037226773 | W29: =+W21/W$9 -> 0.038157443 | X29: =+X21/X$9 -> 0.039111379
A30: REC Value | B30: 0.03 | C30: 0.03 | D30: 0.03 | E30: 0.03 | F30: 0.03 | S30: =+S22 -> Ancillary | T30: =+T22/T$9 -> 0.002475063 | U30: =+U22/U$9 -> 0.0025369396 | V30: =+V22/V$9 -> 0.0026003631 | W30: =+W22/W$9 -> 0.0026653721 | X30: =+X22/X$9 -> 0.0027320064
S31: =+S23 -> VT Peak | T31: =+T23/T$9 -> 0.00060826161 | U31: =+U23/U$9 -> 0.00046054996 | V31: =+V23/V$9 -> 0.00048239423 | W31: =+W23/W$9 -> 0.00049424296 | X31: =+X23/X$9 -> 0.00050860518
B32: =+B30+B28 -> 0.098936338 | C32: =+C30+C28 -> 0.093529109 | D32: =+D30+D28 -> 0.091145768 | E32: =+E30+E28 -> 0.090892583 | F32: =+F30+F28 -> 0.092420731 | S32: =+S24 -> ISO-NE | T32: =+T24/T$9 -> 0.019355345 | U32: =+U24/U$9 -> 0.015783514 | V32: =+V24/V$9 -> 0.013329068 | W32: =+W24/W$9 -> 0.012394118 | X32: =+X24/X$9 -> 0.012703971
S33: REC | T33: 0.03 | U33: 0.03 | V33: 0.03 | W33: 0.03 | X33: 0.03
S34: Total | T34: =+SUM(T29:T33) -> 0.089260059 | U34: =+SUM(U29:U33) -> 0.085099806 | V34: =+SUM(V29:V33) -> 0.083638599 | W34: =+SUM(W29:W33) -> 0.083711176 | X34: =+SUM(X29:X33) -> 0.085055961
T36: Total with Losses
S37: Assumed Losses | T37: =T28 -> 2020 | U37: =U28 -> 2021 | V37: =V28 -> 2022 | W37: =W28 -> 2023 | X37: =X28 -> 2024
R38: BED | S38: 0.03 | T38: =T$34*(1+$S38) -> 0.091937861 | U38: =U$34*(1+$S38) -> 0.087652801 | V38: =V$34*(1+$S38) -> 0.086147757 | W38: =W$34*(1+$S38) -> 0.086222511 | X38: =X$34*(1+$S38) -> 0.08760764
R39: Barton | S39: 0.1305651 | T39: =T$34*(1+$S39) -> 0.10091431 | U39: =U$34*(1+$S39) -> 0.096210871 | V39: =V$34*(1+$S39) -> 0.094558881 | W39: =W$34*(1+$S39) -> 0.094640934 | X39: =X$34*(1+$S39) -> 0.096161301
R40: Enosburg | S40: 0.083154419 | T40: =T$34*(1+$S40) -> 0.096682428 | U40: =U$34*(1+$S40) -> 0.092176231 | V40: =V$34*(1+$S40) -> 0.090593518 | W40: =W$34*(1+$S40) -> 0.09067213 | X40: =X$34*(1+$S40) -> 0.092128741
R41: Hardwick | S41: 0.036 | T41: =T$34*(1+$S41) -> 0.092473421 | U41: =U$34*(1+$S41) -> 0.088163399 | V41: =V$34*(1+$S41) -> 0.086649589 | W41: =W$34*(1+$S41) -> 0.086724778 | X41: =X$34*(1+$S41) -> 0.088117976
R42: Hyde Park | S42: 0.11108199 | T42: =T$34*(1+$S42) -> 0.099175244 | U42: =U$34*(1+$S42) -> 0.094552862 | V42: =V$34*(1+$S42) -> 0.092929341 | W42: =W$34*(1+$S42) -> 0.09300998 | X42: =X$34*(1+$S42) -> 0.094504147
R43: Jacksonville | S43: 0.13881604 | T43: =T$34*(1+$S43) -> 0.10165079 | U43: =U$34*(1+$S43) -> 0.096913025 | V43: =V$34*(1+$S43) -> 0.095248978 | W43: =W$34*(1+$S43) -> 0.09533163 | X43: =X$34*(1+$S43) -> 0.096863093
R44: Johnson | S44: 0.057612055 | T44: =T$34*(1+$S44) -> 0.094402515 | U44: =U$34*(1+$S44) -> 0.090002581 | V44: =V$34*(1+$S44) -> 0.088457191 | W44: =W$34*(1+$S44) -> 0.088533949 | X44: =X$34*(1+$S44) -> 0.08995621
R45: Ludlow | S45: 0.069958127 | T45: =T$34*(1+$S45) -> 0.095504526 | U45: =U$34*(1+$S45) -> 0.091053229 | V45: =V$34*(1+$S45) -> 0.089489799 | W45: =W$34*(1+$S45) -> 0.089567453 | X45: =X$34*(1+$S45) -> 0.091006317
R46: Lyndonville | S46: 0.065673286 | T46: =T$34*(1+$S46) -> 0.095122061 | U46: =U$34*(1+$S46) -> 0.09068859 | V46: =V$34*(1+$S46) -> 0.089131421 | W46: =W$34*(1+$S46) -> 0.089208764 | X46: =X$34*(1+$S46) -> 0.090641866
R47: Morrisville | S47: 0.005 | T47: =T$34*(1+$S47) -> 0.08970636 | U47: =U$34*(1+$S47) -> 0.085525305 | V47: =V$34*(1+$S47) -> 0.084056792 | W47: =W$34*(1+$S47) -> 0.084129732 | X47: =X$34*(1+$S47) -> 0.085481241
...

Sheet solar_value 16-18
B1: Hub LMP | C1: 0.035747939 | F1: Ratio MWh to kW | G1: 1.217741
B2: Average Energy Value per kWh | C2: 0.03384318
B3: Solar v Hub | C3: =C2/C1 -> 0.94671694
B4: Inflation | C4: =Summary!B5 -> 0.025
C6: Forwards | D6: Solar Value
B7: CY20 | C7: =futures!H37 -> 39.357816 | D7: =C7*$C$3 -> 37.260712
B8: CY21 | C8: =futures!H38 -> 38.82061 | D8: =C8*$C$3 -> 36.752129
B9: CY22 | C9: =C8*(1+$C$4) -> 39.791125 | D9: =C9*$C$3 -> 37.670932
B10: CY23 | C10: =C9*(1+$C$4) -> 40.785903 | D10: =C10*$C$3 -> 38.612705
B11: CY24 | C11: =C10*(1+$C$4) -> 41.805551 | D11: =C11*$C$3 -> 39.578023

Sheet futures
A1: contract_date | B1: settlement_date | C1: H2 | D1: U6 | E1: on_peak_hours | F1: off_peak_hours | G1: total_hours | H1: ATC
A2: 43739 | B2: 2019-09-27T00:00:00Z | C2: 21.95 | D2: 28.82 | E2: 368 | F2: 376 | G2: 744 | H2: 25.348065
A3: 43770 | B3: 2019-09-27T00:00:00Z | C3: 34.43 | D3: 42.58 | E3: 320 | F3: 401 | G3: 721 | H3: 38.047198
A4: 43800 | B4: 2019-09-27T00:00:00Z | C4: 50.53 | D4: 61.13 | E4: 336 | F4: 408 | G4: 744 | H4: 55.317097
A5: 43831 | B5: 2019-09-27T00:00:00Z | C5: 68.41 | D5: 80.82 | E5: 352 | F5: 392 | G5: 744 | H5: 74.281398
A6: 43862 | B6: 2019-09-27T00:00:00Z | C6: 63.99 | D6: 76.73 | E6: 320 | F6: 376 | G6: 696 | H6: 69.847471
A7: 43891 | B7: 2019-09-27T00:00:00Z | C7: 43 | D7: 50.75 | E7: 352 | F7: 391 | G7: 743 | H7: 46.671602
A8: 43922 | B8: 2019-09-27T00:00:00Z | C8: 28.4 | D8: 35.65 | E8: 352 | F8: 368 | G8: 720 | H8: 31.944444
A9: 43952 | B9: 2019-09-27T00:00:00Z | C9: 21.6 | D9: 27.55 | E9: 320 | F9: 424 | G9: 744 | H9: 24.15914
A10: 43983 | B10: 2019-09-27T00:00:00Z | C10: 21.45 | D10: 27.65 | E10: 352 | F10: 368 | G10: 720 | H10: 24.481111
A11: 44013 | B11: 2019-09-27T00:00:00Z | C11: 25.12 | D11: 36.05 | E11: 368 | F11: 376 | G11: 744 | H11: 30.526237
A12: 44044 | B12: 2019-09-27T00:00:00Z | C12: 24.08 | D12: 33.85 | E12: 336 | F12: 408 | G12: 744 | H12: 28.492258
A13: 44075 | B13: 2019-09-27T00:00:00Z | C13: 21.6 | D13: 30.6 | E13: 336 | F13: 384 | G13: 720 | H13: 25.8
... A35: 44835 | B35: 2019-09-27T00:00:00Z | C35: 23.01 | D35: 30.97 | E35: 336 | F35: 408 | G35: 744 | H35: 26.604839
H37: =SUMPRODUCT(H5:H16,G5:G16)/SUM(G5:G16) -> 39.357816
H38: =SUMPRODUCT(H17:H28,G17:G28)/SUM(G17:G28) -> 38.82061

Sheet average_kw
A1: hour_ending | B1: average_kw
A2: 1 | B2: -9.8239728e-05
A3: 2 | B3: -9.7746092e-05
A4: 3 | B4: -9.8350594e-05
A5: 4 | B5: -9.884423e-05
A6: 5 | B6: -9.9448732e-05
A7: 6 | B7: 0.002050587
A8: 7 | B8: 0.025183768
A9: 8 | B9: 0.12267542
A10: 9 | B10: 0.18324772
A11: 10 | B11: 0.26153143
A12: 11 | B12: 0.37198615
A13: 12 | B13: 0.65383731
... A18: 17 | B18: 0.21292367
A19: 18 | B19: 0.085466233 | C19: =B19*3/(2*B18+B16) -> 0.30862688
A20: 19 | B20: 0.10891947
A21: 20 | B21: 0.021703431
A22: 21 | B22: 0.0013368717
A23: 22 | B23: -9.9448732e-05
A24: 23 | B24: -9.9448732e-05
A25: 24 | B25: -0.0001027415
