Workbook
Name EnergyLosses: '[1]Multiyear Analysis Benefits'!$B$8
Name EnergyLosses: 'Multiyear Analysis Benefits'!$B$8
Name LMPScalar: '[1]Multiyear Analysis Benefits'!$B$18
Name LMPScalar: 'Multiyear Analysis Benefits'!$B$18
Name LMPShapeAdj: '[1]Multiyear Analysis Benefits'!$B$17
Name LMPShapeAdj: 'Multiyear Analysis Benefits'!$B$17
Name StartScalar: '[1]Multiyear Analysis Benefits'!$B$19
Name StartScalar: 'Multiyear Analysis Benefits'!$B$19

Sheet Summary
A1: Table 1.2 - Twenty-five Year Impact of Incremental 20 MW of Net Metering
A5: NPV of Net Metering Output in MWh | C5: MWh
A6: Own Use | C6: ='Multiyear Analysis Cost'!F36 -> 75987.784
A7: Excess Generation | C7: ='Multiyear Analysis Cost'!E36 -> 292227.4
A8: Total Output | C8: ='Multiyear Analysis Cost'!D36 -> 368215.18
A10: NPV of Costs $000s | C10: $ 000s | D10: Levelized $/MWh | E10: Levelized cents/kWh
A11: Sales Offset by Own Use | C11: ='Multiyear Summary'!C42 -> 16722693 | D11: =C11/C6 -> 220.07081 | E11: =D11/10 -> 22.007081
A12: Excess Generation | C12: ='Multiyear Summary'!I42 -> 59541586 | D12: =C12/C7 -> 203.75087 | E12: =D12/10 -> 20.375087
A13: Adders/Adjustors (includes RECs) | C13: ='Multiyear Summary'!E42+'Multiyear Summary'!G42 -> 1825687.7 | D13: =C13/C8 -> 4.9582087 | E13: =D13/10 -> 0.49582087
A14: Total Cost | C14: =SUM(C11:C13) -> 78089967 | D14: =C14/C8 -> 212.07699 | E14: =D14/10 -> 21.207699
A16: NPV of Power Supply Benefits $000s
A17: Avoided Power Cost | C17: ='Multiyear Summary'!O42 -> -17375429 | D17: =C17/C8 -> -47.188246 | E17: =D17/10 -> -4.7188246
A18: Transferred RECs | C18: ='Multiyear Summary'!M42 -> -7131332.2 | D18: =C18/C8 -> -19.367295 | E18: =D18/10 -> -1.9367295
A19: Avoided Capacity/RNS | C19: ='Multiyear Summary'!Q42 -> -6180412.6 | D19: =C19/C8 -> -16.784785 | E19: =D19/10 -> -1.6784785
A20: Total Power Supply Benefits | C20: =SUM(C17:C19) -> -30687173 | D20: =C20/C8 -> -83.340326 | E20: =D20/10 -> -8.3340326
A22: NPV of Net Cost/(Benefit) $000s | C22: =C14+C20 -> 47402793 | D22: =C22/C8 -> 128.73666 | E22: =D22/10 -> 12.873666

Sheet Multiyear Analysis Benefits
A1: Green Mountain Power
A2: Net Metering Multiyear Value Analysis
A4: Assumptions
A5: Nameplate | B5: 20 | C5: MW
A6: Expected NCF | B6: 0.175
A7: Annual Panel Degradation | B7: 0.005
A8: Avoided losses - energy | B8: 0.045 | C8: Average line losses
A9: Losses for RNS | B9: 0.089 | C9: Average marginal line losses
A10: Losses for Capacity | B10: 0.15 | C10: Marginal
A11: Reserve Margin | B11: 0.3 | C11: Based on recent history
A12: 2018 Average RNS Peak coincidence | B12: 0.010209868 | C12: Observed actual
A13: RNS Peak Scalar | B13: 0.035 | C13: Assumes that peak coincidence slowly deteriorates
A14: 2018 FCM Peak coincidence | B14: 0.29555524 | C14: Observed actual
A15: Year FCM Value Starts | B15: 1 | C15: Use either 1 or 2 (e.g., start receiving capacity on day one or receive capacity starting June of year 2)
A16: FCM Peak Scalar | B16: 0.035 | C16: Assumes that peak coincidence slowly deteriorates
A17: LMP Adjustment Factor | B17: 0.95 | C17: Solar shape as percentage of ATC (e.g., 7 x 24) shape
A18: LMP Shape Scalar | B18: 0.003 | C18: Assumes that solar shaped output slowly becomes less valuable
A19: Beginning year for scalar | B19: 2019
C21: Annual | D21: Adjusted | E21: Energy | F21: Capacity | G21: Capacity | H21: Capacity | I21: RNS | J21: RNS | K21: RNS | L21: REC | M21: REC | N21: Total | R21: Output at | S21: % of | T21: Peak/Margin | V21: Output at | W21: Peak/Margin | Y21: Detail in cents/kWh
A22: Year | B22: Annual Output | C22: Energy $/MWh | D22: Energy | E22: Value | F22: $/kW-Month | G22: Delivered | H22: Value | I22: $/kW year | J22: Delivered | K22: Value | L22: Price $/MWh | M22: Value | N22: Value | O22: $/MWh | P22: Cents/kWh | R22: FCM Peak | S22: Nameplate | T22: Adj FCM | V22: RNS Peaks | W22: Adj RNS | Y22: Energy | Z22: Capacity | AA22: RNS | AB22: RECs | AC22: Total
A23: 2020 | B23: =B$5*B$6*8760 -> 30660 | C23: =SUMIF('Avoided Costs'!A:A,'Multiyear Analysis Benefits'!A23,'Avoided Costs'!B:B) -> 42.075352 | D23: =ROUND(LMPShapeAdj*(1-LMPScalar)^(A23-StartScalar)*C23,2)*(1+EnergyLosses) -> 41.64325 | E23: =D23*B23 -> 1276782 | F23: =SUMIF('Avoided Costs'!A:A,'Multiyear Analysis Benefits'!A23,'Avoided Costs'!C:C) -> 6.3091667 | G23: =T23 -> 8.4851642 | H23: =F23*12*G23*1000*IF(B15=2,0,1) -> 642411.78 | I23: =SUMIF('Avoided Costs'!A:A,'Multiyear Analysis Benefits'!A23,'Avoided Costs'!D:D) -> 118.37788 | J23: =W23 -> 0.22547497 | K23: =I23*J23*1000 -> 26691.248 | L23: =SUMIF('Avoided Costs'!A:A,'Multiyear Analysis Benefits'!A23,'Avoided Costs'!E:E) -> 30 | M23: =L23*B23 -> 919800 | N23: =E23+H23+K23+M23 -> 2865685.1 | O23: =N23/B23 -> 93.466571 | P23: =O23/10 -> 9.3466571 | R23: =$B$14*$B$5*(1-$B$16)^($A23-$B$19)*(1-$B$7)^($A23-$B$19) -> 5.6756951 | S23: =R23/B$5 -> 0.28378476 | T23: =R23*(1+B$10)*(1+B$11) -> 8.4851642 | V23: =$B$12*$B$5*(1-$B$13)^($A23-$B$19)*(1-$B$7)^($A23-$B$19) -> 0.19606519 | W23: =V23*(1+$B$10) -> 0.22547497 | Y23: =E23/B23/10 -> 4.164325 | Z23: =H23/B23/10 -> 2.0952765 | AA23: =K23/B23/10 -> 0.087055603 | AB23: =M23/B23/10 -> 3 | AC23: =SUM(Y23:AB23) -> 9.3466571
A24: =A23+1 -> 2021 | B24: =ROUND(B$5*B$6*8760*(1-B$7)^(A24-A$23),0) -> 30507 | C24: =SUMIF('Avoided Costs'!A:A,'Multiyear Analysis Benefits'!A24,'Avoided Costs'!B:B) -> 41.757447 | D24: =ROUND(LMPShapeAdj*(1-LMPScalar)^(A24-StartScalar)*C24,2)*(1+EnergyLosses) -> 41.20435 | E24: =D24*B24 -> 1257021.1 | F24: =SUMIF('Avoided Costs'!A:A,'Multiyear Analysis Benefits'!A24,'Avoided Costs'!C:C) -> 5.0208333 | G24: =T24 -> 8.1472425 | H24: =F24*12*G24*1000*IF(B15=2,7/12,1) -> 490871.36 | I24: =SUMIF('Avoided Costs'!A:A,'Multiyear Analysis Benefits'!A24,'Avoided Costs'!D:D) -> 123.78943 | J24: =W24 -> 0.21649543 | K24: =I24*J24*1000 -> 26799.847 | L24: =SUMIF('Avoided Costs'!A:A,'Multiyear Analysis Benefits'!A24,'Avoided Costs'!E:E) -> 30 | M24: =L24*B24 -> 915210 | N24: =E24+H24+K24+M24 -> 2689902.3 | O24: =N24/B24 -> 88.173282 | P24: =O24/10 -> 8.8173282 | R24: =B$14*B$5*(1-B$16)^(A24-B$19)*(1-B$7)^(A24-B$19) -> 5.4496606 | S24: =R24/B$5 -> 0.27248303 | T24: =R24*(1+B$10)*(1+B$11) -> 8.1472425 | V24: =$B$12*$B$5*(1-$B$13)^($A24-$B$19)*(1-$B$7)^($A24-$B$19) -> 0.1882569 | W24: =V24*(1+$B$10) -> 0.21649543 | Y24: =E24/B24/10 -> 4.120435 | Z24: =H24/B24/10 -> 1.609045 | AA24: =K24/B24/10 -> 0.087848189 | AB24: =M24/B24/10 -> 3 | AC24: =SUM(Y24:AB24) -> 8.8173282
A25: =A24+1 -> 2022 | B25: =ROUND(B$5*B$6*8760*(1-B$7)^(A25-A$23),0) -> 30354 | C25: =SUMIF('Avoided Costs'!A:A,'Multiyear Analysis Benefits'!A25,'Avoided Costs'!B:B) -> 39.962146 | D25: =ROUND(LMPShapeAdj*(1-LMPScalar)^(A25-StartScalar)*C25,2)*(1+EnergyLosses) -> 39.3129 | E25: =D25*B25 -> 1193303.8 | F25: =SUMIF('Avoided Costs'!A:A,'Multiyear Analysis Benefits'!A25,'Avoided Costs'!C:C) -> 4.2841667 | G25: =T25 -> 7.8227786 | H25: =F25*12*G25*1000 -> 402169.05 | I25: =SUMIF('Avoided Costs'!A:A,'Multiyear Analysis Benefits'!A25,'Avoided Costs'!D:D) -> 128.60911 | J25: =W25 -> 0.2078735 | K25: =I25*J25*1000 -> 26734.425 | L25: =SUMIF('Avoided Costs'!A:A,'Multiyear Analysis Benefits'!A25,'Avoided Costs'!E:E) -> 30 | M25: =L25*B25 -> 910620 | N25: =E25+H25+K25+M25 -> 2532827.2 | O25: =N25/B25 -> 83.442948 | P25: =O25/10 -> 8.3442948 | R25: =B$14*B$5*(1-B$16)^(A25-B$19)*(1-B$7)^(A25-B$19) -> 5.2326278 | S25: =R25/B$5 -> 0.26163139 | T25: =R25*(1+B$10)*(1+B$11) -> 7.8227786 | V25: =$B$12*$B$5*(1-$B$13)^($A25-$B$19)*(1-$B$7)^($A25-$B$19) -> 0.18075956 | W25: =V25*(1+$B$10) -> 0.2078735 | Y25: =E25/B25/10 -> 3.93129 | Z25: =H25/B25/10 -> 1.3249293 | AA25: =K25/B25/10 -> 0.088075459 | AB25: =M25/B25/10 -> 3 | AC25: =SUM(Y25:AB25) -> 8.3442948
A26: =A25+1 -> 2023 | B26: =ROUND(B$5*B$6*8760*(1-B$7)^(A26-A$23),0) -> 30202 | C26: =SUMIF('Avoided Costs'!A:A,'Multiyear Analysis Benefits'!A26,'Avoided Costs'!B:B) -> 38.567272 | D26: =ROUND(LMPShapeAdj*(1-LMPScalar)^(A26-StartScalar)*C26,2)*(1+EnergyLosses) -> 37.829 | E26: =D26*B26 -> 1142511.5 | F26: =SUMIF('Avoided Costs'!A:A,'Multiyear Analysis Benefits'!A26,'Avoided Costs'!C:C) -> 4.1551898 | G26: =T26 -> 7.5112365 | H26: =F26*12*G26*1000 -> 374527.36 | I26: =SUMIF('Avoided Costs'!A:A,'Multiyear Analysis Benefits'!A26,'Avoided Costs'!D:D) -> 133.29509 | J26: =W26 -> 0.19959494 | K26: =I26*J26*1000 -> 26605.026 | L26: =SUMIF('Avoided Costs'!A:A,'Multiyear Analysis Benefits'!A26,'Avoided Costs'!E:E) -> 30 | M26: =L26*B26 -> 906060 | N26: =E26+H26+K26+M26 -> 2449703.8 | O26: =N26/B26 -> 81.11065 | P26: =O26/10 -> 8.111065 | R26: =B$14*B$5*(1-B$16)^(A26-B$19)*(1-B$7)^(A26-B$19) -> 5.0242384 | S26: =R26/B$5 -> 0.25121192 | T26: =R26*(1+B$10)*(1+B$11) -> 7.5112365 | V26: =$B$12*$B$5*(1-$B$13)^($A26-$B$19)*(1-$B$7)^($A26-$B$19) -> 0.17356081 | W26: =V26*(1+$B$10) -> 0.19959494 | Y26: =E26/B26/10 -> 3.7829 | Z26: =H26/B26/10 -> 1.2400747 | AA26: =K26/B26/10 -> 0.088090278 | AB26: =M26/B26/10 -> 3 | AC26: =SUM(Y26:AB26) -> 8.111065
A27: =A26+1 -> 2024 | B27: =ROUND(B$5*B$6*8760*(1-B$7)^(A27-A$23),0) -> 30051 | C27: =SUMIF('Avoided Costs'!A:A,'Multiyear Analysis Benefits'!A27,'Avoided Costs'!B:B) -> 38.878925 | D27: =ROUND(LMPShapeAdj*(1-LMPScalar)^(A27-StartScalar)*C27,2)*(1+EnergyLosses) -> 38.0171 | E27: =D27*B27 -> 1142451.9 | F27: =SUMIF('Avoided Costs'!A:A,'Multiyear Analysis Benefits'!A27,'Avoided Costs'!C:C) -> 4.7299964 | G27: =T27 -> 7.2121015 | H27: =F27*12*G27*1000 -> 409358.57 | I27: =SUMIF('Avoided Costs'!A:A,'Multiyear Analysis Benefits'!A27,'Avoided Costs'!D:D) -> 137.81878 | J27: =W27 -> 0.19164607 | K27: =I27*J27*1000 -> 26412.427 | L27: =SUMIF('Avoided Costs'!A:A,'Multiyear Analysis Benefits'!A27,'Avoided Costs'!E:E) -> 16 | M27: =L27*B27 -> 480816 | N27: =E27+H27+K27+M27 -> 2059038.9 | O27: =N27/B27 -> 68.518148 | P27: =O27/10 -> 6.8518148 | R27: =B$14*B$5*(1-B$16)^(A27-B$19)*(1-B$7)^(A27-B$19) -> 4.8241481 | S27: =R27/B$5 -> 0.24120741 | T27: =R27*(1+B$10)*(1+B$11) -> 7.2121015 | V27: =$B$12*$B$5*(1-$B$13)^($A27-$B$19)*(1-$B$7)^($A27-$B$19) -> 0.16664876 | W27: =V27*(1+$B$10) -> 0.19164607 | Y27: =E27/B27/10 -> 3.80171 | Z27: =H27/B27/10 -> 1.3622128 | AA27: =K27/B27/10 -> 0.087892007 | AB27: =M27/B27/10 -> 1.6 | AC27: =SUM(Y27:AB27) -> 6.8518148
A28: =A27+1 -> 2025 | B28: =ROUND(B$5*B$6*8760*(1-B$7)^(A28-A$23),0) -> 29901 | C28: =SUMIF('Avoided Costs'!A:A,'Multiyear Analysis Benefits'!A28,'Avoided Costs'!B:B) -> 40.172678 | D28: =ROUND(LMPShapeAdj*(1-LMPScalar)^(A28-StartScalar)*C28,2)*(1+EnergyLosses) -> 39.1666 | E28: =D28*B28 -> 1171120.5 | F28: =SUMIF('Avoided Costs'!A:A,'Multiyear Analysis Benefits'!A28,'Avoided Costs'!C:C) -> 4.8889553 | G28: =T28 -> 6.9248795 | H28: =F28*12*G28*1000 -> 406265.12 | I28: =SUMIF('Avoided Costs'!A:A,'Multiyear Analysis Benefits'!A28,'Avoided Costs'!D:D) -> 142.29789 | J28: =W28 -> 0.18401376 | K28: =I28*J28*1000 -> 26184.77 | L28: =SUMIF('Avoided Costs'!A:A,'Multiyear Analysis Benefits'!A28,'Avoided Costs'!E:E) -> 15.5 | M28: =L28*B28 -> 463465.5 | N28: =E28+H28+K28+M28 -> 2067035.9 | O28: =N28/B28 -> 69.129323 | P28: =O28/10 -> 6.9129323 | R28: =B$14*B$5*(1-B$16)^(A28-B$19)*(1-B$7)^(A28-B$19) -> 4.6320264 | S28: =R28/B$5 -> 0.23160132 | T28: =R28*(1+B$10)*(1+B$11) -> 6.9248795 | V28: =$B$12*$B$5*(1-$B$13)^($A28-$B$19)*(1-$B$7)^($A28-$B$19) -> 0.16001197 | W28: =V28*(1+$B$10) -> 0.18401376 | Y28: =E28/B28/10 -> 3.91666 | Z28: =H28/B28/10 -> 1.3587008 | AA28: =K28/B28/10 -> 0.087571553 | AB28: =M28/B28/10 -> 1.55 | AC28: =SUM(Y28:AB28) -> 6.9129323
A29: =A28+1 -> 2026 | B29: =ROUND(B$5*B$6*8760*(1-B$7)^(A29-A$23),0) -> 29752 | C29: =SUMIF('Avoided Costs'!A:A,'Multiyear Analysis Benefits'!A29,'Avoided Costs'!B:B) -> 41.615462 | D29: =ROUND(LMPShapeAdj*(1-LMPScalar)^(A29-StartScalar)*C29,2)*(1+EnergyLosses) -> 40.45195 | E29: =D29*B29 -> 1203526.4 | F29: =SUMIF('Avoided Costs'!A:A,'Multiyear Analysis Benefits'!A29,'Avoided Costs'!C:C) -> 5.1661641 | G29: =T29 -> 6.6490962 | H29: =F29*12*G29*1000 -> 412203.87 | I29: =SUMIF('Avoided Costs'!A:A,'Multiyear Analysis Benefits'!A29,'Avoided Costs'!D:D) -> 146.92257 | J29: =W29 -> 0.17668542 | K29: =I29*J29*1000 -> 25959.075 | L29: =SUMIF('Avoided Costs'!A:A,'Multiyear Analysis Benefits'!A29,'Avoided Costs'!E:E) -> 15 | M29: =L29*B29 -> 446280 | N29: =E29+H29+K29+M29 -> 2087969.4 | O29: =N29/B29 -> 70.179126 | P29: =O29/10 -> 7.0179126 | R29: =B$14*B$5*(1-B$16)^(A29-B$19)*(1-B$7)^(A29-B$19) -> 4.447556 | S29: =R29/B$5 -> 0.2223778 | T29: =R29*(1+B$10)*(1+B$11) -> 6.6490962 | V29: =$B$12*$B$5*(1-$B$13)^($A29-$B$19)*(1-$B$7)^($A29-$B$19) -> 0.15363949 | W29: =V29*(1+$B$10) -> 0.17668542 | Y29: =E29/B29/10 -> 4.045195 | Z29: =H29/B29/10 -> 1.3854661 | AA29: =K29/B29/10 -> 0.087251531 | AB29: =M29/B29/10 -> 1.5 | AC29: =SUM(Y29:AB29) -> 7.0179126
A30: =A29+1 -> 2027 | B30: =ROUND(B$5*B$6*8760*(1-B$7)^(A30-A$23),0) -> 29603 | C30: =SUMIF('Avoided Costs'!A:A,'Multiyear Analysis Benefits'!A30,'Avoided Costs'!B:B) -> 42.97614 | D30: =ROUND(LMPShapeAdj*(1-LMPScalar)^(A30-StartScalar)*C30,2)*(1+EnergyLosses) -> 41.6537 | E30: =D30*B30 -> 1233074.5 | F30: =SUMIF('Avoided Costs'!A:A,'Multiyear Analysis Benefits'!A30,'Avoided Costs'!C:C) -> 5.7282428 | G30: =T30 -> 6.3842959 | H30: =F30*12*G30*1000 -> 438849.57 | I30: =SUMIF('Avoided Costs'!A:A,'Multiyear Analysis Benefits'!A30,'Avoided Costs'!D:D) -> 151.69755 | J30: =W30 -> 0.16964892 | K30: =I30*J30*1000 -> 25735.326 | L30: =SUMIF('Avoided Costs'!A:A,'Multiyear Analysis Benefits'!A30,'Avoided Costs'!E:E) -> 15 | M30: =L30*B30 -> 444045 | N30: =E30+H30+K30+M30 -> 2141704.4 | O30: =N30/B30 -> 72.347545 | P30: =O30/10 -> 7.2347545 | R30: =B$14*B$5*(1-B$16)^(A30-B$19)*(1-B$7)^(A30-B$19) -> 4.2704321 | S30: =R30/B$5 -> 0.2135216 | T30: =R30*(1+B$10)*(1+B$11) -> 6.3842959 | V30: =$B$12*$B$5*(1-$B$13)^($A30-$B$19)*(1-$B$7)^($A30-$B$19) -> 0.1475208 | W30: =V30*(1+$B$10) -> 0.16964892 | Y30: =E30/B30/10 -> 4.16537 | Z30: =H30/B30/10 -> 1.4824496 | AA30: =K30/B30/10 -> 0.086934858 | AB30: =M30/B30/10 -> 1.5 | AC30: =SUM(Y30:AB30) -> 7.2347545
A31: =A30+1 -> 2028 | B31: =ROUND(B$5*B$6*8760*(1-B$7)^(A31-A$23),0) -> 29455 | C31: =SUMIF('Avoided Costs'!A:A,'Multiyear Analysis Benefits'!A31,'Avoided Costs'!B:B) -> 44.404332 | D31: =ROUND(LMPShapeAdj*(1-LMPScalar)^(A31-StartScalar)*C31,2)*(1+EnergyLosses) -> 42.9077 | E31: =D31*B31 -> 1263846.3 | F31: =SUMIF('Avoided Costs'!A:A,'Multiyear Analysis Benefits'!A31,'Avoided Costs'!C:C) -> 6.4156319 | G31: =T31 -> 6.1300414 | H31: =F31*12*G31*1000 -> 471937.07 | I31: =SUMIF('Avoided Costs'!A:A,'Multiyear Analysis Benefits'!A31,'Avoided Costs'!D:D) -> 156.62772 | J31: =W31 -> 0.16289265 | K31: =I31*J31*1000 -> 25513.505 | L31: =SUMIF('Avoided Costs'!A:A,'Multiyear Analysis Benefits'!A31,'Avoided Costs'!E:E) -> 15 | M31: =L31*B31 -> 441825 | N31: =E31+H31+K31+M31 -> 2203121.9 | O31: =N31/B31 -> 74.796193 | P31: =O31/10 -> 7.4796193 | R31: =B$14*B$5*(1-B$16)^(A31-B$19)*(1-B$7)^(A31-B$19) -> 4.1003621 | S31: =R31/B$5 -> 0.20501811 | T31: =R31*(1+B$10)*(1+B$11) -> 6.1300414 | V31: =$B$12*$B$5*(1-$B$13)^($A31-$B$19)*(1-$B$7)^($A31-$B$19) -> 0.14164578 | W31: =V31*(1+$B$10) -> 0.16289265 | Y31: =E31/B31/10 -> 4.29077 | Z31: =H31/B31/10 -> 1.6022308 | AA31: =K31/B31/10 -> 0.086618589 | AB31: =M31/B31/10 -> 1.5 | AC31: =SUM(Y31:AB31) -> 7.4796193
A32: =A31+1 -> 2029 | B32: =ROUND(B$5*B$6*8760*(1-B$7)^(A32-A$23),0) -> 29308 | C32: =SUMIF('Avoided Costs'!A:A,'Multiyear Analysis Benefits'!A32,'Avoided Costs'!B:B) -> 46.012313 | D32: =ROUND(LMPShapeAdj*(1-LMPScalar)^(A32-StartScalar)*C32,2)*(1+EnergyLosses) -> 44.3289 | E32: =D32*B32 -> 1299191.4 | F32: =SUMIF('Avoided Costs'!A:A,'Multiyear Analysis Benefits'!A32,'Avoided Costs'!C:C) -> 7.099966 | G32: =T32 -> 5.8859125 | H32: =F32*12*G32*1000 -> 501477.34 | I32: =SUMIF('Avoided Costs'!A:A,'Multiyear Analysis Benefits'!A32,'Avoided Costs'!D:D) -> 161.71813 | J32: =W32 -> 0.15640545 | K32: =I32*J32*1000 -> 25293.596 | L32: =SUMIF('Avoided Costs'!A:A,'Multiyear Analysis Benefits'!A32,'Avoided Costs'!E:E) -> 15 | M32: =L32*B32 -> 439620 | N32: =E32+H32+K32+M32 -> 2265582.3 | O32: =N32/B32 -> 77.302523 | P32: =O32/10 -> 7.7302523 | R32: =B$14*B$5*(1-B$16)^(A32-B$19)*(1-B$7)^(A32-B$19) -> 3.9370652 | S32: =R32/B$5 -> 0.19685326 | T32: =R32*(1+B$10)*(1+B$11) -> 5.8859125 | V32: =$B$12*$B$5*(1-$B$13)^($A32-$B$19)*(1-$B$7)^($A32-$B$19) -> 0.13600474 | W32: =V32*(1+$B$10) -> 0.15640545 | Y32: =E32/B32/10 -> 4.43289 | Z32: =H32/B32/10 -> 1.7110596 | AA32: =K32/B32/10 -> 0.086302704 | AB32: =M32/B32/10 -> 1.5 | AC32: =SUM(Y32:AB32) -> 7.7302523
A33: =A32+1 -> 2030 | B33: =ROUND(B$5*B$6*8760*(1-B$7)^(A33-A$23),0) -> 29161 | C33: =SUMIF('Avoided Costs'!A:A,'Multiyear Analysis Benefits'!A33,'Avoided Costs'!B:B) -> 47.659724 | D33: =ROUND(LMPShapeAdj*(1-LMPScalar)^(A33-StartScalar)*C33,2)*(1+EnergyLosses) -> 45.771 | E33: =D33*B33 -> 1334728.1 | F33: =SUMIF('Avoided Costs'!A:A,'Multiyear Analysis Benefits'!A33,'Avoided Costs'!C:C) -> 7.7078828 | G33: =T33 -> 5.651506 | H33: =F33*12*G33*1000 -> 522733.75 | I33: =SUMIF('Avoided Costs'!A:A,'Multiyear Analysis Benefits'!A33,'Avoided Costs'!D:D) -> 166.97396 | J33: =W33 -> 0.1501766 | K33: =I33*J33*1000 -> 25075.583 | L33: =SUMIF('Avoided Costs'!A:A,'Multiyear Analysis Benefits'!A33,'Avoided Costs'!E:E) -> 15 | M33: =L33*B33 -> 437415 | N33: =E33+H33+K33+M33 -> 2319952.5 | O33: =N33/B33 -> 79.556684 | P33: =O33/10 -> 7.9556684 | R33: =B$14*B$5*(1-B$16)^(A33-B$19)*(1-B$7)^(A33-B$19) -> 3.7802716 | S33: =R33/B$5 -> 0.18901358 | T33: =R33*(1+B$10)*(1+B$11) -> 5.651506 | V33: =$B$12*$B$5*(1-$B$13)^($A33-$B$19)*(1-$B$7)^($A33-$B$19) -> 0.13058835 | W33: =V33*(1+$B$10) -> 0.1501766 | Y33: =E33/B33/10 -> 4.5771 | Z33: =H33/B33/10 -> 1.7925783 | AA33: =K33/B33/10 -> 0.085990134 | AB33: =M33/B33/10 -> 1.5 | AC33: =SUM(Y33:AB33) -> 7.9556684
A34: =A33+1 -> 2031 | B34: =ROUND(B$5*B$6*8760*(1-B$7)^(A34-A$23),0) -> 29015 | C34: =SUMIF('Avoided Costs'!A:A,'Multiyear Analysis Benefits'!A34,'Avoided Costs'!B:B) -> 49.402044 | D34: =ROUND(LMPShapeAdj*(1-LMPScalar)^(A34-StartScalar)*C34,2)*(1+EnergyLosses) -> 47.30715 | E34: =D34*B34 -> 1372617 | F34: =SUMIF('Avoided Costs'!A:A,'Multiyear Analysis Benefits'!A34,'Avoided Costs'!C:C) -> 8.1231139 | G34: =T34 -> 5.4264348 | H34: =F34*12*G34*1000 -> 528954.57 | I34: =SUMIF('Avoided Costs'!A:A,'Multiyear Analysis Benefits'!A34,'Avoided Costs'!D:D) -> 172.40062 | J34: =W34 -> 0.14419582 | K34: =I34*J34*1000 -> 24859.449 | L34: =SUMIF('Avoided Costs'!A:A,'Multiyear Analysis Benefits'!A34,'Avoided Costs'!E:E) -> 15 | M34: =L34*B34 -> 435225 | N34: =E34+H34+K34+M34 -> 2361656 | O34: =N34/B34 -> 81.394312 | P34: =O34/10 -> 8.1394312 | R34: =B$14*B$5*(1-B$16)^(A34-B$19)*(1-B$7)^(A34-B$19) -> 3.6297223 | S34: =R34/B$5 -> 0.18148611 | T34: =R34*(1+B$10)*(1+B$11) -> 5.4264348 | V34: =$B$12*$B$5*(1-$B$13)^($A34-$B$19)*(1-$B$7)^($A34-$B$19) -> 0.12538767 | W34: =V34*(1+$B$10) -> 0.14419582 | Y34: =E34/B34/10 -> 4.730715 | Z34: =H34/B34/10 -> 1.8230383 | AA34: =K34/B34/10 -> 0.085677921 | AB34: =M34/B34/10 -> 1.5 | AC34: =SUM(Y34:AB34) -> 8.1394312
A35: =A34+1 -> 2032 | B35: =ROUND(B$5*B$6*8760*(1-B$7)^(A35-A$23),0) -> 28870 | C35: =SUMIF('Avoided Costs'!A:A,'Multiyear Analysis Benefits'!A35,'Avoided Costs'!B:B) -> 51.280888 | D35: =ROUND(LMPShapeAdj*(1-LMPScalar)^(A35-StartScalar)*C35,2)*(1+EnergyLosses) -> 48.95825 | E35: =D35*B35 -> 1413424.7 | F35: =SUMIF('Avoided Costs'!A:A,'Multiyear Analysis Benefits'!A35,'Avoided Costs'!C:C) -> 8.2855761 | G35: =T35 -> 5.210327 | H35: =F35*12*G35*1000 -> 518046.73 | I35: =SUMIF('Avoided Costs'!A:A,'Multiyear Analysis Benefits'!A35,'Avoided Costs'!D:D) -> 178.00364 | J35: =W35 -> 0.13845322 | K35: =I35*J35*1000 -> 24645.177 | L35: =SUMIF('Avoided Costs'!A:A,'Multiyear Analysis Benefits'!A35,'Avoided Costs'!E:E) -> 15 | M35: =L35*B35 -> 433050 | N35: =E35+H35+K35+M35 -> 2389166.6 | O35: =N35/B35 -> 82.75603 | P35: =O35/10 -> 8.275603 | R35: =B$14*B$5*(1-B$16)^(A35-B$19)*(1-B$7)^(A35-B$19) -> 3.4851686 | S35: =R35/B$5 -> 0.17425843 | T35: =R35*(1+B$10)*(1+B$11) -> 5.210327 | V35: =$B$12*$B$5*(1-$B$13)^($A35-$B$19)*(1-$B$7)^($A35-$B$19) -> 0.12039411 | W35: =V35*(1+$B$10) -> 0.13845322 | Y35: =E35/B35/10 -> 4.895825 | Z35: =H35/B35/10 -> 1.794412 | AA35: =K35/B35/10 -> 0.085366046 | AB35: =M35/B35/10 -> 1.5 | AC35: =SUM(Y35:AB35) -> 8.275603
A36: =A35+1 -> 2033 | B36: =ROUND(B$5*B$6*8760*(1-B$7)^(A36-A$23),0) -> 28726 | C36: =SUMIF('Avoided Costs'!A:A,'Multiyear Analysis Benefits'!A36,'Avoided Costs'!B:B) -> 53.120968 | D36: =ROUND(LMPShapeAdj*(1-LMPScalar)^(A36-StartScalar)*C36,2)*(1+EnergyLosses) -> 50.56755 | E36: =D36*B36 -> 1452603.4 | F36: =SUMIF('Avoided Costs'!A:A,'Multiyear Analysis Benefits'!A36,'Avoided Costs'!C:C) -> 8.4512877 | G36: =T36 -> 5.0028257 | H36: =F36*12*G36*1000 -> 507363.83 | I36: =SUMIF('Avoided Costs'!A:A,'Multiyear Analysis Benefits'!A36,'Avoided Costs'!D:D) -> 183.78876 | J36: =W36 -> 0.13293932 | K36: =I36*J36*1000 -> 24432.753 | L36: =SUMIF('Avoided Costs'!A:A,'Multiyear Analysis Benefits'!A36,'Avoided Costs'!E:E) -> 15 | M36: =L36*B36 -> 430890 | N36: =E36+H36+K36+M36 -> 2415290 | O36: =N36/B36 -> 84.080277 | P36: =O36/10 -> 8.4080277 | R36: =B$14*B$5*(1-B$16)^(A36-B$19)*(1-B$7)^(A36-B$19) -> 3.3463717 | S36: =R36/B$5 -> 0.16731859 | T36: =R36*(1+B$10)*(1+B$11) -> 5.0028257 | V36: =$B$12*$B$5*(1-$B$13)^($A36-$B$19)*(1-$B$7)^($A36-$B$19) -> 0.11559941 | W36: =V36*(1+$B$10) -> 0.13293932 | Y36: =E36/B36/10 -> 5.056755 | Z36: =H36/B36/10 -> 1.7662182 | AA36: =K36/B36/10 -> 0.08505449 | AB36: =M36/B36/10 -> 1.5 | AC36: =SUM(Y36:AB36) -> 8.4080277
... A47: =A46+1 -> 2044 | B47: =ROUND(B$5*B$6*8760*(1-B$7)^(A47-A$23),0) -> 27185 | C47: =SUMIF('Avoided Costs'!A:A,'Multiyear Analysis Benefits'!A47,'Avoided Costs'!B:B) -> 83.874243 | D47: =ROUND(LMPShapeAdj*(1-LMPScalar)^(A47-StartScalar)*C47,2)*(1+EnergyLosses) -> 77.23595 | E47: =D47*B47 -> 2099659.3 | F47: =SUMIF('Avoided Costs'!A:A,'Multiyear Analysis Benefits'!A47,'Avoided Costs'!C:C) -> 10.508114 | G47: =T47 -> 3.1994086 | H47: =F47*12*G47*1000 -> 403437 | I47: =SUMIF('Avoided Costs'!A:A,'Multiyear Analysis Benefits'!A47,'Avoided Costs'!D:D) -> 261.28207 | J47: =W47 -> 0.085017396 | K47: =I47*J47*1000 -> 22213.521 | L47: =SUMIF('Avoided Costs'!A:A,'Multiyear Analysis Benefits'!A47,'Avoided Costs'!E:E) -> 15 | M47: =L47*B47 -> 407775 | N47: =E47+H47+K47+M47 -> 2933084.8 | O47: =N47/B47 -> 107.8935 | P47: =O47/10 -> 10.78935 | R47: =B$14*B$5*(1-B$16)^(A47-B$19)*(1-B$7)^(A47-B$19) -> 2.1400727 | S47: =R47/B$5 -> 0.10700363 | T47: =R47*(1+B$10)*(1+B$11) -> 3.1994086 | V47: =$B$12*$B$5*(1-$B$13)^($A47-$B$19)*(1-$B$7)^($A47-$B$19) -> 0.07392817 | W47: =V47*(1+$B$10) -> 0.085017396 | Y47: =E47/B47/10 -> 7.723595 | Z47: =H47/B47/10 -> 1.4840427 | AA47: =K47/B47/10 -> 0.081712418 | AB47: =M47/B47/10 -> 1.5 | AC47: =SUM(Y47:AB47) -> 10.78935
A49: NPV of Cost | E49: =NPV(0.0619,E23:E47) -> 17375429 | H49: =NPV(0.0619,H23:H47) -> 5863282.4 | K49: =NPV(0.0619,K23:K47) -> 317130.18 | M49: =NPV(0.0619,M23:M47) -> 7131332.2 | N49: =NPV(0.0619,N23:N47) -> 30687173 | P49: =NPV(0.0619,N23:N47)/M50/10 -> 8.3340326
A50: NPV of Generation in MWh | E50: =H50 -> 368215.18 | H50: =NPV(0.0619,B23:B47) -> 368215.18 | K50: =H50 -> 368215.18 | M50: =K50 -> 368215.18
A51: Levelized Cost - cents/kWh | E51: =E49/E50/10 -> 4.7188246 | H51: =H49/H50/10 -> 1.5923522 | K51: =K49/K50/10 -> 0.086126318 | M51: =M49/M50/10 -> 1.9367295

Sheet Multiyear Analysis Cost
C2: 0.0272 | D2: = Assumed Annual Base Rate increase (same as FY20 - FY22)
C3: 154.17 | D3: = Blended rate per Excess MWh for NM2.0. Assume cost increases by 2.72%.
D4: Assumed breakout of projects: 33% small, 25% medium, 42% large.
D5: Assume solar net metering percentages by "own use" and "excess", as well as by customer class, are same as Itron forecast.
AK6: Adjustors
H7: Residential | L7: Commercial | P7: Industrial | T7: Average Incremental $/kWh | X7: Lost Revenue Due to Solar Net Metering | AC7: Excess Cost | AG7: RES | AK7: Small | AP7: Medium | AU7: Large
C8: Year | D8: Annual Output | E8: MWh Excess | F8: MWh Own Use | H8: MWh Total | I8: MWh Excess | J8: MWh Own Use | L8: MWh Total | M8: MWh Excess | N8: MWh Own Use | P8: MWh Total | Q8: MWh Excess | R8: MWh Own Use | T8: Res | U8: Com | V8: Ind | X8: Res | Y8: Com | Z8: Ind | AA8: Total | AC8: Cost per MWh | AD8: Excess MWh | AE8: Total | AG8: Cost per MWh | AH8: MWh | AI8: Total | AK8: % Small | AL8: REC Adjustor | AM8: Site Adjustor | AN8: MWh | AO8: Total Adj. | AP8: % Medium | AQ8: REC Adjustor | AR8: Site Adjustor | AS8: MWh | AT8: Total Adj. | AU8: % Large | AV8: REC Adjustor | AW8: Site Adjustor | AX8: MWh | AY8: Total Adj. | BA8: Total Net Adjustor | BC8: Year | BD8: Annual Output | BE8: Total Cost
E9: 0.79363213 | F9: =1-E9 -> 0.20636787 | H9: 0.32591628 | I9: =+H9*0.37445 -> 0.12203935 | J9: =+H9-I9 -> 0.20387693 | L9: 0.51596232 | M9: =+L9*0.9704 -> 0.50068983 | N9: =+L9-M9 -> 0.015272485 | P9: =1-H9-L9 -> 0.1581214 | Q9: =+E9-I9-M9 -> 0.17090294 | R9: =+P9-Q9 -> -0.012781539 | T9: 0.16446 | U9: 0.1516848 | V9: 0.11595679 | AC9: 154.17 | AG9: Assumes all NM 2.1 "B" | AK9: 0.54 | AL9: 0 | AM9: 10 | AP9: 0.24948969 | AQ9: =AL9 -> 0 | AR9: =(0.75*10+0.25*-30) -> 0 | AU9: =1-AP9-AK9 -> 0.21051031 | AV9: =AQ9 -> 0 | AW9: =-20 -> -20
C10: ='Multiyear Analysis Benefits'!A23 -> 2020 | D10: ='Multiyear Analysis Benefits'!B23 -> 30660 | E10: =$D10*E$9 -> 24332.761 | F10: =$D10*F$9 -> 6327.239 | H10: =$D10*H$9 -> 9992.5931 | I10: =$D10*I$9 -> 3741.7265 | J10: =$D10*J$9 -> 6250.8666 | L10: =$D10*L$9 -> 15819.405 | M10: =$D10*M$9 -> 15351.15 | N10: =$D10*N$9 -> 468.25438 | P10: =$D10*P$9 -> 4848.0022 | Q10: =$D10*Q$9 -> 5239.8842 | R10: =$D10*R$9 -> -391.88199 | T10: =T9*(1+$C$2) -> 0.16893331 | U10: =U9*(1+$C$2) -> 0.15581063 | V10: =V9*(1+$C$2) -> 0.11911082 | X10: =T10*1000*J10 -> 1055979.6 | Y10: =U10*1000*N10 -> 72959.008 | Z10: =V10*1000*R10 -> -46677.384 | AA10: =SUM(X10:Z10) -> 1082261.2 | AC10: =AC9*(1+$C$2) -> 158.36342 | AD10: =E10 -> 24332.761 | AE10: =AC10*AD10 -> 3853419.3 | AG10: 10 | AH10: =D10 -> 30660 | AI10: =AG10*AH10 -> 306600 | AK10: =AK9 -> 0.54 | AL10: =AL9 -> 0 | AM10: =AM9 -> 10 | AN10: =AK10*D10 -> 16556.4 | AO10: =AN10*(AL10+AM10) -> 165564 | AP10: =AP9 -> 0.24948969 | AQ10: =AL10 -> 0 | AR10: =+AR9 -> 0 | AS10: =AP10*D10 -> 7649.354 | AT10: =AS10*(AQ10+AR10) -> 0 | AU10: =1-AP10-AK10 -> 0.21051031 | AV10: =AQ10 -> 0 | AW10: =-20 -> -20 | AX10: =AU10*D10 -> 6454.246 | AY10: =AX10*(AV10+AW10) -> -129084.92 | BA10: =AO10+AT10+AY10 -> 36479.079 | BC10: =C10 -> 2020 | BD10: =D10 -> 30660 | BE10: =AA10+AE10+AI10+BA10 -> 5278759.7
C11: ='Multiyear Analysis Benefits'!A24 -> 2021 | D11: ='Multiyear Analysis Benefits'!B24 -> 30507 | E11: =$D11*E$9 -> 24211.335 | F11: =$D11*F$9 -> 6295.6647 | H11: =$D11*H$9 -> 9942.7279 | I11: =$D11*I$9 -> 3723.0545 | J11: =$D11*J$9 -> 6219.6734 | L11: =$D11*L$9 -> 15740.462 | M11: =$D11*M$9 -> 15274.545 | N11: =$D11*N$9 -> 465.91769 | P11: =$D11*P$9 -> 4823.8096 | Q11: =$D11*Q$9 -> 5213.736 | R11: =$D11*R$9 -> -389.92641 | T11: =T10*(1+$C$2) -> 0.1735283 | U11: =U10*(1+$C$2) -> 0.16004868 | V11: =V10*(1+$C$2) -> 0.12235063 | X11: =T11*1000*J11 -> 1079289.3 | Y11: =U11*1000*N11 -> 74569.509 | Z11: =V11*1000*R11 -> -47707.743 | AA11: =SUM(X11:Z11) -> 1106151.1 | AC11: =AC10*(1+$C$2) -> 162.67091 | AD11: =E11 -> 24211.335 | AE11: =AC11*AD11 -> 3938479.9 | AG11: =+AG10 -> 10 | AH11: =D11 -> 30507 | AI11: =AG11*AH11 -> 305070 | AK11: =AK10 -> 0.54 | AL11: =AL10 -> 0 | AM11: =AM10 -> 10 | AN11: =AK11*D11 -> 16473.78 | AO11: =AN11*(AL11+AM11) -> 164737.8 | AP11: =AP10 -> 0.24948969 | AQ11: =AL11 -> 0 | AR11: =+AR10 -> 0 | AS11: =AP11*D11 -> 7611.182 | AT11: =AS11*(AQ11+AR11) -> 0 | AU11: =1-AP11-AK11 -> 0.21051031 | AV11: =AQ11 -> 0 | AW11: =-20 -> -20 | AX11: =AU11*D11 -> 6422.038 | AY11: =AX11*(AV11+AW11) -> -128440.76 | BA11: =AO11+AT11+AY11 -> 36297.041 | BC11: =C11 -> 2021 | BD11: =D11 -> 30507 | BE11: =AA11+AE11+AI11+BA11 -> 5385998.1
C12: ='Multiyear Analysis Benefits'!A25 -> 2022 | D12: ='Multiyear Analysis Benefits'!B25 -> 30354 | E12: =$D12*E$9 -> 24089.91 | F12: =$D12*F$9 -> 6264.0904 | H12: =$D12*H$9 -> 9892.8627 | I12: =$D12*I$9 -> 3704.3824 | J12: =$D12*J$9 -> 6188.4803 | L12: =$D12*L$9 -> 15661.52 | M12: =$D12*M$9 -> 15197.939 | N12: =$D12*N$9 -> 463.581 | P12: =$D12*P$9 -> 4799.6171 | Q12: =$D12*Q$9 -> 5187.5879 | R12: =$D12*R$9 -> -387.97084 | T12: =T11*(1+$C$2) -> 0.17824827 | U12: =U11*(1+$C$2) -> 0.164402 | V12: =V11*(1+$C$2) -> 0.12567857 | X12: =T12*1000*J12 -> 1103085.9 | Y12: =U12*1000*N12 -> 76213.643 | Z12: =V12*1000*R12 -> -48759.62 | AA12: =SUM(X12:Z12) -> 1130539.9 | AC12: =AC11*(1+$C$2) -> 167.09556 | AD12: =E12 -> 24089.91 | AE12: =AC12*AD12 -> 4025316.9 | AG12: =+AG11 -> 10 | AH12: =D12 -> 30354 | AI12: =AG12*AH12 -> 303540 | AK12: =AK11 -> 0.54 | AL12: =AL11 -> 0 | AM12: =AM11 -> 10 | AN12: =AK12*D12 -> 16391.16 | AO12: =AN12*(AL12+AM12) -> 163911.6 | AP12: =AP11 -> 0.24948969 | AQ12: =AL12 -> 0 | AR12: =+AR11 -> 0 | AS12: =AP12*D12 -> 7573.0101 | AT12: =AS12*(AQ12+AR12) -> 0 | AU12: =1-AP12-AK12 -> 0.21051031 | AV12: =AQ12 -> 0 | AW12: =-20 -> -20 | AX12: =AU12*D12 -> 6389.8299 | AY12: =AX12*(AV12+AW12) -> -127796.6 | BA12: =AO12+AT12+AY12 -> 36115.002 | BC12: =C12 -> 2022 | BD12: =D12 -> 30354 | BE12: =AA12+AE12+AI12+BA12 -> 5495511.8
C13: ='Multiyear Analysis Benefits'!A26 -> 2023 | D13: ='Multiyear Analysis Benefits'!B26 -> 30202 | E13: =$D13*E$9 -> 23969.277 | F13: =$D13*F$9 -> 6232.7225 | H13: =$D13*H$9 -> 9843.3234 | I13: =$D13*I$9 -> 3685.8325 | J13: =$D13*J$9 -> 6157.491 | L13: =$D13*L$9 -> 15583.094 | M13: =$D13*M$9 -> 15121.834 | N13: =$D13*N$9 -> 461.25958 | P13: =$D13*P$9 -> 4775.5826 | Q13: =$D13*Q$9 -> 5161.6106 | R13: =$D13*R$9 -> -386.02805 | T13: =T12*(1+$C$2) -> 0.18309662 | U13: =U12*(1+$C$2) -> 0.16887373 | V13: =V12*(1+$C$2) -> 0.12909703 | X13: =T13*1000*J13 -> 1127415.8 | Y13: =U13*1000*N13 -> 77894.628 | Z13: =V13*1000*R13 -> -49835.073 | AA13: =SUM(X13:Z13) -> 1155475.3 | AC13: =AC12*(1+$C$2) -> 171.64056 | AD13: =E13 -> 23969.277 | AE13: =AC13*AD13 -> 4114100.1 | AG13: =+AG12 -> 10 | AH13: =D13 -> 30202 | AI13: =AG13*AH13 -> 302020 | AK13: =AK12 -> 0.54 | AL13: =AL12 -> 0 | AM13: =AM12 -> 10 | AN13: =AK13*D13 -> 16309.08 | AO13: =AN13*(AL13+AM13) -> 163090.8 | AP13: =AP12 -> 0.24948969 | AQ13: =AL13 -> 0 | AR13: =+AR12 -> 0 | AS13: =AP13*D13 -> 7535.0877 | AT13: =AS13*(AQ13+AR13) -> 0 | AU13: =1-AP13-AK13 -> 0.21051031 | AV13: =AQ13 -> 0 | AW13: =-20 -> -20 | AX13: =AU13*D13 -> 6357.8323 | AY13: =AX13*(AV13+AW13) -> -127156.65 | BA13: =AO13+AT13+AY13 -> 35934.154 | BC13: =C13 -> 2023 | BD13: =D13 -> 30202 | BE13: =AA13+AE13+AI13+BA13 -> 5607529.6
C14: ='Multiyear Analysis Benefits'!A27 -> 2024 | D14: ='Multiyear Analysis Benefits'!B27 -> 30051 | E14: =$D14*E$9 -> 23849.439 | F14: =$D14*F$9 -> 6201.561 | H14: =$D14*H$9 -> 9794.1101 | I14: =$D14*I$9 -> 3667.4045 | J14: =$D14*J$9 -> 6126.7056 | L14: =$D14*L$9 -> 15505.184 | M14: =$D14*M$9 -> 15046.23 | N14: =$D14*N$9 -> 458.95344 | P14: =$D14*P$9 -> 4751.7063 | Q14: =$D14*Q$9 -> 5135.8043 | R14: =$D14*R$9 -> -384.09803 | T14: =T13*(1+$C$2) -> 0.18807685 | U14: =U13*(1+$C$2) -> 0.1734671 | V14: =V13*(1+$C$2) -> 0.13260847 | X14: =T14*1000*J14 -> 1152291.5 | Y14: =U14*1000*N14 -> 79613.322 | Z14: =V14*1000*R14 -> -50934.651 | AA14: =SUM(X14:Z14) -> 1180970.1 | AC14: =AC13*(1+$C$2) -> 176.30918 | AD14: =E14 -> 23849.439 | AE14: =AC14*AD14 -> 4204875 | AG14: =+AG13 -> 10 | AH14: =D14 -> 30051 | AI14: =AG14*AH14 -> 300510 | AK14: =AK13 -> 0.54 | AL14: =AL13 -> 0 | AM14: =AM13 -> 10 | AN14: =AK14*D14 -> 16227.54 | AO14: =AN14*(AL14+AM14) -> 162275.4 | AP14: =AP13 -> 0.24948969 | AQ14: =AL14 -> 0 | AR14: =+AR13 -> 0 | AS14: =AP14*D14 -> 7497.4147 | AT14: =AS14*(AQ14+AR14) -> 0 | AU14: =1-AP14-AK14 -> 0.21051031 | AV14: =AQ14 -> 0 | AW14: =-20 -> -20 | AX14: =AU14*D14 -> 6326.0453 | AY14: =AX14*(AV14+AW14) -> -126520.91 | BA14: =AO14+AT14+AY14 -> 35754.495 | BC14: =C14 -> 2024 | BD14: =D14 -> 30051 | BE14: =AA14+AE14+AI14+BA14 -> 5722109.7
C15: ='Multiyear Analysis Benefits'!A28 -> 2025 | D15: ='Multiyear Analysis Benefits'!B28 -> 29901 | E15: =$D15*E$9 -> 23730.394 | F15: =$D15*F$9 -> 6170.6058 | H15: =$D15*H$9 -> 9745.2226 | I15: =$D15*I$9 -> 3649.0986 | J15: =$D15*J$9 -> 6096.124 | L15: =$D15*L$9 -> 15427.789 | M15: =$D15*M$9 -> 14971.127 | N15: =$D15*N$9 -> 456.66256 | P15: =$D15*P$9 -> 4727.9881 | Q15: =$D15*Q$9 -> 5110.1689 | R15: =$D15*R$9 -> -382.1808 | T15: =T14*(1+$C$2) -> 0.19319254 | U15: =U14*(1+$C$2) -> 0.17818541 | V15: =V14*(1+$C$2) -> 0.13621542 | X15: =T15*1000*J15 -> 1177725.7 | Y15: =U15*1000*N15 -> 81370.604 | Z15: =V15*1000*R15 -> -52058.917 | AA15: =SUM(X15:Z15) -> 1207037.4 | AC15: =AC14*(1+$C$2) -> 181.10479 | AD15: =E15 -> 23730.394 | AE15: =AC15*AD15 -> 4297688.1 | AG15: =+AG14 -> 10 | AH15: =D15 -> 29901 | AI15: =AG15*AH15 -> 299010 | AK15: =AK14 -> 0.54 | AL15: =AL14 -> 0 | AM15: =AM14 -> 10 | AN15: =AK15*D15 -> 16146.54 | AO15: =AN15*(AL15+AM15) -> 161465.4 | AP15: =AP14 -> 0.24948969 | AQ15: =AL15 -> 0 | AR15: =+AR14 -> 0 | AS15: =AP15*D15 -> 7459.9913 | AT15: =AS15*(AQ15+AR15) -> 0 | AU15: =1-AP15-AK15 -> 0.21051031 | AV15: =AQ15 -> 0 | AW15: =-20 -> -20 | AX15: =AU15*D15 -> 6294.4687 | AY15: =AX15*(AV15+AW15) -> -125889.37 | BA15: =AO15+AT15+AY15 -> 35576.026 | BC15: =C15 -> 2025 | BD15: =D15 -> 29901 | BE15: =AA15+AE15+AI15+BA15 -> 5839311.4
C16: ='Multiyear Analysis Benefits'!A29 -> 2026 | D16: ='Multiyear Analysis Benefits'!B29 -> 29752 | E16: =$D16*E$9 -> 23612.143 | F16: =$D16*F$9 -> 6139.857 | H16: =$D16*H$9 -> 9696.6611 | I16: =$D16*I$9 -> 3630.9148 | J16: =$D16*J$9 -> 6065.7464 | L16: =$D16*L$9 -> 15350.911 | M16: =$D16*M$9 -> 14896.524 | N16: =$D16*N$9 -> 454.38696 | P16: =$D16*P$9 -> 4704.428 | Q16: =$D16*Q$9 -> 5084.7043 | R16: =$D16*R$9 -> -380.27635 | T16: =T15*(1+$C$2) -> 0.19844738 | U16: =U15*(1+$C$2) -> 0.18303205 | V16: =V15*(1+$C$2) -> 0.13992048 | X16: =T16*1000*J16 -> 1203731.4 | Y16: =U16*1000*N16 -> 83167.376 | Z16: =V16*1000*R16 -> -53208.448 | AA16: =SUM(X16:Z16) -> 1233690.4 | AC16: =AC15*(1+$C$2) -> 186.03084 | AD16: =E16 -> 23612.143 | AE16: =AC16*AD16 -> 4392586.8 | AG16: =+AG15 -> 10 | AH16: =D16 -> 29752 | AI16: =AG16*AH16 -> 297520 | AK16: =AK15 -> 0.54 | AL16: =AL15 -> 0 | AM16: =AM15 -> 10 | AN16: =AK16*D16 -> 16066.08 | AO16: =AN16*(AL16+AM16) -> 160660.8 | AP16: =AP15 -> 0.24948969 | AQ16: =AL16 -> 0 | AR16: =+AR15 -> 0 | AS16: =AP16*D16 -> 7422.8173 | AT16: =AS16*(AQ16+AR16) -> 0 | AU16: =1-AP16-AK16 -> 0.21051031 | AV16: =AQ16 -> 0 | AW16: =-20 -> -20 | AX16: =AU16*D16 -> 6263.1027 | AY16: =AX16*(AV16+AW16) -> -125262.05 | BA16: =AO16+AT16+AY16 -> 35398.747 | BC16: =C16 -> 2026 | BD16: =D16 -> 29752 | BE16: =AA16+AE16+AI16+BA16 -> 5959195.9
C17: ='Multiyear Analysis Benefits'!A30 -> 2027 | D17: ='Multiyear Analysis Benefits'!B30 -> 29603 | E17: =$D17*E$9 -> 23493.892 | F17: =$D17*F$9 -> 6109.1082 | H17: =$D17*H$9 -> 9648.0996 | I17: =$D17*I$9 -> 3612.7309 | J17: =$D17*J$9 -> 6035.3687 | L17: =$D17*L$9 -> 15274.033 | M17: =$D17*M$9 -> 14821.921 | N17: =$D17*N$9 -> 452.11136 | P17: =$D17*P$9 -> 4680.8679 | Q17: =$D17*Q$9 -> 5059.2398 | R17: =$D17*R$9 -> -378.3719 | T17: =T16*(1+$C$2) -> 0.20384514 | U17: =U16*(1+$C$2) -> 0.18801052 | V17: =V16*(1+$C$2) -> 0.14372631 | X17: =T17*1000*J17 -> 1230280.6 | Y17: =U17*1000*N17 -> 85001.692 | Z17: =V17*1000*R17 -> -54381.998 | AA17: =SUM(X17:Z17) -> 1260900.3 | AC17: =AC16*(1+$C$2) -> 191.09088 | AD17: =E17 -> 23493.892 | AE17: =AC17*AD17 -> 4489468.4 | AG17: =+AG16 -> 10 | AH17: =D17 -> 29603 | AI17: =AG17*AH17 -> 296030 | AK17: =AK16 -> 0.54 | AL17: =AL16 -> 0 | AM17: =AM16 -> 10 | AN17: =AK17*D17 -> 15985.62 | AO17: =AN17*(AL17+AM17) -> 159856.2 | AP17: =AP16 -> 0.24948969 | AQ17: =AL17 -> 0 | AR17: =+AR16 -> 0 | AS17: =AP17*D17 -> 7385.6434 | AT17: =AS17*(AQ17+AR17) -> 0 | AU17: =1-AP17-AK17 -> 0.21051031 | AV17: =AQ17 -> 0 | AW17: =-20 -> -20 | AX17: =AU17*D17 -> 6231.7366 | AY17: =AX17*(AV17+AW17) -> -124634.73 | BA17: =AO17+AT17+AY17 -> 35221.467 | BC17: =C17 -> 2027 | BD17: =D17 -> 29603 | BE17: =AA17+AE17+AI17+BA17 -> 6081620.2
C18: ='Multiyear Analysis Benefits'!A31 -> 2028 | D18: ='Multiyear Analysis Benefits'!B31 -> 29455 | E18: =$D18*E$9 -> 23376.434 | F18: =$D18*F$9 -> 6078.5657 | H18: =$D18*H$9 -> 9599.864 | I18: =$D18*I$9 -> 3594.6691 | J18: =$D18*J$9 -> 6005.1949 | L18: =$D18*L$9 -> 15197.67 | M18: =$D18*M$9 -> 14747.819 | N18: =$D18*N$9 -> 449.85104 | P18: =$D18*P$9 -> 4657.4659 | Q18: =$D18*Q$9 -> 5033.9461 | R18: =$D18*R$9 -> -376.48024 | T18: =T17*(1+$C$2) -> 0.20938973 | U18: =U17*(1+$C$2) -> 0.19312441 | V18: =V17*(1+$C$2) -> 0.14763567 | X18: =T18*1000*J18 -> 1257426.2 | Y18: =U18*1000*N18 -> 86877.214 | Z18: =V18*1000*R18 -> -55581.911 | AA18: =SUM(X18:Z18) -> 1288721.5 | AC18: =AC17*(1+$C$2) -> 196.28855 | AD18: =E18 -> 23376.434 | AE18: =AC18*AD18 -> 4588526.4 | AG18: =+AG17 -> 10 | AH18: =D18 -> 29455 | AI18: =AG18*AH18 -> 294550 | AK18: =AK17 -> 0.54 | AL18: =AL17 -> 0 | AM18: =AM17 -> 10 | AN18: =AK18*D18 -> 15905.7 | AO18: =AN18*(AL18+AM18) -> 159057 | AP18: =AP17 -> 0.24948969 | AQ18: =AL18 -> 0 | AR18: =+AR17 -> 0 | AS18: =AP18*D18 -> 7348.7189 | AT18: =AS18*(AQ18+AR18) -> 0 | AU18: =1-AP18-AK18 -> 0.21051031 | AV18: =AQ18 -> 0 | AW18: =-20 -> -20 | AX18: =AU18*D18 -> 6200.5811 | AY18: =AX18*(AV18+AW18) -> -124011.62 | BA18: =AO18+AT18+AY18 -> 35045.378 | BC18: =C18 -> 2028 | BD18: =D18 -> 29455 | BE18: =AA18+AE18+AI18+BA18 -> 6206843.3
C19: ='Multiyear Analysis Benefits'!A32 -> 2029 | D19: ='Multiyear Analysis Benefits'!B32 -> 29308 | E19: =$D19*E$9 -> 23259.77 | F19: =$D19*F$9 -> 6048.2296 | H19: =$D19*H$9 -> 9551.9543 | I19: =$D19*I$9 -> 3576.7293 | J19: =$D19*J$9 -> 5975.225 | L19: =$D19*L$9 -> 15121.824 | M19: =$D19*M$9 -> 14674.218 | N19: =$D19*N$9 -> 447.60598 | P19: =$D19*P$9 -> 4634.2221 | Q19: =$D19*Q$9 -> 5008.8234 | R19: =$D19*R$9 -> -374.60135 | T19: =T18*(1+$C$2) -> 0.21508513 | U19: =U18*(1+$C$2) -> 0.19837739 | V19: =V18*(1+$C$2) -> 0.15165136 | X19: =T19*1000*J19 -> 1285182.1 | Y19: =U19*1000*N19 -> 88794.906 | Z19: =V19*1000*R19 -> -56808.803 | AA19: =SUM(X19:Z19) -> 1317168.2 | AC19: =AC18*(1+$C$2) -> 201.6276 | AD19: =E19 -> 23259.77 | AE19: =AC19*AD19 -> 4689811.7 | AG19: =+AG18 -> 10 | AH19: =D19 -> 29308 | AI19: =AG19*AH19 -> 293080 | AK19: =AK18 -> 0.54 | AL19: =AL18 -> 0 | AM19: =AM18 -> 10 | AN19: =AK19*D19 -> 15826.32 | AO19: =AN19*(AL19+AM19) -> 158263.2 | AP19: =AP18 -> 0.24948969 | AQ19: =AL19 -> 0 | AR19: =+AR18 -> 0 | AS19: =AP19*D19 -> 7312.0439 | AT19: =AS19*(AQ19+AR19) -> 0 | AU19: =1-AP19-AK19 -> 0.21051031 | AV19: =AQ19 -> 0 | AW19: =-20 -> -20 | AX19: =AU19*D19 -> 6169.6361 | AY19: =AX19*(AV19+AW19) -> -123392.72 | BA19: =AO19+AT19+AY19 -> 34870.478 | BC19: =C19 -> 2029 | BD19: =D19 -> 29308 | BE19: =AA19+AE19+AI19+BA19 -> 6334930.3
C20: ='Multiyear Analysis Benefits'!A33 -> 2030 | D20: ='Multiyear Analysis Benefits'!B33 -> 29161 | E20: =$D20*E$9 -> 23143.106 | F20: =$D20*F$9 -> 6017.8936 | H20: =$D20*H$9 -> 9504.0446 | I20: =$D20*I$9 -> 3558.7895 | J20: =$D20*J$9 -> 5945.2551 | L20: =$D20*L$9 -> 15045.977 | M20: =$D20*M$9 -> 14600.616 | N20: =$D20*N$9 -> 445.36092 | P20: =$D20*P$9 -> 4610.9782 | Q20: =$D20*Q$9 -> 4983.7007 | R20: =$D20*R$9 -> -372.72246 | T20: =T19*(1+$C$2) -> 0.22093545 | U20: =U19*(1+$C$2) -> 0.20377325 | V20: =V19*(1+$C$2) -> 0.15577627 | X20: =T20*1000*J20 -> 1313517.6 | Y20: =U20*1000*N20 -> 90752.645 | Z20: =V20*1000*R20 -> -58061.317 | AA20: =SUM(X20:Z20) -> 1346208.9 | AC20: =AC19*(1+$C$2) -> 207.11187 | AD20: =E20 -> 23143.106 | AE20: =AC20*AD20 -> 4793212.1 | AG20: 0 | AH20: =D20 -> 29161 | AI20: =AG20*AH20 -> 0 | AK20: =AK19 -> 0.54 | AL20: =AL19 -> 0 | AN20: =AK20*D20 -> 15746.94 | AO20: =AN20*(AL20+AM20) -> 0 | AP20: =AP19 -> 0.24948969 | AQ20: =AL20 -> 0 | AS20: =AP20*D20 -> 7275.3689 | AT20: =AS20*(AQ20+AR20) -> 0 | AU20: =1-AP20-AK20 -> 0.21051031 | AV20: =AQ20 -> 0 | AW20: =-20 -> -20 | AX20: =AU20*D20 -> 6138.6911 | AY20: =AX20*(AV20+AW20) -> -122773.82 | BA20: =AO20+AT20+AY20 -> -122773.82 | BC20: =C20 -> 2030 | BD20: =D20 -> 29161 | BE20: =AA20+AE20+AI20+BA20 -> 6016647.2
C21: ='Multiyear Analysis Benefits'!A34 -> 2031 | D21: ='Multiyear Analysis Benefits'!B34 -> 29015 | E21: =$D21*E$9 -> 23027.236 | F21: =$D21*F$9 -> 5987.7639 | H21: =$D21*H$9 -> 9456.4608 | I21: =$D21*I$9 -> 3540.9718 | J21: =$D21*J$9 -> 5915.4891 | L21: =$D21*L$9 -> 14970.647 | M21: =$D21*M$9 -> 14527.516 | N21: =$D21*N$9 -> 443.13114 | P21: =$D21*P$9 -> 4587.8925 | Q21: =$D21*Q$9 -> 4958.7489 | R21: =$D21*R$9 -> -370.85636 | T21: =T20*(1+$C$2) -> 0.22694489 | U21: =U20*(1+$C$2) -> 0.20931589 | V21: =V20*(1+$C$2) -> 0.16001339 | X21: =T21*1000*J21 -> 1342490 | Y21: =U21*1000*N21 -> 92754.388 | Z21: =V21*1000*R21 -> -59341.983 | AA21: =SUM(X21:Z21) -> 1375902.4 | AC21: =AC20*(1+$C$2) -> 212.74531 | AD21: =E21 -> 23027.236 | AE21: =AC21*AD21 -> 4898936.6 | AG21: =+AG20 -> 0 | AH21: =D21 -> 29015 | AI21: =AG21*AH21 -> 0 | AK21: =AK20 -> 0.54 | AL21: =AL20 -> 0 | AN21: =AK21*D21 -> 15668.1 | AO21: =AN21*(AL21+AM21) -> 0 | AP21: =AP20 -> 0.24948969 | AQ21: =AL21 -> 0 | AS21: =AP21*D21 -> 7238.9434 | AT21: =AS21*(AQ21+AR21) -> 0 | AU21: =1-AP21-AK21 -> 0.21051031 | AV21: =AQ21 -> 0 | AW21: =-20 -> -20 | AX21: =AU21*D21 -> 6107.9566 | AY21: =AX21*(AV21+AW21) -> -122159.13 | BA21: =AO21+AT21+AY21 -> -122159.13 | BC21: =C21 -> 2031 | BD21: =D21 -> 29015 | BE21: =AA21+AE21+AI21+BA21 -> 6152679.9
C22: ='Multiyear Analysis Benefits'!A35 -> 2032 | D22: ='Multiyear Analysis Benefits'!B35 -> 28870 | E22: =$D22*E$9 -> 22912.159 | F22: =$D22*F$9 -> 5957.8405 | H22: =$D22*H$9 -> 9409.203 | I22: =$D22*I$9 -> 3523.276 | J22: =$D22*J$9 -> 5885.9269 | L22: =$D22*L$9 -> 14895.832 | M22: =$D22*M$9 -> 14454.916 | N22: =$D22*N$9 -> 440.91663 | P22: =$D22*P$9 -> 4564.9649 | Q22: =$D22*Q$9 -> 4933.9679 | R22: =$D22*R$9 -> -369.00303 | T22: =T21*(1+$C$2) -> 0.23311779 | U22: =U21*(1+$C$2) -> 0.21500928 | V22: =V21*(1+$C$2) -> 0.16436575 | X22: =T22*1000*J22 -> 1372114.3 | Y22: =U22*1000*N22 -> 94801.167 | Z22: =V22*1000*R22 -> -60651.462 | AA22: =SUM(X22:Z22) -> 1406264 | AC22: =AC21*(1+$C$2) -> 218.53199 | AD22: =E22 -> 22912.159 | AE22: =AC22*AD22 -> 5007039.7 | AG22: =+AG21 -> 0 | AH22: =D22 -> 28870 | AI22: =AG22*AH22 -> 0 | AK22: =AK21 -> 0.54 | AL22: =AL21 -> 0 | AN22: =AK22*D22 -> 15589.8 | AO22: =AN22*(AL22+AM22) -> 0 | AP22: =AP21 -> 0.24948969 | AQ22: =AL22 -> 0 | AS22: =AP22*D22 -> 7202.7674 | AT22: =AS22*(AQ22+AR22) -> 0 | AU22: =1-AP22-AK22 -> 0.21051031 | AV22: =AQ22 -> 0 | AW22: =-20 -> -20 | AX22: =AU22*D22 -> 6077.4326 | AY22: =AX22*(AV22+AW22) -> -121548.65 | BA22: =AO22+AT22+AY22 -> -121548.65 | BC22: =C22 -> 2032 | BD22: =D22 -> 28870 | BE22: =AA22+AE22+AI22+BA22 -> 6291755.1
C23: ='Multiyear Analysis Benefits'!A36 -> 2033 | D23: ='Multiyear Analysis Benefits'!B36 -> 28726 | E23: =$D23*E$9 -> 22797.876 | F23: =$D23*F$9 -> 5928.1235 | H23: =$D23*H$9 -> 9362.271 | I23: =$D23*I$9 -> 3505.7024 | J23: =$D23*J$9 -> 5856.5686 | L23: =$D23*L$9 -> 14821.534 | M23: =$D23*M$9 -> 14382.816 | N23: =$D23*N$9 -> 438.71739 | P23: =$D23*P$9 -> 4542.1954 | Q23: =$D23*Q$9 -> 4909.3579 | R23: =$D23*R$9 -> -367.16249 | T23: =T22*(1+$C$2) -> 0.2394586 | U23: =U22*(1+$C$2) -> 0.22085753 | V23: =V22*(1+$C$2) -> 0.1688365 | X23: =T23*1000*J23 -> 1402405.7 | Y23: =U23*1000*N23 -> 96894.041 | Z23: =V23*1000*R23 -> -61990.431 | AA23: =SUM(X23:Z23) -> 1437309.3 | AC23: =AC22*(1+$C$2) -> 224.47606 | AD23: =E23 -> 22797.876 | AE23: =AC23*AD23 -> 5117577.4 | AG23: =+AG22 -> 0 | AH23: =D23 -> 28726 | AI23: =AG23*AH23 -> 0 | AK23: =AK22 -> 0.54 | AL23: =AL22 -> 0 | AN23: =AK23*D23 -> 15512.04 | AO23: =AN23*(AL23+AM23) -> 0 | AP23: =AP22 -> 0.24948969 | AQ23: =AL23 -> 0 | AS23: =AP23*D23 -> 7166.8409 | AT23: =AS23*(AQ23+AR23) -> 0 | AU23: =1-AP23-AK23 -> 0.21051031 | AV23: =AQ23 -> 0 | AW23: =-20 -> -20 | AX23: =AU23*D23 -> 6047.1191 | AY23: =AX23*(AV23+AW23) -> -120942.38 | BA23: =AO23+AT23+AY23 -> -120942.38 | BC23: =C23 -> 2033 | BD23: =D23 -> 28726 | BE23: =AA23+AE23+AI23+BA23 -> 6433944.3
C24: ='Multiyear Analysis Benefits'!A37 -> 2034 | D24: ='Multiyear Analysis Benefits'!B37 -> 28582 | E24: =$D24*E$9 -> 22683.593 | F24: =$D24*F$9 -> 5898.4066 | H24: =$D24*H$9 -> 9315.3391 | I24: =$D24*I$9 -> 3488.1287 | J24: =$D24*J$9 -> 5827.2104 | L24: =$D24*L$9 -> 14747.235 | M24: =$D24*M$9 -> 14310.717 | N24: =$D24*N$9 -> 436.51816 | P24: =$D24*P$9 -> 4519.4259 | Q24: =$D24*Q$9 -> 4884.7479 | R24: =$D24*R$9 -> -365.32195 | T24: =T23*(1+$C$2) -> 0.24597187 | U24: =U23*(1+$C$2) -> 0.22686486 | V24: =V23*(1+$C$2) -> 0.17342886 | X24: =T24*1000*J24 -> 1433329.8 | Y24: =U24*1000*N24 -> 99030.629 | Z24: =V24*1000*R24 -> -63357.368 | AA24: =SUM(X24:Z24) -> 1469003.1 | AC24: =AC23*(1+$C$2) -> 230.5818 | AD24: =E24 -> 22683.593 | AE24: =AC24*AD24 -> 5230423.9 | AG24: =+AG23 -> 0 | AH24: =D24 -> 28582 | AI24: =AG24*AH24 -> 0 | AK24: =AK23 -> 0.54 | AL24: =AL23 -> 0 | AN24: =AK24*D24 -> 15434.28 | AO24: =AN24*(AL24+AM24) -> 0 | AP24: =AP23 -> 0.24948969 | AQ24: =AL24 -> 0 | AS24: =AP24*D24 -> 7130.9144 | AT24: =AS24*(AQ24+AR24) -> 0 | AU24: =1-AP24-AK24 -> 0.21051031 | AV24: =AQ24 -> 0 | AW24: =-20 -> -20 | AX24: =AU24*D24 -> 6016.8056 | AY24: =AX24*(AV24+AW24) -> -120336.11 | BA24: =AO24+AT24+AY24 -> -120336.11 | BC24: =C24 -> 2034 | BD24: =D24 -> 28582 | BE24: =AA24+AE24+AI24+BA24 -> 6579090.9
C25: ='Multiyear Analysis Benefits'!A38 -> 2035 | D25: ='Multiyear Analysis Benefits'!B38 -> 28439 | E25: =$D25*E$9 -> 22570.104 | F25: =$D25*F$9 -> 5868.896 | H25: =$D25*H$9 -> 9268.733 | I25: =$D25*I$9 -> 3470.6771 | J25: =$D25*J$9 -> 5798.056 | L25: =$D25*L$9 -> 14673.452 | M25: =$D25*M$9 -> 14239.118 | N25: =$D25*N$9 -> 434.33419 | P25: =$D25*P$9 -> 4496.8146 | Q25: =$D25*Q$9 -> 4860.3088 | R25: =$D25*R$9 -> -363.49419 | T25: =T24*(1+$C$2) -> 0.25266231 | U25: =U24*(1+$C$2) -> 0.23303558 | V25: =V24*(1+$C$2) -> 0.17814612 | X25: =T25*1000*J25 -> 1464950.2 | Y25: =U25*1000*N25 -> 101215.32 | Z25: =V25*1000*R25 -> -64755.08 | AA25: =SUM(X25:Z25) -> 1501410.4 | AC25: =AC24*(1+$C$2) -> 236.85363 | AD25: =E25 -> 22570.104 | AE25: =AC25*AD25 -> 5345811.1 | AG25: =+AG24 -> 0 | AH25: =D25 -> 28439 | AI25: =AG25*AH25 -> 0 | AK25: =AK24 -> 0.54 | AL25: =AL24 -> 0 | AN25: =AK25*D25 -> 15357.06 | AO25: =AN25*(AL25+AM25) -> 0 | AP25: =AP24 -> 0.24948969 | AQ25: =AL25 -> 0 | AS25: =AP25*D25 -> 7095.2374 | AT25: =AS25*(AQ25+AR25) -> 0 | AU25: =1-AP25-AK25 -> 0.21051031 | AV25: =AQ25 -> 0 | AW25: =-20 -> -20 | AX25: =AU25*D25 -> 5986.7026 | AY25: =AX25*(AV25+AW25) -> -119734.05 | BA25: =AO25+AT25+AY25 -> -119734.05 | BC25: =C25 -> 2035 | BD25: =D25 -> 28439 | BE25: =AA25+AE25+AI25+BA25 -> 6727487.4
C26: ='Multiyear Analysis Benefits'!A39 -> 2036 | D26: ='Multiyear Analysis Benefits'!B39 -> 28297 | E26: =$D26*E$9 -> 22457.408 | F26: =$D26*F$9 -> 5839.5917 | H26: =$D26*H$9 -> 9222.4529 | I26: =$D26*I$9 -> 3453.3475 | J26: =$D26*J$9 -> 5769.1054 | L26: =$D26*L$9 -> 14600.186 | M26: =$D26*M$9 -> 14168.02 | N26: =$D26*N$9 -> 432.1655 | P26: =$D26*P$9 -> 4474.3613 | Q26: =$D26*Q$9 -> 4836.0405 | R26: =$D26*R$9 -> -361.67921 | T26: =T25*(1+$C$2) -> 0.25953472 | U26: =U25*(1+$C$2) -> 0.23937415 | V26: =V25*(1+$C$2) -> 0.18299169 | X26: =T26*1000*J26 -> 1497283.2 | Y26: =U26*1000*N26 -> 103449.25 | Z26: =V26*1000*R26 -> -66184.292 | AA26: =SUM(X26:Z26) -> 1534548.1 | AC26: =AC25*(1+$C$2) -> 243.29605 | AD26: =E26 -> 22457.408 | AE26: =AC26*AD26 -> 5463798.7 | AG26: =+AG25 -> 0 | AH26: =D26 -> 28297 | AI26: =AG26*AH26 -> 0 | AK26: =AK25 -> 0.54 | AL26: =AL25 -> 0 | AN26: =AK26*D26 -> 15280.38 | AO26: =AN26*(AL26+AM26) -> 0 | AP26: =AP25 -> 0.24948969 | AQ26: =AL26 -> 0 | AS26: =AP26*D26 -> 7059.8098 | AT26: =AS26*(AQ26+AR26) -> 0 | AU26: =1-AP26-AK26 -> 0.21051031 | AV26: =AQ26 -> 0 | AW26: =-20 -> -20 | AX26: =AU26*D26 -> 5956.8102 | AY26: =AX26*(AV26+AW26) -> -119136.2 | BA26: =AO26+AT26+AY26 -> -119136.2 | BC26: =C26 -> 2036 | BD26: =D26 -> 28297 | BE26: =AA26+AE26+AI26+BA26 -> 6879210.6
C27: ='Multiyear Analysis Benefits'!A40 -> 2037 | D27: ='Multiyear Analysis Benefits'!B40 -> 28156 | E27: =$D27*E$9 -> 22345.506 | F27: =$D27*F$9 -> 5810.4938 | H27: =$D27*H$9 -> 9176.4987 | I27: =$D27*I$9 -> 3436.14 | J27: =$D27*J$9 -> 5740.3588 | L27: =$D27*L$9 -> 14527.435 | M27: =$D27*M$9 -> 14097.423 | N27: =$D27*N$9 -> 430.01208 | P27: =$D27*P$9 -> 4452.0662 | Q27: =$D27*Q$9 -> 4811.9432 | R27: =$D27*R$9 -> -359.87702 | T27: =T26*(1+$C$2) -> 0.26659407 | U27: =U26*(1+$C$2) -> 0.24588513 | V27: =V26*(1+$C$2) -> 0.18796907 | X27: =T27*1000*J27 -> 1530345.6 | Y27: =U27*1000*N27 -> 105733.57 | Z27: =V27*1000*R27 -> -67645.747 | AA27: =SUM(X27:Z27) -> 1568433.4 | AC27: =AC26*(1+$C$2) -> 249.9137 | AD27: =E27 -> 22345.506 | AE27: =AC27*AD27 -> 5584448.1 | AG27: =+AG26 -> 0 | AH27: =D27 -> 28156 | AI27: =AG27*AH27 -> 0 | AK27: =AK26 -> 0.54 | AL27: =AL26 -> 0 | AN27: =AK27*D27 -> 15204.24 | AO27: =AN27*(AL27+AM27) -> 0 | AP27: =AP26 -> 0.24948969 | AQ27: =AL27 -> 0 | AS27: =AP27*D27 -> 7024.6318 | AT27: =AS27*(AQ27+AR27) -> 0 | AU27: =1-AP27-AK27 -> 0.21051031 | AV27: =AQ27 -> 0 | AW27: =-20 -> -20 | AX27: =AU27*D27 -> 5927.1282 | AY27: =AX27*(AV27+AW27) -> -118542.56 | BA27: =AO27+AT27+AY27 -> -118542.56 | BC27: =C27 -> 2037 | BD27: =D27 -> 28156 | BE27: =AA27+AE27+AI27+BA27 -> 7034339
C28: ='Multiyear Analysis Benefits'!A41 -> 2038 | D28: ='Multiyear Analysis Benefits'!B41 -> 28015 | E28: =$D28*E$9 -> 22233.604 | F28: =$D28*F$9 -> 5781.396 | H28: =$D28*H$9 -> 9130.5445 | I28: =$D28*I$9 -> 3418.9324 | J28: =$D28*J$9 -> 5711.6121 | L28: =$D28*L$9 -> 14454.684 | M28: =$D28*M$9 -> 14026.826 | N28: =$D28*N$9 -> 427.85866 | P28: =$D28*P$9 -> 4429.7711 | Q28: =$D28*Q$9 -> 4787.8459 | R28: =$D28*R$9 -> -358.07482 | T28: =T27*(1+$C$2) -> 0.27384542 | U28: =U27*(1+$C$2) -> 0.2525732 | V28: =V27*(1+$C$2) -> 0.19308183 | X28: =T28*1000*J28 -> 1564098.9 | Y28: =U28*1000*N28 -> 108065.63 | Z28: =V28*1000*R28 -> -69137.74 | AA28: =SUM(X28:Z28) -> 1603026.7 | AC28: =AC27*(1+$C$2) -> 256.71135 | AD28: =E28 -> 22233.604 | AE28: =AC28*AD28 -> 5707618.6 | AG28: =+AG27 -> 0 | AH28: =D28 -> 28015 | AI28: =AG28*AH28 -> 0 | AK28: =AK27 -> 0.54 | AL28: =AL27 -> 0 | AN28: =AK28*D28 -> 15128.1 | AO28: =AN28*(AL28+AM28) -> 0 | AP28: =AP27 -> 0.24948969 | AQ28: =AL28 -> 0 | AS28: =AP28*D28 -> 6989.4537 | AT28: =AS28*(AQ28+AR28) -> 0 | AU28: =1-AP28-AK28 -> 0.21051031 | AV28: =AQ28 -> 0 | AW28: =-20 -> -20 | AX28: =AU28*D28 -> 5897.4463 | AY28: =AX28*(AV28+AW28) -> -117948.93 | BA28: =AO28+AT28+AY28 -> -117948.93 | BC28: =C28 -> 2038 | BD28: =D28 -> 28015 | BE28: =AA28+AE28+AI28+BA28 -> 7192696.4
C29: ='Multiyear Analysis Benefits'!A42 -> 2039 | D29: ='Multiyear Analysis Benefits'!B42 -> 27875 | E29: =$D29*E$9 -> 22122.496 | F29: =$D29*F$9 -> 5752.5045 | H29: =$D29*H$9 -> 9084.9163 | I29: =$D29*I$9 -> 3401.8469 | J29: =$D29*J$9 -> 5683.0694 | L29: =$D29*L$9 -> 14382.45 | M29: =$D29*M$9 -> 13956.729 | N29: =$D29*N$9 -> 425.72051 | P29: =$D29*P$9 -> 4407.6341 | Q29: =$D29*Q$9 -> 4763.9195 | R29: =$D29*R$9 -> -356.2854 | T29: =T28*(1+$C$2) -> 0.28129402 | U29: =U28*(1+$C$2) -> 0.25944319 | V29: =V28*(1+$C$2) -> 0.19833365 | X29: =T29*1000*J29 -> 1598613.4 | Y29: =U29*1000*N29 -> 110450.29 | Z29: =V29*1000*R29 -> -70663.386 | AA29: =SUM(X29:Z29) -> 1638400.3 | AC29: =AC28*(1+$C$2) -> 263.6939 | AD29: =E29 -> 22122.496 | AE29: =AC29*AD29 -> 5833567.2 | AG29: =+AG28 -> 0 | AH29: =D29 -> 27875 | AI29: =AG29*AH29 -> 0 | AK29: =AK28 -> 0.54 | AL29: =AL28 -> 0 | AN29: =AK29*D29 -> 15052.5 | AO29: =AN29*(AL29+AM29) -> 0 | AP29: =AP28 -> 0.24948969 | AQ29: =AL29 -> 0 | AS29: =AP29*D29 -> 6954.5252 | AT29: =AS29*(AQ29+AR29) -> 0 | AU29: =1-AP29-AK29 -> 0.21051031 | AV29: =AQ29 -> 0 | AW29: =-20 -> -20 | AX29: =AU29*D29 -> 5867.9748 | AY29: =AX29*(AV29+AW29) -> -117359.5 | BA29: =AO29+AT29+AY29 -> -117359.5 | BC29: =C29 -> 2039 | BD29: =D29 -> 27875 | BE29: =AA29+AE29+AI29+BA29 -> 7354608
C30: ='Multiyear Analysis Benefits'!A43 -> 2040 | D30: ='Multiyear Analysis Benefits'!B43 -> 27735 | E30: =$D30*E$9 -> 22011.387 | F30: =$D30*F$9 -> 5723.613 | H30: =$D30*H$9 -> 9039.288 | I30: =$D30*I$9 -> 3384.7614 | J30: =$D30*J$9 -> 5654.5266 | L30: =$D30*L$9 -> 14310.215 | M30: =$D30*M$9 -> 13886.633 | N30: =$D30*N$9 -> 423.58236 | P30: =$D30*P$9 -> 4385.4971 | Q30: =$D30*Q$9 -> 4739.9931 | R30: =$D30*R$9 -> -354.49599 | T30: =T29*(1+$C$2) -> 0.28894522 | U30: =U29*(1+$C$2) -> 0.26650005 | V30: =V29*(1+$C$2) -> 0.20372833 | X30: =T30*1000*J30 -> 1633848.4 | Y30: =U30*1000*N30 -> 112884.72 | Z30: =V30*1000*R30 -> -72220.875 | AA30: =SUM(X30:Z30) -> 1674512.3 | AC30: =AC29*(1+$C$2) -> 270.86638 | AD30: =E30 -> 22011.387 | AE30: =AC30*AD30 -> 5962144.6 | AG30: =+AG29 -> 0 | AH30: =D30 -> 27735 | AI30: =AG30*AH30 -> 0 | AK30: =AK29 -> 0.54 | AL30: =AL29 -> 0 | AN30: =AK30*D30 -> 14976.9 | AO30: =AN30*(AL30+AM30) -> 0 | AP30: =AP29 -> 0.24948969 | AQ30: =AL30 -> 0 | AS30: =AP30*D30 -> 6919.5966 | AT30: =AS30*(AQ30+AR30) -> 0 | AU30: =1-AP30-AK30 -> 0.21051031 | AV30: =AQ30 -> 0 | AW30: =-20 -> -20 | AX30: =AU30*D30 -> 5838.5034 | AY30: =AX30*(AV30+AW30) -> -116770.07 | BA30: =AO30+AT30+AY30 -> -116770.07 | BC30: =C30 -> 2040 | BD30: =D30 -> 27735 | BE30: =AA30+AE30+AI30+BA30 -> 7519886.8
C31: ='Multiyear Analysis Benefits'!A44 -> 2041 | D31: ='Multiyear Analysis Benefits'!B44 -> 27597 | E31: =$D31*E$9 -> 21901.866 | F31: =$D31*F$9 -> 5695.1342 | H31: =$D31*H$9 -> 8994.3115 | I31: =$D31*I$9 -> 3367.92 | J31: =$D31*J$9 -> 5626.3916 | L31: =$D31*L$9 -> 14239.012 | M31: =$D31*M$9 -> 13817.537 | N31: =$D31*N$9 -> 421.47476 | P31: =$D31*P$9 -> 4363.6763 | Q31: =$D31*Q$9 -> 4716.4085 | R31: =$D31*R$9 -> -352.73214 | T31: =T30*(1+$C$2) -> 0.29680453 | U31: =U30*(1+$C$2) -> 0.27374885 | V31: =V30*(1+$C$2) -> 0.20926974 | X31: =T31*1000*J31 -> 1669938.5 | Y31: =U31*1000*N31 -> 115378.23 | Z31: =V31*1000*R31 -> -73816.162 | AA31: =SUM(X31:Z31) -> 1711500.6 | AC31: =AC30*(1+$C$2) -> 278.23394 | AD31: =E31 -> 21901.866 | AE31: =AC31*AD31 -> 6093842.5 | AG31: =+AG30 -> 0 | AH31: =D31 -> 27597 | AI31: =AG31*AH31 -> 0 | AK31: =AK30 -> 0.54 | AL31: =AL30 -> 0 | AN31: =AK31*D31 -> 14902.38 | AO31: =AN31*(AL31+AM31) -> 0 | AP31: =AP30 -> 0.24948969 | AQ31: =AL31 -> 0 | AS31: =AP31*D31 -> 6885.167 | AT31: =AS31*(AQ31+AR31) -> 0 | AU31: =1-AP31-AK31 -> 0.21051031 | AV31: =AQ31 -> 0 | AW31: =-20 -> -20 | AX31: =AU31*D31 -> 5809.453 | AY31: =AX31*(AV31+AW31) -> -116189.06 | BA31: =AO31+AT31+AY31 -> -116189.06 | BC31: =C31 -> 2041 | BD31: =D31 -> 27597 | BE31: =AA31+AE31+AI31+BA31 -> 7689154
C32: ='Multiyear Analysis Benefits'!A45 -> 2042 | D32: ='Multiyear Analysis Benefits'!B45 -> 27459 | E32: =$D32*E$9 -> 21792.345 | F32: =$D32*F$9 -> 5666.6554 | H32: =$D32*H$9 -> 8949.3351 | I32: =$D32*I$9 -> 3351.0785 | J32: =$D32*J$9 -> 5598.2566 | L32: =$D32*L$9 -> 14167.809 | M32: =$D32*M$9 -> 13748.442 | N32: =$D32*N$9 -> 419.36716 | P32: =$D32*P$9 -> 4341.8556 | Q32: =$D32*Q$9 -> 4692.8239 | R32: =$D32*R$9 -> -350.96828 | T32: =T31*(1+$C$2) -> 0.30487761 | U32: =U31*(1+$C$2) -> 0.28119482 | V32: =V31*(1+$C$2) -> 0.21496188 | X32: =T32*1000*J32 -> 1706783.1 | Y32: =U32*1000*N32 -> 117923.87 | Z32: =V32*1000*R32 -> -75444.8 | AA32: =SUM(X32:Z32) -> 1749262.2 | AC32: =AC31*(1+$C$2) -> 285.8019 | AD32: =E32 -> 21792.345 | AE32: =AC32*AD32 -> 6228293.6 | AG32: =+AG31 -> 0 | AH32: =D32 -> 27459 | AI32: =AG32*AH32 -> 0 | AK32: =AK31 -> 0.54 | AL32: =AL31 -> 0 | AN32: =AK32*D32 -> 14827.86 | AO32: =AN32*(AL32+AM32) -> 0 | AP32: =AP31 -> 0.24948969 | AQ32: =AL32 -> 0 | AS32: =AP32*D32 -> 6850.7375 | AT32: =AS32*(AQ32+AR32) -> 0 | AU32: =1-AP32-AK32 -> 0.21051031 | AV32: =AQ32 -> 0 | AW32: =-20 -> -20 | AX32: =AU32*D32 -> 5780.4025 | AY32: =AX32*(AV32+AW32) -> -115608.05 | BA32: =AO32+AT32+AY32 -> -115608.05 | BC32: =C32 -> 2042 | BD32: =D32 -> 27459 | BE32: =AA32+AE32+AI32+BA32 -> 7861947.7
... C34: ='Multiyear Analysis Benefits'!A47 -> 2044 | D34: ='Multiyear Analysis Benefits'!B47 -> 27185 | E34: =$D34*E$9 -> 21574.889 | F34: =$D34*F$9 -> 5610.1106 | H34: =$D34*H$9 -> 8860.034 | I34: =$D34*I$9 -> 3317.6397 | J34: =$D34*J$9 -> 5542.3943 | L34: =$D34*L$9 -> 14026.436 | M34: =$D34*M$9 -> 13611.253 | N34: =$D34*N$9 -> 415.1825 | P34: =$D34*P$9 -> 4298.5303 | Q34: =$D34*Q$9 -> 4645.9965 | R34: =$D34*R$9 -> -347.46614 | T34: =T33*(1+$C$2) -> 0.32168851 | U34: =U33*(1+$C$2) -> 0.29669985 | V34: =V33*(1+$C$2) -> 0.22681484 | X34: =T34*1000*J34 -> 1782924.6 | Y34: =U34*1000*N34 -> 123184.59 | Z34: =V34*1000*R34 -> -78810.477 | AA34: =SUM(X34:Z34) -> 1827298.7 | AC34: =AC33*(1+$C$2) -> 301.56098 | AD34: =E34 -> 21574.889 | AE34: =AC34*AD34 -> 6506144.7 | AG34: =+AG33 -> 0 | AH34: =D34 -> 27185 | AI34: =AG34*AH34 -> 0 | AK34: =AK33 -> 0.54 | AL34: =AL33 -> 0 | AN34: =AK34*D34 -> 14679.9 | AO34: =AN34*(AL34+AM34) -> 0 | AP34: =AP33 -> 0.24948969 | AQ34: =AL34 -> 0 | AS34: =AP34*D34 -> 6782.3773 | AT34: =AS34*(AQ34+AR34) -> 0 | AU34: =1-AP34-AK34 -> 0.21051031 | AV34: =AQ34 -> 0 | AW34: =-20 -> -20 | AX34: =AU34*D34 -> 5722.7227 | AY34: =AX34*(AV34+AW34) -> -114454.45 | BA34: =AO34+AT34+AY34 -> -114454.45 | BC34: =C34 -> 2044 | BD34: =D34 -> 27185 | BE34: =AA34+AE34+AI34+BA34 -> 8218988.9
D36: =NPV(0.0619,D10:D34) -> 368215.18 | E36: =NPV(0.0619,E10:E34) -> 292227.4 | F36: =NPV(0.0619,F10:F34) -> 75987.784 | AA36: =NPV(0.0619,AA10:AA34) -> 16722693 | AE36: =NPV(0.0619,AE10:AE34) -> 59541586 | AI36: =NPV(0.0619,AI10:AI34) -> 2192175 | BA36: =NPV(0.0619,BA10:BA34) -> -366487.31 | BE36: =NPV(0.0619,BE10:BE34) -> 78089967
AA37: =+AA36/$D$36 -> 45.415545 | AE37: =+AE36/$D$36 -> 161.70323 | AI37: =+AI36/$D$36 -> 5.9535161 | BA37: =+BA36/$D$36 -> -0.99530743

Sheet Multiyear Summary
C3: 25-Year Impact, by Year, of Incremental 20 MW Solar Net Metering Being Added
C5: Assumptions:
C6: 1.) Assume there is no lag in terms of either costs or benefits.
C7: 2.) Assume incremental 20 MW is NM 2.1, second year pricing.
C9: Total Solar Costs: | M9: Total Solar Benefits:
C12: Sales Offset | K12: Total | O12: Avoided Power | Q12: FCM / TBO | S12: Total | U12: Net
A13: Year | C13: by Own Use | E13: Adjustors | G13: RES | I13: Excess | K13: Costs | M13: REC Sales | O13: Purchases | Q13: Reductions | S13: Benefits | U13: Cost
A15: 2020 | C15: ='Multiyear Analysis Cost'!AA10 -> 1082261.2 | E15: ='Multiyear Analysis Cost'!BA10 -> 36479.079 | G15: ='Multiyear Analysis Cost'!AI10 -> 306600 | I15: ='Multiyear Analysis Cost'!AE10 -> 3853419.3 | K15: =E15+C15+G15+I15 -> 5278759.7 | M15: =-'Multiyear Analysis Benefits'!M23 -> -919800 | O15: =-'Multiyear Analysis Benefits'!E23 -> -1276782 | Q15: =-('Multiyear Analysis Benefits'!H23+'Multiyear Analysis Benefits'!K23) -> -669103.03 | S15: =M15+O15+Q15 -> -2865685.1 | U15: =K15+S15 -> 2413074.6
A16: =A15+1 -> 2021 | C16: ='Multiyear Analysis Cost'!AA11 -> 1106151.1 | E16: ='Multiyear Analysis Cost'!BA11 -> 36297.041 | G16: ='Multiyear Analysis Cost'!AI11 -> 305070 | I16: ='Multiyear Analysis Cost'!AE11 -> 3938479.9 | K16: =E16+C16+G16+I16 -> 5385998.1 | M16: =-'Multiyear Analysis Benefits'!M24 -> -915210 | O16: =-'Multiyear Analysis Benefits'!E24 -> -1257021.1 | Q16: =-('Multiyear Analysis Benefits'!H24+'Multiyear Analysis Benefits'!K24) -> -517671.21 | S16: =M16+O16+Q16 -> -2689902.3 | U16: =K16+S16 -> 2696095.8
A17: =A16+1 -> 2022 | C17: ='Multiyear Analysis Cost'!AA12 -> 1130539.9 | E17: ='Multiyear Analysis Cost'!BA12 -> 36115.002 | G17: ='Multiyear Analysis Cost'!AI12 -> 303540 | I17: ='Multiyear Analysis Cost'!AE12 -> 4025316.9 | K17: =E17+C17+G17+I17 -> 5495511.8 | M17: =-'Multiyear Analysis Benefits'!M25 -> -910620 | O17: =-'Multiyear Analysis Benefits'!E25 -> -1193303.8 | Q17: =-('Multiyear Analysis Benefits'!H25+'Multiyear Analysis Benefits'!K25) -> -428903.47 | S17: =M17+O17+Q17 -> -2532827.2 | U17: =K17+S17 -> 2962684.6
