Workbook

Sheet Annual Summary
A1: $/kWh value of Solar
B2: Annual MWh | C2: Energy $/kWh | D2: Regulation $/kwh | E2: Fwd Reserve $/Kwh | F2: Capacity $/kwh | G2: Trans $/kwh | H2: REC | I2: Total $/kwh with RECs | J2: Total $/kWh without RECs
A3: =+'Monthly Analysis'!#REF! -> #REF! | B3: =+(SUM('Monthly Analysis'!#REF!)) -> #REF! | C3: =+(SUM('Monthly Analysis'!#REF!)/SUM('Monthly Analysis'!#REF!))/1000 -> #REF! | D3: =+(SUM('Monthly Analysis'!#REF!)/SUM('Monthly Analysis'!#REF!))/1000 -> #REF! | E3: =+(SUM('Monthly Analysis'!#REF!)/SUM('Monthly Analysis'!#REF!))/1000 -> #REF! | F3: =+(SUM('Monthly Analysis'!#REF!)/SUM('Monthly Analysis'!#REF!))/1000 -> #REF! | G3: =+(SUM('Monthly Analysis'!#REF!)/SUM('Monthly Analysis'!#REF!))/1000 -> #REF! | I3: =+SUM(C3:H3) -> #REF! | J3: =+I3-H3 -> #REF!
A4: =+'Monthly Analysis'!#REF! -> #REF! | B4: =+(SUM('Monthly Analysis'!#REF!)) -> #REF! | C4: =+(SUM('Monthly Analysis'!#REF!)/SUM('Monthly Analysis'!#REF!))/1000 -> #REF! | D4: =+(SUM('Monthly Analysis'!#REF!)/SUM('Monthly Analysis'!#REF!))/1000 -> #REF! | E4: =+(SUM('Monthly Analysis'!#REF!)/SUM('Monthly Analysis'!#REF!))/1000 -> #REF! | F4: =+(SUM('Monthly Analysis'!#REF!)/SUM('Monthly Analysis'!#REF!))/1000 -> #REF! | G4: =+(SUM('Monthly Analysis'!#REF!)/SUM('Monthly Analysis'!#REF!))/1000 -> #REF! | I4: =+SUM(C4:H4) -> #REF! | J4: =+I4-H4 -> #REF! | K4: 1
A5: =+'Monthly Analysis'!#REF! -> #REF! | B5: =+(SUM('Monthly Analysis'!#REF!)) -> #REF! | C5: =+(SUM('Monthly Analysis'!#REF!)/SUM('Monthly Analysis'!#REF!))/1000 -> #REF! | D5: =+(SUM('Monthly Analysis'!#REF!)/SUM('Monthly Analysis'!#REF!))/1000 -> #REF! | E5: =+(SUM('Monthly Analysis'!#REF!)/SUM('Monthly Analysis'!#REF!))/1000 -> #REF! | F5: =+(SUM('Monthly Analysis'!#REF!)/SUM('Monthly Analysis'!#REF!))/1000 -> #REF! | G5: =+(SUM('Monthly Analysis'!#REF!)/SUM('Monthly Analysis'!#REF!))/1000 -> #REF! | I5: =+SUM(C5:H5) -> #REF! | J5: =+I5-H5 -> #REF! | K5: 1
A6: =+'Monthly Analysis'!#REF! -> #REF! | B6: =+(SUM('Monthly Analysis'!#REF!)) -> #REF! | C6: =+(SUM('Monthly Analysis'!#REF!)/SUM('Monthly Analysis'!#REF!))/1000 -> #REF! | D6: =+(SUM('Monthly Analysis'!#REF!)/SUM('Monthly Analysis'!#REF!))/1000 -> #REF! | E6: =+(SUM('Monthly Analysis'!#REF!)/SUM('Monthly Analysis'!#REF!))/1000 -> #REF! | F6: =+(SUM('Monthly Analysis'!#REF!)/SUM('Monthly Analysis'!#REF!))/1000 -> #REF! | G6: =+(SUM('Monthly Analysis'!#REF!)/SUM('Monthly Analysis'!#REF!))/1000 -> #REF! | I6: =+SUM(C6:H6) -> #REF! | J6: =+I6-H6 -> #REF! | K6: 1
A7: =+'Monthly Analysis'!#REF! -> #REF! | B7: =+(SUM('Monthly Analysis'!#REF!)) -> #REF! | C7: =+(SUM('Monthly Analysis'!#REF!)/SUM('Monthly Analysis'!#REF!))/1000 -> #REF! | D7: =+(SUM('Monthly Analysis'!#REF!)/SUM('Monthly Analysis'!#REF!))/1000 -> #REF! | E7: =+(SUM('Monthly Analysis'!#REF!)/SUM('Monthly Analysis'!#REF!))/1000 -> #REF! | F7: =+(SUM('Monthly Analysis'!#REF!)/SUM('Monthly Analysis'!#REF!))/1000 -> #REF! | G7: =+(SUM('Monthly Analysis'!#REF!)/SUM('Monthly Analysis'!#REF!))/1000 -> #REF! | I7: =+SUM(C7:H7) -> #REF! | J7: =+I7-H7 -> #REF! | K7: 1
A8: =+'Monthly Analysis'!A8 -> 2018 | B8: =+(SUM('Monthly Analysis'!AB8:AB19)) -> 1121.0897 | C8: =+(SUM('Monthly Analysis'!AC8:AC19)/SUM('Monthly Analysis'!$AB8:$AB19))/1000 -> 0.039014373 | D8: =+(SUM('Monthly Analysis'!AD8:AD19)/SUM('Monthly Analysis'!$AB8:$AB19))/1000 -> 0.00022831736 | E8: =+(SUM('Monthly Analysis'!AE8:AE19)/SUM('Monthly Analysis'!$AB8:$AB19))/1000 -> 0.00054439978 | F8: =+(SUM('Monthly Analysis'!AF8:AF19)/SUM('Monthly Analysis'!$AB8:$AB19))/1000 -> 0 | G8: =+(SUM('Monthly Analysis'!AS8:AS19)/SUM('Monthly Analysis'!$AB8:$AB19))/1000 -> 0.0019273256 | I8: =+SUM(C8:H8) -> 0.041714416 | J8: =+I8-H8 -> 0.041714416 | K8: 1
A9: =+'Monthly Analysis'!A20 -> 2019 | B9: =+(SUM('Monthly Analysis'!AB20:AB31)) -> 1121.0897 | C9: =+(SUM('Monthly Analysis'!AC20:AC31)/SUM('Monthly Analysis'!$AB20:$AB31))/1000 -> 0.031633919 | D9: =+(SUM('Monthly Analysis'!AD20:AD31)/SUM('Monthly Analysis'!$AB20:$AB31))/1000 -> 0.00020453937 | E9: =+(SUM('Monthly Analysis'!AE20:AE31)/SUM('Monthly Analysis'!$AB20:$AB31))/1000 -> 0.00044629138 | F9: =+(SUM('Monthly Analysis'!AF20:AF31)/SUM('Monthly Analysis'!$AB20:$AB31))/1000 -> 0.017429728 | G9: =+(SUM('Monthly Analysis'!AS20:AS31)/SUM('Monthly Analysis'!$AB20:$AB31))/1000 -> 0.0030026363 | H9: 0.03475 | I9: =+SUM(C9:H9) -> 0.087467114 | J9: =+I9-H9 -> 0.052717114 | K9: 1 | N9: =+B9/8760 -> 0.12797828
A10: =+'Monthly Analysis'!A32 -> 2020 | B10: =+(SUM('Monthly Analysis'!AB32:AB43)) -> 1119.489 | C10: =+(SUM('Monthly Analysis'!AC32:AC43)/SUM('Monthly Analysis'!$AB32:$AB43))/1000 -> 0.034068871 | D10: =+(SUM('Monthly Analysis'!AD32:AD43)/SUM('Monthly Analysis'!$AB32:$AB43))/1000 -> 0.0001990698 | E10: =+(SUM('Monthly Analysis'!AE32:AE43)/SUM('Monthly Analysis'!$AB32:$AB43))/1000 -> 0.00043811742 | F10: =+(SUM('Monthly Analysis'!AF32:AF43)/SUM('Monthly Analysis'!$AB32:$AB43))/1000 -> 0.025626875 | G10: =+(SUM('Monthly Analysis'!AS32:AS43)/SUM('Monthly Analysis'!$AB32:$AB43))/1000 -> 0.0030932117 | H10: 0.037 | I10: =+SUM(C10:H10) -> 0.10042615 | J10: =+I10-H10 -> 0.063426145 | K10: 1
A11: =+'Monthly Analysis'!A44 -> 2021 | B11: =+(SUM('Monthly Analysis'!AB44:AB55)) -> 1112.6336 | C11: =+(SUM('Monthly Analysis'!AC44:AC55)/SUM('Monthly Analysis'!$AB44:$AB55))/1000 -> 0.034460867 | D11: =+(SUM('Monthly Analysis'!AD44:AD55)/SUM('Monthly Analysis'!$AB44:$AB55))/1000 -> 0.00019885617 | E11: =+(SUM('Monthly Analysis'!AE44:AE55)/SUM('Monthly Analysis'!$AB44:$AB55))/1000 -> 0.00043791535 | F11: =+(SUM('Monthly Analysis'!AF44:AF55)/SUM('Monthly Analysis'!$AB44:$AB55))/1000 -> 0.021023956 | G11: =+(SUM('Monthly Analysis'!AS44:AS55)/SUM('Monthly Analysis'!$AB44:$AB55))/1000 -> 0.0032569166 | H11: 0.033 | I11: =+SUM(C11:H11) -> 0.092378512 | J11: =+I11-H11 -> 0.059378512 | K11: 1
A12: =+'Monthly Analysis'!A56 -> 2022 | B12: =+(SUM('Monthly Analysis'!AB56:AB67)) -> 1107.0705 | C12: =+(SUM('Monthly Analysis'!AC56:AC67)/SUM('Monthly Analysis'!$AB56:$AB67))/1000 -> 0.034977101 | D12: =+(SUM('Monthly Analysis'!AD56:AD67)/SUM('Monthly Analysis'!$AB56:$AB67))/1000 -> 0.00020181461 | E12: =+(SUM('Monthly Analysis'!AE56:AE67)/SUM('Monthly Analysis'!$AB56:$AB67))/1000 -> 0.00044444463 | F12: =+(SUM('Monthly Analysis'!AF56:AF67)/SUM('Monthly Analysis'!$AB56:$AB67))/1000 -> 0.017844132 | G12: =+(SUM('Monthly Analysis'!AS56:AS67)/SUM('Monthly Analysis'!$AB56:$AB67))/1000 -> 0.0034282336 | H12: 0.03125 | I12: =+SUM(C12:H12) -> 0.088145726 | J12: =+I12-H12 -> 0.056895726 | K12: 1
A13: =+'Monthly Analysis'!A68 -> 2023 | B13: =+(SUM('Monthly Analysis'!AB68:AB79)) -> 1101.5351 | C13: =+(SUM('Monthly Analysis'!AC68:AC79)/SUM('Monthly Analysis'!$AB68:$AB79))/1000 -> 0.036054452 | D13: =+(SUM('Monthly Analysis'!AD68:AD79)/SUM('Monthly Analysis'!$AB68:$AB79))/1000 -> 0.0002083725 | E13: =+(SUM('Monthly Analysis'!AE68:AE79)/SUM('Monthly Analysis'!$AB68:$AB79))/1000 -> 0.00045936561 | F13: =+(SUM('Monthly Analysis'!AF68:AF79)/SUM('Monthly Analysis'!$AB68:$AB79))/1000 -> 0.016677534 | G13: =+(SUM('Monthly Analysis'!AS68:AS79)/SUM('Monthly Analysis'!$AB68:$AB79))/1000 -> 0.00361101 | H13: 0.029 | I13: =+SUM(C13:H13) -> 0.086010734 | J13: =+I13-H13 -> 0.057010734 | K13: 1
A14: =+'Monthly Analysis'!A80 -> 2024 | B14: =+(SUM('Monthly Analysis'!AB80:AB91)) -> 1097.2666 | C14: =+(SUM('Monthly Analysis'!AC80:AC91)/SUM('Monthly Analysis'!$AB80:$AB91))/1000 -> 0.036984545 | D14: =+(SUM('Monthly Analysis'!AD80:AD91)/SUM('Monthly Analysis'!$AB80:$AB91))/1000 -> 0.00021327058 | E14: =+(SUM('Monthly Analysis'!AE80:AE91)/SUM('Monthly Analysis'!$AB80:$AB91))/1000 -> 0.00046967004 | F14: =+(SUM('Monthly Analysis'!AF80:AF91)/SUM('Monthly Analysis'!$AB80:$AB91))/1000 -> 0.017160973 | G14: =+(SUM('Monthly Analysis'!AS80:AS91)/SUM('Monthly Analysis'!$AB80:$AB91))/1000 -> 0.0042244319 | H14: 0.015 | I14: =+SUM(C14:H14) -> 0.074052891 | J14: =+I14-H14 -> 0.059052891 | K14: 1
A15: =+'Monthly Analysis'!A92 -> 2025 | B15: =+(SUM('Monthly Analysis'!AB92:AB103)) -> 1090.5473 | C15: =+(SUM('Monthly Analysis'!AC92:AC103)/SUM('Monthly Analysis'!$AB92:$AB103))/1000 -> 0.038331006 | D15: =+(SUM('Monthly Analysis'!AD92:AD103)/SUM('Monthly Analysis'!$AB92:$AB103))/1000 -> 0.00022160739 | E15: =+(SUM('Monthly Analysis'!AE92:AE103)/SUM('Monthly Analysis'!$AB92:$AB103))/1000 -> 0.00048880779 | F15: =+(SUM('Monthly Analysis'!AF92:AF103)/SUM('Monthly Analysis'!$AB92:$AB103))/1000 -> 0.017698375 | G15: =+(SUM('Monthly Analysis'!AS92:AS103)/SUM('Monthly Analysis'!$AB92:$AB103))/1000 -> 0.0047490703 | H15: =+H14 -> 0.015 | I15: =+SUM(C15:H15) -> 0.076488867 | J15: =+I15-H15 -> 0.061488867 | K15: 1
A16: =+'Monthly Analysis'!A104 -> 2026 | B16: =+(SUM('Monthly Analysis'!AB104:AB115)) -> 1085.0946 | C16: =+(SUM('Monthly Analysis'!AC104:AC115)/SUM('Monthly Analysis'!$AB104:$AB115))/1000 -> 0.039831204 | D16: =+(SUM('Monthly Analysis'!AD104:AD115)/SUM('Monthly Analysis'!$AB104:$AB115))/1000 -> 0.00023027571 | E16: =+(SUM('Monthly Analysis'!AE104:AE115)/SUM('Monthly Analysis'!$AB104:$AB115))/1000 -> 0.00050797787 | F16: =+(SUM('Monthly Analysis'!AF104:AF115)/SUM('Monthly Analysis'!$AB104:$AB115))/1000 -> 0.018231995 | G16: =+(SUM('Monthly Analysis'!AS104:AS115)/SUM('Monthly Analysis'!$AB104:$AB115))/1000 -> 0.0049838644 | H16: =+H15 -> 0.015 | I16: =+SUM(C16:H16) -> 0.078785317 | J16: =+I16-H16 -> 0.063785317 | K16: 1
A17: =+'Monthly Analysis'!A116 -> 2027 | B17: =+SUM('Monthly Analysis'!AB116:AB127) -> 1079.6691 | C17: =+SUM('Monthly Analysis'!AC116:AC127)/$B17/1000 -> 0.041299941 | D17: =+SUM('Monthly Analysis'!AD116:AD127)/$B17/1000 -> 0.00023875717 | E17: =+SUM('Monthly Analysis'!AE116:AE127)/$B17/1000 -> 0.00052661896 | F17: =+SUM('Monthly Analysis'!AF116:AF127)/$B17/1000 -> 0.01851174 | G17: =+SUM('Monthly Analysis'!AS116:AS127)/$B17/1000 -> 0.0052307566 | H17: =+H16 -> 0.015 | I17: =+SUM(C17:H17) -> 0.080807814 | J17: =+I17-H17 -> 0.065807814 | K17: 1
A18: =+'Monthly Analysis'!A128 -> 2028 | B18: =+SUM('Monthly Analysis'!AB128:AB139) -> 1074.2708 | C18: =+SUM('Monthly Analysis'!AC128:AC139)/$B18/1000 -> 0.0427717 | D18: =+SUM('Monthly Analysis'!AD128:AD139)/$B18/1000 -> 0.0002475591 | E18: =+SUM('Monthly Analysis'!AE128:AE139)/$B18/1000 -> 0.00054620322 | F18: =+SUM('Monthly Analysis'!AF128:AF139)/$B18/1000 -> 0.018604764 | G18: =+SUM('Monthly Analysis'!AS128:AS139)/$B18/1000 -> 0.0054938373 | H18: =+H17 -> 0.015 | I18: =+SUM(C18:H18) -> 0.082664063 | J18: =+I18-H18 -> 0.067664063 | K18: 1
A19: =+'Monthly Analysis'!A140 -> 2029 | B19: =+SUM('Monthly Analysis'!AB140:AB151) -> 1068.8994 | C19: =+SUM('Monthly Analysis'!AC140:AC151)/$B19/1000 -> 0.044414669 | D19: =+SUM('Monthly Analysis'!AD140:AD151)/$B19/1000 -> 0.00025698322 | E19: =+SUM('Monthly Analysis'!AE140:AE151)/$B19/1000 -> 0.00056680297 | F19: =+SUM('Monthly Analysis'!AF140:AF151)/$B19/1000 -> 0.018698255 | G19: =+SUM('Monthly Analysis'!AS140:AS151)/$B19/1000 -> 0.0057735737 | H19: =+H18 -> 0.015 | I19: =+SUM(C19:H19) -> 0.084710284 | J19: =+I19-H19 -> 0.069710284 | K19: 1
A20: =+'Monthly Analysis'!A152 -> 2030 | B20: =+SUM('Monthly Analysis'!AB152:AB163) -> 1063.5549 | C20: =+SUM('Monthly Analysis'!AC152:AC163)/$B20/1000 -> 0.046144616 | D20: =+SUM('Monthly Analysis'!AD152:AD163)/$B20/1000 -> 0.00026696786 | E20: =+SUM('Monthly Analysis'!AE152:AE163)/$B20/1000 -> 0.00058884136 | F20: =+SUM('Monthly Analysis'!AF152:AF163)/$B20/1000 -> 0.018792216 | G20: =+SUM('Monthly Analysis'!AS152:AS163)/$B20/1000 -> 0.0060717595 | H20: =+H19 -> 0.015 | I20: =+SUM(C20:H20) -> 0.086864401 | J20: =+I20-H20 -> 0.071864401 | K20: 1
A21: =+'Monthly Analysis'!A164 -> 2031 | B21: =+SUM('Monthly Analysis'!AB164:AB175) -> 1058.2371 | C21: =+SUM('Monthly Analysis'!AC164:AC175)/$B21/1000 -> 0.047726944 | D21: =+SUM('Monthly Analysis'!AD164:AD175)/$B21/1000 -> 0.00027610441 | E21: =+SUM('Monthly Analysis'!AE164:AE175)/$B21/1000 -> 0.00060901531 | F21: =+SUM('Monthly Analysis'!AF164:AF175)/$B21/1000 -> 0.01888665 | G21: =+SUM('Monthly Analysis'!AS164:AS175)/$B21/1000 -> 0.0063888984 | H21: =+H20 -> 0.015 | I21: =+SUM(C21:H21) -> 0.088887611 | J21: =+I21-H21 -> 0.073887611 | K21: 1
A22: =+'Monthly Analysis'!A176 -> 2032 | B22: =+SUM('Monthly Analysis'!AB176:AB187) -> 1052.9459 | C22: =+SUM('Monthly Analysis'!AC176:AC187)/$B22/1000 -> 0.049363558 | D22: =+SUM('Monthly Analysis'!AD176:AD187)/$B22/1000 -> 0.0002855538 | E22: =+SUM('Monthly Analysis'!AE176:AE187)/$B22/1000 -> 0.00062988067 | F22: =+SUM('Monthly Analysis'!AF176:AF187)/$B22/1000 -> 0.018981557 | G22: =+SUM('Monthly Analysis'!AS176:AS187)/$B22/1000 -> 0.0067258391 | H22: =+H21 -> 0.015 | I22: =+SUM(C22:H22) -> 0.090986389 | J22: =+I22-H22 -> 0.075986389 | K22: 1
A23: =+'Monthly Analysis'!A188 -> 2033 | B23: =+SUM('Monthly Analysis'!AB188:AB199) -> 1047.6812 | C23: =+SUM('Monthly Analysis'!AC188:AC199)/$B23/1000 -> 0.051056322 | D23: =+SUM('Monthly Analysis'!AD188:AD199)/$B23/1000 -> 0.00029532674 | E23: =+SUM('Monthly Analysis'!AE188:AE199)/$B23/1000 -> 0.00065146114 | F23: =+SUM('Monthly Analysis'!AF188:AF199)/$B23/1000 -> 0.019076942 | G23: =+SUM('Monthly Analysis'!AS188:AS199)/$B23/1000 -> 0.0070836366 | H23: =+H22 -> 0.015 | I23: =+SUM(C23:H23) -> 0.093163689 | J23: =+I23-H23 -> 0.078163689 | K23: 1
A24: =+'Monthly Analysis'!A200 -> 2034 | B24: =+SUM('Monthly Analysis'!AB200:AB211) -> 1042.4428 | C24: =+SUM('Monthly Analysis'!AC200:AC211)/$B24/1000 -> 0.052807164 | D24: =+SUM('Monthly Analysis'!AD200:AD211)/$B24/1000 -> 0.00030543431 | E24: =+SUM('Monthly Analysis'!AE200:AE211)/$B24/1000 -> 0.00067378123 | F24: =+SUM('Monthly Analysis'!AF200:AF211)/$B24/1000 -> 0.019172806 | G24: =+SUM('Monthly Analysis'!AS200:AS211)/$B24/1000 -> 0.0074652839 | H24: =+H23 -> 0.015 | I24: =+SUM(C24:H24) -> 0.095424469 | J24: =+I24-H24 -> 0.080424469 | K24: 1
A25: =+'Monthly Analysis'!A212 -> 2035 | B25: =+SUM('Monthly Analysis'!AB212:AB223) -> 1037.2306 | C25: =+SUM('Monthly Analysis'!AC212:AC223)/$B25/1000 -> 0.054618076 | D25: =+SUM('Monthly Analysis'!AD212:AD223)/$B25/1000 -> 0.00031588797 | E25: =+SUM('Monthly Analysis'!AE212:AE223)/$B25/1000 -> 0.00069686631 | F25: =+SUM('Monthly Analysis'!AF212:AF223)/$B25/1000 -> 0.019269152 | G25: =+SUM('Monthly Analysis'!AS212:AS223)/$B25/1000 -> 0.0078717114 | H25: =+H24 -> 0.015 | I25: =+SUM(C25:H25) -> 0.097771694 | J25: =+I25-H25 -> 0.082771694 | K25: 1
A26: =+'Monthly Analysis'!A224 -> 2036 | B26: =+SUM('Monthly Analysis'!AB224:AB235) -> 1032.0444 | C26: =+SUM('Monthly Analysis'!AC224:AC235)/$B26/1000 -> 0.056491122 | D26: =+SUM('Monthly Analysis'!AD224:AD235)/$B26/1000 -> 0.00032669959 | E26: =+SUM('Monthly Analysis'!AE224:AE235)/$B26/1000 -> 0.00072074261 | F26: =+SUM('Monthly Analysis'!AF224:AF235)/$B26/1000 -> 0.019365982 | G26: =+SUM('Monthly Analysis'!AS224:AS235)/$B26/1000 -> 0.0083041157 | H26: =+H25 -> 0.015 | I26: =+SUM(C26:H26) -> 0.10020866 | J26: =+I26-H26 -> 0.085208661 | K26: 1
A27: =+'Monthly Analysis'!A236 -> 2037 | B27: =+SUM('Monthly Analysis'!AB236:AB247) -> 1026.8842 | C27: =+SUM('Monthly Analysis'!AC236:AC247)/$B27/1000 -> 0.058428433 | D27: =+SUM('Monthly Analysis'!AD236:AD247)/$B27/1000 -> 0.00033788143 | E27: =+SUM('Monthly Analysis'!AE236:AE247)/$B27/1000 -> 0.00074543725 | F27: =+SUM('Monthly Analysis'!AF236:AF247)/$B27/1000 -> 0.019463298 | G27: =+SUM('Monthly Analysis'!AS236:AS247)/$B27/1000 -> 0.008762777 | H27: =+H26 -> 0.015 | I27: =+SUM(C27:H27) -> 0.10273783 | J27: =+I27-H27 -> 0.087737826 | K27: 1
A28: =+'Monthly Analysis'!A248 -> 2038 | B28: =+SUM('Monthly Analysis'!AB248:AB259) -> 1021.7498 | C28: =+SUM('Monthly Analysis'!AC248:AC259)/$B28/1000 -> 0.060432215 | D28: =+SUM('Monthly Analysis'!AD248:AD259)/$B28/1000 -> 0.00034944616 | E28: =+SUM('Monthly Analysis'!AE248:AE259)/$B28/1000 -> 0.00077097828 | F28: =+SUM('Monthly Analysis'!AF248:AF259)/$B28/1000 -> 0.019561104 | G28: =+SUM('Monthly Analysis'!AS248:AS259)/$B28/1000 -> 0.0092502985 | H28: =+H27 -> 0.015 | I28: =+SUM(C28:H28) -> 0.10536404 | J28: =+I28-H28 -> 0.090364042 | K28: 1
A29: =+'Monthly Analysis'!A260 -> 2039 | B29: =+SUM('Monthly Analysis'!AB260:AB271) -> 1016.6411 | C29: =+SUM('Monthly Analysis'!AC260:AC271)/$B29/1000 -> 0.062504751 | D29: =+SUM('Monthly Analysis'!AD260:AD271)/$B29/1000 -> 0.0003614069 | E29: =+SUM('Monthly Analysis'!AE260:AE271)/$B29/1000 -> 0.00079739473 | F29: =+SUM('Monthly Analysis'!AF260:AF271)/$B29/1000 -> 0.019659401 | G29: =+SUM('Monthly Analysis'!AS260:AS271)/$B29/1000 -> 0.0097722378 | H29: =+H28 -> 0.015 | I29: =+SUM(C29:H29) -> 0.10809519 | J29: =+I29-H29 -> 0.093095192 | K29: 1
A30: 20-Year Levelized 2020-2039 | B30: =+AVERAGE(B$10:B29) -> 1066.7944 | C30: =+NPV($C$31,C$10:C29)/NPV($C$31,$K$10:$K29) -> 0.043253516 | D30: =+NPV($C$31,D$10:D29)/NPV($C$31,$K$10:$K29) -> 0.00025020917 | E30: =+NPV($C$31,E$10:E29)/NPV($C$31,$K$10:$K29) -> 0.00055167961 | F30: =+NPV($C$31,F$10:F29)/NPV($C$31,$K$10:$K29) -> 0.019214348 | G30: =+NPV($C$31,G$10:G29)/NPV($C$31,$K$10:$K29) -> 0.0054284716 | H30: =+NPV($C$31,H$10:H29)/NPV($C$31,$K$10:$K29) -> 0.020362528 | I30: =+NPV($C$31,I$10:I29)/NPV($C$31,$K$10:$K29) -> 0.089060753 | J30: =+NPV($C$31,J$10:J29)/NPV($C$31,$K$10:$K29) -> 0.068698225
A31: Discount Rate for Levelized Calc | C31: 0.06

Sheet Monthly Analysis
A1: Input cells
A2: Equations
A3: VALUE OF 1.0 MW of Solar
G6: 0.025 | H6: 0.0643 | L6: 0 | M6: 0 | N6: 0.00417 | Q6: 0.0075 | R6: 0.052 | S6: 0.04 | T6: -0.022 | U6: 0
A7: Year | B7: Month | C7: NYMEX Peak Electricity $/MWh | D7: NYMEX Nat Gas $/mmbtu | E7: DAM to Solar Output RTM $/MWh Adjuster | F7: Implied Output RTM $/MWh | G7: Capacity $/kw-month | H7: NEPOOL OATT Schedule 9 $/kw-month | I7: Regulation $/MWh of Load Obligation | J7: Fwd Reserve $/MWh of Load Obligation | K7: Reduction in VT T/D Infrastructure $/kw-mo. | L7: VTA $/kw-mo. | M7: GMP $/kw-mo. | N7: OATT Sched 1 - RNS ($/kw-mo.) | O7: OATT Sched 2 - VAR ($/kW-month) | P7: OATT Sched 16 - Black Start ($/kw-mo.) | Q7: ISO Tariff Sched 1 ISO Diospatch and Control ($/kw-mo) | R7: ISO Tariff Sched 2 - Energy Admin Service ($/MWh) | S7: ISO Tariff Sched 3 - Reliability Admin Service ($/kw-mo.) | T7: ISO Tariff Sched 5 - NESCOE Budget ($/kw/mo.) | U7: ARR $/MWh-mo) | V7: CF | W7: Hours/Month | X7: Loss Adjuster | Y7: Capacity Impact per MW of installed Capacity (MW) | Z7: Transmission Impact per MW of installed Capacity (MW) | AA7: Degradation Factor | AB7: MWh | AC7: Total Energy $ | AD7: Total Regulation $ | AE7: Total Reserve $ | AF7: Total Capacity $ | AG7: NEPOOL OATT Schedule 9 $ | AH7: Reduction in VT T/D Infrastructure $ | AI7: VTA $ | AJ7: GMP $ | AK7: OATT Sched 1 - RNS ($) | AL7: OATT Sched 2 - VAR ($) | AM7: OATT Sched 16 - Black Start ($) | AN7: ISO Tariff Sched 1 ISO Diospatch and Control ($) | AO7: ISO Tariff Sched 2 - Energy Admin Service ($) | AP7: ISO Tariff Sched 3 - Reliability Admin Service ($) | AQ7: ISO Tariff Sched 5 - NESCOE Budget ($) | AR7: ARR $/kw-mo) | AS7: Total Transmission $ | AW7: RNS | AX7: In State T/D | AY7: Other | AZ7: Sanity Check
A8: 2018 | B8: 1 | C8: 100.75 | D8: 2.738 | E8: =+'Monthly LMP and MWh Pivot'!L$6 -> 0.70389395 | F8: =+E8*C8 -> 70.917316 | I8: 0.45976503 | J8: 0.30537703 | K8: 0 | Q8: 0.17886 | R8: 0.30132 | S8: 0.22461 | T8: 0.00648 | V8: =+'Monthly LMP and MWh Pivot'!I$6/('Monthly Analysis'!W8*'Hourly Generator and LMP Data'!$I$1) -> 0.022616097 | W8: 744 | X8: 0.07 | Z8: =+'Monthly Peak Data '!Q$3 -> -0.0060846321 | AA8: 1 | AB8: =+W8*V8*AA8 -> 16.826376 | AC8: =+AB8*F8*(1+X8) -> 1276.8112 | AD8: =+AB8*I8*(1+X8) -> 8.2777119 | AE8: =+AB8*J8*(1+X8) -> 5.4980762 | AG8: =+H8*Z8*1000*(1+X8) -> 0 | AH8: =+K8*AVERAGE('Monthly Peak Data '!$Q$8:$Q$10)*(1+X8)*'Monthly Peak Data '!$M$40*1000 -> 0 | AI8: =+L8*(0.5*MAX('Monthly Peak Data '!$G$18:$G$19,'Monthly Peak Data '!$G$29)+0.5*(MAX('Monthly Peak Data '!$P$3:$P$14)))*(1+X8) -> 0 | AJ8: =+M8*0.25*MAX('Monthly Peak Data '!$P$3:$P$14)*(1+X8) -> 0 | AK8: =+VLOOKUP($B8,'Monthly Peak Data '!$L$3:$P$14,5,FALSE)*N8*(1+X8) -> 0 | AL8: =+O8*AB8*(1+X8) -> 0 | AM8: =+VLOOKUP($B8,'Monthly Peak Data '!$L$3:$P$14,5,FALSE)*P8*(1+X8) -> 0 | AN8: =+VLOOKUP($B8,'Monthly Peak Data '!$L$3:$P$14,5,FALSE)*Q8*(1+X8) -> -0.2072771 | AO8: =+R8*AB8*(1+X8) -> 5.4250324 | AP8: =+VLOOKUP($B8,'Monthly Peak Data '!$C$18:$G$29,5,FALSE)*(1+X8) -> 0 | AQ8: =+VLOOKUP($B8,'Monthly Peak Data '!$L$3:$P$14,5,FALSE)*T8*(1+X8) -> -0.0075095361 | AR8: =+VLOOKUP($B8,'Monthly Peak Data '!$C$3:$G$14,5,FALSE)*U8*(1+X8) -> 0 | AS8: =+SUM(AG8:AR8) -> 5.2102458
A9: =+A8 -> 2018 | B9: 2 | C9: 103.8 | D9: 3.505 | E9: =+'Monthly LMP and MWh Pivot'!L$7 -> 0.91686751 | F9: =+E9*C9 -> 95.170847 | I9: 0.17954086 | J9: 0.2826068 | K9: 0 | Q9: 0.17886 | R9: 0.30132 | S9: 0.22461 | T9: 0.00648 | V9: =+'Monthly LMP and MWh Pivot'!I$7/('Monthly Analysis'!W9*'Hourly Generator and LMP Data'!$I$1) -> 0.052674726 | W9: =28*24 -> 672 | X9: =+X8 -> 0.07 | Z9: =+'Monthly Peak Data '!Q$4 -> -0.0055317014 | AA9: 1 | AB9: =+W9*V9*AA9 -> 35.397416 | AC9: =+AB9*F9*(1+X9) -> 3604.6182 | AD9: =+AB9*I9*(1+X9) -> 6.8001524 | AE9: =+AB9*J9*(1+X9) -> 10.703799 | AG9: =+H9*Z9*1000*(1+X9) -> 0 | AH9: =+K9*AVERAGE('Monthly Peak Data '!$Q$8:$Q$10)*(1+X9)*'Monthly Peak Data '!$M$40*1000 -> 0 | AI9: =+L9*(0.5*MAX('Monthly Peak Data '!$G$18:$G$19,'Monthly Peak Data '!$G$29)+0.5*(MAX('Monthly Peak Data '!$P$3:$P$14)))*(1+X9) -> 0 | AJ9: =+M9*0.25*MAX('Monthly Peak Data '!$P$3:$P$14)*(1+X9) -> 0 | AK9: =+VLOOKUP($B9,'Monthly Peak Data '!$L$3:$P$14,5,FALSE)*N9*(1+X9) -> 0 | AL9: =+O9*AB9*(1+X9) -> 0 | AM9: =+VLOOKUP($B9,'Monthly Peak Data '!$L$3:$P$14,5,FALSE)*P9*(1+X9) -> 0 | AN9: =+VLOOKUP($B9,'Monthly Peak Data '!$L$3:$P$14,5,FALSE)*Q9*(1+X9) -> -0.18844115 | AO9: =+R9*AB9*(1+X9) -> 11.412566 | AP9: =+VLOOKUP($B9,'Monthly Peak Data '!$C$18:$G$29,5,FALSE)*(1+X9) -> 1.6748048 | AQ9: =+VLOOKUP($B9,'Monthly Peak Data '!$L$3:$P$14,5,FALSE)*T9*(1+X9) -> -0.0068271197 | AR9: =+VLOOKUP($B9,'Monthly Peak Data '!$C$3:$G$14,5,FALSE)*U9*(1+X9) -> 0 | AS9: =+SUM(AG9:AR9) -> 12.892102
A10: =+A9 -> 2018 | B10: 3 | C10: 33.35 | D10: 2.625 | E10: =+'Monthly LMP and MWh Pivot'!L$8 -> 0.77619976 | F10: =+E10*C10 -> 25.886262 | I10: 0.17106004 | J10: 0.29107768 | K10: 0 | Q10: 0.17886 | R10: 0.30132 | S10: 0.22461 | T10: 0.00648 | V10: =+'Monthly LMP and MWh Pivot'!I$8/('Monthly Analysis'!W10*'Hourly Generator and LMP Data'!$I$1) -> 0.10095698 | W10: 743 | X10: =+X9 -> 0.07 | Z10: =+'Monthly Peak Data '!Q$5 -> 0.016072852 | AA10: 1 | AB10: =+W10*V10*AA10 -> 75.011039 | AC10: =+AB10*F10*(1+X10) -> 2077.6783 | AD10: =+AB10*I10*(1+X10) -> 13.729588 | AE10: =+AB10*J10*(1+X10) -> 23.362422 | AG10: =+H10*Z10*1000*(1+X10) -> 0 | AH10: =+K10*AVERAGE('Monthly Peak Data '!$Q$8:$Q$10)*(1+X10)*'Monthly Peak Data '!$M$40*1000 -> 0 | AI10: =+L10*(0.5*MAX('Monthly Peak Data '!$G$18:$G$19,'Monthly Peak Data '!$G$29)+0.5*(MAX('Monthly Peak Data '!$P$3:$P$14)))*(1+X10) -> 0 | AJ10: =+M10*0.25*MAX('Monthly Peak Data '!$P$3:$P$14)*(1+X10) -> 0 | AK10: =+VLOOKUP($B10,'Monthly Peak Data '!$L$3:$P$14,5,FALSE)*N10*(1+X10) -> 0 | AL10: =+O10*AB10*(1+X10) -> 0 | AM10: =+VLOOKUP($B10,'Monthly Peak Data '!$L$3:$P$14,5,FALSE)*P10*(1+X10) -> 0 | AN10: =+VLOOKUP($B10,'Monthly Peak Data '!$L$3:$P$14,5,FALSE)*Q10*(1+X10) -> 0.54753258 | AO10: =+R10*AB10*(1+X10) -> 24.184489 | AP10: =+VLOOKUP($B10,'Monthly Peak Data '!$C$18:$G$29,5,FALSE)*(1+X10) -> 0.04003871 | AQ10: =+VLOOKUP($B10,'Monthly Peak Data '!$L$3:$P$14,5,FALSE)*T10*(1+X10) -> 0.019836806 | AR10: =+VLOOKUP($B10,'Monthly Peak Data '!$C$3:$G$14,5,FALSE)*U10*(1+X10) -> 0 | AS10: =+SUM(AG10:AR10) -> 24.791897
A11: =+A10 -> 2018 | B11: 4 | C11: 38.6 | D11: 2.691 | E11: =+'Monthly LMP and MWh Pivot'!L$9 -> 0.85629918 | F11: =+E11*C11 -> 33.053148 | I11: 0.21067241 | J11: 0.38809919 | K11: 0 | Q11: 0.17886 | R11: 0.30132 | S11: 0.22461 | T11: 0.00648 | V11: =+'Monthly LMP and MWh Pivot'!I$9/('Monthly Analysis'!W11*'Hourly Generator and LMP Data'!$I$1) -> 0.14691858 | W11: 720 | X11: =+X10 -> 0.07 | Z11: =+'Monthly Peak Data '!Q$6 -> 0.0026413858 | AA11: 1 | AB11: =+W11*V11*AA11 -> 105.78138 | AC11: =+AB11*F11*(1+X11) -> 3741.1561 | AD11: =+AB11*I11*(1+X11) -> 23.845183 | AE11: =+AB11*J11*(1+X11) -> 43.927423 | AG11: =+H11*Z11*1000*(1+X11) -> 0 | AH11: =+K11*AVERAGE('Monthly Peak Data '!$Q$8:$Q$10)*(1+X11)*'Monthly Peak Data '!$M$40*1000 -> 0 | AI11: =+L11*(0.5*MAX('Monthly Peak Data '!$G$18:$G$19,'Monthly Peak Data '!$G$29)+0.5*(MAX('Monthly Peak Data '!$P$3:$P$14)))*(1+X11) -> 0 | AJ11: =+M11*0.25*MAX('Monthly Peak Data '!$P$3:$P$14)*(1+X11) -> 0 | AK11: =+VLOOKUP($B11,'Monthly Peak Data '!$L$3:$P$14,5,FALSE)*N11*(1+X11) -> 0 | AL11: =+O11*AB11*(1+X11) -> 0 | AM11: =+VLOOKUP($B11,'Monthly Peak Data '!$L$3:$P$14,5,FALSE)*P11*(1+X11) -> 0 | AN11: =+VLOOKUP($B11,'Monthly Peak Data '!$L$3:$P$14,5,FALSE)*Q11*(1+X11) -> 0.089980591 | AO11: =+R11*AB11*(1+X11) -> 34.105227 | AP11: =+VLOOKUP($B11,'Monthly Peak Data '!$C$18:$G$29,5,FALSE)*(1+X11) -> 142.15604 | AQ11: =+VLOOKUP($B11,'Monthly Peak Data '!$L$3:$P$14,5,FALSE)*T11*(1+X11) -> 0.0032599476 | AR11: =+VLOOKUP($B11,'Monthly Peak Data '!$C$3:$G$14,5,FALSE)*U11*(1+X11) -> 0 | AS11: =+SUM(AG11:AR11) -> 176.35451
A12: =+A11 -> 2018 | B12: 5 | C12: 29.38 | D12: 2.821 | E12: =+'Monthly LMP and MWh Pivot'!L$10 -> 0.82264045 | F12: =+E12*C12 -> 24.169176 | I12: 0.17732921 | J12: 0.49828631 | K12: 0 | Q12: 0.17886 | R12: 0.30132 | S12: 0.22461 | T12: 0.00648 | U12: -0.067750534 | V12: =+'Monthly LMP and MWh Pivot'!I$10/('Monthly Analysis'!W12*'Hourly Generator and LMP Data'!$I$1) -> 0.20374675 | W12: 744 | X12: =+X11 -> 0.07 | Z12: =+'Monthly Peak Data '!Q$7 -> 0.11317959 | AA12: 1 | AB12: =+W12*V12*AA12 -> 151.58758 | AC12: =+AB12*F12*(1+X12) -> 3920.2093 | AD12: =+AB12*I12*(1+X12) -> 28.762569 | AE12: =+AB12*J12*(1+X12) -> 80.821399 | AG12: =+H12*Z12*1000*(1+X12) -> 0 | AH12: =+K12*AVERAGE('Monthly Peak Data '!$Q$8:$Q$10)*(1+X12)*'Monthly Peak Data '!$M$40*1000 -> 0 | AI12: =+L12*(0.5*MAX('Monthly Peak Data '!$G$18:$G$19,'Monthly Peak Data '!$G$29)+0.5*(MAX('Monthly Peak Data '!$P$3:$P$14)))*(1+X12) -> 0 | AJ12: =+M12*0.25*MAX('Monthly Peak Data '!$P$3:$P$14)*(1+X12) -> 0 | AK12: =+VLOOKUP($B12,'Monthly Peak Data '!$L$3:$P$14,5,FALSE)*N12*(1+X12) -> 0 | AL12: =+O12*AB12*(1+X12) -> 0 | AM12: =+VLOOKUP($B12,'Monthly Peak Data '!$L$3:$P$14,5,FALSE)*P12*(1+X12) -> 0 | AN12: =+VLOOKUP($B12,'Monthly Peak Data '!$L$3:$P$14,5,FALSE)*Q12*(1+X12) -> 3.8555393 | AO12: =+R12*AB12*(1+X12) -> 48.873717 | AP12: =+VLOOKUP($B12,'Monthly Peak Data '!$C$18:$G$29,5,FALSE)*(1+X12) -> 0.49346559 | AQ12: =+VLOOKUP($B12,'Monthly Peak Data '!$L$3:$P$14,5,FALSE)*T12*(1+X12) -> 0.13968408 | AR12: =+VLOOKUP($B12,'Monthly Peak Data '!$C$3:$G$14,5,FALSE)*U12*(1+X12) -> -1.4604431 | AS12: =+SUM(AG12:AR12) -> 51.901963
A13: =+A12 -> 2018 | B13: 6 | C13: 29 | D13: 2.875 | E13: =+'Monthly LMP and MWh Pivot'!L$11 -> 0.93665801 | F13: =+E13*C13 -> 27.163082 | G13: 9.55 | H13: 9.2023692 | I13: 0.14311963 | J13: 0.46057392 | K13: 0 | N13: 0.13129667 | Q13: 0.17886 | R13: 0.30132 | S13: 0.22461 | T13: 0.00648 | U13: -0.052934744 | V13: =+'Monthly LMP and MWh Pivot'!I$11/('Monthly Analysis'!W13*'Hourly Generator and LMP Data'!$I$1) -> 0.22707631 | W13: 720 | X13: =+X12 -> 0.07 | Z13: =+'Monthly Peak Data '!Q$8 -> 0.0017649813 | AA13: 1 | AB13: =+W13*V13*AA13 -> 163.49494 | AC13: =+AB13*F13*(1+X13) -> 4751.8985 | AD13: =+AB13*I13*(1+X13) -> 25.037289 | AE13: =+AB13*J13*(1+X13) -> 80.572612 | AG13: =+H13*Z13*1000*(1+X13) -> 17.37895 | AH13: =+K13*AVERAGE('Monthly Peak Data '!$Q$8:$Q$10)*(1+X13)*'Monthly Peak Data '!$M$40*1000 -> 0 | AI13: =+L13*(0.5*MAX('Monthly Peak Data '!$G$18:$G$19,'Monthly Peak Data '!$G$29)+0.5*(MAX('Monthly Peak Data '!$P$3:$P$14)))*(1+X13) -> 0 | AJ13: =+M13*0.25*MAX('Monthly Peak Data '!$P$3:$P$14)*(1+X13) -> 0 | AK13: =+VLOOKUP($B13,'Monthly Peak Data '!$L$3:$P$14,5,FALSE)*N13*(1+X13) -> 0.044136469 | AL13: =+O13*AB13*(1+X13) -> 0 | AM13: =+VLOOKUP($B13,'Monthly Peak Data '!$L$3:$P$14,5,FALSE)*P13*(1+X13) -> 0 | AN13: =+VLOOKUP($B13,'Monthly Peak Data '!$L$3:$P$14,5,FALSE)*Q13*(1+X13) -> 0.06012528 | AO13: =+R13*AB13*(1+X13) -> 52.712797 | AP13: =+VLOOKUP($B13,'Monthly Peak Data '!$C$18:$G$29,5,FALSE)*(1+X13) -> 339.51849 | AQ13: =+VLOOKUP($B13,'Monthly Peak Data '!$L$3:$P$14,5,FALSE)*T13*(1+X13) -> 0.002178306 | AR13: =+VLOOKUP($B13,'Monthly Peak Data '!$C$3:$G$14,5,FALSE)*U13*(1+X13) -> -2.7656548 | AS13: =+SUM(AG13:AR13) -> 406.95102
A14: =+A13 -> 2018 | B14: 7 | C14: 41.75 | D14: 2.996 | E14: =+'Monthly LMP and MWh Pivot'!L$12 -> 0.86933578 | F14: =+E14*C14 -> 36.294769 | G14: =+G13 -> 9.55 | H14: =+H13 -> 9.2023692 | I14: 0.14625433 | J14: 0.47195241 | K14: 0 | N14: =+N13 -> 0.13129667 | Q14: 0.17886 | R14: 0.30132 | S14: 0.22461 | T14: 0.00648 | U14: -0.041722124 | V14: =+'Monthly LMP and MWh Pivot'!I$12/('Monthly Analysis'!W14*'Hourly Generator and LMP Data'!$I$1) -> 0.24032926 | W14: 744 | X14: =+X13 -> 0.07 | Y14: =+AVERAGE('Monthly Peak Data '!$H$8:$H$10) -> 0.30925205 | Z14: =+'Monthly Peak Data '!Q$9 -> 0.0017832548 | AA14: 1 | AB14: =+W14*V14*AA14 -> 178.80497 | AC14: =+AB14*F14*(1+X14) -> 6943.9631 | AD14: =+AB14*I14*(1+X14) -> 27.981571 | AE14: =+AB14*J14*(1+X14) -> 90.294559 | AG14: =+H14*Z14*1000*(1+X14) -> 17.558881 | AH14: =+K14*AVERAGE('Monthly Peak Data '!$Q$8:$Q$10)*(1+X14)*'Monthly Peak Data '!$M$40*1000 -> 0 | AI14: =+L14*(0.5*MAX('Monthly Peak Data '!$G$18:$G$19,'Monthly Peak Data '!$G$29)+0.5*(MAX('Monthly Peak Data '!$P$3:$P$14)))*(1+X14) -> 0 | AJ14: =+M14*0.25*MAX('Monthly Peak Data '!$P$3:$P$14)*(1+X14) -> 0 | AK14: =+VLOOKUP($B14,'Monthly Peak Data '!$L$3:$P$14,5,FALSE)*N14*(1+X14) -> 0.04459343 | AL14: =+O14*AB14*(1+X14) -> 0 | AM14: =+VLOOKUP($B14,'Monthly Peak Data '!$L$3:$P$14,5,FALSE)*P14*(1+X14) -> 0 | AN14: =+VLOOKUP($B14,'Monthly Peak Data '!$L$3:$P$14,5,FALSE)*Q14*(1+X14) -> 0.06074778 | AO14: =+R14*AB14*(1+X14) -> 57.64894 | AP14: =+VLOOKUP($B14,'Monthly Peak Data '!$C$18:$G$29,5,FALSE)*(1+X14) -> 108.68772 | AQ14: =+VLOOKUP($B14,'Monthly Peak Data '!$L$3:$P$14,5,FALSE)*T14*(1+X14) -> 0.0022008588 | AR14: =+VLOOKUP($B14,'Monthly Peak Data '!$C$3:$G$14,5,FALSE)*U14*(1+X14) -> -2.4184736 | AS14: =+SUM(AG14:AR14) -> 181.58461
A15: =+A14 -> 2018 | B15: 8 | C15: 38.7 | D15: 2.822 | E15: =+'Monthly LMP and MWh Pivot'!L$13 -> 0.89082638 | F15: =+E15*C15 -> 34.474981 | G15: =+G14 -> 9.55 | H15: =+H14 -> 9.2023692 | I15: 0.23547451 | J15: 0.51536709 | K15: 0 | L15: 0 | M15: 0 | N15: =+N14 -> 0.13129667 | O15: 0.063847461 | P15: 0.039478039 | Q15: 0.17886 | R15: 0.30132 | S15: 0.22461 | T15: 0.00648 | U15: -0.044920663 | V15: =+'Monthly LMP and MWh Pivot'!I$13/('Monthly Analysis'!W15*'Hourly Generator and LMP Data'!$I$1) -> 0.20131777 | W15: 744 | X15: =+X14 -> 0.07 | Y15: =+Y14 -> 0.30925205 | Z15: =+'Monthly Peak Data '!Q$10 -> 0.099775281 | AA15: 1 | AB15: =+W15*V15*AA15 -> 149.78042 | AC15: =+AB15*F15*(1+X15) -> 5525.1345 | AD15: =+AB15*I15*(1+X15) -> 37.738335 | AE15: =+AB15*J15*(1+X15) -> 82.595333 | AG15: =+H15*Z15*1000*(1+X15) -> 982.4408 | AH15: =+K15*AVERAGE('Monthly Peak Data '!$Q$8:$Q$10)*(1+X15)*'Monthly Peak Data '!$M$40*1000 -> 0 | AI15: =+L15*(0.5*MAX('Monthly Peak Data '!$G$18:$G$19,'Monthly Peak Data '!$G$29)+0.5*(MAX('Monthly Peak Data '!$P$3:$P$14)))*(1+X15) -> 0 | AJ15: =+M15*0.25*MAX('Monthly Peak Data '!$P$3:$P$14)*(1+X15) -> 0 | AK15: =+VLOOKUP($B15,'Monthly Peak Data '!$L$3:$P$14,5,FALSE)*N15*(1+X15) -> 2.4950568 | AL15: =+VLOOKUP($B15,'Monthly Peak Data '!$L$3:$P$14,5,FALSE)*O15*(1+$X15) -> 1.2133061 | AM15: =+VLOOKUP($B15,'Monthly Peak Data '!$L$3:$P$14,5,FALSE)*P15*(1+$X15) -> 0.75020908 | AN15: =+VLOOKUP($B15,'Monthly Peak Data '!$L$3:$P$14,5,FALSE)*Q15*(1+X15) -> 3.3989124 | AO15: =+R15*AB15*(1+X15) -> 48.291065 | AP15: =+VLOOKUP($B15,'Monthly Peak Data '!$C$18:$G$29,5,FALSE)*(1+X15) -> 251.79574 | AQ15: =+VLOOKUP($B15,'Monthly Peak Data '!$L$3:$P$14,5,FALSE)*T15*(1+X15) -> 0.12314074 | AR15: =+VLOOKUP($B15,'Monthly Peak Data '!$C$3:$G$14,5,FALSE)*U15*(1+X15) -> -2.9866729 | AS15: =+SUM(AG15:AR15) -> 1287.5216
A16: =+A15 -> 2018 | B16: 9 | C16: 41.53 | D16: 2.852 | E16: =+'Monthly LMP and MWh Pivot'!L$14 -> 1.1928111 | F16: =+E16*C16 -> 49.537446 | G16: =+G15 -> 9.55 | H16: =+H15 -> 9.2023692 | I16: 0.34192792 | J16: 1.0968524 | K16: 0 | L16: 0 | M16: 0 | N16: =+N15 -> 0.13129667 | O16: 0.067257327 | P16: 0.041537695 | Q16: 0.17886 | R16: 0.30132 | S16: 0.22461 | T16: 0.00648 | U16: -0.066979483 | V16: =+'Monthly LMP and MWh Pivot'!I$14/('Monthly Analysis'!W16*'Hourly Generator and LMP Data'!$I$1) -> 0.16869507 | W16: 720 | X16: =+X15 -> 0.07 | Y16: =+Y15 -> 0.30925205 | Z16: =+'Monthly Peak Data '!Q$11 -> -0.00041385768 | AA16: 1 | AB16: =+W16*V16*AA16 -> 121.46045 | AC16: =+AB16*F16*(1+X16) -> 6438.0192 | AD16: =+AB16*I16*(1+X16) -> 44.437869 | AE16: =+AB16*J16*(1+X16) -> 142.54988 | AG16: =+H16*Z16*1000*(1+X16) -> -4.0750641 | AH16: =+K16*AVERAGE('Monthly Peak Data '!$Q$8:$Q$10)*(1+X16)*'Monthly Peak Data '!$M$40*1000 -> 0 | AI16: =+L16*(0.5*MAX('Monthly Peak Data '!$G$18:$G$19,'Monthly Peak Data '!$G$29)+0.5*(MAX('Monthly Peak Data '!$P$3:$P$14)))*(1+X16) -> 0 | AJ16: =+M16*0.25*MAX('Monthly Peak Data '!$P$3:$P$14)*(1+X16) -> 0 | AK16: =+VLOOKUP($B16,'Monthly Peak Data '!$L$3:$P$14,5,FALSE)*N16*(1+X16) -> -0.010349241 | AL16: =+VLOOKUP($B16,'Monthly Peak Data '!$L$3:$P$14,5,FALSE)*O16*(1+$X16) -> -0.0053014467 | AM16: =+VLOOKUP($B16,'Monthly Peak Data '!$L$3:$P$14,5,FALSE)*P16*(1+$X16) -> -0.0032741396 | AN16: =+VLOOKUP($B16,'Monthly Peak Data '!$L$3:$P$14,5,FALSE)*Q16*(1+X16) -> -0.014098341 | AO16: =+R16*AB16*(1+X16) -> 39.160355 | AP16: =+VLOOKUP($B16,'Monthly Peak Data '!$C$18:$G$29,5,FALSE)*(1+X16) -> 0.31838444 | AQ16: =+VLOOKUP($B16,'Monthly Peak Data '!$L$3:$P$14,5,FALSE)*T16*(1+X16) -> -0.0005107752 | AR16: =+VLOOKUP($B16,'Monthly Peak Data '!$C$3:$G$14,5,FALSE)*U16*(1+X16) -> -3.4605633 | AS16: =+SUM(AG16:AR16) -> 31.909578
A17: =+A16 -> 2018 | B17: 10 | C17: 42.38 | D17: 3.021 | E17: =+'Monthly LMP and MWh Pivot'!L$15 -> 0.94018245 | F17: =+E17*C17 -> 39.844932 | G17: =+G16 -> 9.55 | H17: =+H16 -> 9.2023692 | I17: 0.26942694 | J17: 0.38884786 | K17: 0 | L17: 0 | M17: 0 | N17: =+N16 -> 0.13129667 | O17: 0.09409578 | P17: 0.072219825 | Q17: 0.17886 | R17: 0.30132 | S17: 0.22461 | T17: 0.00648 | U17: -0.067642133 | V17: =+'Monthly LMP and MWh Pivot'!I$15/('Monthly Analysis'!W17*'Hourly Generator and LMP Data'!$I$1) -> 0.10010137 | W17: 744 | X17: =+X16 -> 0.07 | Y17: =+Y16 -> 0.30925205 | Z17: =+'Monthly Peak Data '!Q$12 -> -0.00030898876 | AA17: 1 | AB17: =+W17*V17*AA17 -> 74.475421 | AC17: =+AB17*F17*(1+X17) -> 3175.1909 | AD17: =+AB17*I17*(1+X17) -> 21.470283 | AE17: =+AB17*J17*(1+X17) -> 30.986781 | AG17: =+H17*Z17*1000*(1+X17) -> -3.0424687 | AH17: =+K17*AVERAGE('Monthly Peak Data '!$Q$8:$Q$10)*(1+X17)*'Monthly Peak Data '!$M$40*1000 -> 0 | AI17: =+L17*(0.5*MAX('Monthly Peak Data '!$G$18:$G$19,'Monthly Peak Data '!$G$29)+0.5*(MAX('Monthly Peak Data '!$P$3:$P$14)))*(1+X17) -> 0 | AJ17: =+M17*0.25*MAX('Monthly Peak Data '!$P$3:$P$14)*(1+X17) -> 0 | AK17: =+VLOOKUP($B17,'Monthly Peak Data '!$L$3:$P$14,5,FALSE)*N17*(1+X17) -> -0.0077268088 | AL17: =+VLOOKUP($B17,'Monthly Peak Data '!$L$3:$P$14,5,FALSE)*O17*(1+$X17) -> -0.0055375366 | AM17: =+VLOOKUP($B17,'Monthly Peak Data '!$L$3:$P$14,5,FALSE)*P17*(1+$X17) -> -0.0042501367 | AN17: =+VLOOKUP($B17,'Monthly Peak Data '!$L$3:$P$14,5,FALSE)*Q17*(1+X17) -> -0.010525911 | AO17: =+R17*AB17*(1+X17) -> 24.011799 | AP17: =+VLOOKUP($B17,'Monthly Peak Data '!$C$18:$G$29,5,FALSE)*(1+X17) -> 0.51383011 | AQ17: =+VLOOKUP($B17,'Monthly Peak Data '!$L$3:$P$14,5,FALSE)*T17*(1+X17) -> -0.000381348 | AR17: =+VLOOKUP($B17,'Monthly Peak Data '!$C$3:$G$14,5,FALSE)*U17*(1+X17) -> 0.0084984704 | AS17: =+SUM(AG17:AR17) -> 21.463237
A18: =+A17 -> 2018 | B18: 11 | C18: 38.25 | D18: 3.185 | E18: =+'Monthly LMP and MWh Pivot'!L$16 -> 0.84486275 | F18: =+E18*C18 -> 32.316 | G18: =+G17 -> 9.55 | H18: =+H17 -> 9.2023692 | I18: 0.3806633 | J18: 0.41534903 | K18: 0 | L18: 0 | M18: 0 | N18: =+N17 -> 0.13129667 | O18: 0.094038768 | P18: 0.072741844 | Q18: 0.17886 | R18: 0.30132 | S18: 0.22461 | T18: 0.00648 | U18: -0.045641644 | V18: =+'Monthly LMP and MWh Pivot'!I$16/('Monthly Analysis'!W18*'Hourly Generator and LMP Data'!$I$1) -> 0.040542058 | W18: 721 | X18: =+X17 -> 0.07 | Y18: =+Y17 -> 0.30925205 | Z18: =+'Monthly Peak Data '!Q$13 -> -0.00074906367 | AA18: 1 | AB18: =+W18*V18*AA18 -> 29.230824 | AC18: =+AB18*F18*(1+X18) -> 1010.7469 | AD18: =+AB18*I18*(1+X18) -> 11.905999 | AE18: =+AB18*J18*(1+X18) -> 12.990864 | AG18: =+H18*Z18*1000*(1+X18) -> -7.3756817 | AH18: =+K18*AVERAGE('Monthly Peak Data '!$Q$8:$Q$10)*(1+X18)*'Monthly Peak Data '!$M$40*1000 -> 0 | AI18: =+L18*(0.5*MAX('Monthly Peak Data '!$G$18:$G$19,'Monthly Peak Data '!$G$29)+0.5*(MAX('Monthly Peak Data '!$P$3:$P$14)))*(1+X18) -> 0 | AJ18: =+M18*0.25*MAX('Monthly Peak Data '!$P$3:$P$14)*(1+X18) -> 0 | AK18: =+VLOOKUP($B18,'Monthly Peak Data '!$L$3:$P$14,5,FALSE)*N18*(1+X18) -> -0.018731658 | AL18: =+VLOOKUP($B18,'Monthly Peak Data '!$L$3:$P$14,5,FALSE)*O18*(1+$X18) -> -0.013416198 | AM18: =+VLOOKUP($B18,'Monthly Peak Data '!$L$3:$P$14,5,FALSE)*P18*(1+$X18) -> -0.010377836 | AN18: =+VLOOKUP($B18,'Monthly Peak Data '!$L$3:$P$14,5,FALSE)*Q18*(1+X18) -> -0.02551736 | AO18: =+R18*AB18*(1+X18) -> 9.4243801 | AP18: =+VLOOKUP($B18,'Monthly Peak Data '!$C$18:$G$29,5,FALSE)*(1+X18) -> 0.83685889 | AQ18: =+VLOOKUP($B18,'Monthly Peak Data '!$L$3:$P$14,5,FALSE)*T18*(1+X18) -> -0.00092448 | AR18: =+VLOOKUP($B18,'Monthly Peak Data '!$C$3:$G$14,5,FALSE)*U18*(1+X18) -> 0.0071301376 | AS18: =+SUM(AG18:AR18) -> 2.82372
A19: =+A18 -> 2018 | B19: 12 | C19: 86.4 | D19: 4.715 | E19: =+'Monthly LMP and MWh Pivot'!L$17 -> 0.71583738 | F19: =+E19*C19 -> 61.84835 | G19: =+G18 -> 9.55 | H19: =+H18 -> 9.2023692 | I19: 0.290382 | J19: 0.29233261 | K19: 0 | L19: 0 | M19: 0 | N19: =+N18 -> 0.13129667 | O19: 0.089906975 | P19: 0.07411848 | Q19: 0.17886 | R19: 0.30132 | S19: 0.22461 | T19: 0.00648 | U19: -0.03492084 | V19: =+'Monthly LMP and MWh Pivot'!I$17/('Monthly Analysis'!W19*'Hourly Generator and LMP Data'!$I$1) -> 0.025858743 | W19: 744 | X19: =+X18 -> 0.07 | Y19: =+Y18 -> 0.30925205 | Z19: =+'Monthly Peak Data '!Q$14 -> -0.0049238855 | AA19: 1 | AB19: =+W19*V19*AA19 -> 19.238904 | AC19: =+AB19*F19*(1+X19) -> 1273.1871 | AD19: =+AB19*I19*(1+X19) -> 5.9776958 | AE19: =+AB19*J19*(1+X19) -> 6.0178502 | AG19: =+H19*Z19*1000*(1+X19) -> -48.483211 | AH19: =+K19*AVERAGE('Monthly Peak Data '!$Q$8:$Q$10)*(1+X19)*'Monthly Peak Data '!$M$40*1000 -> 0 | AI19: =+L19*(0.5*MAX('Monthly Peak Data '!$G$18:$G$19,'Monthly Peak Data '!$G$29)+0.5*(MAX('Monthly Peak Data '!$P$3:$P$14)))*(1+X19) -> 0 | AJ19: =+M19*0.25*MAX('Monthly Peak Data '!$P$3:$P$14)*(1+X19) -> 0 | AK19: =+VLOOKUP($B19,'Monthly Peak Data '!$L$3:$P$14,5,FALSE)*N19*(1+X19) -> -0.12313044 | AL19: =+VLOOKUP($B19,'Monthly Peak Data '!$L$3:$P$14,5,FALSE)*O19*(1+$X19) -> -0.084315051 | AM19: =+VLOOKUP($B19,'Monthly Peak Data '!$L$3:$P$14,5,FALSE)*P19*(1+$X19) -> -0.06950855 | AN19: =+VLOOKUP($B19,'Monthly Peak Data '!$L$3:$P$14,5,FALSE)*Q19*(1+X19) -> -0.16773548 | AO19: =+R19*AB19*(1+X19) -> 6.2028614 | AP19: =+VLOOKUP($B19,'Monthly Peak Data '!$C$18:$G$29,5,FALSE)*(1+X19) -> 0 | AQ19: =+VLOOKUP($B19,'Monthly Peak Data '!$L$3:$P$14,5,FALSE)*T19*(1+X19) -> -0.0060769649 | AR19: =+VLOOKUP($B19,'Monthly Peak Data '!$C$3:$G$14,5,FALSE)*U19*(1+X19) -> 0.031633944 | AS19: =+SUM(AG19:AR19) -> -42.699482
A20: =1+A8 -> 2019 | B20: =+B8 -> 1 | C20: 66.5 | D20: 3.642 | E20: =+'Monthly LMP and MWh Pivot'!L$6 -> 0.70389395 | F20: =+E20*C20 -> 46.808948 | G20: 9.55 | H20: =+H19 -> 9.2023692 | I20: 0.28731799 | J20: 0.24194223 | K20: 0 | L20: 0 | M20: 0 | N20: =+N19 -> 0.13129667 | O20: 0.080699368 | P20: 0.074922715 | Q20: 0.17285 | R20: 0.30335 | S20: 0.22134 | T20: 0.00711 | U20: -0.041906855 | V20: =+V8 -> 0.022616097 | W20: =+W8 -> 744 | X20: =+X19 -> 0.07 | Y20: =+Y19 -> 0.30925205 | Z20: =+Z8 -> -0.0060846321 | AA20: 1 | AB20: =+W20*V20*AA20 -> 16.826376 | AC20: =+AB20*F20*(1+X20) -> 842.75873 | AD20: =+AB20*I20*(1+X20) -> 5.1729371 | AE20: =+AB20*J20*(1+X20) -> 4.3559819 | AG20: =+H20*Z20*1000*(1+X20) -> -59.912543 | AH20: =+K20*AVERAGE('Monthly Peak Data '!$Q$8:$Q$10)*(1+X20)*'Monthly Peak Data '!$M$40*1000 -> 0 | AI20: =+L20*(0.5*MAX('Monthly Peak Data '!$G$18:$G$19,'Monthly Peak Data '!$G$29)+0.5*(MAX('Monthly Peak Data '!$P$3:$P$14)))*(1+X20) -> 0 | AJ20: =+M20*0.25*MAX('Monthly Peak Data '!$P$3:$P$14)*(1+X20) -> 0 | AK20: =+VLOOKUP($B20,'Monthly Peak Data '!$L$3:$P$14,5,FALSE)*N20*(1+X20) -> -0.15215695 | AL20: =+VLOOKUP($B20,'Monthly Peak Data '!$L$3:$P$14,5,FALSE)*O20*(1+$X20) -> -0.093520805 | AM20: =+VLOOKUP($B20,'Monthly Peak Data '!$L$3:$P$14,5,FALSE)*P20*(1+$X20) -> -0.086826364 | AN20: =+VLOOKUP($B20,'Monthly Peak Data '!$L$3:$P$14,5,FALSE)*Q20*(1+X20) -> -0.20031224 | AO20: =+R20*AB20*(1+X20) -> 5.461581 | AP20: =+VLOOKUP($B20,'Monthly Peak Data '!$C$18:$G$29,5,FALSE)*(1+X20) -> 0 | AQ20: =+VLOOKUP($B20,'Monthly Peak Data '!$L$3:$P$14,5,FALSE)*T20*(1+X20) -> -0.0082396299 | AR20: =+VLOOKUP($B20,'Monthly Peak Data '!$C$3:$G$14,5,FALSE)*U20*(1+X20) -> 0.046134918 | AS20: =+SUM(AG20:AR20) -> -54.945883
A21: =1+A9 -> 2019 | B21: =+B9 -> 2 | C21: 59.7 | D21: 2.95 | E21: =+'Monthly LMP and MWh Pivot'!L$7 -> 0.91686751 | F21: =+E21*C21 -> 54.73699 | G21: =+G20 -> 9.55 | H21: =+H20 -> 9.2023692 | I21: 0.23673052 | J21: 0.34071655 | K21: 0 | L21: 0 | M21: 0 | N21: =+N20 -> 0.13129667 | O21: 0.090235792 | P21: 0.083213147 | Q21: 0.17285 | R21: 0.30335 | S21: 0.22134 | T21: 0.00711 | U21: -0.04675465 | V21: =+V9 -> 0.052674726 | W21: =+W9 -> 672 | X21: =+X20 -> 0.07 | Y21: =+Y20 -> 0.30925205 | Z21: =+Z9 -> -0.0055317014 | AA21: 1 | AB21: =+W21*V21*AA21 -> 35.397416 | AC21: =+AB21*F21*(1+X21) -> 2073.1764 | AD21: =+AB21*I21*(1+X21) -> 8.9662242 | AE21: =+AB21*J21*(1+X21) -> 12.90472 | AG21: =+H21*Z21*1000*(1+X21) -> -54.468092 | AH21: =+K21*AVERAGE('Monthly Peak Data '!$Q$8:$Q$10)*(1+X21)*'Monthly Peak Data '!$M$40*1000 -> 0 | AI21: =+L21*(0.5*MAX('Monthly Peak Data '!$G$18:$G$19,'Monthly Peak Data '!$G$29)+0.5*(MAX('Monthly Peak Data '!$P$3:$P$14)))*(1+X21) -> 0 | AJ21: =+M21*0.25*MAX('Monthly Peak Data '!$P$3:$P$14)*(1+X21) -> 0 | AK21: =+VLOOKUP($B21,'Monthly Peak Data '!$L$3:$P$14,5,FALSE)*N21*(1+X21) -> -0.13832995 | AL21: =+VLOOKUP($B21,'Monthly Peak Data '!$L$3:$P$14,5,FALSE)*O21*(1+$X21) -> -0.09506953 | AM21: =+VLOOKUP($B21,'Monthly Peak Data '!$L$3:$P$14,5,FALSE)*P21*(1+$X21) -> -0.087670697 | AN21: =+VLOOKUP($B21,'Monthly Peak Data '!$L$3:$P$14,5,FALSE)*Q21*(1+X21) -> -0.1821092 | AO21: =+R21*AB21*(1+X21) -> 11.489452 | AP21: =+VLOOKUP($B21,'Monthly Peak Data '!$C$18:$G$29,5,FALSE)*(1+X21) -> 1.6748048 | AQ21: =+VLOOKUP($B21,'Monthly Peak Data '!$L$3:$P$14,5,FALSE)*T21*(1+X21) -> -0.0074908675 | AR21: =+VLOOKUP($B21,'Monthly Peak Data '!$C$3:$G$14,5,FALSE)*U21*(1+X21) -> 0.053145259 | AS21: =+SUM(AG21:AR21) -> -41.76136
A22: =1+A10 -> 2019 | B22: =+B10 -> 3 | C22: 42.85 | D22: 2.855 | E22: =+'Monthly LMP and MWh Pivot'!L$8 -> 0.77619976 | F22: =+E22*C22 -> 33.26016 | G22: =+G21 -> 9.55 | H22: =+H21 -> 9.2023692 | I22: 0.20364008 | J22: 0.30186598 | K22: 0 | L22: 0 | M22: 0 | N22: =+N21 -> 0.13129667 | O22: 0.097892809 | P22: 0.08712272 | Q22: 0.17285 | R22: 0.30335 | S22: 0.22134 | T22: 0.00711 | U22: -0.048337907 | V22: =+V10 -> 0.10095698 | W22: =+W10 -> 743 | X22: =+X21 -> 0.07 | Y22: =+Y21 -> 0.30925205 | Z22: =+Z10 -> 0.016072852 | AA22: 1 | AB22: =+W22*V22*AA22 -> 75.011039 | AC22: =+AB22*F22*(1+X22) -> 2669.5207 | AD22: =+AB22*I22*(1+X22) -> 16.344522 | AE22: =+AB22*J22*(1+X22) -> 24.228311 | AG22: =+H22*Z22*1000*(1+X22) -> 158.2619 | AH22: =+K22*AVERAGE('Monthly Peak Data '!$Q$8:$Q$10)*(1+X22)*'Monthly Peak Data '!$M$40*1000 -> 0 | AI22: =+L22*(0.5*MAX('Monthly Peak Data '!$G$18:$G$19,'Monthly Peak Data '!$G$29)+0.5*(MAX('Monthly Peak Data '!$P$3:$P$14)))*(1+X22) -> 0 | AJ22: =+M22*0.25*MAX('Monthly Peak Data '!$P$3:$P$14)*(1+X22) -> 0 | AK22: =+VLOOKUP($B22,'Monthly Peak Data '!$L$3:$P$14,5,FALSE)*N22*(1+X22) -> 0.40193001 | AL22: =+VLOOKUP($B22,'Monthly Peak Data '!$L$3:$P$14,5,FALSE)*O22*(1+$X22) -> 0.29967294 | AM22: =+VLOOKUP($B22,'Monthly Peak Data '!$L$3:$P$14,5,FALSE)*P22*(1+$X22) -> 0.26670316 | AN22: =+VLOOKUP($B22,'Monthly Peak Data '!$L$3:$P$14,5,FALSE)*Q22*(1+X22) -> 0.52913455 | AO22: =+R22*AB22*(1+X22) -> 24.347421 | AP22: =+VLOOKUP($B22,'Monthly Peak Data '!$C$18:$G$29,5,FALSE)*(1+X22) -> 0.04003871 | AQ22: =+VLOOKUP($B22,'Monthly Peak Data '!$L$3:$P$14,5,FALSE)*T22*(1+X22) -> 0.021765384 | AR22: =+VLOOKUP($B22,'Monthly Peak Data '!$C$3:$G$14,5,FALSE)*U22*(1+X22) -> 0.0088844293 | AS22: =+SUM(AG22:AR22) -> 184.17745
A23: =1+A11 -> 2019 | B23: =+B11 -> 4 | C23: 32.88 | D23: 2.713 | E23: =+'Monthly LMP and MWh Pivot'!L$9 -> 0.85629918 | F23: =+E23*C23 -> 28.155117 | G23: =+G22 -> 9.55 | H23: =+H22 -> 9.2023692 | I23: 0.15806069 | J23: 0.27444614 | K23: 0 | L23: 0 | M23: 0 | N23: =+N22 -> 0.13129667 | O23: 0.1114564 | P23: 0.10278939 | Q23: 0.17285 | R23: 0.30335 | S23: 0.22134 | T23: 0.00711 | U23: -0.05115826 | V23: =+V11 -> 0.14691858 | W23: =+W11 -> 720 | X23: =+X22 -> 0.07 | Y23: =+Y22 -> 0.30925205 | Z23: =+Z11 -> 0.0026413858 | AA23: 1 | AB23: =+W23*V23*AA23 -> 105.78138 | AC23: =+AB23*F23*(1+X23) -> 3186.7671 | AD23: =+AB23*I23*(1+X23) -> 17.890268 | AE23: =+AB23*J23*(1+X23) -> 31.063481 | AG23: =+H23*Z23*1000*(1+X23) -> 26.008497 | AH23: =+K23*AVERAGE('Monthly Peak Data '!$Q$8:$Q$10)*(1+X23)*'Monthly Peak Data '!$M$40*1000 -> 0 | AI23: =+L23*(0.5*MAX('Monthly Peak Data '!$G$18:$G$19,'Monthly Peak Data '!$G$29)+0.5*(MAX('Monthly Peak Data '!$P$3:$P$14)))*(1+X23) -> 0 | AJ23: =+M23*0.25*MAX('Monthly Peak Data '!$P$3:$P$14)*(1+X23) -> 0 | AK23: =+VLOOKUP($B23,'Monthly Peak Data '!$L$3:$P$14,5,FALSE)*N23*(1+X23) -> 0.066052508 | AL23: =+VLOOKUP($B23,'Monthly Peak Data '!$L$3:$P$14,5,FALSE)*O23*(1+$X23) -> 0.056071299 | AM23: =+VLOOKUP($B23,'Monthly Peak Data '!$L$3:$P$14,5,FALSE)*P23*(1+$X23) -> 0.051711116 | AN23: =+VLOOKUP($B23,'Monthly Peak Data '!$L$3:$P$14,5,FALSE)*Q23*(1+X23) -> 0.08695709 | AO23: =+R23*AB23*(1+X23) -> 34.334995 | AP23: =+VLOOKUP($B23,'Monthly Peak Data '!$C$18:$G$29,5,FALSE)*(1+X23) -> 142.15604 | AQ23: =+VLOOKUP($B23,'Monthly Peak Data '!$L$3:$P$14,5,FALSE)*T23*(1+X23) -> 0.003576887 | AR23: =+VLOOKUP($B23,'Monthly Peak Data '!$C$3:$G$14,5,FALSE)*U23*(1+X23) -> 0.0075905215 | AS23: =+SUM(AG23:AR23) -> 202.77149
A24: =1+A12 -> 2019 | B24: =+B12 -> 5 | C24: 28.75 | D24: 2.566 | E24: =+'Monthly LMP and MWh Pivot'!L$10 -> 0.82264045 | F24: =+E24*C24 -> 23.650913 | G24: =+G23 -> 9.55 | H24: =+H23 -> 9.2023692 | I24: 0.14054968 | J24: 0.26228485 | K24: 0 | L24: 0 | M24: 0 | N24: =+N23 -> 0.13129667 | O24: 0.10918311 | P24: 0.1258175 | Q24: 0.17285 | R24: 0.30335 | S24: 0.22134 | T24: 0.00711 | U24: -0.065234544 | V24: =+V12 -> 0.20374675 | W24: =+W12 -> 744 | X24: =+X23 -> 0.07 | Y24: =+Y23 -> 0.30925205 | Z24: =+Z12 -> 0.11317959 | AA24: 1 | AB24: =+W24*V24*AA24 -> 151.58758 | AC24: =+AB24*F24*(1+X24) -> 3836.1477 | AD24: =+AB24*I24*(1+X24) -> 22.796977 | AE24: =+AB24*J24*(1+X24) -> 42.542265 | AG24: =+H24*Z24*1000*(1+X24) -> 1114.4268 | AH24: =+K24*AVERAGE('Monthly Peak Data '!$Q$8:$Q$10)*(1+X24)*'Monthly Peak Data '!$M$40*1000 -> 0 | AI24: =+L24*(0.5*MAX('Monthly Peak Data '!$G$18:$G$19,'Monthly Peak Data '!$G$29)+0.5*(MAX('Monthly Peak Data '!$P$3:$P$14)))*(1+X24) -> 0 | AJ24: =+M24*0.25*MAX('Monthly Peak Data '!$P$3:$P$14)*(1+X24) -> 0 | AK24: =+VLOOKUP($B24,'Monthly Peak Data '!$L$3:$P$14,5,FALSE)*N24*(1+X24) -> 2.8302553 | AL24: =+VLOOKUP($B24,'Monthly Peak Data '!$L$3:$P$14,5,FALSE)*O24*(1+$X24) -> 2.3535714 | AM24: =+VLOOKUP($B24,'Monthly Peak Data '!$L$3:$P$14,5,FALSE)*P24*(1+$X24) -> 2.7121454 | AN24: =+VLOOKUP($B24,'Monthly Peak Data '!$L$3:$P$14,5,FALSE)*Q24*(1+X24) -> 3.7259867 | AO24: =+R24*AB24*(1+X24) -> 49.20298 | AP24: =+VLOOKUP($B24,'Monthly Peak Data '!$C$18:$G$29,5,FALSE)*(1+X24) -> 0.49346559 | AQ24: =+VLOOKUP($B24,'Monthly Peak Data '!$L$3:$P$14,5,FALSE)*T24*(1+X24) -> 0.15326448 | AR24: =+VLOOKUP($B24,'Monthly Peak Data '!$C$3:$G$14,5,FALSE)*U24*(1+X24) -> -1.4062079 | AS24: =+SUM(AG24:AR24) -> 1174.4923
A25: =1+A13 -> 2019 | B25: =+B13 -> 6 | C25: 27.88 | D25: 2.663 | E25: =+'Monthly LMP and MWh Pivot'!L$11 -> 0.93665801 | F25: =+E25*C25 -> 26.114025 | G25: 7.03 | H25: 9.3282233 | I25: 0.15862697 | J25: 0.52864143 | K25: 0 | L25: 0 | M25: 0 | N25: 0.13278417 | O25: 0.087891316 | P25: 0.09891316 | Q25: 0.17285 | R25: 0.30335 | S25: 0.22134 | T25: 0.00711 | U25: -0.056531758 | V25: =+V13 -> 0.22707631 | W25: =+W13 -> 720 | X25: =+X24 -> 0.07 | Y25: =+Y24 -> 0.30925205 | Z25: =+Z13 -> 0.0017649813 | AA25: 1 | AB25: =+W25*V25*AA25 -> 163.49494 | AC25: =+AB25*F25*(1+X25) -> 4568.3769 | AD25: =+AB25*I25*(1+X25) -> 27.750137 | AE25: =+AB25*J25*(1+X25) -> 92.480315 | AF25: =+Y14*G25*1000*1.2*(1+X14) -> 2791.4698 | AG25: =+H25*Z25*1000*(1+X25) -> 17.616629 | AH25: =+K25*AVERAGE('Monthly Peak Data '!$Q$8:$Q$10)*(1+X25)*'Monthly Peak Data '!$M$40*1000 -> 0 | AI25: =+L25*(0.5*MAX('Monthly Peak Data '!$G$18:$G$19,'Monthly Peak Data '!$G$29)+0.5*(MAX('Monthly Peak Data '!$P$3:$P$14)))*(1+X25) -> 0 | AJ25: =+M25*0.25*MAX('Monthly Peak Data '!$P$3:$P$14)*(1+X25) -> 0 | AK25: =+VLOOKUP($B25,'Monthly Peak Data '!$L$3:$P$14,5,FALSE)*N25*(1+X25) -> 0.044636504 | AL25: =+VLOOKUP($B25,'Monthly Peak Data '!$L$3:$P$14,5,FALSE)*O25*(1+$X25) -> 0.029545398 | AM25: =+VLOOKUP($B25,'Monthly Peak Data '!$L$3:$P$14,5,FALSE)*P25*(1+$X25) -> 0.033250483 | AN25: =+VLOOKUP($B25,'Monthly Peak Data '!$L$3:$P$14,5,FALSE)*Q25*(1+X25) -> 0.058104968 | AO25: =+R25*AB25*(1+X25) -> 53.067925 | AP25: =+VLOOKUP($B25,'Monthly Peak Data '!$C$18:$G$29,5,FALSE)*(1+X25) -> 339.51849 | AQ25: =+VLOOKUP($B25,'Monthly Peak Data '!$L$3:$P$14,5,FALSE)*T25*(1+X25) -> 0.0023900858 | AR25: =+VLOOKUP($B25,'Monthly Peak Data '!$C$3:$G$14,5,FALSE)*U25*(1+X25) -> -2.9535862 | AS25: =+SUM(AG25:AR25) -> 407.41739
A26: =1+A14 -> 2019 | B26: =+B14 -> 7 | C26: 32.8 | D26: 2.291 | E26: =+'Monthly LMP and MWh Pivot'!L$12 -> 0.86933578 | F26: =+E26*C26 -> 28.514214 | G26: =+G25 -> 7.03 | H26: =+H25 -> 9.3282233 | I26: 0.20316082 | J26: 0.38387099 | K26: 0 | L26: 0 | M26: 0 | N26: =+N25 -> 0.13278417 | O26: 0.069818404 | P26: 0.080056184 | Q26: 0.17285 | R26: 0.30335 | S26: 0.22134 | T26: 0.00711 | U26: -0.047430441 | V26: =+V14 -> 0.24032926 | W26: =+W14 -> 744 | X26: =+X25 -> 0.07 | Y26: =+Y14 -> 0.30925205 | Z26: =+Z14 -> 0.0017832548 | AA26: 1 | AB26: =+W26*V26*AA26 -> 178.80497 | AC26: =+AB26*F26*(1+X26) -> 5455.377 | AD26: =+AB26*I26*(1+X26) -> 38.868996 | AE26: =+AB26*J26*(1+X26) -> 73.442705 | AF26: =+AF25 -> 2791.4698 | AG26: =+H26*Z26*1000*(1+X26) -> 17.799021 | AH26: =+K26*AVERAGE('Monthly Peak Data '!$Q$8:$Q$10)*(1+X26)*'Monthly Peak Data '!$M$40*1000 -> 0 | AI26: =+L26*(0.5*MAX('Monthly Peak Data '!$G$18:$G$19,'Monthly Peak Data '!$G$29)+0.5*(MAX('Monthly Peak Data '!$P$3:$P$14)))*(1+X26) -> 0 | AJ26: =+M26*0.25*MAX('Monthly Peak Data '!$P$3:$P$14)*(1+X26) -> 0 | AK26: =+VLOOKUP($B26,'Monthly Peak Data '!$L$3:$P$14,5,FALSE)*N26*(1+X26) -> 0.045098643 | AL26: =+VLOOKUP($B26,'Monthly Peak Data '!$L$3:$P$14,5,FALSE)*O26*(1+$X26) -> 0.023713033 | AM26: =+VLOOKUP($B26,'Monthly Peak Data '!$L$3:$P$14,5,FALSE)*P26*(1+$X26) -> 0.027190179 | AN26: =+VLOOKUP($B26,'Monthly Peak Data '!$L$3:$P$14,5,FALSE)*Q26*(1+X26) -> 0.058706551 | AO26: =+R26*AB26*(1+X26) -> 58.037322 | AP26: =+VLOOKUP($B26,'Monthly Peak Data '!$C$18:$G$29,5,FALSE)*(1+X26) -> 108.68772 | AQ26: =+VLOOKUP($B26,'Monthly Peak Data '!$L$3:$P$14,5,FALSE)*T26*(1+X26) -> 0.0024148312 | AR26: =+VLOOKUP($B26,'Monthly Peak Data '!$C$3:$G$14,5,FALSE)*U26*(1+X26) -> -2.7493631 | AS26: =+SUM(AG26:AR26) -> 181.93183
A27: =1+A15 -> 2019 | B27: =+B15 -> 8 | C27: 33.03 | D27: 2.141 | E27: =+'Monthly LMP and MWh Pivot'!L$13 -> 0.89082638 | F27: =+E27*C27 -> 29.423995 | G27: =+G26 -> 7.03 | H27: =+H26 -> 9.3282233 | I27: 0.1648252 | J27: 0.42556693 | K27: 0 | L27: 0 | M27: 0 | N27: =+N26 -> 0.13278417 | O27: =+O15*D27/D15 -> 0.048439906 | P27: =+P15*D29/D15 -> 0.034204042 | Q27: 0.17285 | R27: 0.30335 | S27: 0.22134 | T27: 0.00711 | U27: -0.073806448 | V27: =+V15 -> 0.20131777 | W27: =+W15 -> 744 | X27: =+X26 -> 0.07 | Y27: =+Y15 -> 0.30925205 | Z27: =+Z15 -> 0.099775281 | AA27: 1 | AB27: =+W27*V27*AA27 -> 149.78042 | AC27: =+AB27*F27*(1+X27) -> 4715.6381 | AD27: =+AB27*I27*(1+X27) -> 26.415718 | AE27: =+AB27*J27*(1+X27) -> 68.203505 | AF27: =+AF26 -> 2791.4698 | AG27: =+H27*Z27*1000*(1+X27) -> 995.87693 | AH27: =+K27*AVERAGE('Monthly Peak Data '!$Q$8:$Q$10)*(1+X27)*'Monthly Peak Data '!$M$40*1000 -> 0 | AI27: =+L27*(0.5*MAX('Monthly Peak Data '!$G$18:$G$19,'Monthly Peak Data '!$G$29)+0.5*(MAX('Monthly Peak Data '!$P$3:$P$14)))*(1+X27) -> 0 | AJ27: =+M27*0.25*MAX('Monthly Peak Data '!$P$3:$P$14)*(1+X27) -> 0 | AK27: =+VLOOKUP($B27,'Monthly Peak Data '!$L$3:$P$14,5,FALSE)*N27*(1+X27) -> 2.5233241 | AL27: =+VLOOKUP($B27,'Monthly Peak Data '!$L$3:$P$14,5,FALSE)*O27*(1+$X27) -> 0.92051321 | AM27: =+VLOOKUP($B27,'Monthly Peak Data '!$L$3:$P$14,5,FALSE)*P27*(1+$X27) -> 0.64998625 | AN27: =+VLOOKUP($B27,'Monthly Peak Data '!$L$3:$P$14,5,FALSE)*Q27*(1+X27) -> 3.2847031 | AO27: =+R27*AB27*(1+X27) -> 48.616403 | AP27: =+VLOOKUP($B27,'Monthly Peak Data '!$C$18:$G$29,5,FALSE)*(1+X27) -> 251.79574 | AQ27: =+VLOOKUP($B27,'Monthly Peak Data '!$L$3:$P$14,5,FALSE)*T27*(1+X27) -> 0.13511275 | AR27: =+VLOOKUP($B27,'Monthly Peak Data '!$C$3:$G$14,5,FALSE)*U27*(1+X27) -> -4.9072231 | AS27: =+SUM(AG27:AR27) -> 1298.8955
A28: =1+A16 -> 2019 | B28: =+B16 -> 9 | C28: 27.07 | D28: 2.251 | E28: =+'Monthly LMP and MWh Pivot'!L$14 -> 1.1928111 | F28: =+E28*C28 -> 32.289397 | G28: =+G27 -> 7.03 | H28: =+H27 -> 9.3282233 | I28: =+I16*D28/D16 -> 0.26987368 | J28: =+J16*D28/D16 -> 0.86571345 | K28: 0 | L28: =+L16*(1+$L$6) -> 0 | M28: =+M16*(1+$M$6) -> 0 | N28: =+N27 -> 0.13278417 | O28: =+O16*D28/D16 -> 0.053084237 | P28: =+P16*D30/D16 -> 0.036294507 | Q28: 0.17285 | R28: 0.30335 | S28: 0.22134 | T28: 0.00711 | U28: =+U16*(1+$U$6) -> -0.066979483 | V28: =+V16 -> 0.16869507 | W28: =+W16 -> 720 | X28: =+X27 -> 0.07 | Y28: =+Y16 -> 0.30925205 | Z28: =+Z16 -> -0.00041385768 | AA28: 1 | AB28: =+W28*V28*AA28 -> 121.46045 | AC28: =+AB28*F28*(1+X28) -> 4196.4166 | AD28: =+AB28*I28*(1+X28) -> 35.073507 | AE28: =+AB28*J28*(1+X28) -> 112.51044 | AF28: =+AF27 -> 2791.4698 | AG28: =+H28*Z28*1000*(1+X28) -> -4.1307958 | AH28: =+K28*AVERAGE('Monthly Peak Data '!$Q$8:$Q$10)*(1+X28)*'Monthly Peak Data '!$M$40*1000 -> 0 | AI28: =+L28*(0.5*MAX('Monthly Peak Data '!$G$18:$G$19,'Monthly Peak Data '!$G$29)+0.5*(MAX('Monthly Peak Data '!$P$3:$P$14)))*(1+X28) -> 0 | AJ28: =+M28*0.25*MAX('Monthly Peak Data '!$P$3:$P$14)*(1+X28) -> 0 | AK28: =+VLOOKUP($B28,'Monthly Peak Data '!$L$3:$P$14,5,FALSE)*N28*(1+X28) -> -0.010466491 | AL28: =+VLOOKUP($B28,'Monthly Peak Data '!$L$3:$P$14,5,FALSE)*O28*(1+$X28) -> -0.0041842765 | AM28: =+VLOOKUP($B28,'Monthly Peak Data '!$L$3:$P$14,5,FALSE)*P28*(1+$X28) -> -0.0028608541 | AN28: =+VLOOKUP($B28,'Monthly Peak Data '!$L$3:$P$14,5,FALSE)*Q28*(1+X28) -> -0.013624613 | AO28: =+R28*AB28*(1+X28) -> 39.424179 | AP28: =+VLOOKUP($B28,'Monthly Peak Data '!$C$18:$G$29,5,FALSE)*(1+X28) -> 0.31838444 | AQ28: =+VLOOKUP($B28,'Monthly Peak Data '!$L$3:$P$14,5,FALSE)*T28*(1+X28) -> -0.0005604339 | AR28: =+VLOOKUP($B28,'Monthly Peak Data '!$C$3:$G$14,5,FALSE)*U28*(1+X28) -> -3.4605633 | AS28: =+SUM(AG28:AR28) -> 32.119508
A29: =1+A17 -> 2019 | B29: =+B17 -> 10 | C29: 27.37 | D29: 2.445 | E29: =+'Monthly LMP and MWh Pivot'!L$15 -> 0.94018245 | F29: =+E29*C29 -> 25.732794 | G29: =+G28 -> 7.03 | H29: =+H28 -> 9.3282233 | I29: =+I17*D29/D17 -> 0.21805656 | J29: =+J17*D29/D17 -> 0.31470805 | K29: 0 | L29: =+L17*(1+$L$6) -> 0 | M29: =+M17*(1+$M$6) -> 0 | N29: =+N28 -> 0.13278417 | O29: =+O17*D29/D17 -> 0.076154976 | P29: =+P17*D31/D17 -> 0.062896511 | Q29: 0.17285 | R29: 0.30335 | S29: 0.22134 | T29: 0.00711 | U29: =+U17*(1+$U$6) -> -0.067642133 | V29: =+V17 -> 0.10010137 | W29: =+W17 -> 744 | X29: =+X28 -> 0.07 | Y29: =+Y17 -> 0.30925205 | Z29: =+Z17 -> -0.00030898876 | AA29: 1 | AB29: =+W29*V29*AA29 -> 74.475421 | AC29: =+AB29*F29*(1+X29) -> 2050.6129 | AD29: =+AB29*I29*(1+X29) -> 17.376644 | AE29: =+AB29*J29*(1+X29) -> 25.078676 | AF29: =+AF28 -> 2791.4698 | AG29: =+H29*Z29*1000*(1+X29) -> -3.0840783 | AH29: =+K29*AVERAGE('Monthly Peak Data '!$Q$8:$Q$10)*(1+X29)*'Monthly Peak Data '!$M$40*1000 -> 0 | AI29: =+L29*(0.5*MAX('Monthly Peak Data '!$G$18:$G$19,'Monthly Peak Data '!$G$29)+0.5*(MAX('Monthly Peak Data '!$P$3:$P$14)))*(1+X29) -> 0 | AJ29: =+M29*0.25*MAX('Monthly Peak Data '!$P$3:$P$14)*(1+X29) -> 0 | AK29: =+VLOOKUP($B29,'Monthly Peak Data '!$L$3:$P$14,5,FALSE)*N29*(1+X29) -> -0.0078143482 | AL29: =+VLOOKUP($B29,'Monthly Peak Data '!$L$3:$P$14,5,FALSE)*O29*(1+$X29) -> -0.0044817203 | AM29: =+VLOOKUP($B29,'Monthly Peak Data '!$L$3:$P$14,5,FALSE)*P29*(1+$X29) -> -0.0037014597 | AN29: =+VLOOKUP($B29,'Monthly Peak Data '!$L$3:$P$14,5,FALSE)*Q29*(1+X29) -> -0.010172222 | AO29: =+R29*AB29*(1+X29) -> 24.173567 | AP29: =+VLOOKUP($B29,'Monthly Peak Data '!$C$18:$G$29,5,FALSE)*(1+X29) -> 0.51383011 | AQ29: =+VLOOKUP($B29,'Monthly Peak Data '!$L$3:$P$14,5,FALSE)*T29*(1+X29) -> -0.0004184235 | AR29: =+VLOOKUP($B29,'Monthly Peak Data '!$C$3:$G$14,5,FALSE)*U29*(1+X29) -> 0.0084984704 | AS29: =+SUM(AG29:AR29) -> 21.585229
A30: =1+A18 -> 2019 | B30: =+B18 -> 11 | C30: 37.73 | D30: 2.492 | E30: =+'Monthly LMP and MWh Pivot'!L$16 -> 0.84486275 | F30: =+E30*C30 -> 31.876672 | G30: =+G29 -> 7.03 | H30: =+H29 -> 9.3282233 | I30: =+I18*D30/D18 -> 0.29783766 | J30: =+J18*D30/D18 -> 0.32497638 | K30: 0 | L30: =+L18*(1+$L$6) -> 0 | M30: =+M18*(1+$M$6) -> 0 | N30: =+N29 -> 0.13278417 | O30: =+O18*D30/D18 -> 0.073577585 | P30: =+P18*D32/D18 -> 0.062281636 | Q30: 0.17285 | R30: 0.30335 | S30: 0.22134 | T30: 0.00711 | U30: =+U18*(1+$U$6) -> -0.045641644 | V30: =+V18 -> 0.040542058 | W30: =+W18 -> 721 | X30: =+X29 -> 0.07 | Y30: =+Y18 -> 0.30925205 | Z30: =+Z18 -> -0.00074906367 | AA30: 1 | AB30: =+W30*V30*AA30 -> 29.230824 | AC30: =+AB30*F30*(1+X30) -> 997.00607 | AD30: =+AB30*I30*(1+X30) -> 9.3154631 | AE30: =+AB30*J30*(1+X30) -> 10.16428 | AF30: =+AF29 -> 2791.4698 | AG30: =+H30*Z30*1000*(1+X30) -> -7.4765535 | AH30: =+K30*AVERAGE('Monthly Peak Data '!$Q$8:$Q$10)*(1+X30)*'Monthly Peak Data '!$M$40*1000 -> 0 | AI30: =+L30*(0.5*MAX('Monthly Peak Data '!$G$18:$G$19,'Monthly Peak Data '!$G$29)+0.5*(MAX('Monthly Peak Data '!$P$3:$P$14)))*(1+X30) -> 0 | AJ30: =+M30*0.25*MAX('Monthly Peak Data '!$P$3:$P$14)*(1+X30) -> 0 | AK30: =+VLOOKUP($B30,'Monthly Peak Data '!$L$3:$P$14,5,FALSE)*N30*(1+X30) -> -0.018943874 | AL30: =+VLOOKUP($B30,'Monthly Peak Data '!$L$3:$P$14,5,FALSE)*O30*(1+$X30) -> -0.010497069 | AM30: =+VLOOKUP($B30,'Monthly Peak Data '!$L$3:$P$14,5,FALSE)*P30*(1+$X30) -> -0.0088855133 | AN30: =+VLOOKUP($B30,'Monthly Peak Data '!$L$3:$P$14,5,FALSE)*Q30*(1+X30) -> -0.024659933 | AO30: =+R30*AB30*(1+X30) -> 9.4878724 | AP30: =+VLOOKUP($B30,'Monthly Peak Data '!$C$18:$G$29,5,FALSE)*(1+X30) -> 0.83685889 | AQ30: =+VLOOKUP($B30,'Monthly Peak Data '!$L$3:$P$14,5,FALSE)*T30*(1+X30) -> -0.00101436 | AR30: =+VLOOKUP($B30,'Monthly Peak Data '!$C$3:$G$14,5,FALSE)*U30*(1+X30) -> 0.0071301376 | AS30: =+SUM(AG30:AR30) -> 2.7913071
A31: =1+A19 -> 2019 | B31: =+B19 -> 12 | C31: 59.22 | D31: 2.631 | E31: =+'Monthly LMP and MWh Pivot'!L$17 -> 0.71583738 | F31: =+E31*C31 -> 42.39189 | G31: =+G30 -> 7.03 | H31: =+H30 -> 9.3282233 | I31: =+I19*D31/D19 -> 0.162035 | J31: =+J19*D31/D19 -> 0.16312345 | K31: 0 | L31: =+L19*(1+$L$6) -> 0 | M31: =+M19*(1+$M$6) -> 0 | N31: =+N30 -> 0.13278417 | O31: =+O19*D31/D19 -> 0.050168664 | P31: =+P19*D33/D19 -> 0.042286047 | Q31: 0.17285 | R31: 0.30335 | S31: 0.22134 | T31: 0.00711 | U31: =+U19*(1+$U$6) -> -0.03492084 | V31: =+V19 -> 0.025858743 | W31: =+W19 -> 744 | X31: =+X30 -> 0.07 | Y31: =+Y19 -> 0.30925205 | Z31: =+Z19 -> -0.0049238855 | AA31: 1 | AB31: =+W31*V31*AA31 -> 19.238904 | AC31: =+AB31*F31*(1+X31) -> 872.66366 | AD31: =+AB31*I31*(1+X31) -> 3.3355923 | AE31: =+AB31*J31*(1+X31) -> 3.3579987 | AF31: =+AF30 -> 2791.4698 | AG31: =+H31*Z31*1000*(1+X31) -> -49.146281 | AH31: =+K31*AVERAGE('Monthly Peak Data '!$Q$8:$Q$10)*(1+X31)*'Monthly Peak Data '!$M$40*1000 -> 0 | AI31: =+L31*(0.5*MAX('Monthly Peak Data '!$G$18:$G$19,'Monthly Peak Data '!$G$29)+0.5*(MAX('Monthly Peak Data '!$P$3:$P$14)))*(1+X31) -> 0 | AJ31: =+M31*0.25*MAX('Monthly Peak Data '!$P$3:$P$14)*(1+X31) -> 0 | AK31: =+VLOOKUP($B31,'Monthly Peak Data '!$L$3:$P$14,5,FALSE)*N31*(1+X31) -> -0.12452542 | AL31: =+VLOOKUP($B31,'Monthly Peak Data '!$L$3:$P$14,5,FALSE)*O31*(1+$X31) -> -0.047048335 | AM31: =+VLOOKUP($B31,'Monthly Peak Data '!$L$3:$P$14,5,FALSE)*P31*(1+$X31) -> -0.039655991 | AN31: =+VLOOKUP($B31,'Monthly Peak Data '!$L$3:$P$14,5,FALSE)*Q31*(1+X31) -> -0.16209929 | AO31: =+R31*AB31*(1+X31) -> 6.2446502 | AP31: =+VLOOKUP($B31,'Monthly Peak Data '!$C$18:$G$29,5,FALSE)*(1+X31) -> 0 | AQ31: =+VLOOKUP($B31,'Monthly Peak Data '!$L$3:$P$14,5,FALSE)*T31*(1+X31) -> -0.0066677809 | AR31: =+VLOOKUP($B31,'Monthly Peak Data '!$C$3:$G$14,5,FALSE)*U31*(1+X31) -> 0.031633944 | AS31: =+SUM(AG31:AR31) -> -43.249993
A32: =1+A20 -> 2020 | B32: =+B20 -> 1 | C32: 78.33 | D32: 2.727 | E32: =+E20 -> 0.70389395 | F32: =+E32*C32 -> 55.136013 | G32: =+G31 -> 7.03 | H32: =+H31 -> 9.3282233 | I32: =+I20*D32/D20 -> 0.21513349 | J32: =+J20*D32/D20 -> 0.18115774 | K32: 0 | L32: =+L20*(1+$L$6) -> 0 | M32: =+M20*(1+$M$6) -> 0 | N32: =+N31 -> 0.13278417 | O32: =+O20*D32/D20 -> 0.060424815 | P32: =+P20*D34/D20 -> 0.053239975 | Q32: =+Q20*(1+Q$6) -> 0.17414638 | R32: =+R20*(1+R$6) -> 0.3191242 | S32: =+S20*(1+S$6) -> 0.2301936 | T32: =+T20*(1+T$6) -> 0.00695358 | U32: =+U20*(1+$U$6) -> -0.041906855 | V32: =+V20 -> 0.022616097 | W32: =+W20 -> 744 | X32: =+X31 -> 0.07 | Y32: =+Y20 -> 0.30925205 | Z32: =+Z20 -> -0.0060846321 | AA32: 1 | AB32: =+W32*V32*AA32 -> 16.826376 | AC32: =+AB32*F32*(1+X32) -> 992.68107 | AD32: =+AB32*I32*(1+X32) -> 3.8733112 | AE32: =+AB32*J32*(1+X32) -> 3.2616042 | AF32: =+AF31 -> 2791.4698 | AG32: =+H32*Z32*1000*(1+X32) -> -60.731924 | AH32: =+K32*AVERAGE('Monthly Peak Data '!$Q$8:$Q$10)*(1+X32)*'Monthly Peak Data '!$M$40*1000 -> 0 | AI32: =+L32*(0.5*MAX('Monthly Peak Data '!$G$18:$G$19,'Monthly Peak Data '!$G$29)+0.5*(MAX('Monthly Peak Data '!$P$3:$P$14)))*(1+X32) -> 0 | AJ32: =+M32*0.25*MAX('Monthly Peak Data '!$P$3:$P$14)*(1+X32) -> 0 | AK32: =+VLOOKUP($B32,'Monthly Peak Data '!$L$3:$P$14,5,FALSE)*N32*(1+X32) -> -0.15388079 | AL32: =+VLOOKUP($B32,'Monthly Peak Data '!$L$3:$P$14,5,FALSE)*O32*(1+$X32) -> -0.070025051 | AM32: =+VLOOKUP($B32,'Monthly Peak Data '!$L$3:$P$14,5,FALSE)*P32*(1+$X32) -> -0.06169869 | AN32: =+VLOOKUP($B32,'Monthly Peak Data '!$L$3:$P$14,5,FALSE)*Q32*(1+X32) -> -0.20181458 | AO32: =+R32*AB32*(1+X32) -> 5.7455832 | AP32: =+VLOOKUP($B32,'Monthly Peak Data '!$C$18:$G$29,5,FALSE)*(1+X32) -> 0 | AQ32: =+VLOOKUP($B32,'Monthly Peak Data '!$L$3:$P$14,5,FALSE)*T32*(1+X32) -> -0.0080583581 | AR32: =+VLOOKUP($B32,'Monthly Peak Data '!$C$3:$G$14,5,FALSE)*U32*(1+X32) -> 0.046134918 | AS32: =+SUM(AG32:AR32) -> -55.435683
A33: =1+A21 -> 2020 | B33: =+B21 -> 2 | C33: 74.67 | D33: 2.69 | E33: =+E21 -> 0.91686751 | F33: =+E33*C33 -> 68.462497 | G33: =+G32 -> 7.03 | H33: =+H32 -> 9.3282233 | I33: =+I21*D33/D21 -> 0.21586614 | J33: =+J21*D33/D21 -> 0.3106873 | K33: 0 | L33: =+L21*(1+$L$6) -> 0 | M33: =+M21*(1+$M$6) -> 0 | N33: =+N32 -> 0.13278417 | O33: =+O21*D33/D21 -> 0.082282807 | P33: =+P21*D35/D21 -> 0.065949945 | Q33: =+Q21*(1+Q$6) -> 0.17414638 | R33: =+R21*(1+R$6) -> 0.3191242 | S33: =+S21*(1+S$6) -> 0.2301936 | T33: =+T21*(1+T$6) -> 0.00695358 | U33: =+U21*(1+$U$6) -> -0.04675465 | V33: =+V21 -> 0.052674726 | W33: 696 | X33: =+X32 -> 0.07 | Y33: =+Y21 -> 0.30925205 | Z33: =+Z21 -> -0.0055317014 | AA33: 1 | AB33: =+W33*V33*AA33 -> 36.661609 | AC33: =+AB33*F33*(1+X33) -> 2685.6415 | AD33: =+AB33*I33*(1+X33) -> 8.46798 | AE33: =+AB33*J33*(1+X33) -> 12.187617 | AF33: =+AF32 -> 2791.4698 | AG33: =+H33*Z33*1000*(1+X33) -> -55.213013 | AH33: =+K33*AVERAGE('Monthly Peak Data '!$Q$8:$Q$10)*(1+X33)*'Monthly Peak Data '!$M$40*1000 -> 0 | AI33: =+L33*(0.5*MAX('Monthly Peak Data '!$G$18:$G$19,'Monthly Peak Data '!$G$29)+0.5*(MAX('Monthly Peak Data '!$P$3:$P$14)))*(1+X33) -> 0 | AJ33: =+M33*0.25*MAX('Monthly Peak Data '!$P$3:$P$14)*(1+X33) -> 0 | AK33: =+VLOOKUP($B33,'Monthly Peak Data '!$L$3:$P$14,5,FALSE)*N33*(1+X33) -> -0.13989713 | AL33: =+VLOOKUP($B33,'Monthly Peak Data '!$L$3:$P$14,5,FALSE)*O33*(1+$X33) -> -0.086690521 | AM33: =+VLOOKUP($B33,'Monthly Peak Data '!$L$3:$P$14,5,FALSE)*P33*(1+$X33) -> -0.069482742 | AN33: =+VLOOKUP($B33,'Monthly Peak Data '!$L$3:$P$14,5,FALSE)*Q33*(1+X33) -> -0.18347502 | AO33: =+R33*AB33*(1+X33) -> 12.518579 | AP33: =+VLOOKUP($B33,'Monthly Peak Data '!$C$18:$G$29,5,FALSE)*(1+X33) -> 1.6748048 | AQ33: =+VLOOKUP($B33,'Monthly Peak Data '!$L$3:$P$14,5,FALSE)*T33*(1+X33) -> -0.0073260684 | AR33: =+VLOOKUP($B33,'Monthly Peak Data '!$C$3:$G$14,5,FALSE)*U33*(1+X33) -> 0.053145259 | AS33: =+SUM(AG33:AR33) -> -41.453355
A34: =1+A22 -> 2020 | B34: =+B22 -> 3 | C34: 50 | D34: 2.588 | E34: =+E22 -> 0.77619976 | F34: =+E34*C34 -> 38.809988 | G34: =+G33 -> 7.03 | H34: =+H33 -> 9.3282233 | I34: =+I22*D34/D22 -> 0.18459563 | J34: =+J22*D34/D22 -> 0.27363543 | K34: 0 | L34: =+L22*(1+$L$6) -> 0 | M34: =+M22*(1+$M$6) -> 0 | N34: =+N33 -> 0.13278417 | O34: =+O22*D34/D22 -> 0.088737859 | P34: =+P22*D36/D22 -> 0.070461072 | Q34: =+Q22*(1+Q$6) -> 0.17414638 | R34: =+R22*(1+R$6) -> 0.3191242 | S34: =+S22*(1+S$6) -> 0.2301936 | T34: =+T22*(1+T$6) -> 0.00695358 | U34: =+U22*(1+$U$6) -> -0.048337907 | V34: =+V22 -> 0.10095698 | W34: =+W22 -> 743 | X34: =+X33 -> 0.07 | Y34: =+Y22 -> 0.30925205 | Z34: =+Z22 -> 0.016072852 | AA34: 1 | AB34: =+W34*V34*AA34 -> 75.011039 | AC34: =+AB34*F34*(1+X34) -> 3114.9599 | AD34: =+AB34*I34*(1+X34) -> 14.81598 | AE34: =+AB34*J34*(1+X34) -> 21.962476 | AF34: =+AF33 -> 2791.4698 | AG34: =+H34*Z34*1000*(1+X34) -> 160.42634 | AH34: =+K34*AVERAGE('Monthly Peak Data '!$Q$8:$Q$10)*(1+X34)*'Monthly Peak Data '!$M$40*1000 -> 0 | AI34: =+L34*(0.5*MAX('Monthly Peak Data '!$G$18:$G$19,'Monthly Peak Data '!$G$29)+0.5*(MAX('Monthly Peak Data '!$P$3:$P$14)))*(1+X34) -> 0 | AJ34: =+M34*0.25*MAX('Monthly Peak Data '!$P$3:$P$14)*(1+X34) -> 0 | AK34: =+VLOOKUP($B34,'Monthly Peak Data '!$L$3:$P$14,5,FALSE)*N34*(1+X34) -> 0.4064836 | AL34: =+VLOOKUP($B34,'Monthly Peak Data '!$L$3:$P$14,5,FALSE)*O34*(1+$X34) -> 0.27164748 | AM34: =+VLOOKUP($B34,'Monthly Peak Data '!$L$3:$P$14,5,FALSE)*P34*(1+$X34) -> 0.21569793 | AN34: =+VLOOKUP($B34,'Monthly Peak Data '!$L$3:$P$14,5,FALSE)*Q34*(1+X34) -> 0.53310306 | AO34: =+R34*AB34*(1+X34) -> 25.613487 | AP34: =+VLOOKUP($B34,'Monthly Peak Data '!$C$18:$G$29,5,FALSE)*(1+X34) -> 0.04003871 | AQ34: =+VLOOKUP($B34,'Monthly Peak Data '!$L$3:$P$14,5,FALSE)*T34*(1+X34) -> 0.021286546 | AR34: =+VLOOKUP($B34,'Monthly Peak Data '!$C$3:$G$14,5,FALSE)*U34*(1+X34) -> 0.0088844293 | AS34: =+SUM(AG34:AR34) -> 187.53697
A35: =1+A23 -> 2020 | B35: =+B23 -> 4 | C35: 34.65 | D35: 2.338 | E35: =+E23 -> 0.85629918 | F35: =+E35*C35 -> 29.670767 | G35: =+G34 -> 7.03 | H35: =+H34 -> 9.3282233 | I35: =+I23*D35/D23 -> 0.13621301 | J35: =+J23*D35/D23 -> 0.23651127 | K35: 0 | L35: =+L23*(1+$L$6) -> 0 | M35: =+M23*(1+$M$6) -> 0 | N35: =+N34 -> 0.13278417 | O35: =+O23*D35/D23 -> 0.096050519 | P35: =+P23*D37/D23 -> 0.088695159 | Q35: =+Q23*(1+Q$6) -> 0.17414638 | R35: =+R23*(1+R$6) -> 0.3191242 | S35: =+S23*(1+S$6) -> 0.2301936 | T35: =+T23*(1+T$6) -> 0.00695358 | U35: =+U23*(1+$U$6) -> -0.05115826 | V35: =+V23 -> 0.14691858 | W35: =+W23 -> 720 | X35: =+X34 -> 0.07 | Y35: =+Y23 -> 0.30925205 | Z35: =+Z23 -> 0.0026413858 | AA35: 1 | AB35: =+W35*V35*AA35 -> 105.78138 | AC35: =+AB35*F35*(1+X35) -> 3358.3175 | AD35: =+AB35*I35*(1+X35) -> 15.417415 | AE35: =+AB35*J35*(1+X35) -> 26.769782 | AF35: =+AF34 -> 2791.4698 | AG35: =+H35*Z35*1000*(1+X35) -> 26.364197 | AH35: =+K35*AVERAGE('Monthly Peak Data '!$Q$8:$Q$10)*(1+X35)*'Monthly Peak Data '!$M$40*1000 -> 0 | AI35: =+L35*(0.5*MAX('Monthly Peak Data '!$G$18:$G$19,'Monthly Peak Data '!$G$29)+0.5*(MAX('Monthly Peak Data '!$P$3:$P$14)))*(1+X35) -> 0 | AJ35: =+M35*0.25*MAX('Monthly Peak Data '!$P$3:$P$14)*(1+X35) -> 0 | AK35: =+VLOOKUP($B35,'Monthly Peak Data '!$L$3:$P$14,5,FALSE)*N35*(1+X35) -> 0.066800837 | AL35: =+VLOOKUP($B35,'Monthly Peak Data '!$L$3:$P$14,5,FALSE)*O35*(1+$X35) -> 0.048320935 | AM35: =+VLOOKUP($B35,'Monthly Peak Data '!$L$3:$P$14,5,FALSE)*P35*(1+$X35) -> 0.044620613 | AN35: =+VLOOKUP($B35,'Monthly Peak Data '!$L$3:$P$14,5,FALSE)*Q35*(1+X35) -> 0.087609268 | AO35: =+R35*AB35*(1+X35) -> 36.120415 | AP35: =+VLOOKUP($B35,'Monthly Peak Data '!$C$18:$G$29,5,FALSE)*(1+X35) -> 142.15604 | AQ35: =+VLOOKUP($B35,'Monthly Peak Data '!$L$3:$P$14,5,FALSE)*T35*(1+X35) -> 0.0034981954 | AR35: =+VLOOKUP($B35,'Monthly Peak Data '!$C$3:$G$14,5,FALSE)*U35*(1+X35) -> 0.0075905215 | AS35: =+SUM(AG35:AR35) -> 204.89909
A36: =1+A24 -> 2020 | B36: =+B24 -> 5 | C36: 28 | D36: 2.309 | E36: =+E24 -> 0.82264045 | F36: =+E36*C36 -> 23.033932 | G36: =+G35 -> 7.03 | H36: =+H35 -> 9.3282233 | I36: =+I24*D36/D24 -> 0.1264728 | J36: =+J24*D36/D24 -> 0.23601547 | K36: 0 | L36: =+L24*(1+$L$6) -> 0 | M36: =+M24*(1+$M$6) -> 0 | N36: =+N35 -> 0.13278417 | O36: =+O24*D36/D24 -> 0.098247779 | P36: =+P24*D38/D24 -> 0.11659938 | Q36: =+Q24*(1+Q$6) -> 0.17414638 | R36: =+R24*(1+R$6) -> 0.3191242 | S36: =+S24*(1+S$6) -> 0.2301936 | T36: =+T24*(1+T$6) -> 0.00695358 | U36: =+U24*(1+$U$6) -> -0.065234544 | V36: =+V24 -> 0.20374675 | W36: =+W24 -> 744 | X36: =+X35 -> 0.07 | Y36: =+Y24 -> 0.30925205 | Z36: =+Z24 -> 0.11317959 | AA36: 1 | AB36: =+W36*V36*AA36 -> 151.58758 | AC36: =+AB36*F36*(1+X36) -> 3736.0743 | AD36: =+AB36*I36*(1+X36) -> 20.513726 | AE36: =+AB36*J36*(1+X36) -> 38.281407 | AF36: =+AF35 -> 2791.4698 | AG36: =+H36*Z36*1000*(1+X36) -> 1129.668 | AH36: =+K36*AVERAGE('Monthly Peak Data '!$Q$8:$Q$10)*(1+X36)*'Monthly Peak Data '!$M$40*1000 -> 0 | AI36: =+L36*(0.5*MAX('Monthly Peak Data '!$G$18:$G$19,'Monthly Peak Data '!$G$29)+0.5*(MAX('Monthly Peak Data '!$P$3:$P$14)))*(1+X36) -> 0 | AJ36: =+M36*0.25*MAX('Monthly Peak Data '!$P$3:$P$14)*(1+X36) -> 0 | AK36: =+VLOOKUP($B36,'Monthly Peak Data '!$L$3:$P$14,5,FALSE)*N36*(1+X36) -> 2.8623201 | AL36: =+VLOOKUP($B36,'Monthly Peak Data '!$L$3:$P$14,5,FALSE)*O36*(1+$X36) -> 2.1178473 | AM36: =+VLOOKUP($B36,'Monthly Peak Data '!$L$3:$P$14,5,FALSE)*P36*(1+$X36) -> 2.5134379 | AN36: =+VLOOKUP($B36,'Monthly Peak Data '!$L$3:$P$14,5,FALSE)*Q36*(1+X36) -> 3.7539316 | AO36: =+R36*AB36*(1+X36) -> 51.761535 | AP36: =+VLOOKUP($B36,'Monthly Peak Data '!$C$18:$G$29,5,FALSE)*(1+X36) -> 0.49346559 | AQ36: =+VLOOKUP($B36,'Monthly Peak Data '!$L$3:$P$14,5,FALSE)*T36*(1+X36) -> 0.14989266 | AR36: =+VLOOKUP($B36,'Monthly Peak Data '!$C$3:$G$14,5,FALSE)*U36*(1+X36) -> -1.4062079 | AS36: =+SUM(AG36:AR36) -> 1191.9143
A37: =1+A25 -> 2020 | B37: =+B25 -> 6 | C37: 27.75 | D37: 2.341 | E37: =+E25 -> 0.93665801 | F37: =+E37*C37 -> 25.99226 | G37: 5.3 | H37: =+H25*(1+$H$6) -> 9.9280281 | I37: =+I25*D37/D25 -> 0.13944639 | J37: =+J25*D37/D25 -> 0.46472009 | K37: 0 | L37: =+L25*(1+$L$6) -> 0 | M37: =+M25*(1+$M$6) -> 0 | N37: =+N25*(1+$N$6) -> 0.13333788 | O37: =+O25*D37/D25 -> 0.077263827 | P37: =+P25*D39/D25 -> 0.088550122 | Q37: =+Q25*(1+Q$6) -> 0.17414638 | R37: =+R25*(1+R$6) -> 0.3191242 | S37: =+S25*(1+S$6) -> 0.2301936 | T37: =+T25*(1+T$6) -> 0.00695358 | U37: =+U25*(1+$U$6) -> -0.056531758 | V37: =+V25 -> 0.22707631 | W37: =+W25 -> 720 | X37: =+X36 -> 0.07 | Y37: =+Y25 -> 0.30925205 | Z37: =+Z25 -> 0.0017649813 | AA37: 1 | AB37: =+W37*V37*AA37 -> 163.49494 | AC37: =+AB37*F37*(1+X37) -> 4547.0752 | AD37: =+AB37*I37*(1+X37) -> 24.394694 | AE37: =+AB37*J37*(1+X37) -> 81.297941 | AF37: =+Y26*G37*1000*1.2*(1+X26) -> 2104.5221 | AG37: =+H37*Z37*1000*(1+X37) -> 18.749379 | AH37: =+K37*AVERAGE('Monthly Peak Data '!$Q$8:$Q$10)*(1+X37)*'Monthly Peak Data '!$M$40*1000 -> 0 | AI37: =+L37*(0.5*MAX('Monthly Peak Data '!$G$18:$G$19,'Monthly Peak Data '!$G$29)+0.5*(MAX('Monthly Peak Data '!$P$3:$P$14)))*(1+X37) -> 0 | AJ37: =+M37*0.25*MAX('Monthly Peak Data '!$P$3:$P$14)*(1+X37) -> 0 | AK37: =+VLOOKUP($B37,'Monthly Peak Data '!$L$3:$P$14,5,FALSE)*N37*(1+X37) -> 0.044822638 | AL37: =+VLOOKUP($B37,'Monthly Peak Data '!$L$3:$P$14,5,FALSE)*O37*(1+$X37) -> 0.025972879 | AM37: =+VLOOKUP($B37,'Monthly Peak Data '!$L$3:$P$14,5,FALSE)*P37*(1+$X37) -> 0.029766861 | AN37: =+VLOOKUP($B37,'Monthly Peak Data '!$L$3:$P$14,5,FALSE)*Q37*(1+X37) -> 0.058540755 | AO37: =+R37*AB37*(1+X37) -> 55.827457 | AP37: =+VLOOKUP($B37,'Monthly Peak Data '!$C$18:$G$29,5,FALSE)*(1+X37) -> 339.51849 | AQ37: =+VLOOKUP($B37,'Monthly Peak Data '!$L$3:$P$14,5,FALSE)*T37*(1+X37) -> 0.0023375039 | AR37: =+VLOOKUP($B37,'Monthly Peak Data '!$C$3:$G$14,5,FALSE)*U37*(1+X37) -> -2.9535862 | AS37: =+SUM(AG37:AR37) -> 411.30318
A38: =1+A26 -> 2020 | B38: =+B26 -> 7 | C38: 36.26 | D38: 2.378 | E38: =+E26 -> 0.86933578 | F38: =+E38*C38 -> 31.522115 | G38: =+G37 -> 5.3 | H38: =+H37 -> 9.9280281 | I38: =+I26*D38/D26 -> 0.21087578 | J38: =+J26*D38/D26 -> 0.39844837 | K38: 0 | L38: =+L26*(1+$L$6) -> 0 | M38: =+M26*(1+$M$6) -> 0 | N38: =+N37 -> 0.13333788 | O38: =+O26*D38/D26 -> 0.072469736 | P38: =+P26*D40/D26 -> 0.082676967 | Q38: =+Q26*(1+Q$6) -> 0.17414638 | R38: =+R26*(1+R$6) -> 0.3191242 | S38: =+S26*(1+S$6) -> 0.2301936 | T38: =+T26*(1+T$6) -> 0.00695358 | U38: =+U26*(1+$U$6) -> -0.047430441 | V38: =+V26 -> 0.24032926 | W38: =+W26 -> 744 | X38: =+X37 -> 0.07 | Y38: =+Y26 -> 0.30925205 | Z38: =+Z26 -> 0.0017832548 | AA38: =+AA26*0.995 -> 0.995 | AB38: =+W38*V38*AA38 -> 177.91095 | AC38: =+AB38*F38*(1+X38) -> 6000.6984 | AD38: =+AB38*I38*(1+X38) -> 40.143308 | AE38: =+AB38*J38*(1+X38) -> 75.85051 | AF38: =+AF37 -> 2104.5221 | AG38: =+H38*Z38*1000*(1+X38) -> 18.943498 | AH38: =+K38*AVERAGE('Monthly Peak Data '!$Q$8:$Q$10)*(1+X38)*'Monthly Peak Data '!$M$40*1000 -> 0 | AI38: =+L38*(0.5*MAX('Monthly Peak Data '!$G$18:$G$19,'Monthly Peak Data '!$G$29)+0.5*(MAX('Monthly Peak Data '!$P$3:$P$14)))*(1+X38) -> 0 | AJ38: =+M38*0.25*MAX('Monthly Peak Data '!$P$3:$P$14)*(1+X38) -> 0 | AK38: =+VLOOKUP($B38,'Monthly Peak Data '!$L$3:$P$14,5,FALSE)*N38*(1+X38) -> 0.045286704 | AL38: =+VLOOKUP($B38,'Monthly Peak Data '!$L$3:$P$14,5,FALSE)*O38*(1+$X38) -> 0.024613527 | AM38: =+VLOOKUP($B38,'Monthly Peak Data '!$L$3:$P$14,5,FALSE)*P38*(1+$X38) -> 0.028080299 | AN38: =+VLOOKUP($B38,'Monthly Peak Data '!$L$3:$P$14,5,FALSE)*Q38*(1+X38) -> 0.05914685 | AO38: =+R38*AB38*(1+X38) -> 60.749987 | AP38: =+VLOOKUP($B38,'Monthly Peak Data '!$C$18:$G$29,5,FALSE)*(1+X38) -> 108.68772 | AQ38: =+VLOOKUP($B38,'Monthly Peak Data '!$L$3:$P$14,5,FALSE)*T38*(1+X38) -> 0.0023617049 | AR38: =+VLOOKUP($B38,'Monthly Peak Data '!$C$3:$G$14,5,FALSE)*U38*(1+X38) -> -2.7493631 | AS38: =+SUM(AG38:AR38) -> 185.79133
A39: =1+A27 -> 2020 | B39: =+B27 -> 8 | C39: 33.54 | D39: 2.384 | E39: =+E27 -> 0.89082638 | F39: =+E39*C39 -> 29.878317 | G39: =+G38 -> 5.3 | H39: =+H38 -> 9.9280281 | I39: =+I27*D39/D27 -> 0.18353259 | J39: =+J27*D39/D27 -> 0.47386808 | K39: 0 | L39: =+L27*(1+$L$6) -> 0 | M39: =+M27*(1+$M$6) -> 0 | N39: =+N38 -> 0.13333788 | O39: =+O27*D39/D27 -> 0.053937756 | P39: =+P27*D41/D27 -> 0.038181999 | Q39: =+Q27*(1+Q$6) -> 0.17414638 | R39: =+R27*(1+R$6) -> 0.3191242 | S39: =+S27*(1+S$6) -> 0.2301936 | T39: =+T27*(1+T$6) -> 0.00695358 | U39: =+U27*(1+$U$6) -> -0.073806448 | V39: =+V27 -> 0.20131777 | W39: =+W27 -> 744 | X39: =+X38 -> 0.07 | Y39: =+Y27 -> 0.30925205 | Z39: =+Z27 -> 0.099775281 | AA39: =+AA27*0.995 -> 0.995 | AB39: =+W39*V39*AA39 -> 149.03152 | AC39: =+AB39*F39*(1+X39) -> 4764.5077 | AD39: =+AB39*I39*(1+X39) -> 29.26679 | AE39: =+AB39*J39*(1+X39) -> 75.564769 | AF39: =+AF38 -> 2104.5221 | AG39: =+H39*Z39*1000*(1+X39) -> 1059.9118 | AH39: =+K39*AVERAGE('Monthly Peak Data '!$Q$8:$Q$10)*(1+X39)*'Monthly Peak Data '!$M$40*1000 -> 0 | AI39: =+L39*(0.5*MAX('Monthly Peak Data '!$G$18:$G$19,'Monthly Peak Data '!$G$29)+0.5*(MAX('Monthly Peak Data '!$P$3:$P$14)))*(1+X39) -> 0 | AJ39: =+M39*0.25*MAX('Monthly Peak Data '!$P$3:$P$14)*(1+X39) -> 0 | AK39: =+VLOOKUP($B39,'Monthly Peak Data '!$L$3:$P$14,5,FALSE)*N39*(1+X39) -> 2.5338463 | AL39: =+VLOOKUP($B39,'Monthly Peak Data '!$L$3:$P$14,5,FALSE)*O39*(1+$X39) -> 1.02499 | AM39: =+VLOOKUP($B39,'Monthly Peak Data '!$L$3:$P$14,5,FALSE)*P39*(1+$X39) -> 0.72558016 | AN39: =+VLOOKUP($B39,'Monthly Peak Data '!$L$3:$P$14,5,FALSE)*Q39*(1+X39) -> 3.3093384 | AO39: =+R39*AB39*(1+X39) -> 50.888734 | AP39: =+VLOOKUP($B39,'Monthly Peak Data '!$C$18:$G$29,5,FALSE)*(1+X39) -> 251.79574 | AQ39: =+VLOOKUP($B39,'Monthly Peak Data '!$L$3:$P$14,5,FALSE)*T39*(1+X39) -> 0.13214027 | AR39: =+VLOOKUP($B39,'Monthly Peak Data '!$C$3:$G$14,5,FALSE)*U39*(1+X39) -> -4.9072231 | AS39: =+SUM(AG39:AR39) -> 1365.415
A40: =1+A28 -> 2020 | B40: =+B28 -> 9 | C40: 30.85 | D40: 2.366 | E40: =+E28 -> 1.1928111 | F40: =+E40*C40 -> 36.798223 | G40: =+G39 -> 5.3 | H40: =+H39 -> 9.9280281 | I40: =+I28*D40/D28 -> 0.2836611 | J40: =+J28*D40/D28 -> 0.90994137 | K40: 0 | L40: =+L28*(1+$L$6) -> 0 | M40: =+M28*(1+$M$6) -> 0 | N40: =+N39 -> 0.13333788 | O40: =+O28*D40/D28 -> 0.055796226 | P40: =+P28*D42/D28 -> 0.039438634 | Q40: =+Q28*(1+Q$6) -> 0.17414638 | R40: =+R28*(1+R$6) -> 0.3191242 | S40: =+S28*(1+S$6) -> 0.2301936 | T40: =+T28*(1+T$6) -> 0.00695358 | U40: =+U28*(1+$U$6) -> -0.066979483 | V40: =+V28 -> 0.16869507 | W40: =+W28 -> 720 | X40: =+X39 -> 0.07 | Y40: =+Y28 -> 0.30925205 | Z40: =+Z28 -> -0.00041385768 | AA40: =+AA28*0.995 -> 0.995 | AB40: =+W40*V40*AA40 -> 120.85315 | AC40: =+AB40*F40*(1+X40) -> 4758.4837 | AD40: =+AB40*I40*(1+X40) -> 36.68103 | AE40: =+AB40*J40*(1+X40) -> 117.66713 | AF40: =+AF39 -> 2104.5221 | AG40: =+H40*Z40*1000*(1+X40) -> -4.396406 | AH40: =+K40*AVERAGE('Monthly Peak Data '!$Q$8:$Q$10)*(1+X40)*'Monthly Peak Data '!$M$40*1000 -> 0 | AI40: =+L40*(0.5*MAX('Monthly Peak Data '!$G$18:$G$19,'Monthly Peak Data '!$G$29)+0.5*(MAX('Monthly Peak Data '!$P$3:$P$14)))*(1+X40) -> 0 | AJ40: =+M40*0.25*MAX('Monthly Peak Data '!$P$3:$P$14)*(1+X40) -> 0 | AK40: =+VLOOKUP($B40,'Monthly Peak Data '!$L$3:$P$14,5,FALSE)*N40*(1+X40) -> -0.010510136 | AL40: =+VLOOKUP($B40,'Monthly Peak Data '!$L$3:$P$14,5,FALSE)*O40*(1+$X40) -> -0.0043980445 | AM40: =+VLOOKUP($B40,'Monthly Peak Data '!$L$3:$P$14,5,FALSE)*P40*(1+$X40) -> -0.0031086846 | AN40: =+VLOOKUP($B40,'Monthly Peak Data '!$L$3:$P$14,5,FALSE)*Q40*(1+X40) -> -0.013726798 | AO40: =+R40*AB40*(1+X40) -> 41.266865 | AP40: =+VLOOKUP($B40,'Monthly Peak Data '!$C$18:$G$29,5,FALSE)*(1+X40) -> 0.31838444 | AQ40: =+VLOOKUP($B40,'Monthly Peak Data '!$L$3:$P$14,5,FALSE)*T40*(1+X40) -> -0.00054810435 | AR40: =+VLOOKUP($B40,'Monthly Peak Data '!$C$3:$G$14,5,FALSE)*U40*(1+X40) -> -3.4605633 | AS40: =+SUM(AG40:AR40) -> 33.695989
A41: =1+A29 -> 2020 | B41: =+B29 -> 10 | C41: 30 | D41: 2.39 | E41: =+E29 -> 0.94018245 | F41: =+E41*C41 -> 28.205474 | G41: =+G40 -> 5.3 | H41: =+H40 -> 9.9280281 | I41: =+I29*D41/D29 -> 0.2131514 | J41: =+J29*D41/D29 -> 0.30762873 | K41: 0 | L41: =+L29*(1+$L$6) -> 0 | M41: =+M29*(1+$M$6) -> 0 | N41: =+N40 -> 0.13333788 | O41: =+O29*D41/D29 -> 0.074441878 | P41: =+P29*D43/D29 -> 0.066960989 | Q41: =+Q29*(1+Q$6) -> 0.17414638 | R41: =+R29*(1+R$6) -> 0.3191242 | S41: =+S29*(1+S$6) -> 0.2301936 | T41: =+T29*(1+T$6) -> 0.00695358 | U41: =+U29*(1+$U$6) -> -0.067642133 | V41: =+V29 -> 0.10010137 | W41: =+W29 -> 744 | X41: =+X40 -> 0.07 | Y41: =+Y29 -> 0.30925205 | Z41: =+Z29 -> -0.00030898876 | AA41: =+AA29*0.995 -> 0.995 | AB41: =+W41*V41*AA41 -> 74.103044 | AC41: =+AB41*F41*(1+X41) -> 2236.4193 | AD41: =+AB41*I41*(1+X41) -> 16.900829 | AE41: =+AB41*J41*(1+X41) -> 24.391961 | AF41: =+AF40 -> 2104.5221 | AG41: =+H41*Z41*1000*(1+X41) -> -3.2823846 | AH41: =+K41*AVERAGE('Monthly Peak Data '!$Q$8:$Q$10)*(1+X41)*'Monthly Peak Data '!$M$40*1000 -> 0 | AI41: =+L41*(0.5*MAX('Monthly Peak Data '!$G$18:$G$19,'Monthly Peak Data '!$G$29)+0.5*(MAX('Monthly Peak Data '!$P$3:$P$14)))*(1+X41) -> 0 | AJ41: =+M41*0.25*MAX('Monthly Peak Data '!$P$3:$P$14)*(1+X41) -> 0 | AK41: =+VLOOKUP($B41,'Monthly Peak Data '!$L$3:$P$14,5,FALSE)*N41*(1+X41) -> -0.007846934 | AL41: =+VLOOKUP($B41,'Monthly Peak Data '!$L$3:$P$14,5,FALSE)*O41*(1+$X41) -> -0.0043809045 | AM41: =+VLOOKUP($B41,'Monthly Peak Data '!$L$3:$P$14,5,FALSE)*P41*(1+$X41) -> -0.0039406542 | AN41: =+VLOOKUP($B41,'Monthly Peak Data '!$L$3:$P$14,5,FALSE)*Q41*(1+X41) -> -0.010248514 | AO41: =+R41*AB41*(1+X41) -> 25.30344 | AP41: =+VLOOKUP($B41,'Monthly Peak Data '!$C$18:$G$29,5,FALSE)*(1+X41) -> 0.51383011 | AQ41: =+VLOOKUP($B41,'Monthly Peak Data '!$L$3:$P$14,5,FALSE)*T41*(1+X41) -> -0.00040921818 | AR41: =+VLOOKUP($B41,'Monthly Peak Data '!$C$3:$G$14,5,FALSE)*U41*(1+X41) -> 0.0084984704 | AS41: =+SUM(AG41:AR41) -> 22.516558
A42: =1+A30 -> 2020 | B42: =+B30 -> 11 | C42: 40.65 | D42: 2.446 | E42: =+E30 -> 0.84486275 | F42: =+E42*C42 -> 34.343671 | G42: =+G41 -> 5.3 | H42: =+H41 -> 9.9280281 | I42: =+I30*D42/D30 -> 0.29233986 | J42: =+J30*D42/D30 -> 0.31897762 | K42: 0 | L42: =+L30*(1+$L$6) -> 0 | M42: =+M30*(1+$M$6) -> 0 | N42: =+N41 -> 0.13333788 | O42: =+O30*D42/D30 -> 0.072219412 | P42: =+P30*D44/D30 -> 0.068004948 | Q42: =+Q30*(1+Q$6) -> 0.17414638 | R42: =+R30*(1+R$6) -> 0.3191242 | S42: =+S30*(1+S$6) -> 0.2301936 | T42: =+T30*(1+T$6) -> 0.00695358 | U42: =+U30*(1+$U$6) -> -0.045641644 | V42: =+V30 -> 0.040542058 | W42: =+W30 -> 721 | X42: =+X41 -> 0.07 | Y42: =+Y30 -> 0.30925205 | Z42: =+Z30 -> -0.00074906367 | AA42: =+AA30*0.995 -> 0.995 | AB42: =+W42*V42*AA42 -> 29.08467 | AC42: =+AB42*F42*(1+X42) -> 1068.7955 | AD42: =+AB42*I42*(1+X42) -> 9.0977908 | AE42: =+AB42*J42*(1+X42) -> 9.9267739 | AF42: =+AF41 -> 2104.5221 | AG42: =+H42*Z42*1000*(1+X42) -> -7.9572959 | AH42: =+K42*AVERAGE('Monthly Peak Data '!$Q$8:$Q$10)*(1+X42)*'Monthly Peak Data '!$M$40*1000 -> 0 | AI42: =+L42*(0.5*MAX('Monthly Peak Data '!$G$18:$G$19,'Monthly Peak Data '!$G$29)+0.5*(MAX('Monthly Peak Data '!$P$3:$P$14)))*(1+X42) -> 0 | AJ42: =+M42*0.25*MAX('Monthly Peak Data '!$P$3:$P$14)*(1+X42) -> 0 | AK42: =+VLOOKUP($B42,'Monthly Peak Data '!$L$3:$P$14,5,FALSE)*N42*(1+X42) -> -0.01902287 | AL42: =+VLOOKUP($B42,'Monthly Peak Data '!$L$3:$P$14,5,FALSE)*O42*(1+$X42) -> -0.010303303 | AM42: =+VLOOKUP($B42,'Monthly Peak Data '!$L$3:$P$14,5,FALSE)*P42*(1+$X42) -> -0.0097020393 | AN42: =+VLOOKUP($B42,'Monthly Peak Data '!$L$3:$P$14,5,FALSE)*Q42*(1+X42) -> -0.024844883 | AO42: =+R42*AB42*(1+X42) -> 9.9313355 | AP42: =+VLOOKUP($B42,'Monthly Peak Data '!$C$18:$G$29,5,FALSE)*(1+X42) -> 0.83685889 | AQ42: =+VLOOKUP($B42,'Monthly Peak Data '!$L$3:$P$14,5,FALSE)*T42*(1+X42) -> -0.00099204408 | AR42: =+VLOOKUP($B42,'Monthly Peak Data '!$C$3:$G$14,5,FALSE)*U42*(1+X42) -> 0.0071301376 | AS42: =+SUM(AG42:AR42) -> 2.7531635
A43: =1+A31 -> 2020 | B43: =+B31 -> 12 | C43: 59.75 | D43: 2.603 | E43: =+E31 -> 0.71583738 | F43: =+E43*C43 -> 42.771283 | G43: =+G42 -> 5.3 | H43: =+H42 -> 9.9280281 | I43: =+I31*D43/D31 -> 0.16031057 | J43: =+J31*D43/D31 -> 0.16138744 | K43: 0 | L43: =+L31*(1+$L$6) -> 0 | M43: =+M31*(1+$M$6) -> 0 | N43: =+N42 -> 0.13333788 | O43: =+O31*D43/D31 -> 0.049634752 | P43: =+P31*D45/D31 -> 0.04317002 | Q43: =+Q31*(1+Q$6) -> 0.17414638 | R43: =+R31*(1+R$6) -> 0.3191242 | S43: =+S31*(1+S$6) -> 0.2301936 | T43: =+T31*(1+T$6) -> 0.00695358 | U43: =+U31*(1+$U$6) -> -0.03492084 | V43: =+V31 -> 0.025858743 | W43: =+W31 -> 744 | X43: =+X42 -> 0.07 | Y43: =+Y31 -> 0.30925205 | Z43: =+Z31 -> -0.0049238855 | AA43: =+AA31*0.995 -> 0.995 | AB43: =+W43*V43*AA43 -> 19.14271 | AC43: =+AB43*F43*(1+X43) -> 876.07135 | AD43: =+AB43*I43*(1+X43) -> 3.2835933 | AE43: =+AB43*J43*(1+X43) -> 3.3056504 | AF43: =+AF42 -> 2104.5221 | AG43: =+H43*Z43*1000*(1+X43) -> -52.306386 | AH43: =+K43*AVERAGE('Monthly Peak Data '!$Q$8:$Q$10)*(1+X43)*'Monthly Peak Data '!$M$40*1000 -> 0 | AI43: =+L43*(0.5*MAX('Monthly Peak Data '!$G$18:$G$19,'Monthly Peak Data '!$G$29)+0.5*(MAX('Monthly Peak Data '!$P$3:$P$14)))*(1+X43) -> 0 | AJ43: =+M43*0.25*MAX('Monthly Peak Data '!$P$3:$P$14)*(1+X43) -> 0 | AK43: =+VLOOKUP($B43,'Monthly Peak Data '!$L$3:$P$14,5,FALSE)*N43*(1+X43) -> -0.12504469 | AL43: =+VLOOKUP($B43,'Monthly Peak Data '!$L$3:$P$14,5,FALSE)*O43*(1+$X43) -> -0.04654763 | AM43: =+VLOOKUP($B43,'Monthly Peak Data '!$L$3:$P$14,5,FALSE)*P43*(1+$X43) -> -0.040484984 | AN43: =+VLOOKUP($B43,'Monthly Peak Data '!$L$3:$P$14,5,FALSE)*Q43*(1+X43) -> -0.16331503 | AO43: =+R43*AB43*(1+X43) -> 6.5365251 | AP43: =+VLOOKUP($B43,'Monthly Peak Data '!$C$18:$G$29,5,FALSE)*(1+X43) -> 0 | AQ43: =+VLOOKUP($B43,'Monthly Peak Data '!$L$3:$P$14,5,FALSE)*T43*(1+X43) -> -0.0065210898 | AR43: =+VLOOKUP($B43,'Monthly Peak Data '!$C$3:$G$14,5,FALSE)*U43*(1+X43) -> 0.031633944 | AS43: =+SUM(AG43:AR43) -> -46.120141
A44: =1+A32 -> 2021 | B44: =+B32 -> 1 | C44: 76.94 | D44: 2.721 | E44: =+E32 -> 0.70389395 | F44: =+E44*C44 -> 54.157601 | G44: =+G43 -> 5.3 | H44: =+H43 -> 9.9280281 | I44: =+I32*D44/D32 -> 0.21466015 | J44: =+J32*D44/D32 -> 0.18075915 | K44: 0 | L44: =+L32*(1+$L$6) -> 0 | M44: =+M32*(1+$M$6) -> 0 | N44: =+N43 -> 0.13333788 | O44: =+O32*D44/D32 -> 0.060291867 | P44: =+P32*D46/D32 -> 0.050252913 | Q44: =+Q32*(1+Q$6) -> 0.17545247 | R44: =+R32*(1+R$6) -> 0.33571866 | S44: =+S32*(1+S$6) -> 0.23940134 | T44: =+T32*(1+T$6) -> 0.0068006012 | U44: =+U32*(1+$U$6) -> -0.041906855 | V44: =+V32 -> 0.022616097 | W44: =+W32 -> 744 | X44: =+X43 -> 0.07 | Y44: =+Y32 -> 0.30925205 | Z44: =+Z32 -> -0.0060846321 | AA44: =+AA32*0.995 -> 0.995 | AB44: =+W44*V44*AA44 -> 16.742245 | AC44: =+AB44*F44*(1+X44) -> 970.19018 | AD44: =+AB44*I44*(1+X44) -> 3.8454652 | AE44: =+AB44*J44*(1+X44) -> 3.2381558 | AF44: =+AF43 -> 2104.5221 | AG44: =+H44*Z44*1000*(1+X44) -> -64.636986 | AH44: =+K44*AVERAGE('Monthly Peak Data '!$Q$8:$Q$10)*(1+X44)*'Monthly Peak Data '!$M$40*1000 -> 0 | AI44: =+L44*(0.5*MAX('Monthly Peak Data '!$G$18:$G$19,'Monthly Peak Data '!$G$29)+0.5*(MAX('Monthly Peak Data '!$P$3:$P$14)))*(1+X44) -> 0 | AJ44: =+M44*0.25*MAX('Monthly Peak Data '!$P$3:$P$14)*(1+X44) -> 0 | AK44: =+VLOOKUP($B44,'Monthly Peak Data '!$L$3:$P$14,5,FALSE)*N44*(1+X44) -> -0.15452247 | AL44: =+VLOOKUP($B44,'Monthly Peak Data '!$L$3:$P$14,5,FALSE)*O44*(1+$X44) -> -0.069870981 | AM44: =+VLOOKUP($B44,'Monthly Peak Data '!$L$3:$P$14,5,FALSE)*P44*(1+$X44) -> -0.058237048 | AN44: =+VLOOKUP($B44,'Monthly Peak Data '!$L$3:$P$14,5,FALSE)*Q44*(1+X44) -> -0.20332819 | AO44: =+R44*AB44*(1+X44) -> 6.0141317 | AP44: =+VLOOKUP($B44,'Monthly Peak Data '!$C$18:$G$29,5,FALSE)*(1+X44) -> 0 | AQ44: =+VLOOKUP($B44,'Monthly Peak Data '!$L$3:$P$14,5,FALSE)*T44*(1+X44) -> -0.0078810742 | AR44: =+VLOOKUP($B44,'Monthly Peak Data '!$C$3:$G$14,5,FALSE)*U44*(1+X44) -> 0.046134918 | AS44: =+SUM(AG44:AR44) -> -59.07056
A45: =1+A33 -> 2021 | B45: =+B33 -> 2 | C45: 74.06 | D45: 2.686 | E45: =+E33 -> 0.91686751 | F45: =+E45*C45 -> 67.903208 | G45: =+G44 -> 5.3 | H45: =+H44 -> 9.9280281 | I45: =+I33*D45/D33 -> 0.21554515 | J45: =+J33*D45/D33 -> 0.31022531 | K45: 0 | L45: =+L33*(1+$L$6) -> 0 | M45: =+M33*(1+$M$6) -> 0 | N45: =+N44 -> 0.13333788 | O45: =+O33*D45/D33 -> 0.082160453 | P45: =+P33*D47/D33 -> 0.056927797 | Q45: =+Q33*(1+Q$6) -> 0.17545247 | R45: =+R33*(1+R$6) -> 0.33571866 | S45: =+S33*(1+S$6) -> 0.23940134 | T45: =+T33*(1+T$6) -> 0.0068006012 | U45: =+U33*(1+$U$6) -> -0.04675465 | V45: =+V33 -> 0.052674726 | W45: 672 | X45: =+X44 -> 0.07 | Y45: =+Y33 -> 0.30925205 | Z45: =+Z33 -> -0.0055317014 | AA45: =+AA33*0.995 -> 0.995 | AB45: =+W45*V45*AA45 -> 35.220429 | AC45: =+AB45*F45*(1+X45) -> 2558.9907 | AD45: =+AB45*I45*(1+X45) -> 8.123004 | AE45: =+AB45*J45*(1+X45) -> 11.691107 | AF45: =+AF44 -> 2104.5221 | AG45: =+H45*Z45*1000*(1+X45) -> -58.763209 | AH45: =+K45*AVERAGE('Monthly Peak Data '!$Q$8:$Q$10)*(1+X45)*'Monthly Peak Data '!$M$40*1000 -> 0 | AI45: =+L45*(0.5*MAX('Monthly Peak Data '!$G$18:$G$19,'Monthly Peak Data '!$G$29)+0.5*(MAX('Monthly Peak Data '!$P$3:$P$14)))*(1+X45) -> 0 | AJ45: =+M45*0.25*MAX('Monthly Peak Data '!$P$3:$P$14)*(1+X45) -> 0 | AK45: =+VLOOKUP($B45,'Monthly Peak Data '!$L$3:$P$14,5,FALSE)*N45*(1+X45) -> -0.1404805 | AL45: =+VLOOKUP($B45,'Monthly Peak Data '!$L$3:$P$14,5,FALSE)*O45*(1+$X45) -> -0.086561613 | AM45: =+VLOOKUP($B45,'Monthly Peak Data '!$L$3:$P$14,5,FALSE)*P45*(1+$X45) -> -0.059977297 | AN45: =+VLOOKUP($B45,'Monthly Peak Data '!$L$3:$P$14,5,FALSE)*Q45*(1+X45) -> -0.18485109 | AO45: =+R45*AB45*(1+X45) -> 12.651846 | AP45: =+VLOOKUP($B45,'Monthly Peak Data '!$C$18:$G$29,5,FALSE)*(1+X45) -> 1.6748048 | AQ45: =+VLOOKUP($B45,'Monthly Peak Data '!$L$3:$P$14,5,FALSE)*T45*(1+X45) -> -0.0071648949 | AR45: =+VLOOKUP($B45,'Monthly Peak Data '!$C$3:$G$14,5,FALSE)*U45*(1+X45) -> 0.053145259 | AS45: =+SUM(AG45:AR45) -> -44.862449
A46: =1+A34 -> 2021 | B46: =+B34 -> 3 | C46: 50.25 | D46: 2.574 | E46: =+E34 -> 0.77619976 | F46: =+E46*C46 -> 39.004038 | G46: =+G45 -> 5.3 | H46: =+H45 -> 9.9280281 | I46: =+I34*D46/D34 -> 0.18359704 | J46: =+J34*D46/D34 -> 0.27215518 | K46: 0 | L46: =+L34*(1+$L$6) -> 0 | M46: =+M34*(1+$M$6) -> 0 | N46: =+N45 -> 0.13333788 | O46: =+O34*D46/D34 -> 0.088257825 | P46: =+P34*D48/D34 -> 0.062756094 | Q46: =+Q34*(1+Q$6) -> 0.17545247 | R46: =+R34*(1+R$6) -> 0.33571866 | S46: =+S34*(1+S$6) -> 0.23940134 | T46: =+T34*(1+T$6) -> 0.0068006012 | U46: =+U34*(1+$U$6) -> -0.048337907 | V46: =+V34 -> 0.10095698 | W46: =+W34 -> 743 | X46: =+X45 -> 0.07 | Y46: =+Y34 -> 0.30925205 | Z46: =+Z34 -> 0.016072852 | AA46: =+AA34*0.995 -> 0.995 | AB46: =+W46*V46*AA46 -> 74.635984 | AC46: =+AB46*F46*(1+X46) -> 3114.8821 | AD46: =+AB46*I46*(1+X46) -> 14.662152 | AE46: =+AB46*J46*(1+X46) -> 21.73445 | AF46: =+AF45 -> 2104.5221 | AG46: =+H46*Z46*1000*(1+X46) -> 170.74175 | AH46: =+K46*AVERAGE('Monthly Peak Data '!$Q$8:$Q$10)*(1+X46)*'Monthly Peak Data '!$M$40*1000 -> 0 | AI46: =+L46*(0.5*MAX('Monthly Peak Data '!$G$18:$G$19,'Monthly Peak Data '!$G$29)+0.5*(MAX('Monthly Peak Data '!$P$3:$P$14)))*(1+X46) -> 0 | AJ46: =+M46*0.25*MAX('Monthly Peak Data '!$P$3:$P$14)*(1+X46) -> 0 | AK46: =+VLOOKUP($B46,'Monthly Peak Data '!$L$3:$P$14,5,FALSE)*N46*(1+X46) -> 0.40817864 | AL46: =+VLOOKUP($B46,'Monthly Peak Data '!$L$3:$P$14,5,FALSE)*O46*(1+$X46) -> 0.27017798 | AM46: =+VLOOKUP($B46,'Monthly Peak Data '!$L$3:$P$14,5,FALSE)*P46*(1+$X46) -> 0.19211118 | AN46: =+VLOOKUP($B46,'Monthly Peak Data '!$L$3:$P$14,5,FALSE)*Q46*(1+X46) -> 0.53710134 | AO46: =+R46*AB46*(1+X46) -> 26.810661 | AP46: =+VLOOKUP($B46,'Monthly Peak Data '!$C$18:$G$29,5,FALSE)*(1+X46) -> 0.04003871 | AQ46: =+VLOOKUP($B46,'Monthly Peak Data '!$L$3:$P$14,5,FALSE)*T46*(1+X46) -> 0.020818242 | AR46: =+VLOOKUP($B46,'Monthly Peak Data '!$C$3:$G$14,5,FALSE)*U46*(1+X46) -> 0.0088844293 | AS46: =+SUM(AG46:AR46) -> 199.02972
A47: =1+A35 -> 2021 | B47: =+B35 -> 4 | C47: 34.5 | D47: 2.322 | E47: =+E35 -> 0.85629918 | F47: =+E47*C47 -> 29.542322 | G47: =+G46 -> 5.3 | H47: =+H46 -> 9.9280281 | I47: =+I35*D47/D35 -> 0.13528084 | J47: =+J35*D47/D35 -> 0.23489272 | K47: 0 | L47: =+L35*(1+$L$6) -> 0 | M47: =+M35*(1+$M$6) -> 0 | N47: =+N46 -> 0.13333788 | O47: =+O35*D47/D35 -> 0.095393202 | P47: =+P35*D49/D35 -> 0.088695159 | Q47: =+Q35*(1+Q$6) -> 0.17545247 | R47: =+R35*(1+R$6) -> 0.33571866 | S47: =+S35*(1+S$6) -> 0.23940134 | T47: =+T35*(1+T$6) -> 0.0068006012 | U47: =+U35*(1+$U$6) -> -0.05115826 | V47: =+V35 -> 0.14691858 | W47: =+W35 -> 720 | X47: =+X46 -> 0.07 | Y47: =+Y35 -> 0.30925205 | Z47: =+Z35 -> 0.0026413858 | AA47: =+AA35*0.995 -> 0.995 | AB47: =+W47*V47*AA47 -> 105.25247 | AC47: =+AB47*F47*(1+X47) -> 3327.0605 | AD47: =+AB47*I47*(1+X47) -> 15.235347 | AE47: =+AB47*J47*(1+X47) -> 26.453651 | AF47: =+AF46 -> 2104.5221 | AG47: =+H47*Z47*1000*(1+X47) -> 28.059415 | AH47: =+K47*AVERAGE('Monthly Peak Data '!$Q$8:$Q$10)*(1+X47)*'Monthly Peak Data '!$M$40*1000 -> 0 | AI47: =+L47*(0.5*MAX('Monthly Peak Data '!$G$18:$G$19,'Monthly Peak Data '!$G$29)+0.5*(MAX('Monthly Peak Data '!$P$3:$P$14)))*(1+X47) -> 0 | AJ47: =+M47*0.25*MAX('Monthly Peak Data '!$P$3:$P$14)*(1+X47) -> 0 | AK47: =+VLOOKUP($B47,'Monthly Peak Data '!$L$3:$P$14,5,FALSE)*N47*(1+X47) -> 0.067079397 | AL47: =+VLOOKUP($B47,'Monthly Peak Data '!$L$3:$P$14,5,FALSE)*O47*(1+$X47) -> 0.047990253 | AM47: =+VLOOKUP($B47,'Monthly Peak Data '!$L$3:$P$14,5,FALSE)*P47*(1+$X47) -> 0.044620613 | AN47: =+VLOOKUP($B47,'Monthly Peak Data '!$L$3:$P$14,5,FALSE)*Q47*(1+X47) -> 0.088266338 | AO47: =+R47*AB47*(1+X47) -> 37.808683 | AP47: =+VLOOKUP($B47,'Monthly Peak Data '!$C$18:$G$29,5,FALSE)*(1+X47) -> 142.15604 | AQ47: =+VLOOKUP($B47,'Monthly Peak Data '!$L$3:$P$14,5,FALSE)*T47*(1+X47) -> 0.0034212351 | AR47: =+VLOOKUP($B47,'Monthly Peak Data '!$C$3:$G$14,5,FALSE)*U47*(1+X47) -> 0.0075905215 | AS47: =+SUM(AG47:AR47) -> 208.28311
A48: =1+A36 -> 2021 | B48: =+B36 -> 5 | C48: 28.95 | D48: 2.305 | E48: =+E36 -> 0.82264045 | F48: =+E48*C48 -> 23.815441 | G48: =+G47 -> 5.3 | H48: =+H47 -> 9.9280281 | I48: =+I36*D48/D36 -> 0.1262537 | J48: =+J36*D48/D36 -> 0.23560661 | K48: 0 | L48: =+L36*(1+$L$6) -> 0 | M48: =+M36*(1+$M$6) -> 0 | N48: =+N47 -> 0.13333788 | O48: =+O36*D48/D36 -> 0.098077579 | P48: =+P36*D50/D36 -> 0.11983124 | Q48: =+Q36*(1+Q$6) -> 0.17545247 | R48: =+R36*(1+R$6) -> 0.33571866 | S48: =+S36*(1+S$6) -> 0.23940134 | T48: =+T36*(1+T$6) -> 0.0068006012 | U48: =+U36*(1+$U$6) -> -0.065234544 | V48: =+V36 -> 0.20374675 | W48: =+W36 -> 744 | X48: =+X47 -> 0.07 | Y48: =+Y36 -> 0.30925205 | Z48: =+Z36 -> 0.11317959 | AA48: =+AA36*0.995 -> 0.995 | AB48: =+W48*V48*AA48 -> 150.82965 | AC48: =+AB48*F48*(1+X48) -> 3843.5197 | AD48: =+AB48*I48*(1+X48) -> 20.375798 | AE48: =+AB48*J48*(1+X48) -> 38.024014 | AF48: =+AF47 -> 2104.5221 | AG48: =+H48*Z48*1000*(1+X48) -> 1202.3057 | AH48: =+K48*AVERAGE('Monthly Peak Data '!$Q$8:$Q$10)*(1+X48)*'Monthly Peak Data '!$M$40*1000 -> 0 | AI48: =+L48*(0.5*MAX('Monthly Peak Data '!$G$18:$G$19,'Monthly Peak Data '!$G$29)+0.5*(MAX('Monthly Peak Data '!$P$3:$P$14)))*(1+X48) -> 0 | AJ48: =+M48*0.25*MAX('Monthly Peak Data '!$P$3:$P$14)*(1+X48) -> 0 | AK48: =+VLOOKUP($B48,'Monthly Peak Data '!$L$3:$P$14,5,FALSE)*N48*(1+X48) -> 2.874256 | AL48: =+VLOOKUP($B48,'Monthly Peak Data '!$L$3:$P$14,5,FALSE)*O48*(1+$X48) -> 2.1141785 | AM48: =+VLOOKUP($B48,'Monthly Peak Data '!$L$3:$P$14,5,FALSE)*P48*(1+$X48) -> 2.5831045 | AN48: =+VLOOKUP($B48,'Monthly Peak Data '!$L$3:$P$14,5,FALSE)*Q48*(1+X48) -> 3.782086 | AO48: =+R48*AB48*(1+X48) -> 54.180869 | AP48: =+VLOOKUP($B48,'Monthly Peak Data '!$C$18:$G$29,5,FALSE)*(1+X48) -> 0.49346559 | AQ48: =+VLOOKUP($B48,'Monthly Peak Data '!$L$3:$P$14,5,FALSE)*T48*(1+X48) -> 0.14659502 | AR48: =+VLOOKUP($B48,'Monthly Peak Data '!$C$3:$G$14,5,FALSE)*U48*(1+X48) -> -1.4062079 | AS48: =+SUM(AG48:AR48) -> 1267.074
A49: =1+A37 -> 2021 | B49: =+B37 -> 6 | C49: 28.95 | D49: 2.338 | E49: =+E37 -> 0.93665801 | F49: =+E49*C49 -> 27.116249 | G49: 4.63 | H49: =+H37*(1+$H$6) -> 10.5664 | I49: =+I37*D49/D37 -> 0.13926769 | J49: =+J37*D49/D37 -> 0.46412455 | K49: 0 | L49: =+L37*(1+$L$6) -> 0 | M49: =+M37*(1+$M$6) -> 0 | N49: =+N37*(1+$N$6) -> 0.1338939 | O49: =+O37*D49/D37 -> 0.077164813 | P49: =+P37*D51/D37 -> 0.090063153 | Q49: =+Q37*(1+Q$6) -> 0.17545247 | R49: =+R37*(1+R$6) -> 0.33571866 | S49: =+S37*(1+S$6) -> 0.23940134 | T49: =+T37*(1+T$6) -> 0.0068006012 | U49: =+U37*(1+$U$6) -> -0.056531758 | V49: =+V37 -> 0.22707631 | W49: =+W37 -> 720 | X49: =+X48 -> 0.07 | Y49: =+Y37 -> 0.30925205 | Z49: =+Z37 -> 0.0017649813 | AA49: =+AA37*0.995 -> 0.995 | AB49: =+W49*V49*AA49 -> 162.67747 | AC49: =+AB49*F49*(1+X49) -> 4719.987 | AD49: =+AB49*I49*(1+X49) -> 24.241615 | AE49: =+AB49*J49*(1+X49) -> 80.787789 | AF49: =+Y38*G49*1000*1.2*(1+X38) -> 1838.4787 | AG49: =+H49*Z49*1000*(1+X49) -> 19.954964 | AH49: =+K49*AVERAGE('Monthly Peak Data '!$Q$8:$Q$10)*(1+X49)*'Monthly Peak Data '!$M$40*1000 -> 0 | AI49: =+L49*(0.5*MAX('Monthly Peak Data '!$G$18:$G$19,'Monthly Peak Data '!$G$29)+0.5*(MAX('Monthly Peak Data '!$P$3:$P$14)))*(1+X49) -> 0 | AJ49: =+M49*0.25*MAX('Monthly Peak Data '!$P$3:$P$14)*(1+X49) -> 0 | AK49: =+VLOOKUP($B49,'Monthly Peak Data '!$L$3:$P$14,5,FALSE)*N49*(1+X49) -> 0.045009549 | AL49: =+VLOOKUP($B49,'Monthly Peak Data '!$L$3:$P$14,5,FALSE)*O49*(1+$X49) -> 0.025939595 | AM49: =+VLOOKUP($B49,'Monthly Peak Data '!$L$3:$P$14,5,FALSE)*P49*(1+$X49) -> 0.030275479 | AN49: =+VLOOKUP($B49,'Monthly Peak Data '!$L$3:$P$14,5,FALSE)*Q49*(1+X49) -> 0.058979811 | AO49: =+R49*AB49*(1+X49) -> 58.436832 | AP49: =+VLOOKUP($B49,'Monthly Peak Data '!$C$18:$G$29,5,FALSE)*(1+X49) -> 339.51849 | AQ49: =+VLOOKUP($B49,'Monthly Peak Data '!$L$3:$P$14,5,FALSE)*T49*(1+X49) -> 0.0022860788 | AR49: =+VLOOKUP($B49,'Monthly Peak Data '!$C$3:$G$14,5,FALSE)*U49*(1+X49) -> -2.9535862 | AS49: =+SUM(AG49:AR49) -> 415.11919
A50: =1+A38 -> 2021 | B50: =+B38 -> 7 | C50: 35.84 | D50: 2.373 | E50: =+E38 -> 0.86933578 | F50: =+E50*C50 -> 31.156994 | G50: =+G49 -> 4.63 | H50: =+H49 -> 10.5664 | I50: =+I38*D50/D38 -> 0.2104324 | J50: =+J38*D50/D38 -> 0.39761059 | K50: 0 | L50: =+L38*(1+$L$6) -> 0 | M50: =+M38*(1+$M$6) -> 0 | N50: =+N49 -> 0.1338939 | O50: =+O38*D50/D38 -> 0.07231736 | P50: =+P38*D52/D38 -> 0.082433595 | Q50: =+Q38*(1+Q$6) -> 0.17545247 | R50: =+R38*(1+R$6) -> 0.33571866 | S50: =+S38*(1+S$6) -> 0.23940134 | T50: =+T38*(1+T$6) -> 0.0068006012 | U50: =+U38*(1+$U$6) -> -0.047430441 | V50: =+V38 -> 0.24032926 | W50: =+W38 -> 744 | X50: =+X49 -> 0.07 | Y50: =+Y38 -> 0.30925205 | Z50: =+Z38 -> 0.0017832548 | AA50: =+AA38*0.995 -> 0.990025 | AB50: =+W50*V50*AA50 -> 177.02139 | AC50: =+AB50*F50*(1+X50) -> 5901.5363 | AD50: =+AB50*I50*(1+X50) -> 39.858608 | AE50: =+AB50*J50*(1+X50) -> 75.312571 | AF50: =+AF49 -> 1838.4787 | AG50: =+H50*Z50*1000*(1+X50) -> 20.161565 | AH50: =+K50*AVERAGE('Monthly Peak Data '!$Q$8:$Q$10)*(1+X50)*'Monthly Peak Data '!$M$40*1000 -> 0 | AI50: =+L50*(0.5*MAX('Monthly Peak Data '!$G$18:$G$19,'Monthly Peak Data '!$G$29)+0.5*(MAX('Monthly Peak Data '!$P$3:$P$14)))*(1+X50) -> 0 | AJ50: =+M50*0.25*MAX('Monthly Peak Data '!$P$3:$P$14)*(1+X50) -> 0 | AK50: =+VLOOKUP($B50,'Monthly Peak Data '!$L$3:$P$14,5,FALSE)*N50*(1+X50) -> 0.04547555 | AL50: =+VLOOKUP($B50,'Monthly Peak Data '!$L$3:$P$14,5,FALSE)*O50*(1+$X50) -> 0.024561775 | AM50: =+VLOOKUP($B50,'Monthly Peak Data '!$L$3:$P$14,5,FALSE)*P50*(1+$X50) -> 0.02799764 | AN50: =+VLOOKUP($B50,'Monthly Peak Data '!$L$3:$P$14,5,FALSE)*Q50*(1+X50) -> 0.059590451 | AO50: =+R50*AB50*(1+X50) -> 63.589441 | AP50: =+VLOOKUP($B50,'Monthly Peak Data '!$C$18:$G$29,5,FALSE)*(1+X50) -> 108.68772 | AQ50: =+VLOOKUP($B50,'Monthly Peak Data '!$L$3:$P$14,5,FALSE)*T50*(1+X50) -> 0.0023097474 | AR50: =+VLOOKUP($B50,'Monthly Peak Data '!$C$3:$G$14,5,FALSE)*U50*(1+X50) -> -2.7493631 | AS50: =+SUM(AG50:AR50) -> 189.8493
A51: =1+A39 -> 2021 | B51: =+B39 -> 8 | C51: 34.16 | D51: 2.381 | E51: =+E39 -> 0.89082638 | F51: =+E51*C51 -> 30.430629 | G51: =+G50 -> 4.63 | H51: =+H50 -> 10.5664 | I51: =+I39*D51/D39 -> 0.18330163 | J51: =+J39*D51/D39 -> 0.47327177 | K51: 0 | L51: =+L39*(1+$L$6) -> 0 | M51: =+M39*(1+$M$6) -> 0 | N51: =+N50 -> 0.1338939 | O51: =+O39*D51/D39 -> 0.053869881 | P51: =+P39*D53/D39 -> 0.038390206 | Q51: =+Q39*(1+Q$6) -> 0.17545247 | R51: =+R39*(1+R$6) -> 0.33571866 | S51: =+S39*(1+S$6) -> 0.23940134 | T51: =+T39*(1+T$6) -> 0.0068006012 | U51: =+U39*(1+$U$6) -> -0.073806448 | V51: =+V39 -> 0.20131777 | W51: =+W39 -> 744 | X51: =+X50 -> 0.07 | Y51: =+Y39 -> 0.30925205 | Z51: =+Z39 -> 0.099775281 | AA51: =+AA39*0.995 -> 0.990025 | AB51: =+W51*V51*AA51 -> 148.28636 | AC51: =+AB51*F51*(1+X51) -> 4828.3186 | AD51: =+AB51*I51*(1+X51) -> 29.083811 | AE51: =+AB51*J51*(1+X51) -> 75.092331 | AF51: =+AF50 -> 1838.4787 | AG51: =+H51*Z51*1000*(1+X51) -> 1128.0641 | AH51: =+K51*AVERAGE('Monthly Peak Data '!$Q$8:$Q$10)*(1+X51)*'Monthly Peak Data '!$M$40*1000 -> 0 | AI51: =+L51*(0.5*MAX('Monthly Peak Data '!$G$18:$G$19,'Monthly Peak Data '!$G$29)+0.5*(MAX('Monthly Peak Data '!$P$3:$P$14)))*(1+X51) -> 0 | AJ51: =+M51*0.25*MAX('Monthly Peak Data '!$P$3:$P$14)*(1+X51) -> 0 | AK51: =+VLOOKUP($B51,'Monthly Peak Data '!$L$3:$P$14,5,FALSE)*N51*(1+X51) -> 2.5444125 | AL51: =+VLOOKUP($B51,'Monthly Peak Data '!$L$3:$P$14,5,FALSE)*O51*(1+$X51) -> 1.0237001 | AM51: =+VLOOKUP($B51,'Monthly Peak Data '!$L$3:$P$14,5,FALSE)*P51*(1+$X51) -> 0.72953677 | AN51: =+VLOOKUP($B51,'Monthly Peak Data '!$L$3:$P$14,5,FALSE)*Q51*(1+X51) -> 3.3341584 | AO51: =+R51*AB51*(1+X51) -> 53.267273 | AP51: =+VLOOKUP($B51,'Monthly Peak Data '!$C$18:$G$29,5,FALSE)*(1+X51) -> 251.79574 | AQ51: =+VLOOKUP($B51,'Monthly Peak Data '!$L$3:$P$14,5,FALSE)*T51*(1+X51) -> 0.12923319 | AR51: =+VLOOKUP($B51,'Monthly Peak Data '!$C$3:$G$14,5,FALSE)*U51*(1+X51) -> -4.9072231 | AS51: =+SUM(AG51:AR51) -> 1435.981
A52: =1+A40 -> 2021 | B52: =+B40 -> 9 | C52: 31.95 | D52: 2.371 | E52: =+E40 -> 1.1928111 | F52: =+E52*C52 -> 38.110315 | G52: =+G51 -> 4.63 | H52: =+H51 -> 10.5664 | I52: =+I40*D52/D40 -> 0.28426055 | J52: =+J40*D52/D40 -> 0.91186432 | K52: 0 | L52: =+L40*(1+$L$6) -> 0 | M52: =+M40*(1+$M$6) -> 0 | N52: =+N51 -> 0.1338939 | O52: =+O40*D52/D40 -> 0.055914138 | P52: =+P40*D54/D40 -> 0.040922167 | Q52: =+Q40*(1+Q$6) -> 0.17545247 | R52: =+R40*(1+R$6) -> 0.33571866 | S52: =+S40*(1+S$6) -> 0.23940134 | T52: =+T40*(1+T$6) -> 0.0068006012 | U52: =+U40*(1+$U$6) -> -0.066979483 | V52: =+V40 -> 0.16869507 | W52: =+W40 -> 720 | X52: =+X51 -> 0.07 | Y52: =+Y40 -> 0.30925205 | Z52: =+Z40 -> -0.00041385768 | AA52: =+AA40*0.995 -> 0.990025 | AB52: =+W52*V52*AA52 -> 120.24888 | AC52: =+AB52*F52*(1+X52) -> 4903.5134 | AD52: =+AB52*I52*(1+X52) -> 36.574754 | AE52: =+AB52*J52*(1+X52) -> 117.32621 | AF52: =+AF51 -> 1838.4787 | AG52: =+H52*Z52*1000*(1+X52) -> -4.6790949 | AH52: =+K52*AVERAGE('Monthly Peak Data '!$Q$8:$Q$10)*(1+X52)*'Monthly Peak Data '!$M$40*1000 -> 0 | AI52: =+L52*(0.5*MAX('Monthly Peak Data '!$G$18:$G$19,'Monthly Peak Data '!$G$29)+0.5*(MAX('Monthly Peak Data '!$P$3:$P$14)))*(1+X52) -> 0 | AJ52: =+M52*0.25*MAX('Monthly Peak Data '!$P$3:$P$14)*(1+X52) -> 0 | AK52: =+VLOOKUP($B52,'Monthly Peak Data '!$L$3:$P$14,5,FALSE)*N52*(1+X52) -> -0.010553963 | AL52: =+VLOOKUP($B52,'Monthly Peak Data '!$L$3:$P$14,5,FALSE)*O52*(1+$X52) -> -0.0044073387 | AM52: =+VLOOKUP($B52,'Monthly Peak Data '!$L$3:$P$14,5,FALSE)*P52*(1+$X52) -> -0.0032256216 | AN52: =+VLOOKUP($B52,'Monthly Peak Data '!$L$3:$P$14,5,FALSE)*Q52*(1+X52) -> -0.013829749 | AO52: =+R52*AB52*(1+X52) -> 43.195679 | AP52: =+VLOOKUP($B52,'Monthly Peak Data '!$C$18:$G$29,5,FALSE)*(1+X52) -> 0.31838444 | AQ52: =+VLOOKUP($B52,'Monthly Peak Data '!$L$3:$P$14,5,FALSE)*T52*(1+X52) -> -0.00053604606 | AR52: =+VLOOKUP($B52,'Monthly Peak Data '!$C$3:$G$14,5,FALSE)*U52*(1+X52) -> -3.4605633 | AS52: =+SUM(AG52:AR52) -> 35.341852
A53: =1+A41 -> 2021 | B53: =+B41 -> 10 | C53: 30.6 | D53: 2.397 | E53: =+E41 -> 0.94018245 | F53: =+E53*C53 -> 28.769583 | G53: =+G52 -> 4.63 | H53: =+H52 -> 10.5664 | I53: =+I41*D53/D41 -> 0.21377569 | J53: =+J41*D53/D41 -> 0.30852973 | K53: 0 | L53: =+L41*(1+$L$6) -> 0 | M53: =+M41*(1+$M$6) -> 0 | N53: =+N52 -> 0.1338939 | O53: =+O41*D53/D41 -> 0.074659909 | P53: =+P41*D55/D41 -> 0.073713122 | Q53: =+Q41*(1+Q$6) -> 0.17545247 | R53: =+R41*(1+R$6) -> 0.33571866 | S53: =+S41*(1+S$6) -> 0.23940134 | T53: =+T41*(1+T$6) -> 0.0068006012 | U53: =+U41*(1+$U$6) -> -0.067642133 | V53: =+V41 -> 0.10010137 | W53: =+W41 -> 744 | X53: =+X52 -> 0.07 | Y53: =+Y41 -> 0.30925205 | Z53: =+Z41 -> -0.00030898876 | AA53: =+AA41*0.995 -> 0.990025 | AB53: =+W53*V53*AA53 -> 73.732529 | AC53: =+AB53*F53*(1+X53) -> 2269.7419 | AD53: =+AB53*I53*(1+X53) -> 16.865578 | AE53: =+AB53*J53*(1+X53) -> 24.341085 | AF53: =+AF52 -> 1838.4787 | AG53: =+H53*Z53*1000*(1+X53) -> -3.4934419 | AH53: =+K53*AVERAGE('Monthly Peak Data '!$Q$8:$Q$10)*(1+X53)*'Monthly Peak Data '!$M$40*1000 -> 0 | AI53: =+L53*(0.5*MAX('Monthly Peak Data '!$G$18:$G$19,'Monthly Peak Data '!$G$29)+0.5*(MAX('Monthly Peak Data '!$P$3:$P$14)))*(1+X53) -> 0 | AJ53: =+M53*0.25*MAX('Monthly Peak Data '!$P$3:$P$14)*(1+X53) -> 0 | AK53: =+VLOOKUP($B53,'Monthly Peak Data '!$L$3:$P$14,5,FALSE)*N53*(1+X53) -> -0.0078796558 | AL53: =+VLOOKUP($B53,'Monthly Peak Data '!$L$3:$P$14,5,FALSE)*O53*(1+$X53) -> -0.0043937356 | AM53: =+VLOOKUP($B53,'Monthly Peak Data '!$L$3:$P$14,5,FALSE)*P53*(1+$X53) -> -0.0043380172 | AN53: =+VLOOKUP($B53,'Monthly Peak Data '!$L$3:$P$14,5,FALSE)*Q53*(1+X53) -> -0.010325378 | AO53: =+R53*AB53*(1+X53) -> 26.486123 | AP53: =+VLOOKUP($B53,'Monthly Peak Data '!$C$18:$G$29,5,FALSE)*(1+X53) -> 0.51383011 | AQ53: =+VLOOKUP($B53,'Monthly Peak Data '!$L$3:$P$14,5,FALSE)*T53*(1+X53) -> -0.00040021538 | AR53: =+VLOOKUP($B53,'Monthly Peak Data '!$C$3:$G$14,5,FALSE)*U53*(1+X53) -> 0.0084984704 | AS53: =+SUM(AG53:AR53) -> 23.487672
A54: =1+A42 -> 2021 | B54: =+B42 -> 11 | C54: 39.9 | D54: 2.455 | E54: =+E42 -> 0.84486275 | F54: =+E54*C54 -> 33.710024 | G54: =+G53 -> 4.63 | H54: =+H53 -> 10.5664 | I54: =+I42*D54/D42 -> 0.29341551 | J54: =+J42*D54/D42 -> 0.32015129 | K54: 0 | L54: =+L42*(1+$L$6) -> 0 | M54: =+M42*(1+$M$6) -> 0 | N54: =+N53 -> 0.1338939 | O54: =+O42*D54/D42 -> 0.072485141 | P54: =+P42*D56/D42 -> 0.076623727 | Q54: =+Q42*(1+Q$6) -> 0.17545247 | R54: =+R42*(1+R$6) -> 0.33571866 | S54: =+S42*(1+S$6) -> 0.23940134 | T54: =+T42*(1+T$6) -> 0.0068006012 | U54: =+U42*(1+$U$6) -> -0.045641644 | V54: =+V42 -> 0.040542058 | W54: =+W42 -> 721 | X54: =+X53 -> 0.07 | Y54: =+Y42 -> 0.30925205 | Z54: =+Z42 -> -0.00074906367 | AA54: =+AA42*0.995 -> 0.990025 | AB54: =+W54*V54*AA54 -> 28.939247 | AC54: =+AB54*F54*(1+X54) -> 1043.8307 | AD54: =+AB54*I54*(1+X54) -> 9.0856096 | AE54: =+AB54*J54*(1+X54) -> 9.9134827 | AF54: =+AF53 -> 1838.4787 | AG54: =+H54*Z54*1000*(1+X54) -> -8.4689501 | AH54: =+K54*AVERAGE('Monthly Peak Data '!$Q$8:$Q$10)*(1+X54)*'Monthly Peak Data '!$M$40*1000 -> 0 | AI54: =+L54*(0.5*MAX('Monthly Peak Data '!$G$18:$G$19,'Monthly Peak Data '!$G$29)+0.5*(MAX('Monthly Peak Data '!$P$3:$P$14)))*(1+X54) -> 0 | AJ54: =+M54*0.25*MAX('Monthly Peak Data '!$P$3:$P$14)*(1+X54) -> 0 | AK54: =+VLOOKUP($B54,'Monthly Peak Data '!$L$3:$P$14,5,FALSE)*N54*(1+X54) -> -0.019102196 | AL54: =+VLOOKUP($B54,'Monthly Peak Data '!$L$3:$P$14,5,FALSE)*O54*(1+$X54) -> -0.010341214 | AM54: =+VLOOKUP($B54,'Monthly Peak Data '!$L$3:$P$14,5,FALSE)*P54*(1+$X54) -> -0.010931652 | AN54: =+VLOOKUP($B54,'Monthly Peak Data '!$L$3:$P$14,5,FALSE)*Q54*(1+X54) -> -0.025031219 | AO54: =+R54*AB54*(1+X54) -> 10.395526 | AP54: =+VLOOKUP($B54,'Monthly Peak Data '!$C$18:$G$29,5,FALSE)*(1+X54) -> 0.83685889 | AQ54: =+VLOOKUP($B54,'Monthly Peak Data '!$L$3:$P$14,5,FALSE)*T54*(1+X54) -> -0.00097021911 | AR54: =+VLOOKUP($B54,'Monthly Peak Data '!$C$3:$G$14,5,FALSE)*U54*(1+X54) -> 0.0071301376 | AS54: =+SUM(AG54:AR54) -> 2.7041886
A55: =1+A43 -> 2021 | B55: =+B43 -> 12 | C55: 59 | D55: 2.631 | E55: =+E43 -> 0.71583738 | F55: =+E55*C55 -> 42.234405 | G55: =+G54 -> 4.63 | H55: =+H54 -> 10.5664 | I55: =+I43*D55/D43 -> 0.162035 | J55: =+J43*D55/D43 -> 0.16312345 | K55: 0 | L55: =+L43*(1+$L$6) -> 0 | M55: =+M43*(1+$M$6) -> 0 | N55: =+N54 -> 0.1338939 | O55: =+O43*D55/D43 -> 0.050168664 | P55: =+P43*D57/D43 -> 0.045276279 | Q55: =+Q43*(1+Q$6) -> 0.17545247 | R55: =+R43*(1+R$6) -> 0.33571866 | S55: =+S43*(1+S$6) -> 0.23940134 | T55: =+T43*(1+T$6) -> 0.0068006012 | U55: =+U43*(1+$U$6) -> -0.03492084 | V55: =+V43 -> 0.025858743 | W55: =+W43 -> 744 | X55: =+X54 -> 0.07 | Y55: =+Y43 -> 0.30925205 | Z55: =+Z43 -> -0.0049238855 | AA55: =+AA43*0.995 -> 0.990025 | AB55: =+W55*V55*AA55 -> 19.046996 | AC55: =+AB55*F55*(1+X55) -> 860.74927 | AD55: =+AB55*I55*(1+X55) -> 3.3023198 | AE55: =+AB55*J55*(1+X55) -> 3.3245027 | AF55: =+AF54 -> 1838.4787 | AG55: =+H55*Z55*1000*(1+X55) -> -55.669687 | AH55: =+K55*AVERAGE('Monthly Peak Data '!$Q$8:$Q$10)*(1+X55)*'Monthly Peak Data '!$M$40*1000 -> 0 | AI55: =+L55*(0.5*MAX('Monthly Peak Data '!$G$18:$G$19,'Monthly Peak Data '!$G$29)+0.5*(MAX('Monthly Peak Data '!$P$3:$P$14)))*(1+X55) -> 0 | AJ55: =+M55*0.25*MAX('Monthly Peak Data '!$P$3:$P$14)*(1+X55) -> 0 | AK55: =+VLOOKUP($B55,'Monthly Peak Data '!$L$3:$P$14,5,FALSE)*N55*(1+X55) -> -0.12556613 | AL55: =+VLOOKUP($B55,'Monthly Peak Data '!$L$3:$P$14,5,FALSE)*O55*(1+$X55) -> -0.047048335 | AM55: =+VLOOKUP($B55,'Monthly Peak Data '!$L$3:$P$14,5,FALSE)*P55*(1+$X55) -> -0.042460241 | AN55: =+VLOOKUP($B55,'Monthly Peak Data '!$L$3:$P$14,5,FALSE)*Q55*(1+X55) -> -0.16453989 | AO55: =+R55*AB55*(1+X55) -> 6.8420423 | AP55: =+VLOOKUP($B55,'Monthly Peak Data '!$C$18:$G$29,5,FALSE)*(1+X55) -> 0 | AQ55: =+VLOOKUP($B55,'Monthly Peak Data '!$L$3:$P$14,5,FALSE)*T55*(1+X55) -> -0.0063776258 | AR55: =+VLOOKUP($B55,'Monthly Peak Data '!$C$3:$G$14,5,FALSE)*U55*(1+X55) -> 0.031633944 | AS55: =+SUM(AG55:AR55) -> -49.182003
A56: =1+A44 -> 2022 | B56: =+B44 -> 1 | C56: =+D56*C44/D44 -> 77.929673 | D56: 2.756 | E56: =+E44 -> 0.70389395 | F56: =+E56*C56 -> 54.854226 | G56: =+G55 -> 4.63 | H56: =+H55 -> 10.5664 | I56: =+I44*D56/D44 -> 0.2174213 | J56: =+J44*D56/D44 -> 0.18308424 | K56: 0 | L56: =+L44*(1+$L$6) -> 0 | M56: =+M44*(1+$M$6) -> 0 | N56: =+N55 -> 0.1338939 | O56: =+O44*D56/D44 -> 0.061067396 | P56: =+P44*D58/D44 -> 0.048313716 | Q56: =+Q44*(1+Q$6) -> 0.17676837 | R56: =+R44*(1+R$6) -> 0.35317603 | S56: =+S44*(1+S$6) -> 0.2489774 | T56: =+T44*(1+T$6) -> 0.006650988 | U56: =+U44*(1+$U$6) -> -0.041906855 | V56: =+V44 -> 0.022616097 | W56: =+W44 -> 744 | X56: =+X55 -> 0.07 | Y56: =+Y44 -> 0.30925205 | Z56: =+Z44 -> -0.0060846321 | AA56: =+AA44*0.995 -> 0.990025 | AB56: =+W56*V56*AA56 -> 16.658533 | AC56: =+AB56*F56*(1+X56) -> 977.75631 | AD56: =+AB56*I56*(1+X56) -> 3.8754544 | AE56: =+AB56*J56*(1+X56) -> 3.2634089 | AF56: =+AF55 -> 1838.4787 | AG56: =+H56*Z56*1000*(1+X56) -> -68.793145 | AH56: =+K56*AVERAGE('Monthly Peak Data '!$Q$8:$Q$10)*(1+X56)*'Monthly Peak Data '!$M$40*1000 -> 0 | AI56: =+L56*(0.5*MAX('Monthly Peak Data '!$G$18:$G$19,'Monthly Peak Data '!$G$29)+0.5*(MAX('Monthly Peak Data '!$P$3:$P$14)))*(1+X56) -> 0 | AJ56: =+M56*0.25*MAX('Monthly Peak Data '!$P$3:$P$14)*(1+X56) -> 0 | AK56: =+VLOOKUP($B56,'Monthly Peak Data '!$L$3:$P$14,5,FALSE)*N56*(1+X56) -> -0.15516683 | AL56: =+VLOOKUP($B56,'Monthly Peak Data '!$L$3:$P$14,5,FALSE)*O56*(1+$X56) -> -0.070769725 | AM56: =+VLOOKUP($B56,'Monthly Peak Data '!$L$3:$P$14,5,FALSE)*P56*(1+$X56) -> -0.055989752 | AN56: =+VLOOKUP($B56,'Monthly Peak Data '!$L$3:$P$14,5,FALSE)*Q56*(1+X56) -> -0.20485315 | AO56: =+R56*AB56*(1+X56) -> 6.2952323 | AP56: =+VLOOKUP($B56,'Monthly Peak Data '!$C$18:$G$29,5,FALSE)*(1+X56) -> 0 | AQ56: =+VLOOKUP($B56,'Monthly Peak Data '!$L$3:$P$14,5,FALSE)*T56*(1+X56) -> -0.0077076906 | AR56: =+VLOOKUP($B56,'Monthly Peak Data '!$C$3:$G$14,5,FALSE)*U56*(1+X56) -> 0.046134918 | AS56: =+SUM(AG56:AR56) -> -62.946265
A57: =1+A45 -> 2022 | B57: =+B45 -> 2 | C57: =+D57*C45/D45 -> 75.273194 | D57: 2.73 | E57: =+E45 -> 0.91686751 | F57: =+E57*C57 -> 69.015546 | G57: =+G56 -> 4.63 | H57: =+H56 -> 10.5664 | I57: =+I45*D57/D45 -> 0.21907604 | J57: =+J45*D57/D45 -> 0.31530718 | K57: 0 | L57: =+L45*(1+$L$6) -> 0 | M57: =+M45*(1+$M$6) -> 0 | N57: =+N56 -> 0.1338939 | O57: =+O45*D57/D45 -> 0.083506343 | P57: =+P45*D59/D45 -> 0.049997272 | Q57: =+Q45*(1+Q$6) -> 0.17676837 | R57: =+R45*(1+R$6) -> 0.35317603 | S57: =+S45*(1+S$6) -> 0.2489774 | T57: =+T45*(1+T$6) -> 0.006650988 | U57: =+U45*(1+$U$6) -> -0.04675465 | V57: =+V45 -> 0.052674726 | W57: =+W45 -> 672 | X57: =+X56 -> 0.07 | Y57: =+Y45 -> 0.30925205 | Z57: =+Z45 -> -0.0055317014 | AA57: =+AA45*0.995 -> 0.990025 | AB57: =+W57*V57*AA57 -> 35.044327 | AC57: =+AB57*F57*(1+X57) -> 2587.9056 | AD57: =+AB57*I57*(1+X57) -> 8.2147885 | AE57: =+AB57*J57*(1+X57) -> 11.823209 | AF57: =+AF56 -> 1838.4787 | AG57: =+H57*Z57*1000*(1+X57) -> -62.541684 | AH57: =+K57*AVERAGE('Monthly Peak Data '!$Q$8:$Q$10)*(1+X57)*'Monthly Peak Data '!$M$40*1000 -> 0 | AI57: =+L57*(0.5*MAX('Monthly Peak Data '!$G$18:$G$19,'Monthly Peak Data '!$G$29)+0.5*(MAX('Monthly Peak Data '!$P$3:$P$14)))*(1+X57) -> 0 | AJ57: =+M57*0.25*MAX('Monthly Peak Data '!$P$3:$P$14)*(1+X57) -> 0 | AK57: =+VLOOKUP($B57,'Monthly Peak Data '!$L$3:$P$14,5,FALSE)*N57*(1+X57) -> -0.1410663 | AL57: =+VLOOKUP($B57,'Monthly Peak Data '!$L$3:$P$14,5,FALSE)*O57*(1+$X57) -> -0.087979599 | AM57: =+VLOOKUP($B57,'Monthly Peak Data '!$L$3:$P$14,5,FALSE)*P57*(1+$X57) -> -0.052675518 | AN57: =+VLOOKUP($B57,'Monthly Peak Data '!$L$3:$P$14,5,FALSE)*Q57*(1+X57) -> -0.18623747 | AO57: =+R57*AB57*(1+X57) -> 13.243193 | AP57: =+VLOOKUP($B57,'Monthly Peak Data '!$C$18:$G$29,5,FALSE)*(1+X57) -> 1.6748048 | AQ57: =+VLOOKUP($B57,'Monthly Peak Data '!$L$3:$P$14,5,FALSE)*T57*(1+X57) -> -0.0070072672 | AR57: =+VLOOKUP($B57,'Monthly Peak Data '!$C$3:$G$14,5,FALSE)*U57*(1+X57) -> 0.053145259 | AS57: =+SUM(AG57:AR57) -> -48.045507
A58: =1+A46 -> 2022 | B58: =+B46 -> 3 | C58: =+D58*C46/D46 -> 51.06993 | D58: 2.616 | E58: =+E46 -> 0.77619976 | F58: =+E58*C58 -> 39.640467 | G58: =+G57 -> 4.63 | H58: =+H57 -> 10.5664 | I58: =+I46*D58/D46 -> 0.1865928 | J58: =+J46*D58/D46 -> 0.27659594 | K58: 0 | L58: =+L46*(1+$L$6) -> 0 | M58: =+M46*(1+$M$6) -> 0 | N58: =+N57 -> 0.1338939 | O58: =+O46*D58/D46 -> 0.089697929 | P58: =+P46*D60/D46 -> 0.057075375 | Q58: =+Q46*(1+Q$6) -> 0.17676837 | R58: =+R46*(1+R$6) -> 0.35317603 | S58: =+S46*(1+S$6) -> 0.2489774 | T58: =+T46*(1+T$6) -> 0.006650988 | U58: =+U46*(1+$U$6) -> -0.048337907 | V58: =+V46 -> 0.10095698 | W58: =+W46 -> 743 | X58: =+X57 -> 0.07 | Y58: =+Y46 -> 0.30925205 | Z58: =+Z46 -> 0.016072852 | AA58: =+AA46*0.995 -> 0.990025 | AB58: =+W58*V58*AA58 -> 74.262804 | AC58: =+AB58*F58*(1+X58) -> 3149.8791 | AD58: =+AB58*I58*(1+X58) -> 14.826888 | AE58: =+AB58*J58*(1+X58) -> 21.978646 | AF58: =+AF57 -> 1838.4787 | AG58: =+H58*Z58*1000*(1+X58) -> 181.72045 | AH58: =+K58*AVERAGE('Monthly Peak Data '!$Q$8:$Q$10)*(1+X58)*'Monthly Peak Data '!$M$40*1000 -> 0 | AI58: =+L58*(0.5*MAX('Monthly Peak Data '!$G$18:$G$19,'Monthly Peak Data '!$G$29)+0.5*(MAX('Monthly Peak Data '!$P$3:$P$14)))*(1+X58) -> 0 | AJ58: =+M58*0.25*MAX('Monthly Peak Data '!$P$3:$P$14)*(1+X58) -> 0 | AK58: =+VLOOKUP($B58,'Monthly Peak Data '!$L$3:$P$14,5,FALSE)*N58*(1+X58) -> 0.40988074 | AL58: =+VLOOKUP($B58,'Monthly Peak Data '!$L$3:$P$14,5,FALSE)*O58*(1+$X58) -> 0.27458648 | AM58: =+VLOOKUP($B58,'Monthly Peak Data '!$L$3:$P$14,5,FALSE)*P58*(1+$X58) -> 0.17472116 | AN58: =+VLOOKUP($B58,'Monthly Peak Data '!$L$3:$P$14,5,FALSE)*Q58*(1+X58) -> 0.5411296 | AO58: =+R58*AB58*(1+X58) -> 28.063791 | AP58: =+VLOOKUP($B58,'Monthly Peak Data '!$C$18:$G$29,5,FALSE)*(1+X58) -> 0.04003871 | AQ58: =+VLOOKUP($B58,'Monthly Peak Data '!$L$3:$P$14,5,FALSE)*T58*(1+X58) -> 0.020360241 | AR58: =+VLOOKUP($B58,'Monthly Peak Data '!$C$3:$G$14,5,FALSE)*U58*(1+X58) -> 0.0088844293 | AS58: =+SUM(AG58:AR58) -> 211.25384
A59: =1+A47 -> 2022 | B59: =+B47 -> 4 | C59: =+D59*C47/D47 -> 35.049742 | D59: 2.359 | E59: =+E47 -> 0.85629918 | F59: =+E59*C59 -> 30.013065 | G59: =+G58 -> 4.63 | H59: =+H58 -> 10.5664 | I59: =+I47*D59/D47 -> 0.13743648 | J59: =+J47*D59/D47 -> 0.23863562 | K59: 0 | L59: =+L47*(1+$L$6) -> 0 | M59: =+M47*(1+$M$6) -> 0 | N59: =+N58 -> 0.1338939 | O59: =+O47*D59/D47 -> 0.096913248 | P59: =+P47*D61/D47 -> 0.090605047 | Q59: =+Q47*(1+Q$6) -> 0.17676837 | R59: =+R47*(1+R$6) -> 0.35317603 | S59: =+S47*(1+S$6) -> 0.2489774 | T59: =+T47*(1+T$6) -> 0.006650988 | U59: =+U47*(1+$U$6) -> -0.05115826 | V59: =+V47 -> 0.14691858 | W59: =+W47 -> 720 | X59: =+X58 -> 0.07 | Y59: =+Y47 -> 0.30925205 | Z59: =+Z47 -> 0.0026413858 | AA59: =+AA47*0.995 -> 0.990025 | AB59: =+W59*V59*AA59 -> 104.72621 | AC59: =+AB59*F59*(1+X59) -> 3363.1753 | AD59: =+AB59*I59*(1+X59) -> 15.400725 | AE59: =+AB59*J59*(1+X59) -> 26.740802 | AF59: =+AF58 -> 1838.4787 | AG59: =+H59*Z59*1000*(1+X59) -> 29.863635 | AH59: =+K59*AVERAGE('Monthly Peak Data '!$Q$8:$Q$10)*(1+X59)*'Monthly Peak Data '!$M$40*1000 -> 0 | AI59: =+L59*(0.5*MAX('Monthly Peak Data '!$G$18:$G$19,'Monthly Peak Data '!$G$29)+0.5*(MAX('Monthly Peak Data '!$P$3:$P$14)))*(1+X59) -> 0 | AJ59: =+M59*0.25*MAX('Monthly Peak Data '!$P$3:$P$14)*(1+X59) -> 0 | AK59: =+VLOOKUP($B59,'Monthly Peak Data '!$L$3:$P$14,5,FALSE)*N59*(1+X59) -> 0.067359118 | AL59: =+VLOOKUP($B59,'Monthly Peak Data '!$L$3:$P$14,5,FALSE)*O59*(1+$X59) -> 0.048754955 | AM59: =+VLOOKUP($B59,'Monthly Peak Data '!$L$3:$P$14,5,FALSE)*P59*(1+$X59) -> 0.045581436 | AN59: =+VLOOKUP($B59,'Monthly Peak Data '!$L$3:$P$14,5,FALSE)*Q59*(1+X59) -> 0.088928335 | AO59: =+R59*AB59*(1+X59) -> 39.575861 | AP59: =+VLOOKUP($B59,'Monthly Peak Data '!$C$18:$G$29,5,FALSE)*(1+X59) -> 142.15604 | AQ59: =+VLOOKUP($B59,'Monthly Peak Data '!$L$3:$P$14,5,FALSE)*T59*(1+X59) -> 0.003345968 | AR59: =+VLOOKUP($B59,'Monthly Peak Data '!$C$3:$G$14,5,FALSE)*U59*(1+X59) -> 0.0075905215 | AS59: =+SUM(AG59:AR59) -> 211.8571
A60: =1+A48 -> 2022 | B60: =+B48 -> 5 | C60: =+D60*C48/D48 -> 29.402148 | D60: 2.341 | E60: =+E48 -> 0.82264045 | F60: =+E60*C60 -> 24.187396 | G60: =+G59 -> 4.63 | H60: =+H59 -> 10.5664 | I60: =+I48*D60/D48 -> 0.12822556 | J60: =+J48*D60/D48 -> 0.23928637 | K60: 0 | L60: =+L48*(1+$L$6) -> 0 | M60: =+M48*(1+$M$6) -> 0 | N60: =+N59 -> 0.1338939 | O60: =+O48*D60/D48 -> 0.099609376 | P60: =+P48*D62/D48 -> 0.12502999 | Q60: =+Q48*(1+Q$6) -> 0.17676837 | R60: =+R48*(1+R$6) -> 0.35317603 | S60: =+S48*(1+S$6) -> 0.2489774 | T60: =+T48*(1+T$6) -> 0.006650988 | U60: =+U48*(1+$U$6) -> -0.065234544 | V60: =+V48 -> 0.20374675 | W60: =+W48 -> 744 | X60: =+X59 -> 0.07 | Y60: =+Y48 -> 0.30925205 | Z60: =+Z48 -> 0.11317959 | AA60: =+AA48*0.995 -> 0.990025 | AB60: =+W60*V60*AA60 -> 150.0755 | AC60: =+AB60*F60*(1+X60) -> 3884.0309 | AD60: =+AB60*I60*(1+X60) -> 20.590561 | AE60: =+AB60*J60*(1+X60) -> 38.424793 | AF60: =+AF59 -> 1838.4787 | AG60: =+H60*Z60*1000*(1+X60) -> 1279.614 | AH60: =+K60*AVERAGE('Monthly Peak Data '!$Q$8:$Q$10)*(1+X60)*'Monthly Peak Data '!$M$40*1000 -> 0 | AI60: =+L60*(0.5*MAX('Monthly Peak Data '!$G$18:$G$19,'Monthly Peak Data '!$G$29)+0.5*(MAX('Monthly Peak Data '!$P$3:$P$14)))*(1+X60) -> 0 | AJ60: =+M60*0.25*MAX('Monthly Peak Data '!$P$3:$P$14)*(1+X60) -> 0 | AK60: =+VLOOKUP($B60,'Monthly Peak Data '!$L$3:$P$14,5,FALSE)*N60*(1+X60) -> 2.8862416 | AL60: =+VLOOKUP($B60,'Monthly Peak Data '!$L$3:$P$14,5,FALSE)*O60*(1+$X60) -> 2.1471982 | AM60: =+VLOOKUP($B60,'Monthly Peak Data '!$L$3:$P$14,5,FALSE)*P60*(1+$X60) -> 2.6951698 | AN60: =+VLOOKUP($B60,'Monthly Peak Data '!$L$3:$P$14,5,FALSE)*Q60*(1+X60) -> 3.8104517 | AO60: =+R60*AB60*(1+X60) -> 56.713283 | AP60: =+VLOOKUP($B60,'Monthly Peak Data '!$C$18:$G$29,5,FALSE)*(1+X60) -> 0.49346559 | AQ60: =+VLOOKUP($B60,'Monthly Peak Data '!$L$3:$P$14,5,FALSE)*T60*(1+X60) -> 0.14336993 | AR60: =+VLOOKUP($B60,'Monthly Peak Data '!$C$3:$G$14,5,FALSE)*U60*(1+X60) -> -1.4062079 | AS60: =+SUM(AG60:AR60) -> 1347.0969
A61: =1+A49 -> 2022 | B61: =+B49 -> 6 | C61: =+D61*C49/D49 -> 29.371001 | D61: 2.372 | E61: =+E49 -> 0.93665801 | F61: =+E61*C61 -> 27.510583 | G61: 3.8 | H61: =+H49*(1+$H$6) -> 11.24582 | I61: =+I49*D61/D49 -> 0.14129297 | J61: =+J49*D61/D49 -> 0.47087401 | K61: 0 | L61: =+L49*(1+$L$6) -> 0 | M61: =+M49*(1+$M$6) -> 0 | N61: =+N49*(1+$N$6) -> 0.13445223 | O61: =+O49*D61/D49 -> 0.07828697 | P61: =+P49*D63/D49 -> 0.093067826 | Q61: =+Q49*(1+Q$6) -> 0.17676837 | R61: =+R49*(1+R$6) -> 0.35317603 | S61: =+S49*(1+S$6) -> 0.2489774 | T61: =+T49*(1+T$6) -> 0.006650988 | U61: =+U49*(1+$U$6) -> -0.056531758 | V61: =+V49 -> 0.22707631 | W61: =+W49 -> 720 | X61: =+X60 -> 0.07 | Y61: =+Y49 -> 0.30925205 | Z61: =+Z49 -> 0.0017649813 | AA61: =+AA49*0.995 -> 0.990025 | AB61: =+W61*V61*AA61 -> 161.86408 | AC61: =+AB61*F61*(1+X61) -> 4764.6835 | AD61: =+AB61*I61*(1+X61) -> 24.471174 | AE61: =+AB61*J61*(1+X61) -> 81.55282 | AF61: =+Y50*G61*1000*1.2*(1+X50) -> 1508.9026 | AG61: =+H61*Z61*1000*(1+X61) -> 21.238068 | AH61: =+K61*AVERAGE('Monthly Peak Data '!$Q$8:$Q$10)*(1+X61)*'Monthly Peak Data '!$M$40*1000 -> 0 | AI61: =+L61*(0.5*MAX('Monthly Peak Data '!$G$18:$G$19,'Monthly Peak Data '!$G$29)+0.5*(MAX('Monthly Peak Data '!$P$3:$P$14)))*(1+X61) -> 0 | AJ61: =+M61*0.25*MAX('Monthly Peak Data '!$P$3:$P$14)*(1+X61) -> 0 | AK61: =+VLOOKUP($B61,'Monthly Peak Data '!$L$3:$P$14,5,FALSE)*N61*(1+X61) -> 0.045197239 | AL61: =+VLOOKUP($B61,'Monthly Peak Data '!$L$3:$P$14,5,FALSE)*O61*(1+$X61) -> 0.026316817 | AM61: =+VLOOKUP($B61,'Monthly Peak Data '!$L$3:$P$14,5,FALSE)*P61*(1+$X61) -> 0.031285525 | AN61: =+VLOOKUP($B61,'Monthly Peak Data '!$L$3:$P$14,5,FALSE)*Q61*(1+X61) -> 0.059422159 | AO61: =+R61*AB61*(1+X61) -> 61.16817 | AP61: =+VLOOKUP($B61,'Monthly Peak Data '!$C$18:$G$29,5,FALSE)*(1+X61) -> 339.51849 | AQ61: =+VLOOKUP($B61,'Monthly Peak Data '!$L$3:$P$14,5,FALSE)*T61*(1+X61) -> 0.002235785 | AR61: =+VLOOKUP($B61,'Monthly Peak Data '!$C$3:$G$14,5,FALSE)*U61*(1+X61) -> -2.9535862 | AS61: =+SUM(AG61:AR61) -> 419.1356
A62: =1+A50 -> 2022 | B62: =+B50 -> 7 | C62: =+D62*C50/D50 -> 36.323304 | D62: 2.405 | E62: =+E50 -> 0.86933578 | F62: =+E62*C62 -> 31.577148 | G62: =+G61 -> 3.8 | H62: =+H61 -> 11.24582 | I62: =+I50*D62/D50 -> 0.21327009 | J62: =+J50*D62/D50 -> 0.40297239 | K62: 0 | L62: =+L50*(1+$L$6) -> 0 | M62: =+M50*(1+$M$6) -> 0 | N62: =+N61 -> 0.13445223 | O62: =+O50*D62/D50 -> 0.073292563 | P62: =+P50*D64/D50 -> 0.08364943 | Q62: =+Q50*(1+Q$6) -> 0.17676837 | R62: =+R50*(1+R$6) -> 0.35317603 | S62: =+S50*(1+S$6) -> 0.2489774 | T62: =+T50*(1+T$6) -> 0.006650988 | U62: =+U50*(1+$U$6) -> -0.047430441 | V62: =+V50 -> 0.24032926 | W62: =+W50 -> 744 | X62: =+X61 -> 0.07 | Y62: =+Y50 -> 0.30925205 | Z62: =+Z50 -> 0.0017832548 | AA62: =+AA50*0.995 -> 0.98507488 | AB62: =+W62*V62*AA62 -> 176.13629 | AC62: =+AB62*F62*(1+X62) -> 5951.2132 | AD62: =+AB62*I62*(1+X62) -> 40.194123 | AE62: =+AB62*J62*(1+X62) -> 75.946524 | AF62: =+AF61 -> 1508.9026 | AG62: =+H62*Z62*1000*(1+X62) -> 21.457954 | AH62: =+K62*AVERAGE('Monthly Peak Data '!$Q$8:$Q$10)*(1+X62)*'Monthly Peak Data '!$M$40*1000 -> 0 | AI62: =+L62*(0.5*MAX('Monthly Peak Data '!$G$18:$G$19,'Monthly Peak Data '!$G$29)+0.5*(MAX('Monthly Peak Data '!$P$3:$P$14)))*(1+X62) -> 0 | AJ62: =+M62*0.25*MAX('Monthly Peak Data '!$P$3:$P$14)*(1+X62) -> 0 | AK62: =+VLOOKUP($B62,'Monthly Peak Data '!$L$3:$P$14,5,FALSE)*N62*(1+X62) -> 0.045665183 | AL62: =+VLOOKUP($B62,'Monthly Peak Data '!$L$3:$P$14,5,FALSE)*O62*(1+$X62) -> 0.024892991 | AM62: =+VLOOKUP($B62,'Monthly Peak Data '!$L$3:$P$14,5,FALSE)*P62*(1+$X62) -> 0.028410585 | AN62: =+VLOOKUP($B62,'Monthly Peak Data '!$L$3:$P$14,5,FALSE)*Q62*(1+X62) -> 0.06003738 | AO62: =+R62*AB62*(1+X62) -> 66.561612 | AP62: =+VLOOKUP($B62,'Monthly Peak Data '!$C$18:$G$29,5,FALSE)*(1+X62) -> 108.68772 | AQ62: =+VLOOKUP($B62,'Monthly Peak Data '!$L$3:$P$14,5,FALSE)*T62*(1+X62) -> 0.002258933 | AR62: =+VLOOKUP($B62,'Monthly Peak Data '!$C$3:$G$14,5,FALSE)*U62*(1+X62) -> -2.7493631 | AS62: =+SUM(AG62:AR62) -> 194.11919
A63: =1+A51 -> 2022 | B63: =+B51 -> 8 | C63: =+D63*C51/D51 -> 34.662142 | D63: 2.416 | E63: =+E51 -> 0.89082638 | F63: =+E63*C63 -> 30.87795 | G63: =+G62 -> 3.8 | H63: =+H62 -> 11.24582 | I63: =+I51*D63/D51 -> 0.18599611 | J63: =+J51*D63/D51 -> 0.48022872 | K63: 0 | L63: =+L51*(1+$L$6) -> 0 | M63: =+M51*(1+$M$6) -> 0 | N63: =+N62 -> 0.13445223 | O63: =+O51*D63/D51 -> 0.054661752 | P63: =+P51*D65/D51 -> 0.039180261 | Q63: =+Q51*(1+Q$6) -> 0.17676837 | R63: =+R51*(1+R$6) -> 0.35317603 | S63: =+S51*(1+S$6) -> 0.2489774 | T63: =+T51*(1+T$6) -> 0.006650988 | U63: =+U51*(1+$U$6) -> -0.073806448 | V63: =+V51 -> 0.20131777 | W63: =+W51 -> 744 | X63: =+X62 -> 0.07 | Y63: =+Y51 -> 0.30925205 | Z63: =+Z51 -> 0.099775281 | AA63: =+AA51*0.995 -> 0.98507488 | AB63: =+W63*V63*AA63 -> 147.54493 | AC63: =+AB63*F63*(1+X63) -> 4874.797 | AD63: =+AB63*I63*(1+X63) -> 29.363778 | AE63: =+AB63*J63*(1+X63) -> 75.815185 | AF63: =+AF62 -> 1508.9026 | AG63: =+H63*Z63*1000*(1+X63) -> 1200.5987 | AH63: =+K63*AVERAGE('Monthly Peak Data '!$Q$8:$Q$10)*(1+X63)*'Monthly Peak Data '!$M$40*1000 -> 0 | AI63: =+L63*(0.5*MAX('Monthly Peak Data '!$G$18:$G$19,'Monthly Peak Data '!$G$29)+0.5*(MAX('Monthly Peak Data '!$P$3:$P$14)))*(1+X63) -> 0 | AJ63: =+M63*0.25*MAX('Monthly Peak Data '!$P$3:$P$14)*(1+X63) -> 0 | AK63: =+VLOOKUP($B63,'Monthly Peak Data '!$L$3:$P$14,5,FALSE)*N63*(1+X63) -> 2.5550227 | AL63: =+VLOOKUP($B63,'Monthly Peak Data '!$L$3:$P$14,5,FALSE)*O63*(1+$X63) -> 1.0387482 | AM63: =+VLOOKUP($B63,'Monthly Peak Data '!$L$3:$P$14,5,FALSE)*P63*(1+$X63) -> 0.74455033 | AN63: =+VLOOKUP($B63,'Monthly Peak Data '!$L$3:$P$14,5,FALSE)*Q63*(1+X63) -> 3.3591646 | AO63: =+R63*AB63*(1+X63) -> 55.756986 | AP63: =+VLOOKUP($B63,'Monthly Peak Data '!$C$18:$G$29,5,FALSE)*(1+X63) -> 251.79574 | AQ63: =+VLOOKUP($B63,'Monthly Peak Data '!$L$3:$P$14,5,FALSE)*T63*(1+X63) -> 0.12639006 | AR63: =+VLOOKUP($B63,'Monthly Peak Data '!$C$3:$G$14,5,FALSE)*U63*(1+X63) -> -4.9072231 | AS63: =+SUM(AG63:AR63) -> 1511.068
A64: =1+A52 -> 2022 | B64: =+B52 -> 9 | C64: =+D64*C52/D52 -> 32.448587 | D64: 2.408 | E64: =+E52 -> 1.1928111 | F64: =+E64*C64 -> 38.705035 | G64: =+G63 -> 3.8 | H64: =+H63 -> 11.24582 | I64: =+I52*D64/D52 -> 0.2886965 | J64: =+J52*D64/D52 -> 0.92609417 | K64: 0 | L64: =+L52*(1+$L$6) -> 0 | M64: =+M52*(1+$M$6) -> 0 | N64: =+N63 -> 0.13445223 | O64: =+O52*D64/D52 -> 0.056786691 | P64: =+P52*D66/D52 -> 0.043010561 | Q64: =+Q52*(1+Q$6) -> 0.17676837 | R64: =+R52*(1+R$6) -> 0.35317603 | S64: =+S52*(1+S$6) -> 0.2489774 | T64: =+T52*(1+T$6) -> 0.006650988 | U64: =+U52*(1+$U$6) -> -0.066979483 | V64: =+V52 -> 0.16869507 | W64: =+W52 -> 720 | X64: =+X63 -> 0.07 | Y64: =+Y52 -> 0.30925205 | Z64: =+Z52 -> -0.00041385768 | AA64: =+AA52*0.995 -> 0.98507488 | AB64: =+W64*V64*AA64 -> 119.64764 | AC64: =+AB64*F64*(1+X64) -> 4955.1337 | AD64: =+AB64*I64*(1+X64) -> 36.959784 | AE64: =+AB64*J64*(1+X64) -> 118.56133 | AF64: =+AF63 -> 1508.9026 | AG64: =+H64*Z64*1000*(1+X64) -> -4.9799607 | AH64: =+K64*AVERAGE('Monthly Peak Data '!$Q$8:$Q$10)*(1+X64)*'Monthly Peak Data '!$M$40*1000 -> 0 | AI64: =+L64*(0.5*MAX('Monthly Peak Data '!$G$18:$G$19,'Monthly Peak Data '!$G$29)+0.5*(MAX('Monthly Peak Data '!$P$3:$P$14)))*(1+X64) -> 0 | AJ64: =+M64*0.25*MAX('Monthly Peak Data '!$P$3:$P$14)*(1+X64) -> 0 | AK64: =+VLOOKUP($B64,'Monthly Peak Data '!$L$3:$P$14,5,FALSE)*N64*(1+X64) -> -0.010597973 | AL64: =+VLOOKUP($B64,'Monthly Peak Data '!$L$3:$P$14,5,FALSE)*O64*(1+$X64) -> -0.0044761163 | AM64: =+VLOOKUP($B64,'Monthly Peak Data '!$L$3:$P$14,5,FALSE)*P64*(1+$X64) -> -0.0033902358 | AN64: =+VLOOKUP($B64,'Monthly Peak Data '!$L$3:$P$14,5,FALSE)*Q64*(1+X64) -> -0.013933472 | AO64: =+R64*AB64*(1+X64) -> 45.214645 | AP64: =+VLOOKUP($B64,'Monthly Peak Data '!$C$18:$G$29,5,FALSE)*(1+X64) -> 0.31838444 | AQ64: =+VLOOKUP($B64,'Monthly Peak Data '!$L$3:$P$14,5,FALSE)*T64*(1+X64) -> -0.00052425305 | AR64: =+VLOOKUP($B64,'Monthly Peak Data '!$C$3:$G$14,5,FALSE)*U64*(1+X64) -> -3.4605633 | AS64: =+SUM(AG64:AR64) -> 37.059583
A65: =1+A53 -> 2022 | B65: =+B53 -> 10 | C65: =+D65*C53/D53 -> 31.021277 | D65: 2.43 | E65: =+E53 -> 0.94018245 | F65: =+E65*C65 -> 29.16566 | G65: =+G64 -> 3.8 | H65: =+H64 -> 11.24582 | I65: =+I53*D65/D53 -> 0.21671879 | J65: =+J53*D65/D53 -> 0.31277733 | K65: 0 | L65: =+L53*(1+$L$6) -> 0 | M65: =+M53*(1+$M$6) -> 0 | N65: =+N64 -> 0.13445223 | O65: =+O53*D65/D53 -> 0.075687767 | P65: =+P53*D67/D53 -> 0.082169989 | Q65: =+Q53*(1+Q$6) -> 0.17676837 | R65: =+R53*(1+R$6) -> 0.35317603 | S65: =+S53*(1+S$6) -> 0.2489774 | T65: =+T53*(1+T$6) -> 0.006650988 | U65: =+U53*(1+$U$6) -> -0.067642133 | V65: =+V53 -> 0.10010137 | W65: =+W53 -> 744 | X65: =+X64 -> 0.07 | Y65: =+Y53 -> 0.30925205 | Z65: =+Z53 -> -0.00030898876 | AA65: =+AA53*0.995 -> 0.98507488 | AB65: =+W65*V65*AA65 -> 73.363866 | AC65: =+AB65*F65*(1+X65) -> 2289.485 | AD65: =+AB65*I65*(1+X65) -> 17.012281 | AE65: =+AB65*J65*(1+X65) -> 24.552813 | AF65: =+AF64 -> 1508.9026 | AG65: =+H65*Z65*1000*(1+X65) -> -3.7180702 | AH65: =+K65*AVERAGE('Monthly Peak Data '!$Q$8:$Q$10)*(1+X65)*'Monthly Peak Data '!$M$40*1000 -> 0 | AI65: =+L65*(0.5*MAX('Monthly Peak Data '!$G$18:$G$19,'Monthly Peak Data '!$G$29)+0.5*(MAX('Monthly Peak Data '!$P$3:$P$14)))*(1+X65) -> 0 | AJ65: =+M65*0.25*MAX('Monthly Peak Data '!$P$3:$P$14)*(1+X65) -> 0 | AK65: =+VLOOKUP($B65,'Monthly Peak Data '!$L$3:$P$14,5,FALSE)*N65*(1+X65) -> -0.0079125139 | AL65: =+VLOOKUP($B65,'Monthly Peak Data '!$L$3:$P$14,5,FALSE)*O65*(1+$X65) -> -0.0044542251 | AM65: =+VLOOKUP($B65,'Monthly Peak Data '!$L$3:$P$14,5,FALSE)*P65*(1+$X65) -> -0.0048357038 | AN65: =+VLOOKUP($B65,'Monthly Peak Data '!$L$3:$P$14,5,FALSE)*Q65*(1+X65) -> -0.010402818 | AO65: =+R65*AB65*(1+X65) -> 27.724084 | AP65: =+VLOOKUP($B65,'Monthly Peak Data '!$C$18:$G$29,5,FALSE)*(1+X65) -> 0.51383011 | AQ65: =+VLOOKUP($B65,'Monthly Peak Data '!$L$3:$P$14,5,FALSE)*T65*(1+X65) -> -0.00039141064 | AR65: =+VLOOKUP($B65,'Monthly Peak Data '!$C$3:$G$14,5,FALSE)*U65*(1+X65) -> 0.0084984704 | AS65: =+SUM(AG65:AR65) -> 24.500346
A66: =1+A54 -> 2022 | B66: =+B54 -> 11 | C66: =+D66*C54/D54 -> 40.501344 | D66: 2.492 | E66: =+E54 -> 0.84486275 | F66: =+E66*C66 -> 34.218077 | G66: =+G65 -> 3.8 | H66: =+H65 -> 11.24582 | I66: =+I54*D66/D54 -> 0.29783766 | J66: =+J54*D66/D54 -> 0.32497638 | K66: 0 | L66: =+L54*(1+$L$6) -> 0 | M66: =+M54*(1+$M$6) -> 0 | N66: =+N65 -> 0.13445223 | O66: =+O54*D66/D54 -> 0.073577585 | P66: =+P54*D68/D54 -> 0.087235567 | Q66: =+Q54*(1+Q$6) -> 0.17676837 | R66: =+R54*(1+R$6) -> 0.35317603 | S66: =+S54*(1+S$6) -> 0.2489774 | T66: =+T54*(1+T$6) -> 0.006650988 | U66: =+U54*(1+$U$6) -> -0.045641644 | V66: =+V54 -> 0.040542058 | W66: =+W54 -> 721 | X66: =+X65 -> 0.07 | Y66: =+Y54 -> 0.30925205 | Z66: =+Z54 -> -0.00074906367 | AA66: =+AA54*0.995 -> 0.98507488 | AB66: =+W66*V66*AA66 -> 28.79455 | AC66: =+AB66*F66*(1+X66) -> 1054.2647 | AD66: =+AB66*I66*(1+X66) -> 9.1764286 | AE66: =+AB66*J66*(1+X66) -> 10.012577 | AF66: =+AF65 -> 1508.9026 | AG66: =+H66*Z66*1000*(1+X66) -> -9.0135035 | AH66: =+K66*AVERAGE('Monthly Peak Data '!$Q$8:$Q$10)*(1+X66)*'Monthly Peak Data '!$M$40*1000 -> 0 | AI66: =+L66*(0.5*MAX('Monthly Peak Data '!$G$18:$G$19,'Monthly Peak Data '!$G$29)+0.5*(MAX('Monthly Peak Data '!$P$3:$P$14)))*(1+X66) -> 0 | AJ66: =+M66*0.25*MAX('Monthly Peak Data '!$P$3:$P$14)*(1+X66) -> 0 | AK66: =+VLOOKUP($B66,'Monthly Peak Data '!$L$3:$P$14,5,FALSE)*N66*(1+X66) -> -0.019181852 | AL66: =+VLOOKUP($B66,'Monthly Peak Data '!$L$3:$P$14,5,FALSE)*O66*(1+$X66) -> -0.010497069 | AM66: =+VLOOKUP($B66,'Monthly Peak Data '!$L$3:$P$14,5,FALSE)*P66*(1+$X66) -> -0.012445608 | AN66: =+VLOOKUP($B66,'Monthly Peak Data '!$L$3:$P$14,5,FALSE)*Q66*(1+X66) -> -0.025218954 | AO66: =+R66*AB66*(1+X66) -> 10.881413 | AP66: =+VLOOKUP($B66,'Monthly Peak Data '!$C$18:$G$29,5,FALSE)*(1+X66) -> 0.83685889 | AQ66: =+VLOOKUP($B66,'Monthly Peak Data '!$L$3:$P$14,5,FALSE)*T66*(1+X66) -> -0.00094887429 | AR66: =+VLOOKUP($B66,'Monthly Peak Data '!$C$3:$G$14,5,FALSE)*U66*(1+X66) -> 0.0071301376 | AS66: =+SUM(AG66:AR66) -> 2.6436062
A67: =1+A55 -> 2022 | B67: =+B55 -> 12 | C67: =+D67*C55/D55 -> 59.919422 | D67: 2.672 | E67: =+E55 -> 0.71583738 | F67: =+E67*C67 -> 42.892562 | G67: =+G66 -> 3.8 | H67: =+H66 -> 11.24582 | I67: =+I55*D67/D55 -> 0.16456007 | J67: =+J55*D67/D55 -> 0.16566548 | K67: 0 | L67: =+L55*(1+$L$6) -> 0 | M67: =+M55*(1+$M$6) -> 0 | N67: =+N66 -> 0.13445223 | O67: =+O55*D67/D55 -> 0.050950464 | P67: =+P55*D69/D55 -> 0.047582255 | Q67: =+Q55*(1+Q$6) -> 0.17676837 | R67: =+R55*(1+R$6) -> 0.35317603 | S67: =+S55*(1+S$6) -> 0.2489774 | T67: =+T55*(1+T$6) -> 0.006650988 | U67: =+U55*(1+$U$6) -> -0.03492084 | V67: =+V55 -> 0.025858743 | W67: =+W55 -> 744 | X67: =+X66 -> 0.07 | Y67: =+Y55 -> 0.30925205 | Z67: =+Z55 -> -0.0049238855 | AA67: =+AA55*0.995 -> 0.98507488 | AB67: =+W67*V67*AA67 -> 18.951761 | AC67: =+AB67*F67*(1+X67) -> 869.79188 | AD67: =+AB67*I67*(1+X67) -> 3.3370123 | AE67: =+AB67*J67*(1+X67) -> 3.3594283 | AF67: =+AF66 -> 1508.9026 | AG67: =+H67*Z67*1000*(1+X67) -> -59.249248 | AH67: =+K67*AVERAGE('Monthly Peak Data '!$Q$8:$Q$10)*(1+X67)*'Monthly Peak Data '!$M$40*1000 -> 0 | AI67: =+L67*(0.5*MAX('Monthly Peak Data '!$G$18:$G$19,'Monthly Peak Data '!$G$29)+0.5*(MAX('Monthly Peak Data '!$P$3:$P$14)))*(1+X67) -> 0 | AJ67: =+M67*0.25*MAX('Monthly Peak Data '!$P$3:$P$14)*(1+X67) -> 0 | AK67: =+VLOOKUP($B67,'Monthly Peak Data '!$L$3:$P$14,5,FALSE)*N67*(1+X67) -> -0.12608974 | AL67: =+VLOOKUP($B67,'Monthly Peak Data '!$L$3:$P$14,5,FALSE)*O67*(1+$X67) -> -0.047781509 | AM67: =+VLOOKUP($B67,'Monthly Peak Data '!$L$3:$P$14,5,FALSE)*P67*(1+$X67) -> -0.044622792 | AN67: =+VLOOKUP($B67,'Monthly Peak Data '!$L$3:$P$14,5,FALSE)*Q67*(1+X67) -> -0.16577394 | AO67: =+R67*AB67*(1+X67) -> 7.1618394 | AP67: =+VLOOKUP($B67,'Monthly Peak Data '!$C$18:$G$29,5,FALSE)*(1+X67) -> 0 | AQ67: =+VLOOKUP($B67,'Monthly Peak Data '!$L$3:$P$14,5,FALSE)*T67*(1+X67) -> -0.006237318 | AR67: =+VLOOKUP($B67,'Monthly Peak Data '!$C$3:$G$14,5,FALSE)*U67*(1+X67) -> 0.031633944 | AS67: =+SUM(AG67:AR67) -> -52.44628
A68: =1+A56 -> 2023 | B68: =+B56 -> 1 | C68: =+D68*C56/D56 -> 79.032451 | D68: 2.795 | E68: =+E56 -> 0.70389395 | F68: =+E68*C68 -> 55.630465 | G68: =+G67 -> 3.8 | H68: =+H67 -> 11.24582 | I68: =+I56*D68/D56 -> 0.22049802 | J68: =+J56*D68/D56 -> 0.18567505 | K68: 0 | L68: =+L56*(1+$L$6) -> 0 | M68: =+M56*(1+$M$6) -> 0 | N68: =+N67 -> 0.13445223 | O68: =+O56*D68/D56 -> 0.061931558 | P68: =+P56*D70/D56 -> 0.046595739 | Q68: =+Q56*(1+Q$6) -> 0.17809413 | R68: =+R56*(1+R$6) -> 0.37154118 | S68: =+S56*(1+S$6) -> 0.25893649 | T68: =+T56*(1+T$6) -> 0.0065046663 | U68: =+U56*(1+$U$6) -> -0.041906855 | V68: =+V56 -> 0.022616097 | W68: =+W56 -> 744 | X68: =+X67 -> 0.07 | Y68: =+Y56 -> 0.30925205 | Z68: =+Z56 -> -0.0060846321 | AA68: =+AA56*0.995 -> 0.98507488 | AB68: =+W68*V68*AA68 -> 16.575241 | AC68: =+AB68*F68*(1+X68) -> 986.63452 | AD68: =+AB68*I68*(1+X68) -> 3.9106443 | AE68: =+AB68*J68*(1+X68) -> 3.2930413 | AF68: =+AF67 -> 1508.9026 | AG68: =+H68*Z68*1000*(1+X68) -> -73.216544 | AH68: =+K68*AVERAGE('Monthly Peak Data '!$Q$8:$Q$10)*(1+X68)*'Monthly Peak Data '!$M$40*1000 -> 0 | AI68: =+L68*(0.5*MAX('Monthly Peak Data '!$G$18:$G$19,'Monthly Peak Data '!$G$29)+0.5*(MAX('Monthly Peak Data '!$P$3:$P$14)))*(1+X68) -> 0 | AJ68: =+M68*0.25*MAX('Monthly Peak Data '!$P$3:$P$14)*(1+X68) -> 0 | AK68: =+VLOOKUP($B68,'Monthly Peak Data '!$L$3:$P$14,5,FALSE)*N68*(1+X68) -> -0.15581387 | AL68: =+VLOOKUP($B68,'Monthly Peak Data '!$L$3:$P$14,5,FALSE)*O68*(1+$X68) -> -0.071771184 | AM68: =+VLOOKUP($B68,'Monthly Peak Data '!$L$3:$P$14,5,FALSE)*P68*(1+$X68) -> -0.053998825 | AN68: =+VLOOKUP($B68,'Monthly Peak Data '!$L$3:$P$14,5,FALSE)*Q68*(1+X68) -> -0.20638955 | AO68: =+R68*AB68*(1+X68) -> 6.5894714 | AP68: =+VLOOKUP($B68,'Monthly Peak Data '!$C$18:$G$29,5,FALSE)*(1+X68) -> 0 | AQ68: =+VLOOKUP($B68,'Monthly Peak Data '!$L$3:$P$14,5,FALSE)*T68*(1+X68) -> -0.0075381214 | AR68: =+VLOOKUP($B68,'Monthly Peak Data '!$C$3:$G$14,5,FALSE)*U68*(1+X68) -> 0.046134918 | AS68: =+SUM(AG68:AR68) -> -67.076449
A69: =1+A57 -> 2023 | B69: =+B57 -> 2 | C69: =+D69*C57/D57 -> 76.238235 | D69: 2.765 | E69: =+E57 -> 0.91686751 | F69: =+E69*C69 -> 69.900361 | G69: =+G68 -> 3.8 | H69: =+H68 -> 11.24582 | I69: =+I57*D69/D57 -> 0.22188471 | J69: =+J57*D69/D57 -> 0.31934958 | K69: 0 | L69: =+L57*(1+$L$6) -> 0 | M69: =+M57*(1+$M$6) -> 0 | N69: =+N68 -> 0.13445223 | O69: =+O57*D69/D57 -> 0.084576937 | P69: =+P57*D71/D57 -> 0.04433824 | Q69: =+Q57*(1+Q$6) -> 0.17809413 | R69: =+R57*(1+R$6) -> 0.37154118 | S69: =+S57*(1+S$6) -> 0.25893649 | T69: =+T57*(1+T$6) -> 0.0065046663 | U69: =+U57*(1+$U$6) -> -0.04675465 | V69: =+V57 -> 0.052674726 | W69: =+W57 -> 672 | X69: =+X68 -> 0.07 | Y69: =+Y57 -> 0.30925205 | Z69: =+Z57 -> -0.0055317014 | AA69: =+AA57*0.995 -> 0.98507488 | AB69: =+W69*V69*AA69 -> 34.869105 | AC69: =+AB69*F69*(1+X69) -> 2607.9784 | AD69: =+AB69*I69*(1+X69) -> 8.2785058 | AE69: =+AB69*J69*(1+X69) -> 11.914915 | AF69: =+AF68 -> 1508.9026 | AG69: =+H69*Z69*1000*(1+X69) -> -66.563114 | AH69: =+K69*AVERAGE('Monthly Peak Data '!$Q$8:$Q$10)*(1+X69)*'Monthly Peak Data '!$M$40*1000 -> 0 | AI69: =+L69*(0.5*MAX('Monthly Peak Data '!$G$18:$G$19,'Monthly Peak Data '!$G$29)+0.5*(MAX('Monthly Peak Data '!$P$3:$P$14)))*(1+X69) -> 0 | AJ69: =+M69*0.25*MAX('Monthly Peak Data '!$P$3:$P$14)*(1+X69) -> 0 | AK69: =+VLOOKUP($B69,'Monthly Peak Data '!$L$3:$P$14,5,FALSE)*N69*(1+X69) -> -0.14165455 | AL69: =+VLOOKUP($B69,'Monthly Peak Data '!$L$3:$P$14,5,FALSE)*O69*(1+$X69) -> -0.089107543 | AM69: =+VLOOKUP($B69,'Monthly Peak Data '!$L$3:$P$14,5,FALSE)*P69*(1+$X69) -> -0.046713344 | AN69: =+VLOOKUP($B69,'Monthly Peak Data '!$L$3:$P$14,5,FALSE)*Q69*(1+X69) -> -0.18763425 | AO69: =+R69*AB69*(1+X69) -> 13.86218 | AP69: =+VLOOKUP($B69,'Monthly Peak Data '!$C$18:$G$29,5,FALSE)*(1+X69) -> 1.6748048 | AQ69: =+VLOOKUP($B69,'Monthly Peak Data '!$L$3:$P$14,5,FALSE)*T69*(1+X69) -> -0.0068531073 | AR69: =+VLOOKUP($B69,'Monthly Peak Data '!$C$3:$G$14,5,FALSE)*U69*(1+X69) -> 0.053145259 | AS69: =+SUM(AG69:AR69) -> -51.444947
A70: =1+A58 -> 2023 | B70: =+B58 -> 3 | C70: =+D70*C58/D58 -> 51.88986 | D70: 2.658 | E70: =+E58 -> 0.77619976 | F70: =+E70*C70 -> 40.276897 | G70: =+G69 -> 3.8 | H70: =+H69 -> 11.24582 | I70: =+I58*D70/D58 -> 0.18958856 | J70: =+J58*D70/D58 -> 0.2810367 | K70: 0 | L70: =+L58*(1+$L$6) -> 0 | M70: =+M58*(1+$M$6) -> 0 | N70: =+N69 -> 0.13445223 | O70: =+O58*D70/D58 -> 0.091138033 | P70: =+P58*D72/D58 -> 0.052515454 | Q70: =+Q58*(1+Q$6) -> 0.17809413 | R70: =+R58*(1+R$6) -> 0.37154118 | S70: =+S58*(1+S$6) -> 0.25893649 | T70: =+T58*(1+T$6) -> 0.0065046663 | U70: =+U58*(1+$U$6) -> -0.048337907 | V70: =+V58 -> 0.10095698 | W70: =+W58 -> 743 | X70: =+X69 -> 0.07 | Y70: =+Y58 -> 0.30925205 | Z70: =+Z58 -> 0.016072852 | AA70: =+AA58*0.995 -> 0.98507488 | AB70: =+W70*V70*AA70 -> 73.89149 | AC70: =+AB70*F70*(1+X70) -> 3184.4483 | AD70: =+AB70*I70*(1+X70) -> 14.98961 | AE70: =+AB70*J70*(1+X70) -> 22.219856 | AF70: =+AF69 -> 1508.9026 | AG70: =+H70*Z70*1000*(1+X70) -> 193.40507 | AH70: =+K70*AVERAGE('Monthly Peak Data '!$Q$8:$Q$10)*(1+X70)*'Monthly Peak Data '!$M$40*1000 -> 0 | AI70: =+L70*(0.5*MAX('Monthly Peak Data '!$G$18:$G$19,'Monthly Peak Data '!$G$29)+0.5*(MAX('Monthly Peak Data '!$P$3:$P$14)))*(1+X70) -> 0 | AJ70: =+M70*0.25*MAX('Monthly Peak Data '!$P$3:$P$14)*(1+X70) -> 0 | AK70: =+VLOOKUP($B70,'Monthly Peak Data '!$L$3:$P$14,5,FALSE)*N70*(1+X70) -> 0.41158995 | AL70: =+VLOOKUP($B70,'Monthly Peak Data '!$L$3:$P$14,5,FALSE)*O70*(1+$X70) -> 0.27899498 | AM70: =+VLOOKUP($B70,'Monthly Peak Data '!$L$3:$P$14,5,FALSE)*P70*(1+$X70) -> 0.16076217 | AN70: =+VLOOKUP($B70,'Monthly Peak Data '!$L$3:$P$14,5,FALSE)*Q70*(1+X70) -> 0.54518807 | AO70: =+R70*AB70*(1+X70) -> 29.375493 | AP70: =+VLOOKUP($B70,'Monthly Peak Data '!$C$18:$G$29,5,FALSE)*(1+X70) -> 0.04003871 | AQ70: =+VLOOKUP($B70,'Monthly Peak Data '!$L$3:$P$14,5,FALSE)*T70*(1+X70) -> 0.019912315 | AR70: =+VLOOKUP($B70,'Monthly Peak Data '!$C$3:$G$14,5,FALSE)*U70*(1+X70) -> 0.0088844293 | AS70: =+SUM(AG70:AR70) -> 224.24594
A71: =1+A59 -> 2023 | B71: =+B59 -> 4 | C71: =+D71*C59/D59 -> 35.97093 | D71: 2.421 | E71: =+E59 -> 0.85629918 | F71: =+E71*C71 -> 30.801878 | G71: =+G70 -> 3.8 | H71: =+H70 -> 11.24582 | I71: =+I59*D71/D59 -> 0.14104863 | J71: =+J59*D71/D59 -> 0.24490752 | K71: 0 | L71: =+L59*(1+$L$6) -> 0 | M71: =+M59*(1+$M$6) -> 0 | N71: =+N70 -> 0.13445223 | O71: =+O59*D71/D59 -> 0.099460354 | P71: =+P59*D73/D59 -> 0.093984972 | Q71: =+Q59*(1+Q$6) -> 0.17809413 | R71: =+R59*(1+R$6) -> 0.37154118 | S71: =+S59*(1+S$6) -> 0.25893649 | T71: =+T59*(1+T$6) -> 0.0065046663 | U71: =+U59*(1+$U$6) -> -0.05115826 | V71: =+V59 -> 0.14691858 | W71: =+W59 -> 720 | X71: =+X70 -> 0.07 | Y71: =+Y59 -> 0.30925205 | Z71: =+Z59 -> 0.0026413858 | AA71: =+AA59*0.995 -> 0.98507488 | AB71: =+W71*V71*AA71 -> 104.20258 | AC71: =+AB71*F71*(1+X71) -> 3434.3095 | AD71: =+AB71*I71*(1+X71) -> 15.726464 | AE71: =+AB71*J71*(1+X71) -> 27.306394 | AF71: =+AF70 -> 1508.9026 | AG71: =+H71*Z71*1000*(1+X71) -> 31.783867 | AH71: =+K71*AVERAGE('Monthly Peak Data '!$Q$8:$Q$10)*(1+X71)*'Monthly Peak Data '!$M$40*1000 -> 0 | AI71: =+L71*(0.5*MAX('Monthly Peak Data '!$G$18:$G$19,'Monthly Peak Data '!$G$29)+0.5*(MAX('Monthly Peak Data '!$P$3:$P$14)))*(1+X71) -> 0 | AJ71: =+M71*0.25*MAX('Monthly Peak Data '!$P$3:$P$14)*(1+X71) -> 0 | AK71: =+VLOOKUP($B71,'Monthly Peak Data '!$L$3:$P$14,5,FALSE)*N71*(1+X71) -> 0.067640005 | AL71: =+VLOOKUP($B71,'Monthly Peak Data '!$L$3:$P$14,5,FALSE)*O71*(1+$X71) -> 0.050036349 | AM71: =+VLOOKUP($B71,'Monthly Peak Data '!$L$3:$P$14,5,FALSE)*P71*(1+$X71) -> 0.047281803 | AN71: =+VLOOKUP($B71,'Monthly Peak Data '!$L$3:$P$14,5,FALSE)*Q71*(1+X71) -> 0.089595298 | AO71: =+R71*AB71*(1+X71) -> 41.425637 | AP71: =+VLOOKUP($B71,'Monthly Peak Data '!$C$18:$G$29,5,FALSE)*(1+X71) -> 142.15604 | AQ71: =+VLOOKUP($B71,'Monthly Peak Data '!$L$3:$P$14,5,FALSE)*T71*(1+X71) -> 0.0032723567 | AR71: =+VLOOKUP($B71,'Monthly Peak Data '!$C$3:$G$14,5,FALSE)*U71*(1+X71) -> 0.0075905215 | AS71: =+SUM(AG71:AR71) -> 215.63096
A72: =1+A60 -> 2023 | B72: =+B60 -> 5 | C72: =+D72*C60/D60 -> 30.231085 | D72: 2.407 | E72: =+E60 -> 0.82264045 | F72: =+E72*C72 -> 24.869313 | G72: =+G71 -> 3.8 | H72: =+H71 -> 11.24582 | I72: =+I60*D72/D60 -> 0.13184064 | J72: =+J60*D72/D60 -> 0.24603259 | K72: 0 | L72: =+L60*(1+$L$6) -> 0 | M72: =+M60*(1+$M$6) -> 0 | N72: =+N71 -> 0.13445223 | O72: =+O60*D72/D60 -> 0.10241767 | P72: =+P60*D74/D60 -> 0.13288109 | Q72: =+Q60*(1+Q$6) -> 0.17809413 | R72: =+R60*(1+R$6) -> 0.37154118 | S72: =+S60*(1+S$6) -> 0.25893649 | T72: =+T60*(1+T$6) -> 0.0065046663 | U72: =+U60*(1+$U$6) -> -0.065234544 | V72: =+V60 -> 0.20374675 | W72: =+W60 -> 744 | X72: =+X71 -> 0.07 | Y72: =+Y60 -> 0.30925205 | Z72: =+Z60 -> 0.11317959 | AA72: =+AA60*0.995 -> 0.98507488 | AB72: =+W72*V72*AA72 -> 149.32512 | AC72: =+AB72*F72*(1+X72) -> 3973.5661 | AD72: =+AB72*I72*(1+X72) -> 21.065217 | AE72: =+AB72*J72*(1+X72) -> 39.310565 | AF72: =+AF71 -> 1508.9026 | AG72: =+H72*Z72*1000*(1+X72) -> 1361.8931 | AH72: =+K72*AVERAGE('Monthly Peak Data '!$Q$8:$Q$10)*(1+X72)*'Monthly Peak Data '!$M$40*1000 -> 0 | AI72: =+L72*(0.5*MAX('Monthly Peak Data '!$G$18:$G$19,'Monthly Peak Data '!$G$29)+0.5*(MAX('Monthly Peak Data '!$P$3:$P$14)))*(1+X72) -> 0 | AJ72: =+M72*0.25*MAX('Monthly Peak Data '!$P$3:$P$14)*(1+X72) -> 0 | AK72: =+VLOOKUP($B72,'Monthly Peak Data '!$L$3:$P$14,5,FALSE)*N72*(1+X72) -> 2.8982773 | AL72: =+VLOOKUP($B72,'Monthly Peak Data '!$L$3:$P$14,5,FALSE)*O72*(1+$X72) -> 2.2077343 | AM72: =+VLOOKUP($B72,'Monthly Peak Data '!$L$3:$P$14,5,FALSE)*P72*(1+$X72) -> 2.8644094 | AN72: =+VLOOKUP($B72,'Monthly Peak Data '!$L$3:$P$14,5,FALSE)*Q72*(1+X72) -> 3.8390301 | AO72: =+R72*AB72*(1+X72) -> 59.364062 | AP72: =+VLOOKUP($B72,'Monthly Peak Data '!$C$18:$G$29,5,FALSE)*(1+X72) -> 0.49346559 | AQ72: =+VLOOKUP($B72,'Monthly Peak Data '!$L$3:$P$14,5,FALSE)*T72*(1+X72) -> 0.14021579 | AR72: =+VLOOKUP($B72,'Monthly Peak Data '!$C$3:$G$14,5,FALSE)*U72*(1+X72) -> -1.4062079 | AS72: =+SUM(AG72:AR72) -> 1432.2941
A73: =1+A61 -> 2023 | B73: =+B61 -> 6 | C73: =+D73*C61/D61 -> 30.299679 | D73: 2.447 | E73: =+E61 -> 0.93665801 | F73: =+E73*C73 -> 28.380437 | G73: =+G61*(1+$G$6) -> 3.895 | H73: =+H61*(1+$H$6) -> 11.968926 | I73: =+I61*D73/D61 -> 0.14576049 | J73: =+J61*D73/D61 -> 0.48576252 | K73: 0 | L73: =+L61*(1+$L$6) -> 0 | M73: =+M61*(1+$M$6) -> 0 | N73: =+N61*(1+$N$6) -> 0.1350129 | O73: =+O61*D73/D61 -> 0.080762317 | P73: =+P61*D75/D61 -> 0.098286216 | Q73: =+Q61*(1+Q$6) -> 0.17809413 | R73: =+R61*(1+R$6) -> 0.37154118 | S73: =+S61*(1+S$6) -> 0.25893649 | T73: =+T61*(1+T$6) -> 0.0065046663 | U73: =+U61*(1+$U$6) -> -0.056531758 | V73: =+V61 -> 0.22707631 | W73: =+W61 -> 720 | X73: =+X72 -> 0.07 | Y73: =+Y61 -> 0.30925205 | Z73: =+Z61 -> 0.0017649813 | AA73: =+AA61*0.995 -> 0.98507488 | AB73: =+W73*V73*AA73 -> 161.05476 | AC73: =+AB73*F73*(1+X73) -> 4890.7608 | AD73: =+AB73*I73*(1+X73) -> 25.118701 | AE73: =+AB73*J73*(1+X73) -> 83.710772 | AF73: =+Y62*G73*1000*1.2*(1+X62) -> 1546.6252 | AG73: =+H73*Z73*1000*(1+X73) -> 22.603675 | AH73: =+K73*AVERAGE('Monthly Peak Data '!$Q$8:$Q$10)*(1+X73)*'Monthly Peak Data '!$M$40*1000 -> 0 | AI73: =+L73*(0.5*MAX('Monthly Peak Data '!$G$18:$G$19,'Monthly Peak Data '!$G$29)+0.5*(MAX('Monthly Peak Data '!$P$3:$P$14)))*(1+X73) -> 0 | AJ73: =+M73*0.25*MAX('Monthly Peak Data '!$P$3:$P$14)*(1+X73) -> 0 | AK73: =+VLOOKUP($B73,'Monthly Peak Data '!$L$3:$P$14,5,FALSE)*N73*(1+X73) -> 0.045385711 | AL73: =+VLOOKUP($B73,'Monthly Peak Data '!$L$3:$P$14,5,FALSE)*O73*(1+$X73) -> 0.027148926 | AM73: =+VLOOKUP($B73,'Monthly Peak Data '!$L$3:$P$14,5,FALSE)*P73*(1+$X73) -> 0.03303973 | AN73: =+VLOOKUP($B73,'Monthly Peak Data '!$L$3:$P$14,5,FALSE)*Q73*(1+X73) -> 0.059867826 | AO73: =+R73*AB73*(1+X73) -> 64.02717 | AP73: =+VLOOKUP($B73,'Monthly Peak Data '!$C$18:$G$29,5,FALSE)*(1+X73) -> 339.51849 | AQ73: =+VLOOKUP($B73,'Monthly Peak Data '!$L$3:$P$14,5,FALSE)*T73*(1+X73) -> 0.0021865978 | AR73: =+VLOOKUP($B73,'Monthly Peak Data '!$C$3:$G$14,5,FALSE)*U73*(1+X73) -> -2.9535862 | AS73: =+SUM(AG73:AR73) -> 423.36338
A74: =1+A62 -> 2023 | B74: =+B62 -> 7 | C74: =+D74*C62/D62 -> 37.576873 | D74: 2.488 | E74: =+E62 -> 0.86933578 | F74: =+E74*C74 -> 32.66692 | G74: =+G73 -> 3.895 | H74: =+H73 -> 11.968926 | I74: =+I62*D74/D62 -> 0.22063034 | J74: =+J62*D74/D62 -> 0.41687954 | K74: 0 | L74: =+L62*(1+$L$6) -> 0 | M74: =+M62*(1+$M$6) -> 0 | N74: =+N73 -> 0.1350129 | O74: =+O62*D74/D62 -> 0.075821994 | P74: =+P62*D76/D62 -> 0.087058014 | Q74: =+Q62*(1+Q$6) -> 0.17809413 | R74: =+R62*(1+R$6) -> 0.37154118 | S74: =+S62*(1+S$6) -> 0.25893649 | T74: =+T62*(1+T$6) -> 0.0065046663 | U74: =+U62*(1+$U$6) -> -0.047430441 | V74: =+V62 -> 0.24032926 | W74: =+W62 -> 744 | X74: =+X73 -> 0.07 | Y74: =+Y62 -> 0.30925205 | Z74: =+Z62 -> 0.0017832548 | AA74: =+AA62*0.995 -> 0.9801495 | AB74: =+W74*V74*AA74 -> 175.2556 | AC74: =+AB74*F74*(1+X74) -> 6125.8151 | AD74: =+AB74*I74*(1+X74) -> 41.373373 | AE74: =+AB74*J74*(1+X74) -> 78.174709 | AF74: =+AF73 -> 1546.6252 | AG74: =+H74*Z74*1000*(1+X74) -> 22.8377 | AH74: =+K74*AVERAGE('Monthly Peak Data '!$Q$8:$Q$10)*(1+X74)*'Monthly Peak Data '!$M$40*1000 -> 0 | AI74: =+L74*(0.5*MAX('Monthly Peak Data '!$G$18:$G$19,'Monthly Peak Data '!$G$29)+0.5*(MAX('Monthly Peak Data '!$P$3:$P$14)))*(1+X74) -> 0 | AJ74: =+M74*0.25*MAX('Monthly Peak Data '!$P$3:$P$14)*(1+X74) -> 0 | AK74: =+VLOOKUP($B74,'Monthly Peak Data '!$L$3:$P$14,5,FALSE)*N74*(1+X74) -> 0.045855607 | AL74: =+VLOOKUP($B74,'Monthly Peak Data '!$L$3:$P$14,5,FALSE)*O74*(1+$X74) -> 0.025752084 | AM74: =+VLOOKUP($B74,'Monthly Peak Data '!$L$3:$P$14,5,FALSE)*P74*(1+$X74) -> 0.029568272 | AN74: =+VLOOKUP($B74,'Monthly Peak Data '!$L$3:$P$14,5,FALSE)*Q74*(1+X74) -> 0.06048766 | AO74: =+R74*AB74*(1+X74) -> 69.672701 | AP74: =+VLOOKUP($B74,'Monthly Peak Data '!$C$18:$G$29,5,FALSE)*(1+X74) -> 108.68772 | AQ74: =+VLOOKUP($B74,'Monthly Peak Data '!$L$3:$P$14,5,FALSE)*T74*(1+X74) -> 0.0022092365 | AR74: =+VLOOKUP($B74,'Monthly Peak Data '!$C$3:$G$14,5,FALSE)*U74*(1+X74) -> -2.7493631 | AS74: =+SUM(AG74:AR74) -> 198.61263
A75: =1+A63 -> 2023 | B75: =+B63 -> 8 | C75: =+D75*C63/D63 -> 35.939017 | D75: 2.505 | E75: =+E63 -> 0.89082638 | F75: =+E75*C75 -> 32.015424 | G75: =+G74 -> 3.895 | H75: =+H74 -> 11.968926 | I75: =+I63*D75/D63 -> 0.19284779 | J75: =+J63*D75/D63 -> 0.49791927 | K75: 0 | L75: =+L63*(1+$L$6) -> 0 | M75: =+M63*(1+$M$6) -> 0 | N75: =+N74 -> 0.1350129 | O75: =+O63*D75/D63 -> 0.056675368 | P75: =+P63*D77/D63 -> 0.040980347 | Q75: =+Q63*(1+Q$6) -> 0.17809413 | R75: =+R63*(1+R$6) -> 0.37154118 | S75: =+S63*(1+S$6) -> 0.25893649 | T75: =+T63*(1+T$6) -> 0.0065046663 | U75: =+U63*(1+$U$6) -> -0.073806448 | V75: =+V63 -> 0.20131777 | W75: =+W63 -> 744 | X75: =+X74 -> 0.07 | Y75: =+Y63 -> 0.30925205 | Z75: =+Z63 -> 0.099775281 | AA75: =+AA63*0.995 -> 0.9801495 | AB75: =+W75*V75*AA75 -> 146.80721 | AC75: =+AB75*F75*(1+X75) -> 5029.1016 | AD75: =+AB75*I75*(1+X75) -> 30.293246 | AE75: =+AB75*J75*(1+X75) -> 78.215006 | AF75: =+AF74 -> 1546.6252 | AG75: =+H75*Z75*1000*(1+X75) -> 1277.7972 | AH75: =+K75*AVERAGE('Monthly Peak Data '!$Q$8:$Q$10)*(1+X75)*'Monthly Peak Data '!$M$40*1000 -> 0 | AI75: =+L75*(0.5*MAX('Monthly Peak Data '!$G$18:$G$19,'Monthly Peak Data '!$G$29)+0.5*(MAX('Monthly Peak Data '!$P$3:$P$14)))*(1+X75) -> 0 | AJ75: =+M75*0.25*MAX('Monthly Peak Data '!$P$3:$P$14)*(1+X75) -> 0 | AK75: =+VLOOKUP($B75,'Monthly Peak Data '!$L$3:$P$14,5,FALSE)*N75*(1+X75) -> 2.5656771 | AL75: =+VLOOKUP($B75,'Monthly Peak Data '!$L$3:$P$14,5,FALSE)*O75*(1+$X75) -> 1.0770134 | AM75: =+VLOOKUP($B75,'Monthly Peak Data '!$L$3:$P$14,5,FALSE)*P75*(1+$X75) -> 0.77875774 | AN75: =+VLOOKUP($B75,'Monthly Peak Data '!$L$3:$P$14,5,FALSE)*Q75*(1+X75) -> 3.3843584 | AO75: =+R75*AB75*(1+X75) -> 58.363067 | AP75: =+VLOOKUP($B75,'Monthly Peak Data '!$C$18:$G$29,5,FALSE)*(1+X75) -> 251.79574 | AQ75: =+VLOOKUP($B75,'Monthly Peak Data '!$L$3:$P$14,5,FALSE)*T75*(1+X75) -> 0.12360947 | AR75: =+VLOOKUP($B75,'Monthly Peak Data '!$C$3:$G$14,5,FALSE)*U75*(1+X75) -> -4.9072231 | AS75: =+SUM(AG75:AR75) -> 1590.9782
A76: =1+A64 -> 2023 | B76: =+B64 -> 9 | C76: =+D76*C64/D64 -> 33.728743 | D76: 2.503 | E76: =+E64 -> 1.1928111 | F76: =+E76*C76 -> 40.23202 | G76: =+G75 -> 3.895 | H76: =+H75 -> 11.968926 | I76: =+I64*D76/D64 -> 0.30008611 | J76: =+J64*D76/D64 -> 0.96263028 | K76: 0 | L76: =+L64*(1+$L$6) -> 0 | M76: =+M64*(1+$M$6) -> 0 | N76: =+N75 -> 0.1350129 | O76: =+O64*D76/D64 -> 0.05902703 | P76: =+P64*D78/D64 -> 0.046332805 | Q76: =+Q64*(1+Q$6) -> 0.17809413 | R76: =+R64*(1+R$6) -> 0.37154118 | S76: =+S64*(1+S$6) -> 0.25893649 | T76: =+T64*(1+T$6) -> 0.0065046663 | U76: =+U64*(1+$U$6) -> -0.066979483 | V76: =+V64 -> 0.16869507 | W76: =+W64 -> 720 | X76: =+X75 -> 0.07 | Y76: =+Y64 -> 0.30925205 | Z76: =+Z64 -> -0.00041385768 | AA76: =+AA64*0.995 -> 0.9801495 | AB76: =+W76*V76*AA76 -> 119.0494 | AC76: =+AB76*F76*(1+X76) -> 5124.8696 | AD76: =+AB76*I76*(1+X76) -> 38.225826 | AE76: =+AB76*J76*(1+X76) -> 122.6226 | AF76: =+AF75 -> 1546.6252 | AG76: =+H76*Z76*1000*(1+X76) -> -5.3001722 | AH76: =+K76*AVERAGE('Monthly Peak Data '!$Q$8:$Q$10)*(1+X76)*'Monthly Peak Data '!$M$40*1000 -> 0 | AI76: =+L76*(0.5*MAX('Monthly Peak Data '!$G$18:$G$19,'Monthly Peak Data '!$G$29)+0.5*(MAX('Monthly Peak Data '!$P$3:$P$14)))*(1+X76) -> 0 | AJ76: =+M76*0.25*MAX('Monthly Peak Data '!$P$3:$P$14)*(1+X76) -> 0 | AK76: =+VLOOKUP($B76,'Monthly Peak Data '!$L$3:$P$14,5,FALSE)*N76*(1+X76) -> -0.010642167 | AL76: =+VLOOKUP($B76,'Monthly Peak Data '!$L$3:$P$14,5,FALSE)*O76*(1+$X76) -> -0.0046527072 | AM76: =+VLOOKUP($B76,'Monthly Peak Data '!$L$3:$P$14,5,FALSE)*P76*(1+$X76) -> -0.0036521061 | AN76: =+VLOOKUP($B76,'Monthly Peak Data '!$L$3:$P$14,5,FALSE)*Q76*(1+X76) -> -0.014037973 | AO76: =+R76*AB76*(1+X76) -> 47.327977 | AP76: =+VLOOKUP($B76,'Monthly Peak Data '!$C$18:$G$29,5,FALSE)*(1+X76) -> 0.31838444 | AQ76: =+VLOOKUP($B76,'Monthly Peak Data '!$L$3:$P$14,5,FALSE)*T76*(1+X76) -> -0.00051271948 | AR76: =+VLOOKUP($B76,'Monthly Peak Data '!$C$3:$G$14,5,FALSE)*U76*(1+X76) -> -3.4605633 | AS76: =+SUM(AG76:AR76) -> 38.852128
A77: =1+A65 -> 2023 | B77: =+B65 -> 10 | C77: =+D77*C65/D65 -> 32.259574 | D77: 2.527 | E77: =+E65 -> 0.94018245 | F77: =+E77*C77 -> 30.329886 | G77: =+G76 -> 3.895 | H77: =+H76 -> 11.968926 | I77: =+I65*D77/D65 -> 0.2253697 | J77: =+J65*D77/D65 -> 0.32526268 | K77: 0 | L77: =+L65*(1+$L$6) -> 0 | M77: =+M65*(1+$M$6) -> 0 | N77: =+N76 -> 0.1350129 | O77: =+O65*D77/D65 -> 0.078709048 | P77: =+P65*D79/D65 -> 0.093633209 | Q77: =+Q65*(1+Q$6) -> 0.17809413 | R77: =+R65*(1+R$6) -> 0.37154118 | S77: =+S65*(1+S$6) -> 0.25893649 | T77: =+T65*(1+T$6) -> 0.0065046663 | U77: =+U65*(1+$U$6) -> -0.067642133 | V77: =+V65 -> 0.10010137 | W77: =+W65 -> 744 | X77: =+X76 -> 0.07 | Y77: =+Y65 -> 0.30925205 | Z77: =+Z65 -> -0.00030898876 | AA77: =+AA65*0.995 -> 0.9801495 | AB77: =+W77*V77*AA77 -> 72.997047 | AC77: =+AB77*F77*(1+X77) -> 2368.9716 | AD77: =+AB77*I77*(1+X77) -> 17.602915 | AE77: =+AB77*J77*(1+X77) -> 25.40524 | AF77: =+AF76 -> 1546.6252 | AG77: =+H77*Z77*1000*(1+X77) -> -3.9571421 | AH77: =+K77*AVERAGE('Monthly Peak Data '!$Q$8:$Q$10)*(1+X77)*'Monthly Peak Data '!$M$40*1000 -> 0 | AI77: =+L77*(0.5*MAX('Monthly Peak Data '!$G$18:$G$19,'Monthly Peak Data '!$G$29)+0.5*(MAX('Monthly Peak Data '!$P$3:$P$14)))*(1+X77) -> 0 | AJ77: =+M77*0.25*MAX('Monthly Peak Data '!$P$3:$P$14)*(1+X77) -> 0 | AK77: =+VLOOKUP($B77,'Monthly Peak Data '!$L$3:$P$14,5,FALSE)*N77*(1+X77) -> -0.0079455091 | AL77: =+VLOOKUP($B77,'Monthly Peak Data '!$L$3:$P$14,5,FALSE)*O77*(1+$X77) -> -0.0046320275 | AM77: =+VLOOKUP($B77,'Monthly Peak Data '!$L$3:$P$14,5,FALSE)*P77*(1+$X77) -> -0.0055103144 | AN77: =+VLOOKUP($B77,'Monthly Peak Data '!$L$3:$P$14,5,FALSE)*Q77*(1+X77) -> -0.010480839 | AO77: =+R77*AB77*(1+X77) -> 29.019908 | AP77: =+VLOOKUP($B77,'Monthly Peak Data '!$C$18:$G$29,5,FALSE)*(1+X77) -> 0.51383011 | AQ77: =+VLOOKUP($B77,'Monthly Peak Data '!$L$3:$P$14,5,FALSE)*T77*(1+X77) -> -0.00038279961 | AR77: =+VLOOKUP($B77,'Monthly Peak Data '!$C$3:$G$14,5,FALSE)*U77*(1+X77) -> 0.0084984704 | AS77: =+SUM(AG77:AR77) -> 25.556143
A78: =1+A66 -> 2023 | B78: =+B66 -> 11 | C78: =+D78*C66/D66 -> 42.159104 | D78: 2.594 | E78: =+E66 -> 0.84486275 | F78: =+E78*C78 -> 35.618656 | G78: =+G77 -> 3.895 | H78: =+H77 -> 11.968926 | I78: =+I66*D78/D66 -> 0.31002845 | J78: =+J66*D78/D66 -> 0.33827798 | K78: 0 | L78: =+L66*(1+$L$6) -> 0 | M78: =+M66*(1+$M$6) -> 0 | N78: =+N77 -> 0.1350129 | O78: =+O66*D78/D66 -> 0.076589188 | P78: =+P66*D80/D66 -> 0.10109804 | Q78: =+Q66*(1+Q$6) -> 0.17809413 | R78: =+R66*(1+R$6) -> 0.37154118 | S78: =+S66*(1+S$6) -> 0.25893649 | T78: =+T66*(1+T$6) -> 0.0065046663 | U78: =+U66*(1+$U$6) -> -0.045641644 | V78: =+V66 -> 0.040542058 | W78: =+W66 -> 721 | X78: =+X77 -> 0.07 | Y78: =+Y66 -> 0.30925205 | Z78: =+Z66 -> -0.00074906367 | AA78: =+AA66*0.995 -> 0.9801495 | AB78: =+W78*V78*AA78 -> 28.650578 | AC78: =+AB78*F78*(1+X78) -> 1091.9297 | AD78: =+AB78*I78*(1+X78) -> 9.5042687 | AE78: =+AB78*J78*(1+X78) -> 10.37029 | AF78: =+AF77 -> 1546.6252 | AG78: =+H78*Z78*1000*(1+X78) -> -9.5930718 | AH78: =+K78*AVERAGE('Monthly Peak Data '!$Q$8:$Q$10)*(1+X78)*'Monthly Peak Data '!$M$40*1000 -> 0 | AI78: =+L78*(0.5*MAX('Monthly Peak Data '!$G$18:$G$19,'Monthly Peak Data '!$G$29)+0.5*(MAX('Monthly Peak Data '!$P$3:$P$14)))*(1+X78) -> 0 | AJ78: =+M78*0.25*MAX('Monthly Peak Data '!$P$3:$P$14)*(1+X78) -> 0 | AK78: =+VLOOKUP($B78,'Monthly Peak Data '!$L$3:$P$14,5,FALSE)*N78*(1+X78) -> -0.01926184 | AL78: =+VLOOKUP($B78,'Monthly Peak Data '!$L$3:$P$14,5,FALSE)*O78*(1+$X78) -> -0.010926724 | AM78: =+VLOOKUP($B78,'Monthly Peak Data '!$L$3:$P$14,5,FALSE)*P78*(1+$X78) -> -0.014423321 | AN78: =+VLOOKUP($B78,'Monthly Peak Data '!$L$3:$P$14,5,FALSE)*Q78*(1+X78) -> -0.025408096 | AO78: =+R78*AB78*(1+X78) -> 11.39001 | AP78: =+VLOOKUP($B78,'Monthly Peak Data '!$C$18:$G$29,5,FALSE)*(1+X78) -> 0.83685889 | AQ78: =+VLOOKUP($B78,'Monthly Peak Data '!$L$3:$P$14,5,FALSE)*T78*(1+X78) -> -0.00092799906 | AR78: =+VLOOKUP($B78,'Monthly Peak Data '!$C$3:$G$14,5,FALSE)*U78*(1+X78) -> 0.0071301376 | AS78: =+SUM(AG78:AR78) -> 2.5699795
A79: =1+A67 -> 2023 | B79: =+B67 -> 12 | C79: =+D79*C67/D67 -> 62.094641 | D79: 2.769 | E79: =+E67 -> 0.71583738 | F79: =+E79*C79 -> 44.449665 | G79: =+G78 -> 3.895 | H79: =+H78 -> 11.968926 | I79: =+I67*D79/D67 -> 0.17053399 | J79: =+J67*D79/D67 -> 0.17167953 | K79: 0 | L79: =+L67*(1+$L$6) -> 0 | M79: =+M67*(1+$M$6) -> 0 | N79: =+N78 -> 0.1350129 | O79: =+O67*D79/D67 -> 0.052800088 | P79: =+P67*D81/D67 -> 0.050858877 | Q79: =+Q67*(1+Q$6) -> 0.17809413 | R79: =+R67*(1+R$6) -> 0.37154118 | S79: =+S67*(1+S$6) -> 0.25893649 | T79: =+T67*(1+T$6) -> 0.0065046663 | U79: =+U67*(1+$U$6) -> -0.03492084 | V79: =+V67 -> 0.025858743 | W79: =+W67 -> 744 | X79: =+X78 -> 0.07 | Y79: =+Y67 -> 0.30925205 | Z79: =+Z67 -> -0.0049238855 | AA79: =+AA67*0.995 -> 0.9801495 | AB79: =+W79*V79*AA79 -> 18.857003 | AC79: =+AB79*F79*(1+X79) -> 896.86057 | AD79: =+AB79*I79*(1+X79) -> 3.4408631 | AE79: =+AB79*J79*(1+X79) -> 3.4639767 | AF79: =+AF78 -> 1546.6252 | AG79: =+H79*Z79*1000*(1+X79) -> -63.058975 | AH79: =+K79*AVERAGE('Monthly Peak Data '!$Q$8:$Q$10)*(1+X79)*'Monthly Peak Data '!$M$40*1000 -> 0 | AI79: =+L79*(0.5*MAX('Monthly Peak Data '!$G$18:$G$19,'Monthly Peak Data '!$G$29)+0.5*(MAX('Monthly Peak Data '!$P$3:$P$14)))*(1+X79) -> 0 | AJ79: =+M79*0.25*MAX('Monthly Peak Data '!$P$3:$P$14)*(1+X79) -> 0 | AK79: =+VLOOKUP($B79,'Monthly Peak Data '!$L$3:$P$14,5,FALSE)*N79*(1+X79) -> -0.12661553 | AL79: =+VLOOKUP($B79,'Monthly Peak Data '!$L$3:$P$14,5,FALSE)*O79*(1+$X79) -> -0.049516093 | AM79: =+VLOOKUP($B79,'Monthly Peak Data '!$L$3:$P$14,5,FALSE)*P79*(1+$X79) -> -0.047695619 | AN79: =+VLOOKUP($B79,'Monthly Peak Data '!$L$3:$P$14,5,FALSE)*Q79*(1+X79) -> -0.16701725 | AO79: =+R79*AB79*(1+X79) -> 7.4965838 | AP79: =+VLOOKUP($B79,'Monthly Peak Data '!$C$18:$G$29,5,FALSE)*(1+X79) -> 0 | AQ79: =+VLOOKUP($B79,'Monthly Peak Data '!$L$3:$P$14,5,FALSE)*T79*(1+X79) -> -0.006100097 | AR79: =+VLOOKUP($B79,'Monthly Peak Data '!$C$3:$G$14,5,FALSE)*U79*(1+X79) -> 0.031633944 | AS79: =+SUM(AG79:AR79) -> -55.927701
A80: =1+A68 -> 2024 | B80: =+B68 -> 1 | C80: =+D80*C68/D68 -> 81.662154 | D80: 2.888 | E80: =+E68 -> 0.70389395 | F80: =+E80*C80 -> 57.481496 | G80: =+G79 -> 3.895 | H80: =+H79 -> 11.968926 | I80: =+I68*D80/D68 -> 0.2278348 | J80: =+J68*D80/D68 -> 0.19185315 | K80: 0 | L80: =+L68*(1+$L$6) -> 0 | M80: =+M68*(1+$M$6) -> 0 | N80: =+N79 -> 0.1350129 | O80: =+O68*D80/D68 -> 0.06399225 | P80: =+P68*D82/D68 -> 0.045778855 | Q80: =+Q68*(1+Q$6) -> 0.17942984 | R80: =+R68*(1+R$6) -> 0.39086132 | S80: =+S68*(1+S$6) -> 0.26929395 | T80: =+T68*(1+T$6) -> 0.0063615636 | U80: =+U68*(1+$U$6) -> -0.041906855 | V80: =+V68 -> 0.022616097 | W80: =+W68 -> 744 | X80: =+X79 -> 0.07 | Y80: =+Y68 -> 0.30925205 | Z80: =+Z68 -> -0.0060846321 | AA80: =+AA68*0.995 -> 0.9801495 | AB80: =+W80*V80*AA80 -> 16.492364 | AC80: =+AB80*F80*(1+X80) -> 1014.3662 | AD80: =+AB80*I80*(1+X80) -> 4.0205621 | AE80: =+AB80*J80*(1+X80) -> 3.3855999 | AF80: =+AF79 -> 1546.6252 | AG80: =+H80*Z80*1000*(1+X80) -> -77.924368 | AH80: =+K80*AVERAGE('Monthly Peak Data '!$Q$8:$Q$10)*(1+X80)*'Monthly Peak Data '!$M$40*1000 -> 0 | AI80: =+L80*(0.5*MAX('Monthly Peak Data '!$G$18:$G$19,'Monthly Peak Data '!$G$29)+0.5*(MAX('Monthly Peak Data '!$P$3:$P$14)))*(1+X80) -> 0 | AJ80: =+M80*0.25*MAX('Monthly Peak Data '!$P$3:$P$14)*(1+X80) -> 0 | AK80: =+VLOOKUP($B80,'Monthly Peak Data '!$L$3:$P$14,5,FALSE)*N80*(1+X80) -> -0.15646362 | AL80: =+VLOOKUP($B80,'Monthly Peak Data '!$L$3:$P$14,5,FALSE)*O80*(1+$X80) -> -0.074159277 | AM80: =+VLOOKUP($B80,'Monthly Peak Data '!$L$3:$P$14,5,FALSE)*P80*(1+$X80) -> -0.053052155 | AN80: =+VLOOKUP($B80,'Monthly Peak Data '!$L$3:$P$14,5,FALSE)*Q80*(1+X80) -> -0.20793747 | AO80: =+R80*AB80*(1+X80) -> 6.8974633 | AP80: =+VLOOKUP($B80,'Monthly Peak Data '!$C$18:$G$29,5,FALSE)*(1+X80) -> 0 | AQ80: =+VLOOKUP($B80,'Monthly Peak Data '!$L$3:$P$14,5,FALSE)*T80*(1+X80) -> -0.0073722827 | AR80: =+VLOOKUP($B80,'Monthly Peak Data '!$C$3:$G$14,5,FALSE)*U80*(1+X80) -> 0.046134918 | AS80: =+SUM(AG80:AR80) -> -71.479754
A81: =1+A69 -> 2024 | B81: =+B69 -> 2 | C81: =+D81*C69/D69 -> 78.747342 | D81: 2.856 | E81: =+E69 -> 0.91686751 | F81: =+E81*C81 -> 72.200879 | G81: =+G80 -> 3.895 | H81: =+H80 -> 11.968926 | I81: =+I69*D81/D69 -> 0.22918725 | J81: =+J69*D81/D69 -> 0.32985982 | K81: =+K80 -> 0 | L81: =+L69*(1+$L$6) -> 0 | M81: =+M69*(1+$M$6) -> 0 | N81: =+N80 -> 0.1350129 | O81: =+O69*D81/D69 -> 0.087360482 | P81: =+P69*D83/D69 -> 0.040072789 | Q81: =+Q69*(1+Q$6) -> 0.17942984 | R81: =+R69*(1+R$6) -> 0.39086132 | S81: =+S69*(1+S$6) -> 0.26929395 | T81: =+T69*(1+T$6) -> 0.0063615636 | U81: =+U69*(1+$U$6) -> -0.04675465 | V81: =+V69 -> 0.052674726 | W81: 696 | X81: =+X80 -> 0.07 | Y81: =+Y69 -> 0.30925205 | Z81: =+Z69 -> -0.0055317014 | AA81: =+AA69*0.995 -> 0.9801495 | AB81: =+W81*V81*AA81 -> 35.933858 | AC81: =+AB81*F81*(1+X81) -> 2776.0681 | AD81: =+AB81*I81*(1+X81) -> 8.8120727 | AE81: =+AB81*J81*(1+X81) -> 12.682856 | AF81: =+AF80 -> 1546.6252 | AG81: =+H81*Z81*1000*(1+X81) -> -70.843122 | AH81: =+K81*AVERAGE('Monthly Peak Data '!$Q$8:$Q$10)*(1+X81)*'Monthly Peak Data '!$M$40*1000 -> 0 | AI81: =+L81*(0.5*MAX('Monthly Peak Data '!$G$18:$G$19,'Monthly Peak Data '!$G$29)+0.5*(MAX('Monthly Peak Data '!$P$3:$P$14)))*(1+X81) -> 0 | AJ81: =+M81*0.25*MAX('Monthly Peak Data '!$P$3:$P$14)*(1+X81) -> 0 | AK81: =+VLOOKUP($B81,'Monthly Peak Data '!$L$3:$P$14,5,FALSE)*N81*(1+X81) -> -0.14224525 | AL81: =+VLOOKUP($B81,'Monthly Peak Data '!$L$3:$P$14,5,FALSE)*O81*(1+$X81) -> -0.092040196 | AM81: =+VLOOKUP($B81,'Monthly Peak Data '!$L$3:$P$14,5,FALSE)*P81*(1+$X81) -> -0.042219402 | AN81: =+VLOOKUP($B81,'Monthly Peak Data '!$L$3:$P$14,5,FALSE)*Q81*(1+X81) -> -0.18904151 | AO81: =+R81*AB81*(1+X81) -> 15.028316 | AP81: =+VLOOKUP($B81,'Monthly Peak Data '!$C$18:$G$29,5,FALSE)*(1+X81) -> 1.6748048 | AQ81: =+VLOOKUP($B81,'Monthly Peak Data '!$L$3:$P$14,5,FALSE)*T81*(1+X81) -> -0.0067023389 | AR81: =+VLOOKUP($B81,'Monthly Peak Data '!$C$3:$G$14,5,FALSE)*U81*(1+X81) -> 0.053145259 | AS81: =+SUM(AG81:AR81) -> -54.559105
A82: =1+A70 -> 2024 | B82: =+B70 -> 3 | C82: =+D82*C70/D70 -> 53.607809 | D82: 2.746 | E82: =+E70 -> 0.77619976 | F82: =+E82*C82 -> 41.610368 | G82: =+G81 -> 3.895 | H82: =+H81 -> 11.968926 | I82: =+I70*D82/D70 -> 0.19586538 | J82: =+J70*D82/D70 -> 0.29034115 | K82: =+K81 -> 0 | L82: =+L70*(1+$L$6) -> 0 | M82: =+M70*(1+$M$6) -> 0 | N82: =+N81 -> 0.1350129 | O82: =+O70*D82/D70 -> 0.094155395 | P82: =+P70*D84/D70 -> 0.049038133 | Q82: =+Q70*(1+Q$6) -> 0.17942984 | R82: =+R70*(1+R$6) -> 0.39086132 | S82: =+S70*(1+S$6) -> 0.26929395 | T82: =+T70*(1+T$6) -> 0.0063615636 | U82: =+U70*(1+$U$6) -> -0.048337907 | V82: =+V70 -> 0.10095698 | W82: =+W70 -> 743 | X82: =+X81 -> 0.07 | Y82: =+Y70 -> 0.30925205 | Z82: =+Z70 -> 0.016072852 | AA82: =+AA70*0.995 -> 0.9801495 | AB82: =+W82*V82*AA82 -> 73.522033 | AC82: =+AB82*F82*(1+X82) -> 3273.4284 | AD82: =+AB82*I82*(1+X82) -> 15.40845 | AE82: =+AB82*J82*(1+X82) -> 22.840725 | AF82: =+AF81 -> 1546.6252 | AG82: =+H82*Z82*1000*(1+X82) -> 205.84102 | AH82: =+K82*AVERAGE('Monthly Peak Data '!$Q$8:$Q$10)*(1+X82)*'Monthly Peak Data '!$M$40*1000 -> 0 | AI82: =+L82*(0.5*MAX('Monthly Peak Data '!$G$18:$G$19,'Monthly Peak Data '!$G$29)+0.5*(MAX('Monthly Peak Data '!$P$3:$P$14)))*(1+X82) -> 0 | AJ82: =+M82*0.25*MAX('Monthly Peak Data '!$P$3:$P$14)*(1+X82) -> 0 | AK82: =+VLOOKUP($B82,'Monthly Peak Data '!$L$3:$P$14,5,FALSE)*N82*(1+X82) -> 0.41330628 | AL82: =+VLOOKUP($B82,'Monthly Peak Data '!$L$3:$P$14,5,FALSE)*O82*(1+$X82) -> 0.28823184 | AM82: =+VLOOKUP($B82,'Monthly Peak Data '!$L$3:$P$14,5,FALSE)*P82*(1+$X82) -> 0.15011727 | AN82: =+VLOOKUP($B82,'Monthly Peak Data '!$L$3:$P$14,5,FALSE)*Q82*(1+X82) -> 0.54927698 | AO82: =+R82*AB82*(1+X82) -> 30.748503 | AP82: =+VLOOKUP($B82,'Monthly Peak Data '!$C$18:$G$29,5,FALSE)*(1+X82) -> 0.04003871 | AQ82: =+VLOOKUP($B82,'Monthly Peak Data '!$L$3:$P$14,5,FALSE)*T82*(1+X82) -> 0.019474244 | AR82: =+VLOOKUP($B82,'Monthly Peak Data '!$C$3:$G$14,5,FALSE)*U82*(1+X82) -> 0.0088844293 | AS82: =+SUM(AG82:AR82) -> 238.05885
A83: =1+A71 -> 2024 | B83: =+B71 -> 4 | C83: =+D83*C71/D71 -> 37.129845 | D83: 2.499 | E83: =+E71 -> 0.85629918 | F83: =+E83*C83 -> 31.794256 | G83: =+G82 -> 3.895 | H83: =+H82 -> 11.968926 | I83: =+I71*D83/D71 -> 0.14559294 | J83: =+J71*D83/D71 -> 0.25279797 | K83: =+K82 -> 0 | L83: =+L71*(1+$L$6) -> 0 | M83: =+M71*(1+$M$6) -> 0 | N83: =+N82 -> 0.1350129 | O83: =+O71*D83/D71 -> 0.10266478 | P83: =+P71*D85/D71 -> 0.097517658 | Q83: =+Q71*(1+Q$6) -> 0.17942984 | R83: =+R71*(1+R$6) -> 0.39086132 | S83: =+S71*(1+S$6) -> 0.26929395 | T83: =+T71*(1+T$6) -> 0.0063615636 | U83: =+U71*(1+$U$6) -> -0.05115826 | V83: =+V71 -> 0.14691858 | W83: =+W71 -> 720 | X83: =+X82 -> 0.07 | Y83: =+Y71 -> 0.30925205 | Z83: =+Z71 -> 0.0026413858 | AA83: =+AA71*0.995 -> 0.9801495 | AB83: =+W83*V83*AA83 -> 103.68156 | AC83: =+AB83*F83*(1+X83) -> 3527.2316 | AD83: =+AB83*I83*(1+X83) -> 16.151975 | AE83: =+AB83*J83*(1+X83) -> 28.045223 | AF83: =+AF82 -> 1546.6252 | AG83: =+H83*Z83*1000*(1+X83) -> 33.82757 | AH83: =+K83*AVERAGE('Monthly Peak Data '!$Q$8:$Q$10)*(1+X83)*'Monthly Peak Data '!$M$40*1000 -> 0 | AI83: =+L83*(0.5*MAX('Monthly Peak Data '!$G$18:$G$19,'Monthly Peak Data '!$G$29)+0.5*(MAX('Monthly Peak Data '!$P$3:$P$14)))*(1+X83) -> 0 | AJ83: =+M83*0.25*MAX('Monthly Peak Data '!$P$3:$P$14)*(1+X83) -> 0 | AK83: =+VLOOKUP($B83,'Monthly Peak Data '!$L$3:$P$14,5,FALSE)*N83*(1+X83) -> 0.067922064 | AL83: =+VLOOKUP($B83,'Monthly Peak Data '!$L$3:$P$14,5,FALSE)*O83*(1+$X83) -> 0.051648425 | AM83: =+VLOOKUP($B83,'Monthly Peak Data '!$L$3:$P$14,5,FALSE)*P83*(1+$X83) -> 0.049059021 | AN83: =+VLOOKUP($B83,'Monthly Peak Data '!$L$3:$P$14,5,FALSE)*Q83*(1+X83) -> 0.090267262 | AO83: =+R83*AB83*(1+X83) -> 43.361871 | AP83: =+VLOOKUP($B83,'Monthly Peak Data '!$C$18:$G$29,5,FALSE)*(1+X83) -> 142.15604 | AQ83: =+VLOOKUP($B83,'Monthly Peak Data '!$L$3:$P$14,5,FALSE)*T83*(1+X83) -> 0.0032003648 | AR83: =+VLOOKUP($B83,'Monthly Peak Data '!$C$3:$G$14,5,FALSE)*U83*(1+X83) -> 0.0075905215 | AS83: =+SUM(AG83:AR83) -> 219.61517
A84: =1+A72 -> 2024 | B84: =+B72 -> 5 | C84: =+D84*C72/D72 -> 31.173059 | D84: 2.482 | E84: =+E72 -> 0.82264045 | F84: =+E84*C84 -> 25.644219 | G84: =+G83 -> 3.895 | H84: =+H83 -> 11.968926 | I84: =+I72*D84/D72 -> 0.13594867 | J84: =+J72*D84/D72 -> 0.25369875 | K84: =+K83 -> 0 | L84: =+L72*(1+$L$6) -> 0 | M84: =+M72*(1+$M$6) -> 0 | N84: =+N83 -> 0.1350129 | O84: =+O72*D84/D72 -> 0.10560892 | P84: =+P72*D86/D72 -> 0.14044432 | Q84: =+Q72*(1+Q$6) -> 0.17942984 | R84: =+R72*(1+R$6) -> 0.39086132 | S84: =+S72*(1+S$6) -> 0.26929395 | T84: =+T72*(1+T$6) -> 0.0063615636 | U84: =+U72*(1+$U$6) -> -0.065234544 | V84: =+V72 -> 0.20374675 | W84: =+W72 -> 744 | X84: =+X83 -> 0.07 | Y84: =+Y72 -> 0.30925205 | Z84: =+Z72 -> 0.11317959 | AA84: =+AA72*0.995 -> 0.9801495 | AB84: =+W84*V84*AA84 -> 148.5785 | AC84: =+AB84*F84*(1+X84) -> 4076.892 | AD84: =+AB84*I84*(1+X84) -> 21.612983 | AE84: =+AB84*J84*(1+X84) -> 40.332771 | AF84: =+AF83 -> 1546.6252 | AG84: =+H84*Z84*1000*(1+X84) -> 1449.4629 | AH84: =+K84*AVERAGE('Monthly Peak Data '!$Q$8:$Q$10)*(1+X84)*'Monthly Peak Data '!$M$40*1000 -> 0 | AI84: =+L84*(0.5*MAX('Monthly Peak Data '!$G$18:$G$19,'Monthly Peak Data '!$G$29)+0.5*(MAX('Monthly Peak Data '!$P$3:$P$14)))*(1+X84) -> 0 | AJ84: =+M84*0.25*MAX('Monthly Peak Data '!$P$3:$P$14)*(1+X84) -> 0 | AK84: =+VLOOKUP($B84,'Monthly Peak Data '!$L$3:$P$14,5,FALSE)*N84*(1+X84) -> 2.9103631 | AL84: =+VLOOKUP($B84,'Monthly Peak Data '!$L$3:$P$14,5,FALSE)*O84*(1+$X84) -> 2.2765254 | AM84: =+VLOOKUP($B84,'Monthly Peak Data '!$L$3:$P$14,5,FALSE)*P84*(1+$X84) -> 3.0274439 | AN84: =+VLOOKUP($B84,'Monthly Peak Data '!$L$3:$P$14,5,FALSE)*Q84*(1+X84) -> 3.8678228 | AO84: =+R84*AB84*(1+X84) -> 62.138738 | AP84: =+VLOOKUP($B84,'Monthly Peak Data '!$C$18:$G$29,5,FALSE)*(1+X84) -> 0.49346559 | AQ84: =+VLOOKUP($B84,'Monthly Peak Data '!$L$3:$P$14,5,FALSE)*T84*(1+X84) -> 0.13713105 | AR84: =+VLOOKUP($B84,'Monthly Peak Data '!$C$3:$G$14,5,FALSE)*U84*(1+X84) -> -1.4062079 | AS84: =+SUM(AG84:AR84) -> 1522.9081
A85: =1+A73 -> 2024 | B85: =+B73 -> 6 | C85: =+D85*C73/D73 -> 31.104534 | D85: 2.512 | E85: =+E73 -> 0.93665801 | F85: =+E85*C85 -> 29.134311 | G85: =+G73*(1+$G$6) -> 3.992375 | H85: =+H73*(1+$H$6) -> 12.738528 | I85: =+I73*D85/D73 -> 0.14963235 | J85: =+J73*D85/D73 -> 0.49866589 | K85: 3.78 | L85: =+L73*(1+$L$6) -> 0 | M85: =+M73*(1+$M$6) -> 0 | N85: =+N73*(1+$N$6) -> 0.1355759 | O85: =+O73*D85/D73 -> 0.082907618 | P85: =+P73*D87/D73 -> 0.10246348 | Q85: =+Q73*(1+Q$6) -> 0.17942984 | R85: =+R73*(1+R$6) -> 0.39086132 | S85: =+S73*(1+S$6) -> 0.26929395 | T85: =+T73*(1+T$6) -> 0.0063615636 | U85: =+U73*(1+$U$6) -> -0.056531758 | V85: =+V73 -> 0.22707631 | W85: =+W73 -> 720 | X85: =+X84 -> 0.07 | Y85: =+Y73 -> 0.30925205 | Z85: =+Z73 -> 0.0017649813 | AA85: =+AA73*0.995 -> 0.9801495 | AB85: =+W85*V85*AA85 -> 160.24949 | AC85: =+AB85*F85*(1+X85) -> 4995.5714 | AD85: =+AB85*I85*(1+X85) -> 25.657003 | AE85: =+AB85*J85*(1+X85) -> 85.504721 | AF85: =+Y74*G85*1000*1.2*(1+X74) -> 1585.2908 | AG85: =+H85*Z85*1000*(1+X85) -> 24.057092 | AH85: =+K85*AVERAGE('Monthly Peak Data '!$Q$8:$Q$10)*(1+X85)*'Monthly Peak Data '!$M$40*1000 -> 66.209128 | AI85: =+L85*(0.5*MAX('Monthly Peak Data '!$G$18:$G$19,'Monthly Peak Data '!$G$29)+0.5*(MAX('Monthly Peak Data '!$P$3:$P$14)))*(1+X85) -> 0 | AJ85: =+M85*0.25*MAX('Monthly Peak Data '!$P$3:$P$14)*(1+X85) -> 0 | AK85: =+VLOOKUP($B85,'Monthly Peak Data '!$L$3:$P$14,5,FALSE)*N85*(1+X85) -> 0.04557497 | AL85: =+VLOOKUP($B85,'Monthly Peak Data '!$L$3:$P$14,5,FALSE)*O85*(1+$X85) -> 0.027870087 | AM85: =+VLOOKUP($B85,'Monthly Peak Data '!$L$3:$P$14,5,FALSE)*P85*(1+$X85) -> 0.034443953 | AN85: =+VLOOKUP($B85,'Monthly Peak Data '!$L$3:$P$14,5,FALSE)*Q85*(1+X85) -> 0.060316834 | AO85: =+R85*AB85*(1+X85) -> 67.0198 | AP85: =+VLOOKUP($B85,'Monthly Peak Data '!$C$18:$G$29,5,FALSE)*(1+X85) -> 339.51849 | AQ85: =+VLOOKUP($B85,'Monthly Peak Data '!$L$3:$P$14,5,FALSE)*T85*(1+X85) -> 0.0021384926 | AR85: =+VLOOKUP($B85,'Monthly Peak Data '!$C$3:$G$14,5,FALSE)*U85*(1+X85) -> -2.9535862 | AS85: =+SUM(AG85:AR85) -> 494.02127
A86: =1+A74 -> 2024 | B86: =+B74 -> 7 | C86: =+D86*C74/D74 -> 38.422655 | D86: 2.544 | E86: =+E74 -> 0.86933578 | F86: =+E86*C86 -> 33.402189 | G86: =+G85 -> 3.992375 | H86: =+H85 -> 12.738528 | I86: =+I74*D86/D74 -> 0.2255963 | J86: =+J74*D86/D74 -> 0.42626268 | K86: =+K85 -> 3.78 | L86: =+L74*(1+$L$6) -> 0 | M86: =+M74*(1+$M$6) -> 0 | N86: =+N85 -> 0.1355759 | O86: =+O74*D86/D74 -> 0.077528598 | P86: =+P74*D88/D74 -> 0.089087501 | Q86: =+Q74*(1+Q$6) -> 0.17942984 | R86: =+R74*(1+R$6) -> 0.39086132 | S86: =+S74*(1+S$6) -> 0.26929395 | T86: =+T74*(1+T$6) -> 0.0063615636 | U86: =+U74*(1+$U$6) -> -0.047430441 | V86: =+V74 -> 0.24032926 | W86: =+W74 -> 744 | X86: =+X85 -> 0.07 | Y86: =+Y74 -> 0.30925205 | Z86: =+Z74 -> 0.0017832548 | AA86: =+AA74*0.995 -> 0.97524875 | AB86: =+W86*V86*AA86 -> 174.37933 | AC86: =+AB86*F86*(1+X86) -> 6232.3767 | AD86: =+AB86*I86*(1+X86) -> 42.093084 | AE86: =+AB86*J86*(1+X86) -> 79.534597 | AF86: =+AF85 -> 1585.2908 | AG86: =+H86*Z86*1000*(1+X86) -> 24.306164 | AH86: =+K86*AVERAGE('Monthly Peak Data '!$Q$8:$Q$10)*(1+X86)*'Monthly Peak Data '!$M$40*1000 -> 66.209128 | AI86: =+L86*(0.5*MAX('Monthly Peak Data '!$G$18:$G$19,'Monthly Peak Data '!$G$29)+0.5*(MAX('Monthly Peak Data '!$P$3:$P$14)))*(1+X86) -> 0 | AJ86: =+M86*0.25*MAX('Monthly Peak Data '!$P$3:$P$14)*(1+X86) -> 0 | AK86: =+VLOOKUP($B86,'Monthly Peak Data '!$L$3:$P$14,5,FALSE)*N86*(1+X86) -> 0.046046825 | AL86: =+VLOOKUP($B86,'Monthly Peak Data '!$L$3:$P$14,5,FALSE)*O86*(1+$X86) -> 0.026331713 | AM86: =+VLOOKUP($B86,'Monthly Peak Data '!$L$3:$P$14,5,FALSE)*P86*(1+$X86) -> 0.030257564 | AN86: =+VLOOKUP($B86,'Monthly Peak Data '!$L$3:$P$14,5,FALSE)*Q86*(1+X86) -> 0.060941318 | AO86: =+R86*AB86*(1+X86) -> 72.929204 | AP86: =+VLOOKUP($B86,'Monthly Peak Data '!$C$18:$G$29,5,FALSE)*(1+X86) -> 108.68772 | AQ86: =+VLOOKUP($B86,'Monthly Peak Data '!$L$3:$P$14,5,FALSE)*T86*(1+X86) -> 0.0021606333 | AR86: =+VLOOKUP($B86,'Monthly Peak Data '!$C$3:$G$14,5,FALSE)*U86*(1+X86) -> -2.7493631 | AS86: =+SUM(AG86:AR86) -> 269.54859
A87: =1+A75 -> 2024 | B87: =+B75 -> 8 | C87: =+D87*C75/D75 -> 36.598975 | D87: 2.551 | E87: =+E75 -> 0.89082638 | F87: =+E87*C87 -> 32.603332 | G87: =+G86 -> 3.992375 | H87: =+H86 -> 12.738528 | I87: =+I75*D87/D75 -> 0.1963891 | J87: =+J75*D87/D75 -> 0.5070627 | K87: =+K86 -> 3.78 | L87: =+L75*(1+$L$6) -> 0 | M87: =+M75*(1+$M$6) -> 0 | N87: =+N86 -> 0.1355759 | O87: =+O75*D87/D75 -> 0.057716114 | P87: =+P75*D89/D75 -> 0.04204371 | Q87: =+Q75*(1+Q$6) -> 0.17942984 | R87: =+R75*(1+R$6) -> 0.39086132 | S87: =+S75*(1+S$6) -> 0.26929395 | T87: =+T75*(1+T$6) -> 0.0063615636 | U87: =+U75*(1+$U$6) -> -0.073806448 | V87: =+V75 -> 0.20131777 | W87: =+W75 -> 744 | X87: =+X86 -> 0.07 | Y87: =+Y75 -> 0.30925205 | Z87: =+Z75 -> 0.099775281 | AA87: =+AA75*0.995 -> 0.97524875 | AB87: =+W87*V87*AA87 -> 146.07317 | AC87: =+AB87*F87*(1+X87) -> 5095.8451 | AD87: =+AB87*I87*(1+X87) -> 30.695281 | AE87: =+AB87*J87*(1+X87) -> 79.253033 | AF87: =+AF86 -> 1585.2908 | AG87: =+H87*Z87*1000*(1+X87) -> 1359.9595 | AH87: =+K87*AVERAGE('Monthly Peak Data '!$Q$8:$Q$10)*(1+X87)*'Monthly Peak Data '!$M$40*1000 -> 66.209128 | AI87: =+L87*(0.5*MAX('Monthly Peak Data '!$G$18:$G$19,'Monthly Peak Data '!$G$29)+0.5*(MAX('Monthly Peak Data '!$P$3:$P$14)))*(1+X87) -> 0 | AJ87: =+M87*0.25*MAX('Monthly Peak Data '!$P$3:$P$14)*(1+X87) -> 0 | AK87: =+VLOOKUP($B87,'Monthly Peak Data '!$L$3:$P$14,5,FALSE)*N87*(1+X87) -> 2.576376 | AL87: =+VLOOKUP($B87,'Monthly Peak Data '!$L$3:$P$14,5,FALSE)*O87*(1+$X87) -> 1.0967908 | AM87: =+VLOOKUP($B87,'Monthly Peak Data '!$L$3:$P$14,5,FALSE)*P87*(1+$X87) -> 0.79896502 | AN87: =+VLOOKUP($B87,'Monthly Peak Data '!$L$3:$P$14,5,FALSE)*Q87*(1+X87) -> 3.409741 | AO87: =+R87*AB87*(1+X87) -> 61.090957 | AP87: =+VLOOKUP($B87,'Monthly Peak Data '!$C$18:$G$29,5,FALSE)*(1+X87) -> 251.79574 | AQ87: =+VLOOKUP($B87,'Monthly Peak Data '!$L$3:$P$14,5,FALSE)*T87*(1+X87) -> 0.12089007 | AR87: =+VLOOKUP($B87,'Monthly Peak Data '!$C$3:$G$14,5,FALSE)*U87*(1+X87) -> -4.9072231 | AS87: =+SUM(AG87:AR87) -> 1742.1509
A88: =1+A76 -> 2024 | B88: =+B76 -> 9 | C88: =+D88*C76/D76 -> 34.308182 | D88: 2.546 | E88: =+E76 -> 1.1928111 | F88: =+E88*C88 -> 40.923181 | G88: =+G87 -> 3.992375 | H88: =+H87 -> 12.738528 | I88: =+I76*D88/D76 -> 0.3052414 | J88: =+J76*D88/D76 -> 0.97916768 | K88: =+K87 -> 3.78 | L88: =+L76*(1+$L$6) -> 0 | M88: =+M76*(1+$M$6) -> 0 | N88: =+N87 -> 0.1355759 | O88: =+O76*D88/D76 -> 0.060041078 | P88: =+P76*D90/D76 -> 0.048720712 | Q88: =+Q76*(1+Q$6) -> 0.17942984 | R88: =+R76*(1+R$6) -> 0.39086132 | S88: =+S76*(1+S$6) -> 0.26929395 | T88: =+T76*(1+T$6) -> 0.0063615636 | U88: =+U76*(1+$U$6) -> -0.066979483 | V88: =+V76 -> 0.16869507 | W88: =+W76 -> 720 | X88: =+X87 -> 0.07 | Y88: =+Y76 -> 0.30925205 | Z88: =+Z76 -> -0.00041385768 | AA88: =+AA76*0.995 -> 0.97524875 | AB88: =+W88*V88*AA88 -> 118.45415 | AC88: =+AB88*F88*(1+X88) -> 5186.8472 | AD88: =+AB88*I88*(1+X88) -> 38.688109 | AE88: =+AB88*J88*(1+X88) -> 124.10553 | AF88: =+AF87 -> 1585.2908 | AG88: =+H88*Z88*1000*(1+X88) -> -5.6409733 | AH88: =+K88*AVERAGE('Monthly Peak Data '!$Q$8:$Q$10)*(1+X88)*'Monthly Peak Data '!$M$40*1000 -> 66.209128 | AI88: =+L88*(0.5*MAX('Monthly Peak Data '!$G$18:$G$19,'Monthly Peak Data '!$G$29)+0.5*(MAX('Monthly Peak Data '!$P$3:$P$14)))*(1+X88) -> 0 | AJ88: =+M88*0.25*MAX('Monthly Peak Data '!$P$3:$P$14)*(1+X88) -> 0 | AK88: =+VLOOKUP($B88,'Monthly Peak Data '!$L$3:$P$14,5,FALSE)*N88*(1+X88) -> -0.010686545 | AL88: =+VLOOKUP($B88,'Monthly Peak Data '!$L$3:$P$14,5,FALSE)*O88*(1+$X88) -> -0.0047326379 | AM88: =+VLOOKUP($B88,'Monthly Peak Data '!$L$3:$P$14,5,FALSE)*P88*(1+$X88) -> -0.0038403289 | AN88: =+VLOOKUP($B88,'Monthly Peak Data '!$L$3:$P$14,5,FALSE)*Q88*(1+X88) -> -0.014143258 | AO88: =+R88*AB88*(1+X88) -> 49.540087 | AP88: =+VLOOKUP($B88,'Monthly Peak Data '!$C$18:$G$29,5,FALSE)*(1+X88) -> 0.31838444 | AQ88: =+VLOOKUP($B88,'Monthly Peak Data '!$L$3:$P$14,5,FALSE)*T88*(1+X88) -> -0.00050143965 | AR88: =+VLOOKUP($B88,'Monthly Peak Data '!$C$3:$G$14,5,FALSE)*U88*(1+X88) -> -3.4605633 | AS88: =+SUM(AG88:AR88) -> 106.93216
A89: =1+A77 -> 2024 | B89: =+B77 -> 10 | C89: =+D89*C77/D77 -> 32.808511 | D89: 2.57 | E89: =+E77 -> 0.94018245 | F89: =+E89*C89 -> 30.845986 | G89: =+G88 -> 3.992375 | H89: =+H88 -> 12.738528 | I89: =+I77*D89/D77 -> 0.22920464 | J89: =+J77*D89/D77 -> 0.33079742 | K89: =+K88 -> 3.78 | L89: =+L77*(1+$L$6) -> 0 | M89: =+M77*(1+$M$6) -> 0 | N89: =+N88 -> 0.1355759 | O89: =+O77*D89/D77 -> 0.080048379 | P89: =+P77*D91/D77 -> 0.10389692 | Q89: =+Q77*(1+Q$6) -> 0.17942984 | R89: =+R77*(1+R$6) -> 0.39086132 | S89: =+S77*(1+S$6) -> 0.26929395 | T89: =+T77*(1+T$6) -> 0.0063615636 | U89: =+U77*(1+$U$6) -> -0.067642133 | V89: =+V77 -> 0.10010137 | W89: =+W77 -> 744 | X89: =+X88 -> 0.07 | Y89: =+Y77 -> 0.30925205 | Z89: =+Z77 -> -0.00030898876 | AA89: =+AA77*0.995 -> 0.97524875 | AB89: =+W89*V89*AA89 -> 72.632062 | AC89: =+AB89*F89*(1+X89) -> 2397.2361 | AD89: =+AB89*I89*(1+X89) -> 17.812938 | AE89: =+AB89*J89*(1+X89) -> 25.708353 | AF89: =+AF88 -> 1585.2908 | AG89: =+H89*Z89*1000*(1+X89) -> -4.2115864 | AH89: =+K89*AVERAGE('Monthly Peak Data '!$Q$8:$Q$10)*(1+X89)*'Monthly Peak Data '!$M$40*1000 -> 66.209128 | AI89: =+L89*(0.5*MAX('Monthly Peak Data '!$G$18:$G$19,'Monthly Peak Data '!$G$29)+0.5*(MAX('Monthly Peak Data '!$P$3:$P$14)))*(1+X89) -> 0 | AJ89: =+M89*0.25*MAX('Monthly Peak Data '!$P$3:$P$14)*(1+X89) -> 0 | AK89: =+VLOOKUP($B89,'Monthly Peak Data '!$L$3:$P$14,5,FALSE)*N89*(1+X89) -> -0.0079786419 | AL89: =+VLOOKUP($B89,'Monthly Peak Data '!$L$3:$P$14,5,FALSE)*O89*(1+$X89) -> -0.0047108471 | AM89: =+VLOOKUP($B89,'Monthly Peak Data '!$L$3:$P$14,5,FALSE)*P89*(1+$X89) -> -0.0061143338 | AN89: =+VLOOKUP($B89,'Monthly Peak Data '!$L$3:$P$14,5,FALSE)*Q89*(1+X89) -> -0.010559446 | AO89: =+R89*AB89*(1+X89) -> 30.376298 | AP89: =+VLOOKUP($B89,'Monthly Peak Data '!$C$18:$G$29,5,FALSE)*(1+X89) -> 0.51383011 | AQ89: =+VLOOKUP($B89,'Monthly Peak Data '!$L$3:$P$14,5,FALSE)*T89*(1+X89) -> -0.00037437802 | AR89: =+VLOOKUP($B89,'Monthly Peak Data '!$C$3:$G$14,5,FALSE)*U89*(1+X89) -> 0.0084984704 | AS89: =+SUM(AG89:AR89) -> 92.86643
A90: =1+A78 -> 2024 | B90: =+B78 -> 11 | C90: =+D90*C78/D78 -> 42.776701 | D90: 2.632 | E90: =+E78 -> 0.84486275 | F90: =+E90*C90 -> 36.140441 | G90: =+G89 -> 3.992375 | H90: =+H89 -> 12.738528 | I90: =+I78*D90/D78 -> 0.31457012 | J90: =+J78*D90/D78 -> 0.34323348 | K90: =+K89 -> 3.78 | L90: =+L78*(1+$L$6) -> 0 | M90: =+M78*(1+$M$6) -> 0 | N90: =+N89 -> 0.1355759 | O90: =+O78*D90/D78 -> 0.077711158 | P90: =+P78*D92/D78 -> 0.1139594 | Q90: =+Q78*(1+Q$6) -> 0.17942984 | R90: =+R78*(1+R$6) -> 0.39086132 | S90: =+S78*(1+S$6) -> 0.26929395 | T90: =+T78*(1+T$6) -> 0.0063615636 | U90: =+U78*(1+$U$6) -> -0.045641644 | V90: =+V78 -> 0.040542058 | W90: =+W78 -> 721 | X90: =+X89 -> 0.07 | Y90: =+Y78 -> 0.30925205 | Z90: =+Z78 -> -0.00074906367 | AA90: =+AA78*0.995 -> 0.97524875 | AB90: =+W90*V90*AA90 -> 28.507325 | AC90: =+AB90*F90*(1+X90) -> 1102.386 | AD90: =+AB90*I90*(1+X90) -> 9.5952811 | AE90: =+AB90*J90*(1+X90) -> 10.469595 | AF90: =+AF89 -> 1585.2908 | AG90: =+H90*Z90*1000*(1+X90) -> -10.209906 | AH90: =+K90*AVERAGE('Monthly Peak Data '!$Q$8:$Q$10)*(1+X90)*'Monthly Peak Data '!$M$40*1000 -> 66.209128 | AI90: =+L90*(0.5*MAX('Monthly Peak Data '!$G$18:$G$19,'Monthly Peak Data '!$G$29)+0.5*(MAX('Monthly Peak Data '!$P$3:$P$14)))*(1+X90) -> 0 | AJ90: =+M90*0.25*MAX('Monthly Peak Data '!$P$3:$P$14)*(1+X90) -> 0 | AK90: =+VLOOKUP($B90,'Monthly Peak Data '!$L$3:$P$14,5,FALSE)*N90*(1+X90) -> -0.019342162 | AL90: =+VLOOKUP($B90,'Monthly Peak Data '!$L$3:$P$14,5,FALSE)*O90*(1+$X90) -> -0.011086792 | AM90: =+VLOOKUP($B90,'Monthly Peak Data '!$L$3:$P$14,5,FALSE)*P90*(1+$X90) -> -0.016258207 | AN90: =+VLOOKUP($B90,'Monthly Peak Data '!$L$3:$P$14,5,FALSE)*Q90*(1+X90) -> -0.025598656 | AO90: =+R90*AB90*(1+X90) -> 11.922379 | AP90: =+VLOOKUP($B90,'Monthly Peak Data '!$C$18:$G$29,5,FALSE)*(1+X90) -> 0.83685889 | AQ90: =+VLOOKUP($B90,'Monthly Peak Data '!$L$3:$P$14,5,FALSE)*T90*(1+X90) -> -0.00090758308 | AR90: =+VLOOKUP($B90,'Monthly Peak Data '!$C$3:$G$14,5,FALSE)*U90*(1+X90) -> 0.0071301376 | AS90: =+SUM(AG90:AR90) -> 68.692396
A91: =1+A79 -> 2024 | B91: =+B79 -> 12 | C91: =+D91*C79/D79 -> 62.879513 | D91: 2.804 | E91: =+E79 -> 0.71583738 | F91: =+E91*C91 -> 45.011506 | G91: =+G90 -> 3.992375 | H91: =+H90 -> 12.738528 | I91: =+I79*D91/D79 -> 0.17268953 | J91: =+J79*D91/D79 -> 0.17384955 | K91: =+K90 -> 3.78 | L91: =+L79*(1+$L$6) -> 0 | M91: =+M79*(1+$M$6) -> 0 | N91: =+N90 -> 0.1355759 | O91: =+O79*D91/D79 -> 0.053467478 | P91: =+P79*D93/D79 -> 0.053118047 | Q91: =+Q79*(1+Q$6) -> 0.17942984 | R91: =+R79*(1+R$6) -> 0.39086132 | S91: =+S79*(1+S$6) -> 0.26929395 | T91: =+T79*(1+T$6) -> 0.0063615636 | U91: =+U79*(1+$U$6) -> -0.03492084 | V91: =+V79 -> 0.025858743 | W91: =+W79 -> 744 | X91: =+X90 -> 0.07 | Y91: =+Y79 -> 0.30925205 | Z91: =+Z79 -> -0.0049238855 | AA91: =+AA79*0.995 -> 0.97524875 | AB91: =+W91*V91*AA91 -> 18.762718 | AC91: =+AB91*F91*(1+X91) -> 903.65585 | AD91: =+AB91*I91*(1+X91) -> 3.4669336 | AE91: =+AB91*J91*(1+X91) -> 3.4902223 | AF91: =+AF90 -> 1585.2908 | AG91: =+H91*Z91*1000*(1+X91) -> -67.113667 | AH91: =+K91*AVERAGE('Monthly Peak Data '!$Q$8:$Q$10)*(1+X91)*'Monthly Peak Data '!$M$40*1000 -> 66.209128 | AI91: =+L91*(0.5*MAX('Monthly Peak Data '!$G$18:$G$19,'Monthly Peak Data '!$G$29)+0.5*(MAX('Monthly Peak Data '!$P$3:$P$14)))*(1+X91) -> 0 | AJ91: =+M91*0.25*MAX('Monthly Peak Data '!$P$3:$P$14)*(1+X91) -> 0 | AK91: =+VLOOKUP($B91,'Monthly Peak Data '!$L$3:$P$14,5,FALSE)*N91*(1+X91) -> -0.12714352 | AL91: =+VLOOKUP($B91,'Monthly Peak Data '!$L$3:$P$14,5,FALSE)*O91*(1+$X91) -> -0.050141973 | AM91: =+VLOOKUP($B91,'Monthly Peak Data '!$L$3:$P$14,5,FALSE)*P91*(1+$X91) -> -0.049814276 | AN91: =+VLOOKUP($B91,'Monthly Peak Data '!$L$3:$P$14,5,FALSE)*Q91*(1+X91) -> -0.16826988 | AO91: =+R91*AB91*(1+X91) -> 7.8469741 | AP91: =+VLOOKUP($B91,'Monthly Peak Data '!$C$18:$G$29,5,FALSE)*(1+X91) -> 0 | AQ91: =+VLOOKUP($B91,'Monthly Peak Data '!$L$3:$P$14,5,FALSE)*T91*(1+X91) -> -0.0059658949 | AR91: =+VLOOKUP($B91,'Monthly Peak Data '!$C$3:$G$14,5,FALSE)*U91*(1+X91) -> 0.031633944 | AS91: =+SUM(AG91:AR91) -> 6.5727335
A92: =1+A80 -> 2025 | B92: =+B80 -> 1 | C92: =+D92*C80/D80 -> 82.680103 | D92: 2.924 | E92: =+E80 -> 0.70389395 | F92: =+E92*C92 -> 58.198025 | G92: =+G91 -> 3.992375 | H92: =+H91 -> 12.738528 | I92: =+I80*D92/D80 -> 0.23067485 | J92: =+J80*D92/D80 -> 0.19424467 | K92: =+K91 -> 3.78 | L92: =+L80*(1+$L$6) -> 0 | M92: =+M80*(1+$M$6) -> 0 | N92: =+N91 -> 0.1355759 | O92: =+O80*D92/D80 -> 0.064789937 | P92: =+P80*D94/D80 -> 0.044811919 | Q92: =+Q80*(1+Q$6) -> 0.18077556 | R92: =+R80*(1+R$6) -> 0.41118611 | S92: =+S80*(1+S$6) -> 0.28006571 | T92: =+T80*(1+T$6) -> 0.0062216092 | U92: =+U80*(1+$U$6) -> -0.041906855 | V92: =+V80 -> 0.022616097 | W92: =+W80 -> 744 | X92: =+X91 -> 0.07 | Y92: =+Y80 -> 0.30925205 | Z92: =+Z80 -> -0.0060846321 | AA92: =+AA80*0.995 -> 0.97524875 | AB92: =+W92*V92*AA92 -> 16.409903 | AC92: =+AB92*F92*(1+X92) -> 1021.8756 | AD92: =+AB92*I92*(1+X92) -> 4.0503265 | AE92: =+AB92*J92*(1+X92) -> 3.4106637 | AF92: =+AF91 -> 1585.2908 | AG92: =+H92*Z92*1000*(1+X92) -> -82.934905 | AH92: =+K92*AVERAGE('Monthly Peak Data '!$Q$8:$Q$10)*(1+X92)*'Monthly Peak Data '!$M$40*1000 -> 66.209128 | AI92: =+L92*(0.5*MAX('Monthly Peak Data '!$G$18:$G$19,'Monthly Peak Data '!$G$29)+0.5*(MAX('Monthly Peak Data '!$P$3:$P$14)))*(1+X92) -> 0 | AJ92: =+M92*0.25*MAX('Monthly Peak Data '!$P$3:$P$14)*(1+X92) -> 0 | AK92: =+VLOOKUP($B92,'Monthly Peak Data '!$L$3:$P$14,5,FALSE)*N92*(1+X92) -> -0.15711607 | AL92: =+VLOOKUP($B92,'Monthly Peak Data '!$L$3:$P$14,5,FALSE)*O92*(1+$X92) -> -0.0750837 | AM92: =+VLOOKUP($B92,'Monthly Peak Data '!$L$3:$P$14,5,FALSE)*P92*(1+$X92) -> -0.051931594 | AN92: =+VLOOKUP($B92,'Monthly Peak Data '!$L$3:$P$14,5,FALSE)*Q92*(1+X92) -> -0.209497 | AO92: =+R92*AB92*(1+X92) -> 7.2198507 | AP92: =+VLOOKUP($B92,'Monthly Peak Data '!$C$18:$G$29,5,FALSE)*(1+X92) -> 0 | AQ92: =+VLOOKUP($B92,'Monthly Peak Data '!$L$3:$P$14,5,FALSE)*T92*(1+X92) -> -0.0072100925 | AR92: =+VLOOKUP($B92,'Monthly Peak Data '!$C$3:$G$14,5,FALSE)*U92*(1+X92) -> 0.046134918 | AS92: =+SUM(AG92:AR92) -> -9.9606297
A93: =1+A81 -> 2025 | B93: =+B81 -> 2 | C93: =+D93*C81/D81 -> 79.739955 | D93: 2.892 | E93: =+E81 -> 0.91686751 | F93: =+E93*C93 -> 73.110974 | G93: =+G92 -> 3.992375 | H93: =+H92 -> 12.738528 | I93: =+I81*D93/D81 -> 0.23207616 | J93: =+J81*D93/D81 -> 0.33401772 | K93: =+K92 -> 3.78 | L93: =+L81*(1+$L$6) -> 0 | M93: =+M81*(1+$M$6) -> 0 | N93: =+N92 -> 0.1355759 | O93: =+O81*D93/D81 -> 0.088461665 | P93: =+P81*D95/D81 -> 0.036368582 | Q93: =+Q81*(1+Q$6) -> 0.18077556 | R93: =+R81*(1+R$6) -> 0.41118611 | S93: =+S81*(1+S$6) -> 0.28006571 | T93: =+T81*(1+T$6) -> 0.0062216092 | U93: =+U81*(1+$U$6) -> -0.04675465 | V93: =+V81 -> 0.052674726 | W93: 672 | X93: =+X92 -> 0.07 | Y93: =+Y81 -> 0.30925205 | Z93: =+Z81 -> -0.0055317014 | AA93: =+AA81*0.995 -> 0.97524875 | AB93: =+W93*V93*AA93 -> 34.521286 | AC93: =+AB93*F93*(1+X93) -> 2700.5568 | AD93: =+AB93*I93*(1+X93) -> 8.5723772 | AE93: =+AB93*J93*(1+X93) -> 12.337872 | AF93: =+AF92 -> 1585.2908 | AG93: =+H93*Z93*1000*(1+X93) -> -75.398335 | AH93: =+K93*AVERAGE('Monthly Peak Data '!$Q$8:$Q$10)*(1+X93)*'Monthly Peak Data '!$M$40*1000 -> 66.209128 | AI93: =+L93*(0.5*MAX('Monthly Peak Data '!$G$18:$G$19,'Monthly Peak Data '!$G$29)+0.5*(MAX('Monthly Peak Data '!$P$3:$P$14)))*(1+X93) -> 0 | AJ93: =+M93*0.25*MAX('Monthly Peak Data '!$P$3:$P$14)*(1+X93) -> 0 | AK93: =+VLOOKUP($B93,'Monthly Peak Data '!$L$3:$P$14,5,FALSE)*N93*(1+X93) -> -0.14283841 | AL93: =+VLOOKUP($B93,'Monthly Peak Data '!$L$3:$P$14,5,FALSE)*O93*(1+$X93) -> -0.093200366 | AM93: =+VLOOKUP($B93,'Monthly Peak Data '!$L$3:$P$14,5,FALSE)*P93*(1+$X93) -> -0.038316769 | AN93: =+VLOOKUP($B93,'Monthly Peak Data '!$L$3:$P$14,5,FALSE)*Q93*(1+X93) -> -0.19045932 | AO93: =+R93*AB93*(1+X93) -> 15.1883 | AP93: =+VLOOKUP($B93,'Monthly Peak Data '!$C$18:$G$29,5,FALSE)*(1+X93) -> 1.6748048 | AQ93: =+VLOOKUP($B93,'Monthly Peak Data '!$L$3:$P$14,5,FALSE)*T93*(1+X93) -> -0.0065548875 | AR93: =+VLOOKUP($B93,'Monthly Peak Data '!$C$3:$G$14,5,FALSE)*U93*(1+X93) -> 0.053145259 | AS93: =+SUM(AG93:AR93) -> 7.2556731
A94: =1+A82 -> 2025 | B94: =+B82 -> 3 | C94: =+D94*C82/D82 -> 55.189103 | D94: 2.827 | E94: =+E82 -> 0.77619976 | F94: =+E94*C94 -> 42.837768 | G94: =+G93 -> 3.992375 | H94: =+H93 -> 12.738528 | I94: =+I82*D94/D82 -> 0.20164291 | J94: =+J82*D94/D82 -> 0.29890548 | K94: =+K93 -> 3.78 | L94: =+L82*(1+$L$6) -> 0 | M94: =+M82*(1+$M$6) -> 0 | N94: =+N93 -> 0.1355759 | O94: =+O82*D94/D82 -> 0.096932739 | P94: =+P82*D96/D82 -> 0.046109417 | Q94: =+Q82*(1+Q$6) -> 0.18077556 | R94: =+R82*(1+R$6) -> 0.41118611 | S94: =+S82*(1+S$6) -> 0.28006571 | T94: =+T82*(1+T$6) -> 0.0062216092 | U94: =+U82*(1+$U$6) -> -0.048337907 | V94: =+V82 -> 0.10095698 | W94: =+W82 -> 743 | X94: =+X93 -> 0.07 | Y94: =+Y82 -> 0.30925205 | Z94: =+Z82 -> 0.016072852 | AA94: =+AA82*0.995 -> 0.97524875 | AB94: =+W94*V94*AA94 -> 73.154423 | AC94: =+AB94*F94*(1+X94) -> 3353.1362 | AD94: =+AB94*I94*(1+X94) -> 15.783645 | AE94: =+AB94*J94*(1+X94) -> 23.396896 | AF94: =+AF93 -> 1585.2908 | AG94: =+H94*Z94*1000*(1+X94) -> 219.0766 | AH94: =+K94*AVERAGE('Monthly Peak Data '!$Q$8:$Q$10)*(1+X94)*'Monthly Peak Data '!$M$40*1000 -> 66.209128 | AI94: =+L94*(0.5*MAX('Monthly Peak Data '!$G$18:$G$19,'Monthly Peak Data '!$G$29)+0.5*(MAX('Monthly Peak Data '!$P$3:$P$14)))*(1+X94) -> 0 | AJ94: =+M94*0.25*MAX('Monthly Peak Data '!$P$3:$P$14)*(1+X94) -> 0 | AK94: =+VLOOKUP($B94,'Monthly Peak Data '!$L$3:$P$14,5,FALSE)*N94*(1+X94) -> 0.41502976 | AL94: =+VLOOKUP($B94,'Monthly Peak Data '!$L$3:$P$14,5,FALSE)*O94*(1+$X94) -> 0.29673394 | AM94: =+VLOOKUP($B94,'Monthly Peak Data '!$L$3:$P$14,5,FALSE)*P94*(1+$X94) -> 0.14115178 | AN94: =+VLOOKUP($B94,'Monthly Peak Data '!$L$3:$P$14,5,FALSE)*Q94*(1+X94) -> 0.55339656 | AO94: =+R94*AB94*(1+X94) -> 32.185688 | AP94: =+VLOOKUP($B94,'Monthly Peak Data '!$C$18:$G$29,5,FALSE)*(1+X94) -> 0.04003871 | AQ94: =+VLOOKUP($B94,'Monthly Peak Data '!$L$3:$P$14,5,FALSE)*T94*(1+X94) -> 0.019045811 | AR94: =+VLOOKUP($B94,'Monthly Peak Data '!$C$3:$G$14,5,FALSE)*U94*(1+X94) -> 0.0088844293 | AS94: =+SUM(AG94:AR94) -> 318.94569
A95: =1+A83 -> 2025 | B95: =+B83 -> 4 | C95: =+D95*C83/D83 -> 38.511628 | D95: 2.592 | E95: =+E83 -> 0.85629918 | F95: =+E95*C95 -> 32.977475 | G95: =+G94 -> 3.992375 | H95: =+H94 -> 12.738528 | I95: =+I83*D95/D83 -> 0.15101117 | J95: =+J83*D95/D83 -> 0.26220582 | K95: =+K94 -> 3.78 | L95: =+L83*(1+$L$6) -> 0 | M95: =+M83*(1+$M$6) -> 0 | N95: =+N94 -> 0.1355759 | O95: =+O83*D95/D83 -> 0.10648543 | P95: =+P83*D97/D83 -> 0.10192722 | Q95: =+Q83*(1+Q$6) -> 0.18077556 | R95: =+R83*(1+R$6) -> 0.41118611 | S95: =+S83*(1+S$6) -> 0.28006571 | T95: =+T83*(1+T$6) -> 0.0062216092 | U95: =+U83*(1+$U$6) -> -0.05115826 | V95: =+V83 -> 0.14691858 | W95: =+W83 -> 720 | X95: =+X94 -> 0.07 | Y95: =+Y83 -> 0.30925205 | Z95: =+Z83 -> 0.0026413858 | AA95: =+AA83*0.995 -> 0.97524875 | AB95: =+W95*V95*AA95 -> 103.16316 | AC95: =+AB95*F95*(1+X95) -> 3640.2046 | AD95: =+AB95*I95*(1+X95) -> 16.669304 | AE95: =+AB95*J95*(1+X95) -> 28.943479 | AF95: =+AF94 -> 1585.2908 | AG95: =+H95*Z95*1000*(1+X95) -> 36.002682 | AH95: =+K95*AVERAGE('Monthly Peak Data '!$Q$8:$Q$10)*(1+X95)*'Monthly Peak Data '!$M$40*1000 -> 66.209128 | AI95: =+L95*(0.5*MAX('Monthly Peak Data '!$G$18:$G$19,'Monthly Peak Data '!$G$29)+0.5*(MAX('Monthly Peak Data '!$P$3:$P$14)))*(1+X95) -> 0 | AJ95: =+M95*0.25*MAX('Monthly Peak Data '!$P$3:$P$14)*(1+X95) -> 0 | AK95: =+VLOOKUP($B95,'Monthly Peak Data '!$L$3:$P$14,5,FALSE)*N95*(1+X95) -> 0.068205299 | AL95: =+VLOOKUP($B95,'Monthly Peak Data '!$L$3:$P$14,5,FALSE)*O95*(1+$X95) -> 0.053570515 | AM95: =+VLOOKUP($B95,'Monthly Peak Data '!$L$3:$P$14,5,FALSE)*P95*(1+$X95) -> 0.051277376 | AN95: =+VLOOKUP($B95,'Monthly Peak Data '!$L$3:$P$14,5,FALSE)*Q95*(1+X95) -> 0.090944267 | AO95: =+R95*AB95*(1+X95) -> 45.388605 | AP95: =+VLOOKUP($B95,'Monthly Peak Data '!$C$18:$G$29,5,FALSE)*(1+X95) -> 142.15604 | AQ95: =+VLOOKUP($B95,'Monthly Peak Data '!$L$3:$P$14,5,FALSE)*T95*(1+X95) -> 0.0031299568 | AR95: =+VLOOKUP($B95,'Monthly Peak Data '!$C$3:$G$14,5,FALSE)*U95*(1+X95) -> 0.0075905215 | AS95: =+SUM(AG95:AR95) -> 290.03117
A96: =1+A84 -> 2025 | B96: =+B84 -> 5 | C96: =+D96*C84/D84 -> 32.429024 | D96: 2.582 | E96: =+E84 -> 0.82264045 | F96: =+E96*C96 -> 26.677427 | G96: =+G95 -> 3.992375 | H96: =+H95 -> 12.738528 | I96: =+I84*D96/D84 -> 0.14142606 | J96: =+J84*D96/D84 -> 0.26392029 | K96: =+K95 -> 3.78 | L96: =+L84*(1+$L$6) -> 0 | M96: =+M84*(1+$M$6) -> 0 | N96: =+N95 -> 0.1355759 | O96: =+O84*D96/D84 -> 0.10986391 | P96: =+P84*D98/D84 -> 0.14961112 | Q96: =+Q84*(1+Q$6) -> 0.18077556 | R96: =+R84*(1+R$6) -> 0.41118611 | S96: =+S84*(1+S$6) -> 0.28006571 | T96: =+T84*(1+T$6) -> 0.0062216092 | U96: =+U84*(1+$U$6) -> -0.065234544 | V96: =+V84 -> 0.20374675 | W96: =+W84 -> 744 | X96: =+X95 -> 0.07 | Y96: =+Y84 -> 0.30925205 | Z96: =+Z84 -> 0.11317959 | AA96: =+AA84*0.995 -> 0.97524875 | AB96: =+W96*V96*AA96 -> 147.8356 | AC96: =+AB96*F96*(1+X96) -> 4219.9446 | AD96: =+AB96*I96*(1+X96) -> 22.371353 | AE96: =+AB96*J96*(1+X96) -> 41.747993 | AF96: =+AF95 -> 1585.2908 | AG96: =+H96*Z96*1000*(1+X96) -> 1542.6633 | AH96: =+K96*AVERAGE('Monthly Peak Data '!$Q$8:$Q$10)*(1+X96)*'Monthly Peak Data '!$M$40*1000 -> 66.209128 | AI96: =+L96*(0.5*MAX('Monthly Peak Data '!$G$18:$G$19,'Monthly Peak Data '!$G$29)+0.5*(MAX('Monthly Peak Data '!$P$3:$P$14)))*(1+X96) -> 0 | AJ96: =+M96*0.25*MAX('Monthly Peak Data '!$P$3:$P$14)*(1+X96) -> 0 | AK96: =+VLOOKUP($B96,'Monthly Peak Data '!$L$3:$P$14,5,FALSE)*N96*(1+X96) -> 2.9224993 | AL96: =+VLOOKUP($B96,'Monthly Peak Data '!$L$3:$P$14,5,FALSE)*O96*(1+$X96) -> 2.3682468 | AM96: =+VLOOKUP($B96,'Monthly Peak Data '!$L$3:$P$14,5,FALSE)*P96*(1+$X96) -> 3.225045 | AN96: =+VLOOKUP($B96,'Monthly Peak Data '!$L$3:$P$14,5,FALSE)*Q96*(1+X96) -> 3.8968315 | AO96: =+R96*AB96*(1+X96) -> 65.043103 | AP96: =+VLOOKUP($B96,'Monthly Peak Data '!$C$18:$G$29,5,FALSE)*(1+X96) -> 0.49346559 | AQ96: =+VLOOKUP($B96,'Monthly Peak Data '!$L$3:$P$14,5,FALSE)*T96*(1+X96) -> 0.13411416 | AR96: =+VLOOKUP($B96,'Monthly Peak Data '!$C$3:$G$14,5,FALSE)*U96*(1+X96) -> -1.4062079 | AS96: =+SUM(AG96:AR96) -> 1685.5496
A97: =1+A85 -> 2025 | B97: =+B85 -> 6 | C97: =+D97*C85/D85 -> 32.342772 | D97: 2.612 | E97: =+E85 -> 0.93665801 | F97: =+E97*C97 -> 30.294116 | G97: =+G85*(1+$G$6) -> 4.0921844 | H97: =+H85*(1+$H$6) -> 13.557615 | I97: =+I85*D97/D85 -> 0.15558905 | J97: =+J85*D97/D85 -> 0.51851724 | K97: 3.84 | L97: =+L85*(1+$L$6) -> 0 | M97: =+M85*(1+$M$6) -> 0 | N97: =+N85*(1+$N$6) -> 0.13614125 | O97: =+O85*D97/D85 -> 0.08620808 | P97: =+P85*D99/D85 -> 0.10854113 | Q97: =+Q85*(1+Q$6) -> 0.18077556 | R97: =+R85*(1+R$6) -> 0.41118611 | S97: =+S85*(1+S$6) -> 0.28006571 | T97: =+T85*(1+T$6) -> 0.0062216092 | U97: =+U85*(1+$U$6) -> -0.056531758 | V97: =+V85 -> 0.22707631 | W97: =+W85 -> 720 | X97: =+X96 -> 0.07 | Y97: =+Y85 -> 0.30925205 | Z97: =+Z85 -> 0.0017649813 | AA97: =+AA85*0.995 -> 0.97524875 | AB97: =+W97*V97*AA97 -> 159.44824 | AC97: =+AB97*F97*(1+X97) -> 5168.4675 | AD97: =+AB97*I97*(1+X97) -> 26.544988 | AE97: =+AB97*J97*(1+X97) -> 88.464028 | AF97: =+Y86*G97*1000*1.2*(1+X86) -> 1624.9231 | AG97: =+H97*Z97*1000*(1+X97) -> 25.603963 | AH97: =+K97*AVERAGE('Monthly Peak Data '!$Q$8:$Q$10)*(1+X97)*'Monthly Peak Data '!$M$40*1000 -> 67.260066 | AI97: =+L97*(0.5*MAX('Monthly Peak Data '!$G$18:$G$19,'Monthly Peak Data '!$G$29)+0.5*(MAX('Monthly Peak Data '!$P$3:$P$14)))*(1+X97) -> 0 | AJ97: =+M97*0.25*MAX('Monthly Peak Data '!$P$3:$P$14)*(1+X97) -> 0 | AK97: =+VLOOKUP($B97,'Monthly Peak Data '!$L$3:$P$14,5,FALSE)*N97*(1+X97) -> 0.045765017 | AL97: =+VLOOKUP($B97,'Monthly Peak Data '!$L$3:$P$14,5,FALSE)*O97*(1+$X97) -> 0.028979565 | AM97: =+VLOOKUP($B97,'Monthly Peak Data '!$L$3:$P$14,5,FALSE)*P97*(1+$X97) -> 0.036487006 | AN97: =+VLOOKUP($B97,'Monthly Peak Data '!$L$3:$P$14,5,FALSE)*Q97*(1+X97) -> 0.060769211 | AO97: =+R97*AB97*(1+X97) -> 70.152305 | AP97: =+VLOOKUP($B97,'Monthly Peak Data '!$C$18:$G$29,5,FALSE)*(1+X97) -> 339.51849 | AQ97: =+VLOOKUP($B97,'Monthly Peak Data '!$L$3:$P$14,5,FALSE)*T97*(1+X97) -> 0.0020914458 | AR97: =+VLOOKUP($B97,'Monthly Peak Data '!$C$3:$G$14,5,FALSE)*U97*(1+X97) -> -2.9535862 | AS97: =+SUM(AG97:AR97) -> 499.75533
A98: =1+A86 -> 2025 | B98: =+B86 -> 7 | C98: =+D98*C86/D86 -> 39.932979 | D98: 2.644 | E98: =+E86 -> 0.86933578 | F98: =+E98*C98 -> 34.715168 | G98: =+G97 -> 4.0921844 | H98: =+H97 -> 13.557615 | I98: =+I86*D98/D86 -> 0.23446408 | J98: =+J86*D98/D86 -> 0.44301829 | K98: =+K97 -> 3.84 | L98: =+L86*(1+$L$6) -> 0 | M98: =+M86*(1+$M$6) -> 0 | N98: =+N97 -> 0.13614125 | O98: =+O86*D98/D86 -> 0.080576106 | P98: =+P86*D100/D86 -> 0.093184686 | Q98: =+Q86*(1+Q$6) -> 0.18077556 | R98: =+R86*(1+R$6) -> 0.41118611 | S98: =+S86*(1+S$6) -> 0.28006571 | T98: =+T86*(1+T$6) -> 0.0062216092 | U98: =+U86*(1+$U$6) -> -0.047430441 | V98: =+V86 -> 0.24032926 | W98: =+W86 -> 744 | X98: =+X97 -> 0.07 | Y98: =+Y86 -> 0.30925205 | Z98: =+Z86 -> 0.0017832548 | AA98: =+AA86*0.995 -> 0.97037251 | AB98: =+W98*V98*AA98 -> 173.50743 | AC98: =+AB98*F98*(1+X98) -> 6444.9733 | AD98: =+AB98*I98*(1+X98) -> 43.528947 | AE98: =+AB98*J98*(1+X98) -> 82.247653 | AF98: =+AF97 -> 1624.9231 | AG98: =+H98*Z98*1000*(1+X98) -> 25.86905 | AH98: =+K98*AVERAGE('Monthly Peak Data '!$Q$8:$Q$10)*(1+X98)*'Monthly Peak Data '!$M$40*1000 -> 67.260066 | AI98: =+L98*(0.5*MAX('Monthly Peak Data '!$G$18:$G$19,'Monthly Peak Data '!$G$29)+0.5*(MAX('Monthly Peak Data '!$P$3:$P$14)))*(1+X98) -> 0 | AJ98: =+M98*0.25*MAX('Monthly Peak Data '!$P$3:$P$14)*(1+X98) -> 0 | AK98: =+VLOOKUP($B98,'Monthly Peak Data '!$L$3:$P$14,5,FALSE)*N98*(1+X98) -> 0.04623884 | AL98: =+VLOOKUP($B98,'Monthly Peak Data '!$L$3:$P$14,5,FALSE)*O98*(1+$X98) -> 0.027366765 | AM98: =+VLOOKUP($B98,'Monthly Peak Data '!$L$3:$P$14,5,FALSE)*P98*(1+$X98) -> 0.031649127 | AN98: =+VLOOKUP($B98,'Monthly Peak Data '!$L$3:$P$14,5,FALSE)*Q98*(1+X98) -> 0.061398378 | AO98: =+R98*AB98*(1+X98) -> 76.337914 | AP98: =+VLOOKUP($B98,'Monthly Peak Data '!$C$18:$G$29,5,FALSE)*(1+X98) -> 108.68772 | AQ98: =+VLOOKUP($B98,'Monthly Peak Data '!$L$3:$P$14,5,FALSE)*T98*(1+X98) -> 0.0021130993 | AR98: =+VLOOKUP($B98,'Monthly Peak Data '!$C$3:$G$14,5,FALSE)*U98*(1+X98) -> -2.7493631 | AS98: =+SUM(AG98:AR98) -> 275.57416
A99: =1+A87 -> 2025 | B99: =+B87 -> 8 | C99: =+D99*C87/D87 -> 38.177136 | D99: 2.661 | E99: =+E87 -> 0.89082638 | F99: =+E99*C99 -> 34.009199 | G99: =+G98 -> 4.0921844 | H99: =+H98 -> 13.557615 | I99: =+I87*D99/D87 -> 0.20485747 | J99: =+J87*D99/D87 -> 0.52892741 | K99: =+K98 -> 3.84 | L99: =+L87*(1+$L$6) -> 0 | M99: =+M87*(1+$M$6) -> 0 | N99: =+N98 -> 0.13614125 | O99: =+O87*D99/D87 -> 0.060204852 | P99: =+P87*D101/D87 -> 0.044252199 | Q99: =+Q87*(1+Q$6) -> 0.18077556 | R99: =+R87*(1+R$6) -> 0.41118611 | S99: =+S87*(1+S$6) -> 0.28006571 | T99: =+T87*(1+T$6) -> 0.0062216092 | U99: =+U87*(1+$U$6) -> -0.073806448 | V99: =+V87 -> 0.20131777 | W99: =+W87 -> 744 | X99: =+X98 -> 0.07 | Y99: =+Y87 -> 0.30925205 | Z99: =+Z87 -> 0.099775281 | AA99: =+AA87*0.995 -> 0.97037251 | AB99: =+W99*V99*AA99 -> 145.3428 | AC99: =+AB99*F99*(1+X99) -> 5289.0018 | AD99: =+AB99*I99*(1+X99) -> 31.858778 | AE99: =+AB99*J99*(1+X99) -> 82.257099 | AF99: =+AF98 -> 1624.9231 | AG99: =+H99*Z99*1000*(1+X99) -> 1447.4049 | AH99: =+K99*AVERAGE('Monthly Peak Data '!$Q$8:$Q$10)*(1+X99)*'Monthly Peak Data '!$M$40*1000 -> 67.260066 | AI99: =+L99*(0.5*MAX('Monthly Peak Data '!$G$18:$G$19,'Monthly Peak Data '!$G$29)+0.5*(MAX('Monthly Peak Data '!$P$3:$P$14)))*(1+X99) -> 0 | AJ99: =+M99*0.25*MAX('Monthly Peak Data '!$P$3:$P$14)*(1+X99) -> 0 | AK99: =+VLOOKUP($B99,'Monthly Peak Data '!$L$3:$P$14,5,FALSE)*N99*(1+X99) -> 2.5871195 | AL99: =+VLOOKUP($B99,'Monthly Peak Data '!$L$3:$P$14,5,FALSE)*O99*(1+$X99) -> 1.1440848 | AM99: =+VLOOKUP($B99,'Monthly Peak Data '!$L$3:$P$14,5,FALSE)*P99*(1+$X99) -> 0.84093339 | AN99: =+VLOOKUP($B99,'Monthly Peak Data '!$L$3:$P$14,5,FALSE)*Q99*(1+X99) -> 3.4353141 | AO99: =+R99*AB99*(1+X99) -> 63.946348 | AP99: =+VLOOKUP($B99,'Monthly Peak Data '!$C$18:$G$29,5,FALSE)*(1+X99) -> 251.79574 | AQ99: =+VLOOKUP($B99,'Monthly Peak Data '!$L$3:$P$14,5,FALSE)*T99*(1+X99) -> 0.11823048 | AR99: =+VLOOKUP($B99,'Monthly Peak Data '!$C$3:$G$14,5,FALSE)*U99*(1+X99) -> -4.9072231 | AS99: =+SUM(AG99:AR99) -> 1833.6255
A100: =1+A88 -> 2025 | B100: =+B88 -> 9 | C100: =+D100*C88/D88 -> 35.857845 | D100: 2.661 | E100: =+E88 -> 1.1928111 | F100: =+E100*C100 -> 42.771636 | G100: =+G99 -> 4.0921844 | H100: =+H99 -> 13.557615 | I100: =+I88*D100/D88 -> 0.31902882 | J100: =+J88*D100/D88 -> 1.0233956 | K100: =+K99 -> 3.84 | L100: =+L88*(1+$L$6) -> 0 | M100: =+M88*(1+$M$6) -> 0 | N100: =+N99 -> 0.13614125 | O100: =+O88*D100/D88 -> 0.062753067 | P100: =+P88*D102/D88 -> 0.052567084 | Q100: =+Q88*(1+Q$6) -> 0.18077556 | R100: =+R88*(1+R$6) -> 0.41118611 | S100: =+S88*(1+S$6) -> 0.28006571 | T100: =+T88*(1+T$6) -> 0.0062216092 | U100: =+U88*(1+$U$6) -> -0.066979483 | V100: =+V88 -> 0.16869507 | W100: =+W88 -> 720 | X100: =+X99 -> 0.07 | Y100: =+Y88 -> 0.30925205 | Z100: =+Z88 -> -0.00041385768 | AA100: =+AA88*0.995 -> 0.97037251 | AB100: =+W100*V100*AA100 -> 117.86188 | AC100: =+AB100*F100*(1+X100) -> 5394.0256 | AD100: =+AB100*I100*(1+X100) -> 40.23343 | AE100: =+AB100*J100*(1+X100) -> 129.06268 | AF100: =+AF99 -> 1624.9231 | AG100: =+H100*Z100*1000*(1+X100) -> -6.0036878 | AH100: =+K100*AVERAGE('Monthly Peak Data '!$Q$8:$Q$10)*(1+X100)*'Monthly Peak Data '!$M$40*1000 -> 67.260066 | AI100: =+L100*(0.5*MAX('Monthly Peak Data '!$G$18:$G$19,'Monthly Peak Data '!$G$29)+0.5*(MAX('Monthly Peak Data '!$P$3:$P$14)))*(1+X100) -> 0 | AJ100: =+M100*0.25*MAX('Monthly Peak Data '!$P$3:$P$14)*(1+X100) -> 0 | AK100: =+VLOOKUP($B100,'Monthly Peak Data '!$L$3:$P$14,5,FALSE)*N100*(1+X100) -> -0.010731107 | AL100: =+VLOOKUP($B100,'Monthly Peak Data '!$L$3:$P$14,5,FALSE)*O100*(1+$X100) -> -0.0049464059 | AM100: =+VLOOKUP($B100,'Monthly Peak Data '!$L$3:$P$14,5,FALSE)*P100*(1+$X100) -> -0.0041435128 | AN100: =+VLOOKUP($B100,'Monthly Peak Data '!$L$3:$P$14,5,FALSE)*Q100*(1+X100) -> -0.014249332 | AO100: =+R100*AB100*(1+X100) -> 51.855591 | AP100: =+VLOOKUP($B100,'Monthly Peak Data '!$C$18:$G$29,5,FALSE)*(1+X100) -> 0.31838444 | AQ100: =+VLOOKUP($B100,'Monthly Peak Data '!$L$3:$P$14,5,FALSE)*T100*(1+X100) -> -0.00049040798 | AR100: =+VLOOKUP($B100,'Monthly Peak Data '!$C$3:$G$14,5,FALSE)*U100*(1+X100) -> -3.4605633 | AS100: =+SUM(AG100:AR100) -> 109.93523
