Workbook

Sheet Annual Summary
A1: $/kWh value of Solar
B2: Annual MWh | C2: Energy $/kWh | D2: Regulation $/kwh | E2: Fwd Reserve $/Kwh | F2: Capacity $/kwh | G2: Trans $/kwh | H2: REC | I2: Total $/kwh with RECs | J2: Total $/kWh without RECs
A3: =+'Monthly Analysis'!#REF! -> #REF! | B3: =+(SUM('Monthly Analysis'!#REF!)) -> #REF! | C3: =+(SUM('Monthly Analysis'!#REF!)/SUM('Monthly Analysis'!#REF!))/1000 -> #REF! | D3: =+(SUM('Monthly Analysis'!#REF!)/SUM('Monthly Analysis'!#REF!))/1000 -> #REF! | E3: =+(SUM('Monthly Analysis'!#REF!)/SUM('Monthly Analysis'!#REF!))/1000 -> #REF! | F3: =+(SUM('Monthly Analysis'!#REF!)/SUM('Monthly Analysis'!#REF!))/1000 -> #REF! | G3: =+(SUM('Monthly Analysis'!#REF!)/SUM('Monthly Analysis'!#REF!))/1000 -> #REF! | I3: =+SUM(C3:H3) -> #REF! | J3: =+I3-H3 -> #REF!
A4: =+'Monthly Analysis'!#REF! -> #REF! | B4: =+(SUM('Monthly Analysis'!#REF!)) -> #REF! | C4: =+(SUM('Monthly Analysis'!#REF!)/SUM('Monthly Analysis'!#REF!))/1000 -> #REF! | D4: =+(SUM('Monthly Analysis'!#REF!)/SUM('Monthly Analysis'!#REF!))/1000 -> #REF! | E4: =+(SUM('Monthly Analysis'!#REF!)/SUM('Monthly Analysis'!#REF!))/1000 -> #REF! | F4: =+(SUM('Monthly Analysis'!#REF!)/SUM('Monthly Analysis'!#REF!))/1000 -> #REF! | G4: =+(SUM('Monthly Analysis'!#REF!)/SUM('Monthly Analysis'!#REF!))/1000 -> #REF! | I4: =+SUM(C4:H4) -> #REF! | J4: =+I4-H4 -> #REF! | K4: 1
A5: =+'Monthly Analysis'!#REF! -> #REF! | B5: =+(SUM('Monthly Analysis'!#REF!)) -> #REF! | C5: =+(SUM('Monthly Analysis'!#REF!)/SUM('Monthly Analysis'!#REF!))/1000 -> #REF! | D5: =+(SUM('Monthly Analysis'!#REF!)/SUM('Monthly Analysis'!#REF!))/1000 -> #REF! | E5: =+(SUM('Monthly Analysis'!#REF!)/SUM('Monthly Analysis'!#REF!))/1000 -> #REF! | F5: =+(SUM('Monthly Analysis'!#REF!)/SUM('Monthly Analysis'!#REF!))/1000 -> #REF! | G5: =+(SUM('Monthly Analysis'!#REF!)/SUM('Monthly Analysis'!#REF!))/1000 -> #REF! | I5: =+SUM(C5:H5) -> #REF! | J5: =+I5-H5 -> #REF! | K5: 1
A6: =+'Monthly Analysis'!#REF! -> #REF! | B6: =+(SUM('Monthly Analysis'!#REF!)) -> #REF! | C6: =+(SUM('Monthly Analysis'!#REF!)/SUM('Monthly Analysis'!#REF!))/1000 -> #REF! | D6: =+(SUM('Monthly Analysis'!#REF!)/SUM('Monthly Analysis'!#REF!))/1000 -> #REF! | E6: =+(SUM('Monthly Analysis'!#REF!)/SUM('Monthly Analysis'!#REF!))/1000 -> #REF! | F6: =+(SUM('Monthly Analysis'!#REF!)/SUM('Monthly Analysis'!#REF!))/1000 -> #REF! | G6: =+(SUM('Monthly Analysis'!#REF!)/SUM('Monthly Analysis'!#REF!))/1000 -> #REF! | I6: =+SUM(C6:H6) -> #REF! | J6: =+I6-H6 -> #REF! | K6: 1
A7: =+'Monthly Analysis'!#REF! -> #REF! | B7: =+(SUM('Monthly Analysis'!#REF!)) -> #REF! | C7: =+(SUM('Monthly Analysis'!#REF!)/SUM('Monthly Analysis'!#REF!))/1000 -> #REF! | D7: =+(SUM('Monthly Analysis'!#REF!)/SUM('Monthly Analysis'!#REF!))/1000 -> #REF! | E7: =+(SUM('Monthly Analysis'!#REF!)/SUM('Monthly Analysis'!#REF!))/1000 -> #REF! | F7: =+(SUM('Monthly Analysis'!#REF!)/SUM('Monthly Analysis'!#REF!))/1000 -> #REF! | G7: =+(SUM('Monthly Analysis'!#REF!)/SUM('Monthly Analysis'!#REF!))/1000 -> #REF! | I7: =+SUM(C7:H7) -> #REF! | J7: =+I7-H7 -> #REF! | K7: 1
A8: =+'Monthly Analysis'!A8 -> 2018 | B8: =+(SUM('Monthly Analysis'!AB8:AB19)) -> 1121.0897 | C8: =+(SUM('Monthly Analysis'!AC8:AC19)/SUM('Monthly Analysis'!$AB8:$AB19))/1000 -> 0.039014373 | D8: =+(SUM('Monthly Analysis'!AD8:AD19)/SUM('Monthly Analysis'!$AB8:$AB19))/1000 -> 0.00022831736 | E8: =+(SUM('Monthly Analysis'!AE8:AE19)/SUM('Monthly Analysis'!$AB8:$AB19))/1000 -> 0.00054439978 | F8: =+(SUM('Monthly Analysis'!AF8:AF19)/SUM('Monthly Analysis'!$AB8:$AB19))/1000 -> 0 | G8: =+(SUM('Monthly Analysis'!AS8:AS19)/SUM('Monthly Analysis'!$AB8:$AB19))/1000 -> 0.0019273256 | I8: =+SUM(C8:H8) -> 0.041714416 | J8: =+I8-H8 -> 0.041714416 | K8: 1
A9: =+'Monthly Analysis'!A20 -> 2019 | B9: =+(SUM('Monthly Analysis'!AB20:AB31)) -> 1121.0897 | C9: =+(SUM('Monthly Analysis'!AC20:AC31)/SUM('Monthly Analysis'!$AB20:$AB31))/1000 -> 0.031633919 | D9: =+(SUM('Monthly Analysis'!AD20:AD31)/SUM('Monthly Analysis'!$AB20:$AB31))/1000 -> 0.00020453937 | E9: =+(SUM('Monthly Analysis'!AE20:AE31)/SUM('Monthly Analysis'!$AB20:$AB31))/1000 -> 0.00044629138 | F9: =+(SUM('Monthly Analysis'!AF20:AF31)/SUM('Monthly Analysis'!$AB20:$AB31))/1000 -> 0.017429728 | G9: =+(SUM('Monthly Analysis'!AS20:AS31)/SUM('Monthly Analysis'!$AB20:$AB31))/1000 -> 0.0030026363 | H9: 0.03475 | I9: =+SUM(C9:H9) -> 0.087467114 | J9: =+I9-H9 -> 0.052717114 | K9: 1 | N9: =+B9/8760 -> 0.12797828
A10: =+'Monthly Analysis'!A32 -> 2020 | B10: =+(SUM('Monthly Analysis'!AB32:AB43)) -> 1119.489 | C10: =+(SUM('Monthly Analysis'!AC32:AC43)/SUM('Monthly Analysis'!$AB32:$AB43))/1000 -> 0.034068871 | D10: =+(SUM('Monthly Analysis'!AD32:AD43)/SUM('Monthly Analysis'!$AB32:$AB43))/1000 -> 0.0001990698 | E10: =+(SUM('Monthly Analysis'!AE32:AE43)/SUM('Monthly Analysis'!$AB32:$AB43))/1000 -> 0.00043811742 | F10: =+(SUM('Monthly Analysis'!AF32:AF43)/SUM('Monthly Analysis'!$AB32:$AB43))/1000 -> 0.025626875 | G10: =+(SUM('Monthly Analysis'!AS32:AS43)/SUM('Monthly Analysis'!$AB32:$AB43))/1000 -> 0.0030932117 | H10: 0.037 | I10: =+SUM(C10:H10) -> 0.10042615 | J10: =+I10-H10 -> 0.063426145 | K10: 1
A11: =+'Monthly Analysis'!A44 -> 2021 | B11: =+(SUM('Monthly Analysis'!AB44:AB55)) -> 1112.6336 | C11: =+(SUM('Monthly Analysis'!AC44:AC55)/SUM('Monthly Analysis'!$AB44:$AB55))/1000 -> 0.034460867 | D11: =+(SUM('Monthly Analysis'!AD44:AD55)/SUM('Monthly Analysis'!$AB44:$AB55))/1000 -> 0.00019885617 | E11: =+(SUM('Monthly Analysis'!AE44:AE55)/SUM('Monthly Analysis'!$AB44:$AB55))/1000 -> 0.00043791535 | F11: =+(SUM('Monthly Analysis'!AF44:AF55)/SUM('Monthly Analysis'!$AB44:$AB55))/1000 -> 0.021023956 | G11: =+(SUM('Monthly Analysis'!AS44:AS55)/SUM('Monthly Analysis'!$AB44:$AB55))/1000 -> 0.0032569166 | H11: 0.033 | I11: =+SUM(C11:H11) -> 0.092378512 | J11: =+I11-H11 -> 0.059378512 | K11: 1
A12: =+'Monthly Analysis'!A56 -> 2022 | B12: =+(SUM('Monthly Analysis'!AB56:AB67)) -> 1107.0705 | C12: =+(SUM('Monthly Analysis'!AC56:AC67)/SUM('Monthly Analysis'!$AB56:$AB67))/1000 -> 0.034977101 | D12: =+(SUM('Monthly Analysis'!AD56:AD67)/SUM('Monthly Analysis'!$AB56:$AB67))/1000 -> 0.00020181461 | E12: =+(SUM('Monthly Analysis'!AE56:AE67)/SUM('Monthly Analysis'!$AB56:$AB67))/1000 -> 0.00044444463 | F12: =+(SUM('Monthly Analysis'!AF56:AF67)/SUM('Monthly Analysis'!$AB56:$AB67))/1000 -> 0.017844132 | G12: =+(SUM('Monthly Analysis'!AS56:AS67)/SUM('Monthly Analysis'!$AB56:$AB67))/1000 -> 0.0034282336 | H12: 0.03125 | I12: =+SUM(C12:H12) -> 0.088145726 | J12: =+I12-H12 -> 0.056895726 | K12: 1
A13: =+'Monthly Analysis'!A68 -> 2023 | B13: =+(SUM('Monthly Analysis'!AB68:AB79)) -> 1101.5351 | C13: =+(SUM('Monthly Analysis'!AC68:AC79)/SUM('Monthly Analysis'!$AB68:$AB79))/1000 -> 0.036054452 | D13: =+(SUM('Monthly Analysis'!AD68:AD79)/SUM('Monthly Analysis'!$AB68:$AB79))/1000 -> 0.0002083725 | E13: =+(SUM('Monthly Analysis'!AE68:AE79)/SUM('Monthly Analysis'!$AB68:$AB79))/1000 -> 0.00045936561 | F13: =+(SUM('Monthly Analysis'!AF68:AF79)/SUM('Monthly Analysis'!$AB68:$AB79))/1000 -> 0.016677534 | G13: =+(SUM('Monthly Analysis'!AS68:AS79)/SUM('Monthly Analysis'!$AB68:$AB79))/1000 -> 0.00361101 | H13: 0.029 | I13: =+SUM(C13:H13) -> 0.086010734 | J13: =+I13-H13 -> 0.057010734 | K13: 1
A14: =+'Monthly Analysis'!A80 -> 2024 | B14: =+(SUM('Monthly Analysis'!AB80:AB91)) -> 1097.2666 | C14: =+(SUM('Monthly Analysis'!AC80:AC91)/SUM('Monthly Analysis'!$AB80:$AB91))/1000 -> 0.036984545 | D14: =+(SUM('Monthly Analysis'!AD80:AD91)/SUM('Monthly Analysis'!$AB80:$AB91))/1000 -> 0.00021327058 | E14: =+(SUM('Monthly Analysis'!AE80:AE91)/SUM('Monthly Analysis'!$AB80:$AB91))/1000 -> 0.00046967004 | F14: =+(SUM('Monthly Analysis'!AF80:AF91)/SUM('Monthly Analysis'!$AB80:$AB91))/1000 -> 0.017160973 | G14: =+(SUM('Monthly Analysis'!AS80:AS91)/SUM('Monthly Analysis'!$AB80:$AB91))/1000 -> 0.0042244319 | H14: 0.015 | I14: =+SUM(C14:H14) -> 0.074052891 | J14: =+I14-H14 -> 0.059052891 | K14: 1
A15: =+'Monthly Analysis'!A92 -> 2025 | B15: =+(SUM('Monthly Analysis'!AB92:AB103)) -> 1090.5473 | C15: =+(SUM('Monthly Analysis'!AC92:AC103)/SUM('Monthly Analysis'!$AB92:$AB103))/1000 -> 0.038331006 | D15: =+(SUM('Monthly Analysis'!AD92:AD103)/SUM('Monthly Analysis'!$AB92:$AB103))/1000 -> 0.00022160739 | E15: =+(SUM('Monthly Analysis'!AE92:AE103)/SUM('Monthly Analysis'!$AB92:$AB103))/1000 -> 0.00048880779 | F15: =+(SUM('Monthly Analysis'!AF92:AF103)/SUM('Monthly Analysis'!$AB92:$AB103))/1000 -> 0.017698375 | G15: =+(SUM('Monthly Analysis'!AS92:AS103)/SUM('Monthly Analysis'!$AB92:$AB103))/1000 -> 0.0047490703 | H15: =+H14 -> 0.015 | I15: =+SUM(C15:H15) -> 0.076488867 | J15: =+I15-H15 -> 0.061488867 | K15: 1
A16: =+'Monthly Analysis'!A104 -> 2026 | B16: =+(SUM('Monthly Analysis'!AB104:AB115)) -> 1085.0946 | C16: =+(SUM('Monthly Analysis'!AC104:AC115)/SUM('Monthly Analysis'!$AB104:$AB115))/1000 -> 0.039831204 | D16: =+(SUM('Monthly Analysis'!AD104:AD115)/SUM('Monthly Analysis'!$AB104:$AB115))/1000 -> 0.00023027571 | E16: =+(SUM('Monthly Analysis'!AE104:AE115)/SUM('Monthly Analysis'!$AB104:$AB115))/1000 -> 0.00050797787 | F16: =+(SUM('Monthly Analysis'!AF104:AF115)/SUM('Monthly Analysis'!$AB104:$AB115))/1000 -> 0.018231995 | G16: =+(SUM('Monthly Analysis'!AS104:AS115)/SUM('Monthly Analysis'!$AB104:$AB115))/1000 -> 0.0049838644 | H16: =+H15 -> 0.015 | I16: =+SUM(C16:H16) -> 0.078785317 | J16: =+I16-H16 -> 0.063785317 | K16: 1
A17: =+'Monthly Analysis'!A116 -> 2027 | B17: =+SUM('Monthly Analysis'!AB116:AB127) -> 1079.6691 | C17: =+SUM('Monthly Analysis'!AC116:AC127)/$B17/1000 -> 0.041299941 | D17: =+SUM('Monthly Analysis'!AD116:AD127)/$B17/1000 -> 0.00023875717 | E17: =+SUM('Monthly Analysis'!AE116:AE127)/$B17/1000 -> 0.00052661896 | F17: =+SUM('Monthly Analysis'!AF116:AF127)/$B17/1000 -> 0.01851174 | G17: =+SUM('Monthly Analysis'!AS116:AS127)/$B17/1000 -> 0.0052307566 | H17: =+H16 -> 0.015 | I17: =+SUM(C17:H17) -> 0.080807814 | J17: =+I17-H17 -> 0.065807814 | K17: 1
A18: =+'Monthly Analysis'!A128 -> 2028 | B18: =+SUM('Monthly Analysis'!AB128:AB139) -> 1074.2708 | C18: =+SUM('Monthly Analysis'!AC128:AC139)/$B18/1000 -> 0.0427717 | D18: =+SUM('Monthly Analysis'!AD128:AD139)/$B18/1000 -> 0.0002475591 | E18: =+SUM('Monthly Analysis'!AE128:AE139)/$B18/1000 -> 0.00054620322 | F18: =+SUM('Monthly Analysis'!AF128:AF139)/$B18/1000 -> 0.018604764 | G18: =+SUM('Monthly Analysis'!AS128:AS139)/$B18/1000 -> 0.0054938373 | H18: =+H17 -> 0.015 | I18: =+SUM(C18:H18) -> 0.082664063 | J18: =+I18-H18 -> 0.067664063 | K18: 1
A19: =+'Monthly Analysis'!A140 -> 2029 | B19: =+SUM('Monthly Analysis'!AB140:AB151) -> 1068.8994 | C19: =+SUM('Monthly Analysis'!AC140:AC151)/$B19/1000 -> 0.044414669 | D19: =+SUM('Monthly Analysis'!AD140:AD151)/$B19/1000 -> 0.00025698322 | E19: =+SUM('Monthly Analysis'!AE140:AE151)/$B19/1000 -> 0.00056680297 | F19: =+SUM('Monthly Analysis'!AF140:AF151)/$B19/1000 -> 0.018698255 | G19: =+SUM('Monthly Analysis'!AS140:AS151)/$B19/1000 -> 0.0057735737 | H19: =+H18 -> 0.015 | I19: =+SUM(C19:H19) -> 0.084710284 | J19: =+I19-H19 -> 0.069710284 | K19: 1
A20: =+'Monthly Analysis'!A152 -> 2030 | B20: =+SUM('Monthly Analysis'!AB152:AB163) -> 1063.5549 | C20: =+SUM('Monthly Analysis'!AC152:AC163)/$B20/1000 -> 0.046144616 | D20: =+SUM('Monthly Analysis'!AD152:AD163)/$B20/1000 -> 0.00026696786 | E20: =+SUM('Monthly Analysis'!AE152:AE163)/$B20/1000 -> 0.00058884136 | F20: =+SUM('Monthly Analysis'!AF152:AF163)/$B20/1000 -> 0.018792216 | G20: =+SUM('Monthly Analysis'!AS152:AS163)/$B20/1000 -> 0.0060717595 | H20: =+H19 -> 0.015 | I20: =+SUM(C20:H20) -> 0.086864401 | J20: =+I20-H20 -> 0.071864401 | K20: 1
A21: =+'Monthly Analysis'!A164 -> 2031 | B21: =+SUM('Monthly Analysis'!AB164:AB175) -> 1058.2371 | C21: =+SUM('Monthly Analysis'!AC164:AC175)/$B21/1000 -> 0.047726944 | D21: =+SUM('Monthly Analysis'!AD164:AD175)/$B21/1000 -> 0.00027610441 | E21: =+SUM('Monthly Analysis'!AE164:AE175)/$B21/1000 -> 0.00060901531 | F21: =+SUM('Monthly Analysis'!AF164:AF175)/$B21/1000 -> 0.01888665 | G21: =+SUM('Monthly Analysis'!AS164:AS175)/$B21/1000 -> 0.0063888984 | H21: =+H20 -> 0.015 | I21: =+SUM(C21:H21) -> 0.088887611 | J21: =+I21-H21 -> 0.073887611 | K21: 1
A22: =+'Monthly Analysis'!A176 -> 2032 | B22: =+SUM('Monthly Analysis'!AB176:AB187) -> 1052.9459 | C22: =+SUM('Monthly Analysis'!AC176:AC187)/$B22/1000 -> 0.049363558 | D22: =+SUM('Monthly Analysis'!AD176:AD187)/$B22/1000 -> 0.0002855538 | E22: =+SUM('Monthly Analysis'!AE176:AE187)/$B22/1000 -> 0.00062988067 | F22: =+SUM('Monthly Analysis'!AF176:AF187)/$B22/1000 -> 0.018981557 | G22: =+SUM('Monthly Analysis'!AS176:AS187)/$B22/1000 -> 0.0067258391 | H22: =+H21 -> 0.015 | I22: =+SUM(C22:H22) -> 0.090986389 | J22: =+I22-H22 -> 0.075986389 | K22: 1
A23: =+'Monthly Analysis'!A188 -> 2033 | B23: =+SUM('Monthly Analysis'!AB188:AB199) -> 1047.6812 | C23: =+SUM('Monthly Analysis'!AC188:AC199)/$B23/1000 -> 0.051056322 | D23: =+SUM('Monthly Analysis'!AD188:AD199)/$B23/1000 -> 0.00029532674 | E23: =+SUM('Monthly Analysis'!AE188:AE199)/$B23/1000 -> 0.00065146114 | F23: =+SUM('Monthly Analysis'!AF188:AF199)/$B23/1000 -> 0.019076942 | G23: =+SUM('Monthly Analysis'!AS188:AS199)/$B23/1000 -> 0.0070836366 | H23: =+H22 -> 0.015 | I23: =+SUM(C23:H23) -> 0.093163689 | J23: =+I23-H23 -> 0.078163689 | K23: 1
A24: =+'Monthly Analysis'!A200 -> 2034 | B24: =+SUM('Monthly Analysis'!AB200:AB211) -> 1042.4428 | C24: =+SUM('Monthly Analysis'!AC200:AC211)/$B24/1000 -> 0.052807164 | D24: =+SUM('Monthly Analysis'!AD200:AD211)/$B24/1000 -> 0.00030543431 | E24: =+SUM('Monthly Analysis'!AE200:AE211)/$B24/1000 -> 0.00067378123 | F24: =+SUM('Monthly Analysis'!AF200:AF211)/$B24/1000 -> 0.019172806 | G24: =+SUM('Monthly Analysis'!AS200:AS211)/$B24/1000 -> 0.0074652839 | H24: =+H23 -> 0.015 | I24: =+SUM(C24:H24) -> 0.095424469 | J24: =+I24-H24 -> 0.080424469 | K24: 1
A25: =+'Monthly Analysis'!A212 -> 2035 | B25: =+SUM('Monthly Analysis'!AB212:AB223) -> 1037.2306 | C25: =+SUM('Monthly Analysis'!AC212:AC223)/$B25/1000 -> 0.054618076 | D25: =+SUM('Monthly Analysis'!AD212:AD223)/$B25/1000 -> 0.00031588797 | E25: =+SUM('Monthly Analysis'!AE212:AE223)/$B25/1000 -> 0.00069686631 | F25: =+SUM('Monthly Analysis'!AF212:AF223)/$B25/1000 -> 0.019269152 | G25: =+SUM('Monthly Analysis'!AS212:AS223)/$B25/1000 -> 0.0078717114 | H25: =+H24 -> 0.015 | I25: =+SUM(C25:H25) -> 0.097771694 | J25: =+I25-H25 -> 0.082771694 | K25: 1
A26: =+'Monthly Analysis'!A224 -> 2036 | B26: =+SUM('Monthly Analysis'!AB224:AB235) -> 1032.0444 | C26: =+SUM('Monthly Analysis'!AC224:AC235)/$B26/1000 -> 0.056491122 | D26: =+SUM('Monthly Analysis'!AD224:AD235)/$B26/1000 -> 0.00032669959 | E26: =+SUM('Monthly Analysis'!AE224:AE235)/$B26/1000 -> 0.00072074261 | F26: =+SUM('Monthly Analysis'!AF224:AF235)/$B26/1000 -> 0.019365982 | G26: =+SUM('Monthly Analysis'!AS224:AS235)/$B26/1000 -> 0.0083041157 | H26: =+H25 -> 0.015 | I26: =+SUM(C26:H26) -> 0.10020866 | J26: =+I26-H26 -> 0.085208661 | K26: 1
A27: =+'Monthly Analysis'!A236 -> 2037 | B27: =+SUM('Monthly Analysis'!AB236:AB247) -> 1026.8842 | C27: =+SUM('Monthly Analysis'!AC236:AC247)/$B27/1000 -> 0.058428433 | D27: =+SUM('Monthly Analysis'!AD236:AD247)/$B27/1000 -> 0.00033788143 | E27: =+SUM('Monthly Analysis'!AE236:AE247)/$B27/1000 -> 0.00074543725 | F27: =+SUM('Monthly Analysis'!AF236:AF247)/$B27/1000 -> 0.019463298 | G27: =+SUM('Monthly Analysis'!AS236:AS247)/$B27/1000 -> 0.008762777 | H27: =+H26 -> 0.015 | I27: =+SUM(C27:H27) -> 0.10273783 | J27: =+I27-H27 -> 0.087737826 | K27: 1
A28: =+'Monthly Analysis'!A248 -> 2038 | B28: =+SUM('Monthly Analysis'!AB248:AB259) -> 1021.7498 | C28: =+SUM('Monthly Analysis'!AC248:AC259)/$B28/1000 -> 0.060432215 | D28: =+SUM('Monthly Analysis'!AD248:AD259)/$B28/1000 -> 0.00034944616 | E28: =+SUM('Monthly Analysis'!AE248:AE259)/$B28/1000 -> 0.00077097828 | F28: =+SUM('Monthly Analysis'!AF248:AF259)/$B28/1000 -> 0.019561104 | G28: =+SUM('Monthly Analysis'!AS248:AS259)/$B28/1000 -> 0.0092502985 | H28: =+H27 -> 0.015 | I28: =+SUM(C28:H28) -> 0.10536404 | J28: =+I28-H28 -> 0.090364042 | K28: 1
A29: =+'Monthly Analysis'!A260 -> 2039 | B29: =+SUM('Monthly Analysis'!AB260:AB271) -> 1016.6411 | C29: =+SUM('Monthly Analysis'!AC260:AC271)/$B29/1000 -> 0.062504751 | D29: =+SUM('Monthly Analysis'!AD260:AD271)/$B29/1000 -> 0.0003614069 | E29: =+SUM('Monthly Analysis'!AE260:AE271)/$B29/1000 -> 0.00079739473 | F29: =+SUM('Monthly Analysis'!AF260:AF271)/$B29/1000 -> 0.019659401 | G29: =+SUM('Monthly Analysis'!AS260:AS271)/$B29/1000 -> 0.0097722378 | H29: =+H28 -> 0.015 | I29: =+SUM(C29:H29) -> 0.10809519 | J29: =+I29-H29 -> 0.093095192 | K29: 1
A30: 20-Year Levelized 2020-2039 | B30: =+AVERAGE(B$10:B29) -> 1066.7944 | C30: =+NPV($C$31,C$10:C29)/NPV($C$31,$K$10:$K29) -> 0.043253516 | D30: =+NPV($C$31,D$10:D29)/NPV($C$31,$K$10:$K29) -> 0.00025020917 | E30: =+NPV($C$31,E$10:E29)/NPV($C$31,$K$10:$K29) -> 0.00055167961 | F30: =+NPV($C$31,F$10:F29)/NPV($C$31,$K$10:$K29) -> 0.019214348 | G30: =+NPV($C$31,G$10:G29)/NPV($C$31,$K$10:$K29) -> 0.0054284716 | H30: =+NPV($C$31,H$10:H29)/NPV($C$31,$K$10:$K29) -> 0.020362528 | I30: =+NPV($C$31,I$10:I29)/NPV($C$31,$K$10:$K29) -> 0.089060753 | J30: =+NPV($C$31,J$10:J29)/NPV($C$31,$K$10:$K29) -> 0.068698225
A31: Discount Rate for Levelized Calc | C31: 0.06

Sheet Monthly Analysis
A1: Input cells
A2: Equations
A3: VALUE OF 1.0 MW of Solar
G6: 0.025 | H6: 0.0643 | L6: 0 | M6: 0 | N6: 0.00417 | Q6: 0.0075 | R6: 0.052 | S6: 0.04 | T6: -0.022 | U6: 0
A7: Year | B7: Month | C7: NYMEX Peak Electricity $/MWh | D7: NYMEX Nat Gas $/mmbtu | E7: DAM to Solar Output RTM $/MWh Adjuster | F7: Implied Output RTM $/MWh | G7: Capacity $/kw-month | H7: NEPOOL OATT Schedule 9 $/kw-month | I7: Regulation $/MWh of Load Obligation | J7: Fwd Reserve $/MWh of Load Obligation | K7: Reduction in VT T/D Infrastructure $/kw-mo. | L7: VTA $/kw-mo. | M7: GMP $/kw-mo. | N7: OATT Sched 1 - RNS ($/kw-mo.) | O7: OATT Sched 2 - VAR ($/kW-month) | P7: OATT Sched 16 - Black Start ($/kw-mo.) | Q7: ISO Tariff Sched 1 ISO Diospatch and Control ($/kw-mo) | R7: ISO Tariff Sched 2 - Energy Admin Service ($/MWh) | S7: ISO Tariff Sched 3 - Reliability Admin Service ($/kw-mo.) | T7: ISO Tariff Sched 5 - NESCOE Budget ($/kw/mo.) | U7: ARR $/MWh-mo) | V7: CF | W7: Hours/Month | X7: Loss Adjuster | Y7: Capacity Impact per MW of installed Capacity (MW) | Z7: Transmission Impact per MW of installed Capacity (MW) | AA7: Degradation Factor | AB7: MWh | AC7: Total Energy $ | AD7: Total Regulation $ | AE7: Total Reserve $ | AF7: Total Capacity $ | AG7: NEPOOL OATT Schedule 9 $ | AH7: Reduction in VT T/D Infrastructure $ | AI7: VTA $ | AJ7: GMP $ | AK7: OATT Sched 1 - RNS ($) | AL7: OATT Sched 2 - VAR ($) | AM7: OATT Sched 16 - Black Start ($) | AN7: ISO Tariff Sched 1 ISO Diospatch and Control ($) | AO7: ISO Tariff Sched 2 - Energy Admin Service ($) | AP7: ISO Tariff Sched 3 - Reliability Admin Service ($) | AQ7: ISO Tariff Sched 5 - NESCOE Budget ($) | AR7: ARR $/kw-mo) | AS7: Total Transmission $ | AW7: RNS | AX7: In State T/D | AY7: Other | AZ7: Sanity Check
A8: 2018 | B8: 1 | C8: 100.75 | D8: 2.738 | E8: =+'Monthly LMP and MWh Pivot'!L$6 -> 0.70389395 | F8: =+E8*C8 -> 70.917316 | I8: 0.45976503 | J8: 0.30537703 | K8: 0 | Q8: 0.17886 | R8: 0.30132 | S8: 0.22461 | T8: 0.00648 | V8: =+'Monthly LMP and MWh Pivot'!I$6/('Monthly Analysis'!W8*'Hourly Generator and LMP Data'!$I$1) -> 0.022616097 | W8: 744 | X8: 0.07 | Z8: =+'Monthly Peak Data '!Q$3 -> -0.0060846321 | AA8: 1 | AB8: =+W8*V8*AA8 -> 16.826376 | AC8: =+AB8*F8*(1+X8) -> 1276.8112 | AD8: =+AB8*I8*(1+X8) -> 8.2777119 | AE8: =+AB8*J8*(1+X8) -> 5.4980762 | AG8: =+H8*Z8*1000*(1+X8) -> 0 | AH8: =+K8*AVERAGE('Monthly Peak Data '!$Q$8:$Q$10)*(1+X8)*'Monthly Peak Data '!$M$40*1000 -> 0 | AI8: =+L8*(0.5*MAX('Monthly Peak Data '!$G$18:$G$19,'Monthly Peak Data '!$G$29)+0.5*(MAX('Monthly Peak Data '!$P$3:$P$14)))*(1+X8) -> 0 | AJ8: =+M8*0.25*MAX('Monthly Peak Data '!$P$3:$P$14)*(1+X8) -> 0 | AK8: =+VLOOKUP($B8,'Monthly Peak Data '!$L$3:$P$14,5,FALSE)*N8*(1+X8) -> 0 | AL8: =+O8*AB8*(1+X8) -> 0 | AM8: =+VLOOKUP($B8,'Monthly Peak Data '!$L$3:$P$14,5,FALSE)*P8*(1+X8) -> 0 | AN8: =+VLOOKUP($B8,'Monthly Peak Data '!$L$3:$P$14,5,FALSE)*Q8*(1+X8) -> -0.2072771 | AO8: =+R8*AB8*(1+X8) -> 5.4250324 | AP8: =+VLOOKUP($B8,'Monthly Peak Data '!$C$18:$G$29,5,FALSE)*(1+X8) -> 0 | AQ8: =+VLOOKUP($B8,'Monthly Peak Data '!$L$3:$P$14,5,FALSE)*T8*(1+X8) -> -0.0075095361 | AR8: =+VLOOKUP($B8,'Monthly Peak Data '!$C$3:$G$14,5,FALSE)*U8*(1+X8) -> 0 | AS8: =+SUM(AG8:AR8) -> 5.2102458
A9: =+A8 -> 2018 | B9: 2 | C9: 103.8 | D9: 3.505 | E9: =+'Monthly LMP and MWh Pivot'!L$7 -> 0.91686751 | F9: =+E9*C9 -> 95.170847 | I9: 0.17954086 | J9: 0.2826068 | K9: 0 | Q9: 0.17886 | R9: 0.30132 | S9: 0.22461 | T9: 0.00648 | V9: =+'Monthly LMP and MWh Pivot'!I$7/('Monthly Analysis'!W9*'Hourly Generator and LMP Data'!$I$1) -> 0.052674726 | W9: =28*24 -> 672 | X9: =+X8 -> 0.07 | Z9: =+'Monthly Peak Data '!Q$4 -> -0.0055317014 | AA9: 1 | AB9: =+W9*V9*AA9 -> 35.397416 | AC9: =+AB9*F9*(1+X9) -> 3604.6182 | AD9: =+AB9*I9*(1+X9) -> 6.8001524 | AE9: =+AB9*J9*(1+X9) -> 10.703799 | AG9: =+H9*Z9*1000*(1+X9) -> 0 | AH9: =+K9*AVERAGE('Monthly Peak Data '!$Q$8:$Q$10)*(1+X9)*'Monthly Peak Data '!$M$40*1000 -> 0 | AI9: =+L9*(0.5*MAX('Monthly Peak Data '!$G$18:$G$19,'Monthly Peak Data '!$G$29)+0.5*(MAX('Monthly Peak Data '!$P$3:$P$14)))*(1+X9) -> 0 | AJ9: =+M9*0.25*MAX('Monthly Peak Data '!$P$3:$P$14)*(1+X9) -> 0 | AK9: =+VLOOKUP($B9,'Monthly Peak Data '!$L$3:$P$14,5,FALSE)*N9*(1+X9) -> 0 | AL9: =+O9*AB9*(1+X9) -> 0 | AM9: =+VLOOKUP($B9,'Monthly Peak Data '!$L$3:$P$14,5,FALSE)*P9*(1+X9) -> 0 | AN9: =+VLOOKUP($B9,'Monthly Peak Data '!$L$3:$P$14,5,FALSE)*Q9*(1+X9) -> -0.18844115 | AO9: =+R9*AB9*(1+X9) -> 11.412566 | AP9: =+VLOOKUP($B9,'Monthly Peak Data '!$C$18:$G$29,5,FALSE)*(1+X9) -> 1.6748048 | AQ9: =+VLOOKUP($B9,'Monthly Peak Data '!$L$3:$P$14,5,FALSE)*T9*(1+X9) -> -0.0068271197 | AR9: =+VLOOKUP($B9,'Monthly Peak Data '!$C$3:$G$14,5,FALSE)*U9*(1+X9) -> 0 | AS9: =+SUM(AG9:AR9) -> 12.892102
A10: =+A9 -> 2018 | B10: 3 | C10: 33.35 | D10: 2.625 | E10: =+'Monthly LMP and MWh Pivot'!L$8 -> 0.77619976 | F10: =+E10*C10 -> 25.886262 | I10: 0.17106004 | J10: 0.29107768 | K10: 0 | Q10: 0.17886 | R10: 0.30132 | S10: 0.22461 | T10: 0.00648 | V10: =+'Monthly LMP and MWh Pivot'!I$8/('Monthly Analysis'!W10*'Hourly Generator and LMP Data'!$I$1) -> 0.10095698 | W10: 743 | X10: =+X9 -> 0.07 | Z10: =+'Monthly Peak Data '!Q$5 -> 0.016072852 | AA10: 1 | AB10: =+W10*V10*AA10 -> 75.011039 | AC10: =+AB10*F10*(1+X10) -> 2077.6783 | AD10: =+AB10*I10*(1+X10) -> 13.729588 | AE10: =+AB10*J10*(1+X10) -> 23.362422 | AG10: =+H10*Z10*1000*(1+X10) -> 0 | AH10: =+K10*AVERAGE('Monthly Peak Data '!$Q$8:$Q$10)*(1+X10)*'Monthly Peak Data '!$M$40*1000 -> 0 | AI10: =+L10*(0.5*MAX('Monthly Peak Data '!$G$18:$G$19,'Monthly Peak Data '!$G$29)+0.5*(MAX('Monthly Peak Data '!$P$3:$P$14)))*(1+X10) -> 0 | AJ10: =+M10*0.25*MAX('Monthly Peak Data '!$P$3:$P$14)*(1+X10) -> 0 | AK10: =+VLOOKUP($B10,'Monthly Peak Data '!$L$3:$P$14,5,FALSE)*N10*(1+X10) -> 0 | AL10: =+O10*AB10*(1+X10) -> 0 | AM10: =+VLOOKUP($B10,'Monthly Peak Data '!$L$3:$P$14,5,FALSE)*P10*(1+X10) -> 0 | AN10: =+VLOOKUP($B10,'Monthly Peak Data '!$L$3:$P$14,5,FALSE)*Q10*(1+X10) -> 0.54753258 | AO10: =+R10*AB10*(1+X10) -> 24.184489 | AP10: =+VLOOKUP($B10,'Monthly Peak Data '!$C$18:$G$29,5,FALSE)*(1+X10) -> 0.04003871 | AQ10: =+VLOOKUP($B10,'Monthly Peak Data '!$L$3:$P$14,5,FALSE)*T10*(1+X10) -> 0.019836806 | AR10: =+VLOOKUP($B10,'Monthly Peak Data '!$C$3:$G$14,5,FALSE)*U10*(1+X10) -> 0 | AS10: =+SUM(AG10:AR10) -> 24.791897
A11: =+A10 -> 2018 | B11: 4 | C11: 38.6 | D11: 2.691 | E11: =+'Monthly LMP and MWh Pivot'!L$9 -> 0.85629918 | F11: =+E11*C11 -> 33.053148 | I11: 0.21067241 | J11: 0.38809919 | K11: 0 | Q11: 0.17886 | R11: 0.30132 | S11: 0.22461 | T11: 0.00648 | V11: =+'Monthly LMP and MWh Pivot'!I$9/('Monthly Analysis'!W11*'Hourly Generator and LMP Data'!$I$1) -> 0.14691858 | W11: 720 | X11: =+X10 -> 0.07 | Z11: =+'Monthly Peak Data '!Q$6 -> 0.0026413858 | AA11: 1 | AB11: =+W11*V11*AA11 -> 105.78138 | AC11: =+AB11*F11*(1+X11) -> 3741.1561 | AD11: =+AB11*I11*(1+X11) -> 23.845183 | AE11: =+AB11*J11*(1+X11) -> 43.927423 | AG11: =+H11*Z11*1000*(1+X11) -> 0 | AH11: =+K11*AVERAGE('Monthly Peak Data '!$Q$8:$Q$10)*(1+X11)*'Monthly Peak Data '!$M$40*1000 -> 0 | AI11: =+L11*(0.5*MAX('Monthly Peak Data '!$G$18:$G$19,'Monthly Peak Data '!$G$29)+0.5*(MAX('Monthly Peak Data '!$P$3:$P$14)))*(1+X11) -> 0 | AJ11: =+M11*0.25*MAX('Monthly Peak Data '!$P$3:$P$14)*(1+X11) -> 0 | AK11: =+VLOOKUP($B11,'Monthly Peak Data '!$L$3:$P$14,5,FALSE)*N11*(1+X11) -> 0 | AL11: =+O11*AB11*(1+X11) -> 0 | AM11: =+VLOOKUP($B11,'Monthly Peak Data '!$L$3:$P$14,5,FALSE)*P11*(1+X11) -> 0 | AN11: =+VLOOKUP($B11,'Monthly Peak Data '!$L$3:$P$14,5,FALSE)*Q11*(1+X11) -> 0.089980591 | AO11: =+R11*AB11*(1+X11) -> 34.105227 | AP11: =+VLOOKUP($B11,'Monthly Peak Data '!$C$18:$G$29,5,FALSE)*(1+X11) -> 142.15604 | AQ11: =+VLOOKUP($B11,'Monthly Peak Data '!$L$3:$P$14,5,FALSE)*T11*(1+X11) -> 0.0032599476 | AR11: =+VLOOKUP($B11,'Monthly Peak Data '!$C$3:$G$14,5,FALSE)*U11*(1+X11) -> 0 | AS11: =+SUM(AG11:AR11) -> 176.35451
A12: =+A11 -> 2018 | B12: 5 | C12: 29.38 | D12: 2.821 | E12: =+'Monthly LMP and MWh Pivot'!L$10 -> 0.82264045 | F12: =+E12*C12 -> 24.169176 | I12: 0.17732921 | J12: 0.49828631 | K12: 0 | Q12: 0.17886 | R12: 0.30132 | S12: 0.22461 | T12: 0.00648 | U12: -0.067750534 | V12: =+'Monthly LMP and MWh Pivot'!I$10/('Monthly Analysis'!W12*'Hourly Generator and LMP Data'!$I$1) -> 0.20374675 | W12: 744 | X12: =+X11 -> 0.07 | Z12: =+'Monthly Peak Data '!Q$7 -> 0.11317959 | AA12: 1 | AB12: =+W12*V12*AA12 -> 151.58758 | AC12: =+AB12*F12*(1+X12) -> 3920.2093 | AD12: =+AB12*I12*(1+X12) -> 28.762569 | AE12: =+AB12*J12*(1+X12) -> 80.821399 | AG12: =+H12*Z12*1000*(1+X12) -> 0 | AH12: =+K12*AVERAGE('Monthly Peak Data '!$Q$8:$Q$10)*(1+X12)*'Monthly Peak Data '!$M$40*1000 -> 0 | AI12: =+L12*(0.5*MAX('Monthly Peak Data '!$G$18:$G$19,'Monthly Peak Data '!$G$29)+0.5*(MAX('Monthly Peak Data '!$P$3:$P$14)))*(1+X12) -> 0 | AJ12: =+M12*0.25*MAX('Monthly Peak Data '!$P$3:$P$14)*(1+X12) -> 0 | AK12: =+VLOOKUP($B12,'Monthly Peak Data '!$L$3:$P$14,5,FALSE)*N12*(1+X12) -> 0 | AL12: =+O12*AB12*(1+X12) -> 0 | AM12: =+VLOOKUP($B12,'Monthly Peak Data '!$L$3:$P$14,5,FALSE)*P12*(1+X12) -> 0 | AN12: =+VLOOKUP($B12,'Monthly Peak Data '!$L$3:$P$14,5,FALSE)*Q12*(1+X12) -> 3.8555393 | AO12: =+R12*AB12*(1+X12) -> 48.873717 | AP12: =+VLOOKUP($B12,'Monthly Peak Data '!$C$18:$G$29,5,FALSE)*(1+X12) -> 0.49346559 | AQ12: =+VLOOKUP($B12,'Monthly Peak Data '!$L$3:$P$14,5,FALSE)*T12*(1+X12) -> 0.13968408 | AR12: =+VLOOKUP($B12,'Monthly Peak Data '!$C$3:$G$14,5,FALSE)*U12*(1+X12) -> -1.4604431 | AS12: =+SUM(AG12:AR12) -> 51.901963
A13: =+A12 -> 2018 | B13: 6 | C13: 29 | D13: 2.875 | E13: =+'Monthly LMP and MWh Pivot'!L$11 -> 0.93665801 | F13: =+E13*C13 -> 27.163082 | G13: 9.55 | H13: 9.2023692 | I13: 0.14311963 | J13: 0.46057392 | K13: 0 | N13: 0.13129667 | Q13: 0.17886 | R13: 0.30132 | S13: 0.22461 | T13: 0.00648 | U13: -0.052934744 | V13: =+'Monthly LMP and MWh Pivot'!I$11/('Monthly Analysis'!W13*'Hourly Generator and LMP Data'!$I$1) -> 0.22707631 | W13: 720 | X13: =+X12 -> 0.07 | Z13: =+'Monthly Peak Data '!Q$8 -> 0.0017649813 | AA13: 1 | AB13: =+W13*V13*AA13 -> 163.49494 | AC13: =+AB13*F13*(1+X13) -> 4751.8985 | AD13: =+AB13*I13*(1+X13) -> 25.037289 | AE13: =+AB13*J13*(1+X13) -> 80.572612 | AG13: =+H13*Z13*1000*(1+X13) -> 17.37895 | AH13: =+K13*AVERAGE('Monthly Peak Data '!$Q$8:$Q$10)*(1+X13)*'Monthly Peak Data '!$M$40*1000 -> 0 | AI13: =+L13*(0.5*MAX('Monthly Peak Data '!$G$18:$G$19,'Monthly Peak Data '!$G$29)+0.5*(MAX('Monthly Peak Data '!$P$3:$P$14)))*(1+X13) -> 0 | AJ13: =+M13*0.25*MAX('Monthly Peak Data '!$P$3:$P$14)*(1+X13) -> 0 | AK13: =+VLOOKUP($B13,'Monthly Peak Data '!$L$3:$P$14,5,FALSE)*N13*(1+X13) -> 0.044136469 | AL13: =+O13*AB13*(1+X13) -> 0 | AM13: =+VLOOKUP($B13,'Monthly Peak Data '!$L$3:$P$14,5,FALSE)*P13*(1+X13) -> 0 | AN13: =+VLOOKUP($B13,'Monthly Peak Data '!$L$3:$P$14,5,FALSE)*Q13*(1+X13) -> 0.06012528 | AO13: =+R13*AB13*(1+X13) -> 52.712797 | AP13: =+VLOOKUP($B13,'Monthly Peak Data '!$C$18:$G$29,5,FALSE)*(1+X13) -> 339.51849 | AQ13: =+VLOOKUP($B13,'Monthly Peak Data '!$L$3:$P$14,5,FALSE)*T13*(1+X13) -> 0.002178306 | AR13: =+VLOOKUP($B13,'Monthly Peak Data '!$C$3:$G$14,5,FALSE)*U13*(1+X13) -> -2.7656548 | AS13: =+SUM(AG13:AR13) -> 406.95102
A14: =+A13 -> 2018 | B14: 7 | C14: 41.75 | D14: 2.996 | E14: =+'Monthly LMP and MWh Pivot'!L$12 -> 0.86933578 | F14: =+E14*C14 -> 36.294769 | G14: =+G13 -> 9.55 | H14: =+H13 -> 9.2023692 | I14: 0.14625433 | J14: 0.47195241 | K14: 0 | N14: =+N13 -> 0.13129667 | Q14: 0.17886 | R14: 0.30132 | S14: 0.22461 | T14: 0.00648 | U14: -0.041722124 | V14: =+'Monthly LMP and MWh Pivot'!I$12/('Monthly Analysis'!W14*'Hourly Generator and LMP Data'!$I$1) -> 0.24032926 | W14: 744 | X14: =+X13 -> 0.07 | Y14: =+AVERAGE('Monthly Peak Data '!$H$8:$H$10) -> 0.30925205 | Z14: =+'Monthly Peak Data '!Q$9 -> 0.0017832548 | AA14: 1 | AB14: =+W14*V14*AA14 -> 178.80497 | AC14: =+AB14*F14*(1+X14) -> 6943.9631 | AD14: =+AB14*I14*(1+X14) -> 27.981571 | AE14: =+AB14*J14*(1+X14) -> 90.294559 | AG14: =+H14*Z14*1000*(1+X14) -> 17.558881 | AH14: =+K14*AVERAGE('Monthly Peak Data '!$Q$8:$Q$10)*(1+X14)*'Monthly Peak Data '!$M$40*1000 -> 0 | AI14: =+L14*(0.5*MAX('Monthly Peak Data '!$G$18:$G$19,'Monthly Peak Data '!$G$29)+0.5*(MAX('Monthly Peak Data '!$P$3:$P$14)))*(1+X14) -> 0 | AJ14: =+M14*0.25*MAX('Monthly Peak Data '!$P$3:$P$14)*(1+X14) -> 0 | AK14: =+VLOOKUP($B14,'Monthly Peak Data '!$L$3:$P$14,5,FALSE)*N14*(1+X14) -> 0.04459343 | AL14: =+O14*AB14*(1+X14) -> 0 | AM14: =+VLOOKUP($B14,'Monthly Peak Data '!$L$3:$P$14,5,FALSE)*P14*(1+X14) -> 0 | AN14: =+VLOOKUP($B14,'Monthly Peak Data '!$L$3:$P$14,5,FALSE)*Q14*(1+X14) -> 0.06074778 | AO14: =+R14*AB14*(1+X14) -> 57.64894 | AP14: =+VLOOKUP($B14,'Monthly Peak Data '!$C$18:$G$29,5,FALSE)*(1+X14) -> 108.68772 | AQ14: =+VLOOKUP($B14,'Monthly Peak Data '!$L$3:$P$14,5,FALSE)*T14*(1+X14) -> 0.0022008588 | AR14: =+VLOOKUP($B14,'Monthly Peak Data '!$C$3:$G$14,5,FALSE)*U14*(1+X14) -> -2.4184736 | AS14: =+SUM(AG14:AR14) -> 181.58461
A15: =+A14 -> 2018 | B15: 8 | C15: 38.7 | D15: 2.822 | E15: =+'Monthly LMP and MWh Pivot'!L$13 -> 0.89082638 | F15: =+E15*C15 -> 34.474981 | G15: =+G14 -> 9.55 | H15: =+H14 -> 9.2023692 | I15: 0.23547451 | J15: 0.51536709 | K15: 0 | L15: 0 | M15: 0 | N15: =+N14 -> 0.13129667 | O15: 0.063847461 | P15: 0.039478039 | Q15: 0.17886 | R15: 0.30132 | S15: 0.22461 | T15: 0.00648 | U15: -0.044920663 | V15: =+'Monthly LMP and MWh Pivot'!I$13/('Monthly Analysis'!W15*'Hourly Generator and LMP Data'!$I$1) -> 0.20131777 | W15: 744 | X15: =+X14 -> 0.07 | Y15: =+Y14 -> 0.30925205 | Z15: =+'Monthly Peak Data '!Q$10 -> 0.099775281 | AA15: 1 | AB15: =+W15*V15*AA15 -> 149.78042 | AC15: =+AB15*F15*(1+X15) -> 5525.1345 | AD15: =+AB15*I15*(1+X15) -> 37.738335 | AE15: =+AB15*J15*(1+X15) -> 82.595333 | AG15: =+H15*Z15*1000*(1+X15) -> 982.4408 | AH15: =+K15*AVERAGE('Monthly Peak Data '!$Q$8:$Q$10)*(1+X15)*'Monthly Peak Data '!$M$40*1000 -> 0 | AI15: =+L15*(0.5*MAX('Monthly Peak Data '!$G$18:$G$19,'Monthly Peak Data '!$G$29)+0.5*(MAX('Monthly Peak Data '!$P$3:$P$14)))*(1+X15) -> 0 | AJ15: =+M15*0.25*MAX('Monthly Peak Data '!$P$3:$P$14)*(1+X15) -> 0 | AK15: =+VLOOKUP($B15,'Monthly Peak Data '!$L$3:$P$14,5,FALSE)*N15*(1+X15) -> 2.4950568 | AL15: =+VLOOKUP($B15,'Monthly Peak Data '!$L$3:$P$14,5,FALSE)*O15*(1+$X15) -> 1.2133061 | AM15: =+VLOOKUP($B15,'Monthly Peak Data '!$L$3:$P$14,5,FALSE)*P15*(1+$X15) -> 0.75020908 | AN15: =+VLOOKUP($B15,'Monthly Peak Data '!$L$3:$P$14,5,FALSE)*Q15*(1+X15) -> 3.3989124 | AO15: =+R15*AB15*(1+X15) -> 48.291065 | AP15: =+VLOOKUP($B15,'Monthly Peak Data '!$C$18:$G$29,5,FALSE)*(1+X15) -> 251.79574 | AQ15: =+VLOOKUP($B15,'Monthly Peak Data '!$L$3:$P$14,5,FALSE)*T15*(1+X15) -> 0.12314074 | AR15: =+VLOOKUP($B15,'Monthly Peak Data '!$C$3:$G$14,5,FALSE)*U15*(1+X15) -> -2.9866729 | AS15: =+SUM(AG15:AR15) -> 1287.5216
A16: =+A15 -> 2018 | B16: 9 | C16: 41.53 | D16: 2.852 | E16: =+'Monthly LMP and MWh Pivot'!L$14 -> 1.1928111 | F16: =+E16*C16 -> 49.537446 | G16: =+G15 -> 9.55 | H16: =+H15 -> 9.2023692 | I16: 0.34192792 | J16: 1.0968524 | K16: 0 | L16: 0 | M16: 0 | N16: =+N15 -> 0.13129667 | O16: 0.067257327 | P16: 0.041537695 | Q16: 0.17886 | R16: 0.30132 | S16: 0.22461 | T16: 0.00648 | U16: -0.066979483 | V16: =+'Monthly LMP and MWh Pivot'!I$14/('Monthly Analysis'!W16*'Hourly Generator and LMP Data'!$I$1) -> 0.16869507 | W16: 720 | X16: =+X15 -> 0.07 | Y16: =+Y15 -> 0.30925205 | Z16: =+'Monthly Peak Data '!Q$11 -> -0.00041385768 | AA16: 1 | AB16: =+W16*V16*AA16 -> 121.46045 | AC16: =+AB16*F16*(1+X16) -> 6438.0192 | AD16: =+AB16*I16*(1+X16) -> 44.437869 | AE16: =+AB16*J16*(1+X16) -> 142.54988 | AG16: =+H16*Z16*1000*(1+X16) -> -4.0750641 | AH16: =+K16*AVERAGE('Monthly Peak Data '!$Q$8:$Q$10)*(1+X16)*'Monthly Peak Data '!$M$40*1000 -> 0 | AI16: =+L16*(0.5*MAX('Monthly Peak Data '!$G$18:$G$19,'Monthly Peak Data '!$G$29)+0.5*(MAX('Monthly Peak Data '!$P$3:$P$14)))*(1+X16) -> 0 | AJ16: =+M16*0.25*MAX('Monthly Peak Data '!$P$3:$P$14)*(1+X16) -> 0 | AK16: =+VLOOKUP($B16,'Monthly Peak Data '!$L$3:$P$14,5,FALSE)*N16*(1+X16) -> -0.010349241 | AL16: =+VLOOKUP($B16,'Monthly Peak Data '!$L$3:$P$14,5,FALSE)*O16*(1+$X16) -> -0.0053014467 | AM16: =+VLOOKUP($B16,'Monthly Peak Data '!$L$3:$P$14,5,FALSE)*P16*(1+$X16) -> -0.0032741396 | AN16: =+VLOOKUP($B16,'Monthly Peak Data '!$L$3:$P$14,5,FALSE)*Q16*(1+X16) -> -0.014098341 | AO16: =+R16*AB16*(1+X16) -> 39.160355 | AP16: =+VLOOKUP($B16,'Monthly Peak Data '!$C$18:$G$29,5,FALSE)*(1+X16) -> 0.31838444 | AQ16: =+VLOOKUP($B16,'Monthly Peak Data '!$L$3:$P$14,5,FALSE)*T16*(1+X16) -> -0.0005107752 | AR16: =+VLOOKUP($B16,'Monthly Peak Data '!$C$3:$G$14,5,FALSE)*U16*(1+X16) -> -3.4605633 | AS16: =+SUM(AG16:AR16) -> 31.909578
A17: =+A16 -> 2018 | B17: 10 | C17: 42.38 | D17: 3.021 | E17: =+'Monthly LMP and MWh Pivot'!L$15 -> 0.94018245 | F17: =+E17*C17 -> 39.844932 | G17: =+G16 -> 9.55 | H17: =+H16 -> 9.2023692 | I17: 0.26942694 | J17: 0.38884786 | K17: 0 | L17: 0 | M17: 0 | N17: =+N16 -> 0.13129667 | O17: 0.09409578 | P17: 0.072219825 | Q17: 0.17886 | R17: 0.30132 | S17: 0.22461 | T17: 0.00648 | U17: -0.067642133 | V17: =+'Monthly LMP and MWh Pivot'!I$15/('Monthly Analysis'!W17*'Hourly Generator and LMP Data'!$I$1) -> 0.10010137 | W17: 744 | X17: =+X16 -> 0.07 | Y17: =+Y16 -> 0.30925205 | Z17: =+'Monthly Peak Data '!Q$12 -> -0.00030898876 | AA17: 1 | AB17: =+W17*V17*AA17 -> 74.475421 | AC17: =+AB17*F17*(1+X17) -> 3175.1909 | AD17: =+AB17*I17*(1+X17) -> 21.470283 | AE17: =+AB17*J17*(1+X17) -> 30.986781 | AG17: =+H17*Z17*1000*(1+X17) -> -3.0424687 | AH17: =+K17*AVERAGE('Monthly Peak Data '!$Q$8:$Q$10)*(1+X17)*'Monthly Peak Data '!$M$40*1000 -> 0 | AI17: =+L17*(0.5*MAX('Monthly Peak Data '!$G$18:$G$19,'Monthly Peak Data '!$G$29)+0.5*(MAX('Monthly Peak Data '!$P$3:$P$14)))*(1+X17) -> 0 | AJ17: =+M17*0.25*MAX('Monthly Peak Data '!$P$3:$P$14)*(1+X17) -> 0 | AK17: =+VLOOKUP($B17,'Monthly Peak Data '!$L$3:$P$14,5,FALSE)*N17*(1+X17) -> -0.0077268088 | AL17: =+VLOOKUP($B17,'Monthly Peak Data '!$L$3:$P$14,5,FALSE)*O17*(1+$X17) -> -0.0055375366 | AM17: =+VLOOKUP($B17,'Monthly Peak Data '!$L$3:$P$14,5,FALSE)*P17*(1+$X17) -> -0.0042501367 | AN17: =+VLOOKUP($B17,'Monthly Peak Data '!$L$3:$P$14,5,FALSE)*Q17*(1+X17) -> -0.010525911 | AO17: =+R17*AB17*(1+X17) -> 24.011799 | AP17: =+VLOOKUP($B17,'Monthly Peak Data '!$C$18:$G$29,5,FALSE)*(1+X17) -> 0.51383011 | AQ17: =+VLOOKUP($B17,'Monthly Peak Data '!$L$3:$P$14,5,FALSE)*T17*(1+X17) -> -0.000381348 | AR17: =+VLOOKUP($B17,'Monthly Peak Data '!$C$3:$G$14,5,FALSE)*U17*(1+X17) -> 0.0084984704 | AS17: =+SUM(AG17:AR17) -> 21.463237
A18: =+A17 -> 2018 | B18: 11 | C18: 38.25 | D18: 3.185 | E18: =+'Monthly LMP and MWh Pivot'!L$16 -> 0.84486275 | F18: =+E18*C18 -> 32.316 | G18: =+G17 -> 9.55 | H18: =+H17 -> 9.2023692 | I18: 0.3806633 | J18: 0.41534903 | K18: 0 | L18: 0 | M18: 0 | N18: =+N17 -> 0.13129667 | O18: 0.094038768 | P18: 0.072741844 | Q18: 0.17886 | R18: 0.30132 | S18: 0.22461 | T18: 0.00648 | U18: -0.045641644 | V18: =+'Monthly LMP and MWh Pivot'!I$16/('Monthly Analysis'!W18*'Hourly Generator and LMP Data'!$I$1) -> 0.040542058 | W18: 721 | X18: =+X17 -> 0.07 | Y18: =+Y17 -> 0.30925205 | Z18: =+'Monthly Peak Data '!Q$13 -> -0.00074906367 | AA18: 1 | AB18: =+W18*V18*AA18 -> 29.230824 | AC18: =+AB18*F18*(1+X18) -> 1010.7469 | AD18: =+AB18*I18*(1+X18) -> 11.905999 | AE18: =+AB18*J18*(1+X18) -> 12.990864 | AG18: =+H18*Z18*1000*(1+X18) -> -7.3756817 | AH18: =+K18*AVERAGE('Monthly Peak Data '!$Q$8:$Q$10)*(1+X18)*'Monthly Peak Data '!$M$40*1000 -> 0 | AI18: =+L18*(0.5*MAX('Monthly Peak Data '!$G$18:$G$19,'Monthly Peak Data '!$G$29)+0.5*(MAX('Monthly Peak Data '!$P$3:$P$14)))*(1+X18) -> 0 | AJ18: =+M18*0.25*MAX('Monthly Peak Data '!$P$3:$P$14)*(1+X18) -> 0 | AK18: =+VLOOKUP($B18,'Monthly Peak Data '!$L$3:$P$14,5,FALSE)*N18*(1+X18) -> -0.018731658 | AL18: =+VLOOKUP($B18,'Monthly Peak Data '!$L$3:$P$14,5,FALSE)*O18*(1+$X18) -> -0.013416198 | AM18: =+VLOOKUP($B18,'Monthly Peak Data '!$L$3:$P$14,5,FALSE)*P18*(1+$X18) -> -0.010377836 | AN18: =+VLOOKUP($B18,'Monthly Peak Data '!$L$3:$P$14,5,FALSE)*Q18*(1+X18) -> -0.02551736 | AO18: =+R18*AB18*(1+X18) -> 9.4243801 | AP18: =+VLOOKUP($B18,'Monthly Peak Data '!$C$18:$G$29,5,FALSE)*(1+X18) -> 0.83685889 | AQ18: =+VLOOKUP($B18,'Monthly Peak Data '!$L$3:$P$14,5,FALSE)*T18*(1+X18) -> -0.00092448 | AR18: =+VLOOKUP($B18,'Monthly Peak Data '!$C$3:$G$14,5,FALSE)*U18*(1+X18) -> 0.0071301376 | AS18: =+SUM(AG18:AR18) -> 2.82372
A19: =+A18 -> 2018 | B19: 12 | C19: 86.4 | D19: 4.715 | E19: =+'Monthly LMP and MWh Pivot'!L$17 -> 0.71583738 | F19: =+E19*C19 -> 61.84835 | G19: =+G18 -> 9.55 | H19: =+H18 -> 9.2023692 | I19: 0.290382 | J19: 0.29233261 | K19: 0 | L19: 0 | M19: 0 | N19: =+N18 -> 0.13129667 | O19: 0.089906975 | P19: 0.07411848 | Q19: 0.17886 | R19: 0.30132 | S19: 0.22461 | T19: 0.00648 | U19: -0.03492084 | V19: =+'Monthly LMP and MWh Pivot'!I$17/('Monthly Analysis'!W19*'Hourly Generator and LMP Data'!$I$1) -> 0.025858743 | W19: 744 | X19: =+X18 -> 0.07 | Y19: =+Y18 -> 0.30925205 | Z19: =+'Monthly Peak Data '!Q$14 -> -0.0049238855 | AA19: 1 | AB19: =+W19*V19*AA19 -> 19.238904 | AC19: =+AB19*F19*(1+X19) -> 1273.1871 | AD19: =+AB19*I19*(1+X19) -> 5.9776958 | AE19: =+AB19*J19*(1+X19) -> 6.0178502 | AG19: =+H19*Z19*1000*(1+X19) -> -48.483211 | AH19: =+K19*AVERAGE('Monthly Peak Data '!$Q$8:$Q$10)*(1+X19)*'Monthly Peak Data '!$M$40*1000 -> 0 | AI19: =+L19*(0.5*MAX('Monthly Peak Data '!$G$18:$G$19,'Monthly Peak Data '!$G$29)+0.5*(MAX('Monthly Peak Data '!$P$3:$P$14)))*(1+X19) -> 0 | AJ19: =+M19*0.25*MAX('Monthly Peak Data '!$P$3:$P$14)*(1+X19) -> 0 | AK19: =+VLOOKUP($B19,'Monthly Peak Data '!$L$3:$P$14,5,FALSE)*N19*(1+X19) -> -0.12313044 | AL19: =+VLOOKUP($B19,'Monthly Peak Data '!$L$3:$P$14,5,FALSE)*O19*(1+$X19) -> -0.084315051 | AM19: =+VLOOKUP($B19,'Monthly Peak Data '!$L$3:$P$14,5,FALSE)*P19*(1+$X19) -> -0.06950855 | AN19: =+VLOOKUP($B19,'Monthly Peak Data '!$L$3:$P$14,5,FALSE)*Q19*(1+X19) -> -0.16773548 | AO19: =+R19*AB19*(1+X19) -> 6.2028614 | AP19: =+VLOOKUP($B19,'Monthly Peak Data '!$C$18:$G$29,5,FALSE)*(1+X19) -> 0 | AQ19: =+VLOOKUP($B19,'Monthly Peak Data '!$L$3:$P$14,5,FALSE)*T19*(1+X19) -> -0.0060769649 | AR19: =+VLOOKUP($B19,'Monthly Peak Data '!$C$3:$G$14,5,FALSE)*U19*(1+X19) -> 0.031633944 | AS19: =+SUM(AG19:AR19) -> -42.699482
A20: =1+A8 -> 2019 | B20: =+B8 -> 1 | C20: 66.5 | D20: 3.642 | E20: =+'Monthly LMP and MWh Pivot'!L$6 -> 0.70389395 | F20: =+E20*C20 -> 46.808948 | G20: 9.55 | H20: =+H19 -> 9.2023692 | I20: 0.28731799 | J20: 0.24194223 | K20: 0 | L20: 0 | M20: 0 | N20: =+N19 -> 0.13129667 | O20: 0.080699368 | P20: 0.074922715 | Q20: 0.17285 | R20: 0.30335 | S20: 0.22134 | T20: 0.00711 | U20: -0.041906855 | V20: =+V8 -> 0.022616097 | W20: =+W8 -> 744 | X20: =+X19 -> 0.07 | Y20: =+Y19 -> 0.30925205 | Z20: =+Z8 -> -0.0060846321 | AA20: 1 | AB20: =+W20*V20*AA20 -> 16.826376 | AC20: =+AB20*F20*(1+X20) -> 842.75873 | AD20: =+AB20*I20*(1+X20) -> 5.1729371 | AE20: =+AB20*J20*(1+X20) -> 4.3559819 | AG20: =+H20*Z20*1000*(1+X20) -> -59.912543 | AH20: =+K20*AVERAGE('Monthly Peak Data '!$Q$8:$Q$10)*(1+X20)*'Monthly Peak Data '!$M$40*1000 -> 0 | AI20: =+L20*(0.5*MAX('Monthly Peak Data '!$G$18:$G$19,'Monthly Peak Data '!$G$29)+0.5*(MAX('Monthly Peak Data '!$P$3:$P$14)))*(1+X20) -> 0 | AJ20: =+M20*0.25*MAX('Monthly Peak Data '!$P$3:$P$14)*(1+X20) -> 0 | AK20: =+VLOOKUP($B20,'Monthly Peak Data '!$L$3:$P$14,5,FALSE)*N20*(1+X20) -> -0.15215695 | AL20: =+VLOOKUP($B20,'Monthly Peak Data '!$L$3:$P$14,5,FALSE)*O20*(1+$X20) -> -0.093520805 | AM20: =+VLOOKUP($B20,'Monthly Peak Data '!$L$3:$P$14,5,FALSE)*P20*(1+$X20) -> -0.086826364 | AN20: =+VLOOKUP($B20,'Monthly Peak Data '!$L$3:$P$14,5,FALSE)*Q20*(1+X20) -> -0.20031224 | AO20: =+R20*AB20*(1+X20) -> 5.461581 | AP20: =+VLOOKUP($B20,'Monthly Peak Data '!$C$18:$G$29,5,FALSE)*(1+X20) -> 0 | AQ20: =+VLOOKUP($B20,'Monthly Peak Data '!$L$3:$P$14,5,FALSE)*T20*(1+X20) -> -0.0082396299 | AR20: =+VLOOKUP($B20,'Monthly Peak Data '!$C$3:$G$14,5,FALSE)*U20*(1+X20) -> 0.046134918 | AS20: =+SUM(AG20:AR20) -> -54.945883
A21: =1+A9 -> 2019 | B21: =+B9 -> 2 | C21: 59.7 | D21: 2.95 | E21: =+'Monthly LMP and MWh Pivot'!L$7 -> 0.91686751 | F21: =+E21*C21 -> 54.73699 | G21: =+G20 -> 9.55 | H21: =+H20 -> 9.2023692 | I21: 0.23673052 | J21: 0.34071655 | K21: 0 | L21: 0 | M21: 0 | N21: =+N20 -> 0.13129667 | O21: 0.090235792 | P21: 0.083213147 | Q21: 0.17285 | R21: 0.30335 | S21: 0.22134 | T21: 0.00711 | U21: -0.04675465 | V21: =+V9 -> 0.052674726 | W21: =+W9 -> 672 | X21: =+X20 -> 0.07 | Y21: =+Y20 -> 0.30925205 | Z21: =+Z9 -> -0.0055317014 | AA21: 1 | AB21: =+W21*V21*AA21 -> 35.397416 | AC21: =+AB21*F21*(1+X21) -> 2073.1764 | AD21: =+AB21*I21*(1+X21) -> 8.9662242 | AE21: =+AB21*J21*(1+X21) -> 12.90472 | AG21: =+H21*Z21*1000*(1+X21) -> -54.468092 | AH21: =+K21*AVERAGE('Monthly Peak Data '!$Q$8:$Q$10)*(1+X21)*'Monthly Peak Data '!$M$40*1000 -> 0 | AI21: =+L21*(0.5*MAX('Monthly Peak Data '!$G$18:$G$19,'Monthly Peak Data '!$G$29)+0.5*(MAX('Monthly Peak Data '!$P$3:$P$14)))*(1+X21) -> 0 | AJ21: =+M21*0.25*MAX('Monthly Peak Data '!$P$3:$P$14)*(1+X21) -> 0 | AK21: =+VLOOKUP($B21,'Monthly Peak Data '!$L$3:$P$14,5,FALSE)*N21*(1+X21) -> -0.13832995 | AL21: =+VLOOKUP($B21,'Monthly Peak Data '!$L$3:$P$14,5,FALSE)*O21*(1+$X21) -> -0.09506953 | AM21: =+VLOOKUP($B21,'Monthly Peak Data '!$L$3:$P$14,5,FALSE)*P21*(1+$X21) -> -0.087670697 | AN21: =+VLOOKUP($B21,'Monthly Peak Data '!$L$3:$P$14,5,FALSE)*Q21*(1+X21) -> -0.1821092 | AO21: =+R21*AB21*(1+X21) -> 11.489452 | AP21: =+VLOOKUP($B21,'Monthly Peak Data '!$C$18:$G$29,5,FALSE)*(1+X21) -> 1.6748048 | AQ21: =+VLOOKUP($B21,'Monthly Peak Data '!$L$3:$P$14,5,FALSE)*T21*(1+X21) -> -0.0074908675 | AR21: =+VLOOKUP($B21,'Monthly Peak Data '!$C$3:$G$14,5,FALSE)*U21*(1+X21) -> 0.053145259 | AS21: =+SUM(AG21:AR21) -> -41.76136
A22: =1+A10 -> 2019 | B22: =+B10 -> 3 | C22: 42.85 | D22: 2.855 | E22: =+'Monthly LMP and MWh Pivot'!L$8 -> 0.77619976 | F22: =+E22*C22 -> 33.26016 | G22: =+G21 -> 9.55 | H22: =+H21 -> 9.2023692 | I22: 0.20364008 | J22: 0.30186598 | K22: 0 | L22: 0 | M22: 0 | N22: =+N21 -> 0.13129667 | O22: 0.097892809 | P22: 0.08712272 | Q22: 0.17285 | R22: 0.30335 | S22: 0.22134 | T22: 0.00711 | U22: -0.048337907 | V22: =+V10 -> 0.10095698 | W22: =+W10 -> 743 | X22: =+X21 -> 0.07 | Y22: =+Y21 -> 0.30925205 | Z22: =+Z10 -> 0.016072852 | AA22: 1 | AB22: =+W22*V22*AA22 -> 75.011039 | AC22: =+AB22*F22*(1+X22) -> 2669.5207 | AD22: =+AB22*I22*(1+X22) -> 16.344522 | AE22: =+AB22*J22*(1+X22) -> 24.228311 | AG22: =+H22*Z22*1000*(1+X22) -> 158.2619 | AH22: =+K22*AVERAGE('Monthly Peak Data '!$Q$8:$Q$10)*(1+X22)*'Monthly Peak Data '!$M$40*1000 -> 0 | AI22: =+L22*(0.5*MAX('Monthly Peak Data '!$G$18:$G$19,'Monthly Peak Data '!$G$29)+0.5*(MAX('Monthly Peak Data '!$P$3:$P$14)))*(1+X22) -> 0 | AJ22: =+M22*0.25*MAX('Monthly Peak Data '!$P$3:$P$14)*(1+X22) -> 0 | AK22: =+VLOOKUP($B22,'Monthly Peak Data '!$L$3:$P$14,5,FALSE)*N22*(1+X22) -> 0.40193001 | AL22: =+VLOOKUP($B22,'Monthly Peak Data '!$L$3:$P$14,5,FALSE)*O22*(1+$X22) -> 0.29967294 | AM22: =+VLOOKUP($B22,'Monthly Peak Data '!$L$3:$P$14,5,FALSE)*P22*(1+$X22) -> 0.26670316 | AN22: =+VLOOKUP($B22,'Monthly Peak Data '!$L$3:$P$14,5,FALSE)*Q22*(1+X22) -> 0.52913455 | AO22: =+R22*AB22*(1+X22) -> 24.347421 | AP22: =+VLOOKUP($B22,'Monthly Peak Data '!$C$18:$G$29,5,FALSE)*(1+X22) -> 0.04003871 | AQ22: =+VLOOKUP($B22,'Monthly Peak Data '!$L$3:$P$14,5,FALSE)*T22*(1+X22) -> 0.021765384 | AR22: =+VLOOKUP($B22,'Monthly Peak Data '!$C$3:$G$14,5,FALSE)*U22*(1+X22) -> 0.0088844293 | AS22: =+SUM(AG22:AR22) -> 184.17745
A23: =1+A11 -> 2019 | B23: =+B11 -> 4 | C23: 32.88 | D23: 2.713 | E23: =+'Monthly LMP and MWh Pivot'!L$9 -> 0.85629918 | F23: =+E23*C23 -> 28.155117 | G23: =+G22 -> 9.55 | H23: =+H22 -> 9.2023692 | I23: 0.15806069 | J23: 0.27444614 | K23: 0 | L23: 0 | M23: 0 | N23: =+N22 -> 0.13129667 | O23: 0.1114564 | P23: 0.10278939 | Q23: 0.17285 | R23: 0.30335 | S23: 0.22134 | T23: 0.00711 | U23: -0.05115826 | V23: =+V11 -> 0.14691858 | W23: =+W11 -> 720 | X23: =+X22 -> 0.07 | Y23: =+Y22 -> 0.30925205 | Z23: =+Z11 -> 0.0026413858 | AA23: 1 | AB23: =+W23*V23*AA23 -> 105.78138 | AC23: =+AB23*F23*(1+X23) -> 3186.7671 | AD23: =+AB23*I23*(1+X23) -> 17.890268 | AE23: =+AB23*J23*(1+X23) -> 31.063481 | AG23: =+H23*Z23*1000*(1+X23) -> 26.008497 | AH23: =+K23*AVERAGE('Monthly Peak Data '!$Q$8:$Q$10)*(1+X23)*'Monthly Peak Data '!$M$40*1000 -> 0 | AI23: =+L23*(0.5*MAX('Monthly Peak Data '!$G$18:$G$19,'Monthly Peak Data '!$G$29)+0.5*(MAX('Monthly Peak Data '!$P$3:$P$14)))*(1+X23) -> 0 | AJ23: =+M23*0.25*MAX('Monthly Peak Data '!$P$3:$P$14)*(1+X23) -> 0 | AK23: =+VLOOKUP($B23,'Monthly Peak Data '!$L$3:$P$14,5,FALSE)*N23*(1+X23) -> 0.066052508 | AL23: =+VLOOKUP($B23,'Monthly Peak Data '!$L$3:$P$14,5,FALSE)*O23*(1+$X23) -> 0.056071299 | AM23: =+VLOOKUP($B23,'Monthly Peak Data '!$L$3:$P$14,5,FALSE)*P23*(1+$X23) -> 0.051711116 | AN23: =+VLOOKUP($B23,'Monthly Peak Data '!$L$3:$P$14,5,FALSE)*Q23*(1+X23) -> 0.08695709 | AO23: =+R23*AB23*(1+X23) -> 34.334995 | AP23: =+VLOOKUP($B23,'Monthly Peak Data '!$C$18:$G$29,5,FALSE)*(1+X23) -> 142.15604 | AQ23: =+VLOOKUP($B23,'Monthly Peak Data '!$L$3:$P$14,5,FALSE)*T23*(1+X23) -> 0.003576887 | AR23: =+VLOOKUP($B23,'Monthly Peak Data '!$C$3:$G$14,5,FALSE)*U23*(1+X23) -> 0.0075905215 | AS23: =+SUM(AG23:AR23) -> 202.77149
A24: =1+A12 -> 2019 | B24: =+B12 -> 5 | C24: 28.75 | D24: 2.566 | E24: =+'Monthly LMP and MWh Pivot'!L$10 -> 0.82264045 | F24: =+E24*C24 -> 23.650913 | G24: =+G23 -> 9.55 | H24: =+H23 -> 9.2023692 | I24: 0.14054968 | J24: 0.26228485 | K24: 0 | L24: 0 | M24: 0 | N24: =+N23 -> 0.13129667 | O24: 0.10918311 | P24: 0.1258175 | Q24: 0.17285 | R24: 0.30335 | S24: 0.22134 | T24: 0.00711 | U24: -0.065234544 | V24: =+V12 -> 0.20374675 | W24: =+W12 -> 744 | X24: =+X23 -> 0.07 | Y24: =+Y23 -> 0.30925205 | Z24: =+Z12 -> 0.11317959 | AA24: 1 | AB24: =+W24*V24*AA24 -> 151.58758 | AC24: =+AB24*F24*(1+X24) -> 3836.1477 | AD24: =+AB24*I24*(1+X24) -> 22.796977 | AE24: =+AB24*J24*(1+X24) -> 42.542265 | AG24: =+H24*Z24*1000*(1+X24) -> 1114.4268 | AH24: =+K24*AVERAGE('Monthly Peak Data '!$Q$8:$Q$10)*(1+X24)*'Monthly Peak Data '!$M$40*1000 -> 0 | AI24: =+L24*(0.5*MAX('Monthly Peak Data '!$G$18:$G$19,'Monthly Peak Data '!$G$29)+0.5*(MAX('Monthly Peak Data '!$P$3:$P$14)))*(1+X24) -> 0 | AJ24: =+M24*0.25*MAX('Monthly Peak Data '!$P$3:$P$14)*(1+X24) -> 0 | AK24: =+VLOOKUP($B24,'Monthly Peak Data '!$L$3:$P$14,5,FALSE)*N24*(1+X24) -> 2.8302553 | AL24: =+VLOOKUP($B24,'Monthly Peak Data '!$L$3:$P$14,5,FALSE)*O24*(1+$X24) -> 2.3535714 | AM24: =+VLOOKUP($B24,'Monthly Peak Data '!$L$3:$P$14,5,FALSE)*P24*(1+$X24) -> 2.7121454 | AN24: =+VLOOKUP($B24,'Monthly Peak Data '!$L$3:$P$14,5,FALSE)*Q24*(1+X24) -> 3.7259867 | AO24: =+R24*AB24*(1+X24) -> 49.20298 | AP24: =+VLOOKUP($B24,'Monthly Peak Data '!$C$18:$G$29,5,FALSE)*(1+X24) -> 0.49346559 | AQ24: =+VLOOKUP($B24,'Monthly Peak Data '!$L$3:$P$14,5,FALSE)*T24*(1+X24) -> 0.15326448 | AR24: =+VLOOKUP($B24,'Monthly Peak Data '!$C$3:$G$14,5,FALSE)*U24*(1+X24) -> -1.4062079 | AS24: =+SUM(AG24:AR24) -> 1174.4923
A25: =1+A13 -> 2019 | B25: =+B13 -> 6 | C25: 27.88 | D25: 2.663 | E25: =+'Monthly LMP and MWh Pivot'!L$11 -> 0.93665801 | F25: =+E25*C25 -> 26.114025 | G25: 7.03 | H25: 9.3282233 | I25: 0.15862697 | J25: 0.52864143 | K25: 0 | L25: 0 | M25: 0 | N25: 0.13278417 | O25: 0.087891316 | P25: 0.09891316 | Q25: 0.17285 | R25: 0.30335 | S25: 0.22134 | T25: 0.00711 | U25: -0.056531758 | V25: =+V13 -> 0.22707631 | W25: =+W13 -> 720 | X25: =+X24 -> 0.07 | Y25: =+Y24 -> 0.30925205 | Z25: =+Z13 -> 0.0017649813 | AA25: 1 | AB25: =+W25*V25*AA25 -> 163.49494 | AC25: =+AB25*F25*(1+X25) -> 4568.3769 | AD25: =+AB25*I25*(1+X25) -> 27.750137 | AE25: =+AB25*J25*(1+X25) -> 92.480315 | AF25: =+Y14*G25*1000*1.2*(1+X14) -> 2791.4698 | AG25: =+H25*Z25*1000*(1+X25) -> 17.616629 | AH25: =+K25*AVERAGE('Monthly Peak Data '!$Q$8:$Q$10)*(1+X25)*'Monthly Peak Data '!$M$40*1000 -> 0 | AI25: =+L25*(0.5*MAX('Monthly Peak Data '!$G$18:$G$19,'Monthly Peak Data '!$G$29)+0.5*(MAX('Monthly Peak Data '!$P$3:$P$14)))*(1+X25) -> 0 | AJ25: =+M25*0.25*MAX('Monthly Peak Data '!$P$3:$P$14)*(1+X25) -> 0 | AK25: =+VLOOKUP($B25,'Monthly Peak Data '!$L$3:$P$14,5,FALSE)*N25*(1+X25) -> 0.044636504 | AL25: =+VLOOKUP($B25,'Monthly Peak Data '!$L$3:$P$14,5,FALSE)*O25*(1+$X25) -> 0.029545398 | AM25: =+VLOOKUP($B25,'Monthly Peak Data '!$L$3:$P$14,5,FALSE)*P25*(1+$X25) -> 0.033250483 | AN25: =+VLOOKUP($B25,'Monthly Peak Data '!$L$3:$P$14,5,FALSE)*Q25*(1+X25) -> 0.058104968 | AO25: =+R25*AB25*(1+X25) -> 53.067925 | AP25: =+VLOOKUP($B25,'Monthly Peak Data '!$C$18:$G$29,5,FALSE)*(1+X25) -> 339.51849 | AQ25: =+VLOOKUP($B25,'Monthly Peak Data '!$L$3:$P$14,5,FALSE)*T25*(1+X25) -> 0.0023900858 | AR25: =+VLOOKUP($B25,'Monthly Peak Data '!$C$3:$G$14,5,FALSE)*U25*(1+X25) -> -2.9535862 | AS25: =+SUM(AG25:AR25) -> 407.41739
A26: =1+A14 -> 2019 | B26: =+B14 -> 7 | C26: 32.8 | D26: 2.291 | E26: =+'Monthly LMP and MWh Pivot'!L$12 -> 0.86933578 | F26: =+E26*C26 -> 28.514214 | G26: =+G25 -> 7.03 | H26: =+H25 -> 9.3282233 | I26: 0.20316082 | J26: 0.38387099 | K26: 0 | L26: 0 | M26: 0 | N26: =+N25 -> 0.13278417 | O26: 0.069818404 | P26: 0.080056184 | Q26: 0.17285 | R26: 0.30335 | S26: 0.22134 | T26: 0.00711 | U26: -0.047430441 | V26: =+V14 -> 0.24032926 | W26: =+W14 -> 744 | X26: =+X25 -> 0.07 | Y26: =+Y14 -> 0.30925205 | Z26: =+Z14 -> 0.0017832548 | AA26: 1 | AB26: =+W26*V26*AA26 -> 178.80497 | AC26: =+AB26*F26*(1+X26) -> 5455.377 | AD26: =+AB26*I26*(1+X26) -> 38.868996 | AE26: =+AB26*J26*(1+X26) -> 73.442705 | AF26: =+AF25 -> 2791.4698 | AG26: =+H26*Z26*1000*(1+X26) -> 17.799021 | AH26: =+K26*AVERAGE('Monthly Peak Data '!$Q$8:$Q$10)*(1+X26)*'Monthly Peak Data '!$M$40*1000 -> 0 | AI26: =+L26*(0.5*MAX('Monthly Peak Data '!$G$18:$G$19,'Monthly Peak Data '!$G$29)+0.5*(MAX('Monthly Peak Data '!$P$3:$P$14)))*(1+X26) -> 0 | AJ26: =+M26*0.25*MAX('Monthly Peak Data '!$P$3:$P$14)*(1+X26) -> 0 | AK26: =+VLOOKUP($B26,'Monthly Peak Data '!$L$3:$P$14,5,FALSE)*N26*(1+X26) -> 0.045098643 | AL26: =+VLOOKUP($B26,'Monthly Peak Data '!$L$3:$P$14,5,FALSE)*O26*(1+$X26) -> 0.023713033 | AM26: =+VLOOKUP($B26,'Monthly Peak Data '!$L$3:$P$14,5,FALSE)*P26*(1+$X26) -> 0.027190179 | AN26: =+VLOOKUP($B26,'Monthly Peak Data '!$L$3:$P$14,5,FALSE)*Q26*(1+X26) -> 0.058706551 | AO26: =+R26*AB26*(1+X26) -> 58.037322 | AP26: =+VLOOKUP($B26,'Monthly Peak Data '!$C$18:$G$29,5,FALSE)*(1+X26) -> 108.68772 | AQ26: =+VLOOKUP($B26,'Monthly Peak Data '!$L$3:$P$14,5,FALSE)*T26*(1+X26) -> 0.0024148312 | AR26: =+VLOOKUP($B26,'Monthly Peak Data '!$C$3:$G$14,5,FALSE)*U26*(1+X26) -> -2.7493631 | AS26: =+SUM(AG26:AR26) -> 181.93183
A27: =1+A15 -> 2019 | B27: =+B15 -> 8 | C27: 33.03 | D27: 2.141 | E27: =+'Monthly LMP and MWh Pivot'!L$13 -> 0.89082638 | F27: =+E27*C27 -> 29.423995 | G27: =+G26 -> 7.03 | H27: =+H26 -> 9.3282233 | I27: 0.1648252 | J27: 0.42556693 | K27: 0 | L27: 0 | M27: 0 | N27: =+N26 -> 0.13278417 | O27: =+O15*D27/D15 -> 0.048439906 | P27: =+P15*D29/D15 -> 0.034204042 | Q27: 0.17285 | R27: 0.30335 | S27: 0.22134 | T27: 0.00711 | U27: -0.073806448 | V27: =+V15 -> 0.20131777 | W27: =+W15 -> 744 | X27: =+X26 -> 0.07 | Y27: =+Y15 -> 0.30925205 | Z27: =+Z15 -> 0.099775281 | AA27: 1 | AB27: =+W27*V27*AA27 -> 149.78042 | AC27: =+AB27*F27*(1+X27) -> 4715.6381 | AD27: =+AB27*I27*(1+X27) -> 26.415718 | AE27: =+AB27*J27*(1+X27) -> 68.203505 | AF27: =+AF26 -> 2791.4698 | AG27: =+H27*Z27*1000*(1+X27) -> 995.87693 | AH27: =+K27*AVERAGE('Monthly Peak Data '!$Q$8:$Q$10)*(1+X27)*'Monthly Peak Data '!$M$40*1000 -> 0 | AI27: =+L27*(0.5*MAX('Monthly Peak Data '!$G$18:$G$19,'Monthly Peak Data '!$G$29)+0.5*(MAX('Monthly Peak Data '!$P$3:$P$14)))*(1+X27) -> 0 | AJ27: =+M27*0.25*MAX('Monthly Peak Data '!$P$3:$P$14)*(1+X27) -> 0 | AK27: =+VLOOKUP($B27,'Monthly Peak Data '!$L$3:$P$14,5,FALSE)*N27*(1+X27) -> 2.5233241 | AL27: =+VLOOKUP($B27,'Monthly Peak Data '!$L$3:$P$14,5,FALSE)*O27*(1+$X27) -> 0.92051321 | AM27: =+VLOOKUP($B27,'Monthly Peak Data '!$L$3:$P$14,5,FALSE)*P27*(1+$X27) -> 0.64998625 | AN27: =+VLOOKUP($B27,'Monthly Peak Data '!$L$3:$P$14,5,FALSE)*Q27*(1+X27) -> 3.2847031 | AO27: =+R27*AB27*(1+X27) -> 48.616403 | AP27: =+VLOOKUP($B27,'Monthly Peak Data '!$C$18:$G$29,5,FALSE)*(1+X27) -> 251.79574 | AQ27: =+VLOOKUP($B27,'Monthly Peak Data '!$L$3:$P$14,5,FALSE)*T27*(1+X27) -> 0.13511275 | AR27: =+VLOOKUP($B27,'Monthly Peak Data '!$C$3:$G$14,5,FALSE)*U27*(1+X27) -> -4.9072231 | AS27: =+SUM(AG27:AR27) -> 1298.8955
A28: =1+A16 -> 2019 | B28: =+B16 -> 9 | C28: 27.07 | D28: 2.251 | E28: =+'Monthly LMP and MWh Pivot'!L$14 -> 1.1928111 | F28: =+E28*C28 -> 32.289397 | G28: =+G27 -> 7.03 | H28: =+H27 -> 9.3282233 | I28: =+I16*D28/D16 -> 0.26987368 | J28: =+J16*D28/D16 -> 0.86571345 | K28: 0 | L28: =+L16*(1+$L$6) -> 0 | M28: =+M16*(1+$M$6) -> 0 | N28: =+N27 -> 0.13278417 | O28: =+O16*D28/D16 -> 0.053084237 | P28: =+P16*D30/D16 -> 0.036294507 | Q28: 0.17285 | R28: 0.30335 | S28: 0.22134 | T28: 0.00711 | U28: =+U16*(1+$U$6) -> -0.066979483 | V28: =+V16 -> 0.16869507 | W28: =+W16 -> 720 | X28: =+X27 -> 0.07 | Y28: =+Y16 -> 0.30925205 | Z28: =+Z16 -> -0.00041385768 | AA28: 1 | AB28: =+W28*V28*AA28 -> 121.46045 | AC28: =+AB28*F28*(1+X28) -> 4196.4166 | AD28: =+AB28*I28*(1+X28) -> 35.073507 | AE28: =+AB28*J28*(1+X28) -> 112.51044 | AF28: =+AF27 -> 2791.4698 | AG28: =+H28*Z28*1000*(1+X28) -> -4.1307958 | AH28: =+K28*AVERAGE('Monthly Peak Data '!$Q$8:$Q$10)*(1+X28)*'Monthly Peak Data '!$M$40*1000 -> 0 | AI28: =+L28*(0.5*MAX('Monthly Peak Data '!$G$18:$G$19,'Monthly Peak Data '!$G$29)+0.5*(MAX('Monthly Peak Data '!$P$3:$P$14)))*(1+X28) -> 0 | AJ28: =+M28*0.25*MAX('Monthly Peak Data '!$P$3:$P$14)*(1+X28) -> 0 | AK28: =+VLOOKUP($B28,'Monthly Peak Data '!$L$3:$P$14,5,FALSE)*N28*(1+X28) -> -0.010466491 | AL28: =+VLOOKUP($B28,'Monthly Peak Data '!$L$3:$P$14,5,FALSE)*O28*(1+$X28) -> -0.0041842765 | AM28: =+VLOOKUP($B28,'Monthly Peak Data '!$L$3:$P$14,5,FALSE)*P28*(1+$X28) -> -0.0028608541 | AN28: =+VLOOKUP($B28,'Monthly Peak Data '!$L$3:$P$14,5,FALSE)*Q28*(1+X28) -> -0.013624613 | AO28: =+R28*AB28*(1+X28) -> 39.424179 | AP28: =+VLOOKUP($B28,'Monthly Peak Data '!$C$18:$G$29,5,FALSE)*(1+X28) -> 0.31838444 | AQ28: =+VLOOKUP($B28,'Monthly Peak Data '!$L$3:$P$14,5,FALSE)*T28*(1+X28) -> -0.0005604339 | AR28: =+VLOOKUP($B28,'Monthly Peak Data '!$C$3:$G$14,5,FALSE)*U28*(1+X28) -> -3.4605633 | AS28: =+SUM(AG28:AR28) -> 32.119508
A29: =1+A17 -> 2019 | B29: =+B17 -> 10 | C29: 27.37 | D29: 2.445 | E29: =+'Monthly LMP and MWh Pivot'!L$15 -> 0.94018245 | F29: =+E29*C29 -> 25.732794 | G29: =+G28 -> 7.03 | H29: =+H28 -> 9.3282233 | I29: =+I17*D29/D17 -> 0.21805656 | J29: =+J17*D29/D17 -> 0.31470805 | K29: 0 | L29: =+L17*(1+$L$6) -> 0 | M29: =+M17*(1+$M$6) -> 0 | N29: =+N28 -> 0.13278417 | O29: =+O17*D29/D17 -> 0.076154976 | P29: =+P17*D31/D17 -> 0.062896511 | Q29: 0.17285 | R29: 0.30335 | S29: 0.22134 | T29: 0.00711 | U29: =+U17*(1+$U$6) -> -0.067642133 | V29: =+V17 -> 0.10010137 | W29: =+W17 -> 744 | X29: =+X28 -> 0.07 | Y29: =+Y17 -> 0.30925205 | Z29: =+Z17 -> -0.00030898876 | AA29: 1 | AB29: =+W29*V29*AA29 -> 74.475421 | AC29: =+AB29*F29*(1+X29) -> 2050.6129 | AD29: =+AB29*I29*(1+X29) -> 17.376644 | AE29: =+AB29*J29*(1+X29) -> 25.078676 | AF29: =+AF28 -> 2791.4698 | AG29: =+H29*Z29*1000*(1+X29) -> -3.0840783 | AH29: =+K29*AVERAGE('Monthly Peak Data '!$Q$8:$Q$10)*(1+X29)*'Monthly Peak Data '!$M$40*1000 -> 0 | AI29: =+L29*(0.5*MAX('Monthly Peak Data '!$G$18:$G$19,'Monthly Peak Data '!$G$29)+0.5*(MAX('Monthly Peak Data '!$P$3:$P$14)))*(1+X29) -> 0 | AJ29: =+M29*0.25*MAX('Monthly Peak Data '!$P$3:$P$14)*(1+X29) -> 0 | AK29: =+VLOOKUP($B29,'Monthly Peak Data '!$L$3:$P$14,5,FALSE)*N29*(1+X29) -> -0.0078143482 | AL29: =+VLOOKUP($B29,'Monthly Peak Data '!$L$3:$P$14,5,FALSE)*O29*(1+$X29) -> -0.0044817203 | AM29: =+VLOOKUP($B29,'Monthly Peak Data '!$L$3:$P$14,5,FALSE)*P29*(1+$X29) -> -0.0037014597 | AN29: =+VLOOKUP($B29,'Monthly Peak Data '!$L$3:$P$14,5,FALSE)*Q29*(1+X29) -> -0.010172222 | AO29: =+R29*AB29*(1+X29) -> 24.173567 | AP29: =+VLOOKUP($B29,'Monthly Peak Data '!$C$18:$G$29,5,FALSE)*(1+X29) -> 0.51383011 | AQ29: =+VLOOKUP($B29,'Monthly Peak Data '!$L$3:$P$14,5,FALSE)*T29*(1+X29) -> -0.0004184235 | AR29: =+VLOOKUP($B29,'Monthly Peak Data '!$C$3:$G$14,5,FALSE)*U29*(1+X29) -> 0.0084984704 | AS29: =+SUM(AG29:AR29) -> 21.585229
A30: =1+A18 -> 2019 | B30: =+B18 -> 11 | C30: 37.73 | D30: 2.492 | E30: =+'Monthly LMP and MWh Pivot'!L$16 -> 0.84486275 | F30: =+E30*C30 -> 31.876672 | G30: =+G29 -> 7.03 | H30: =+H29 -> 9.3282233 | I30: =+I18*D30/D18 -> 0.29783766 | J30: =+J18*D30/D18 -> 0.32497638 | K30: 0 | L30: =+L18*(1+$L$6) -> 0 | M30: =+M18*(1+$M$6) -> 0 | N30: =+N29 -> 0.13278417 | O30: =+O18*D30/D18 -> 0.073577585 | P30: =+P18*D32/D18 -> 0.062281636 | Q30: 0.17285 | R30: 0.30335 | S30: 0.22134 | T30: 0.00711 | U30: =+U18*(1+$U$6) -> -0.045641644 | V30: =+V18 -> 0.040542058 | W30: =+W18 -> 721 | X30: =+X29 -> 0.07 | Y30: =+Y18 -> 0.30925205 | Z30: =+Z18 -> -0.00074906367 | AA30: 1 | AB30: =+W30*V30*AA30 -> 29.230824 | AC30: =+AB30*F30*(1+X30) -> 997.00607 | AD30: =+AB30*I30*(1+X30) -> 9.3154631 | AE30: =+AB30*J30*(1+X30) -> 10.16428 | AF30: =+AF29 -> 2791.4698 | AG30: =+H30*Z30*1000*(1+X30) -> -7.4765535 | AH30: =+K30*AVERAGE('Monthly Peak Data '!$Q$8:$Q$10)*(1+X30)*'Monthly Peak Data '!$M$40*1000 -> 0 | AI30: =+L30*(0.5*MAX('Monthly Peak Data '!$G$18:$G$19,'Monthly Peak Data '!$G$29)+0.5*(MAX('Monthly Peak Data '!$P$3:$P$14)))*(1+X30) -> 0 | AJ30: =+M30*0.25*MAX('Monthly Peak Data '!$P$3:$P$14)*(1+X30) -> 0 | AK30: =+VLOOKUP($B30,'Monthly Peak Data '!$L$3:$P$14,5,FALSE)*N30*(1+X30) -> -0.018943874 | AL30: =+VLOOKUP($B30,'Monthly Peak Data '!$L$3:$P$14,5,FALSE)*O30*(1+$X30) -> -0.010497069 | AM30: =+VLOOKUP($B30,'Monthly Peak Data '!$L$3:$P$14,5,FALSE)*P30*(1+$X30) -> -0.0088855133 | AN30: =+VLOOKUP($B30,'Monthly Peak Data '!$L$3:$P$14,5,FALSE)*Q30*(1+X30) -> -0.024659933 | AO30: =+R30*AB30*(1+X30) -> 9.4878724 | AP30: =+VLOOKUP($B30,'Monthly Peak Data '!$C$18:$G$29,5,FALSE)*(1+X30) -> 0.83685889 | AQ30: =+VLOOKUP($B30,'Monthly Peak Data '!$L$3:$P$14,5,FALSE)*T30*(1+X30) -> -0.00101436 | AR30: =+VLOOKUP($B30,'Monthly Peak Data '!$C$3:$G$14,5,FALSE)*U30*(1+X30) -> 0.0071301376 | AS30: =+SUM(AG30:AR30) -> 2.7913071
