Workbook

Sheet Summary
D3: All Net Metering Systems | F3: Net Metering Systems under current Compensation System
D4: Cost Shift ($) | E4: Impact on Rates | F4: Cost Shift ($) | G4: Impact on Rates
B5: Active Systems Only | C5: 2019 Pre-2017 Solar Adder Compensation | D5: ='Analysis Table'!X79 -> 233199.33 | E5: ='Analysis Table'!X80 -> 0.0031093244 | F5: ='Analysis Table'!Z79 -> 0 | G5: ='Analysis Table'!Z80 -> 0
C6: 2019 REC Adder Compensation | D6: ='Analysis Table'!X81 -> -73598.452 | E6: ='Analysis Table'!X82 -> -0.0009813127 | F6: ='Analysis Table'!Z81 -> -46112.895 | G6: ='Analysis Table'!Z82 -> -0.0006148386
C7: 2019 Siting Adjuster Compensation | D7: ='Analysis Table'!X83 -> 62014.309 | E7: ='Analysis Table'!X84 -> 0.00082685745 | F7: ='Analysis Table'!Z83 -> 28199.38 | G7: ='Analysis Table'!Z84 -> 0.00037599173
C8: 2019 Excess Generation Compensation | D8: ='Analysis Table'!X85 -> 834586.99 | E8: ='Analysis Table'!X86 -> 0.011127826 | F8: ='Analysis Table'!Z85 -> 72980.4 | G8: ='Analysis Table'!Z86 -> 0.000973072
C9: 2019 Reduced Sales Revenue (Margin) | D9: ='Analysis Table'!X87 -> 1490227.1 | E9: ='Analysis Table'!X88 -> 0.019869694 | F9: ='Analysis Table'!Z87 -> 259386.34 | G9: ='Analysis Table'!Z88 -> 0.0034584845
C10: 2019 Total Cost of Net Metering | D10: ='Analysis Table'!X89 -> 2546429.2 | E10: ='Analysis Table'!X90 -> 0.03395239 | F10: ='Analysis Table'!Z89 -> 314453.22 | G10: ='Analysis Table'!Z90 -> 0.0041927096
C12: 2020 Pre-2017 Solar Adder Compensation | D12: ='Analysis Table'!X112 -> 233199.33 | E12: ='Analysis Table'!X113 -> 0.0031093244 | F12: ='Analysis Table'!Z112 -> 0 | G12: ='Analysis Table'!Z113 -> 0
C13: 2020 REC Adder Compensation | D13: ='Analysis Table'!X114 -> -92260.754 | E13: =+'Analysis Table'!X115 -> -0.0012301434 | F13: =+'Analysis Table'!Z114 -> -52237.111 | G13: =+'Analysis Table'!Z115 -> -0.00069649482
C14: 2020 Siting Adjuster Compensation | D14: =+'Analysis Table'!X116 -> 62014.309 | E14: =+'Analysis Table'!X117 -> 0.00082685745 | F14: =+'Analysis Table'!Z116 -> 28199.38 | G14: =+'Analysis Table'!Z117 -> 0.00037599173
C15: 2020 Excess Generation Compensation | D15: =+'Analysis Table'!X118 -> 708454.17 | E15: =+'Analysis Table'!X119 -> 0.0094460556 | F15: =+'Analysis Table'!Z118 -> 69712.934 | G15: =+'Analysis Table'!Z119 -> 0.00092950579
C16: 2020 Reduced Sales Revenue (Margin) | D16: =+'Analysis Table'!X120 -> 1382251.7 | E16: =+'Analysis Table'!X121 -> 0.018430023 | F16: =+'Analysis Table'!Z120 -> 240592.34 | G16: =+'Analysis Table'!Z121 -> 0.0032078978
C17: 2020 Total Cost of Net Metering | D17: =+'Analysis Table'!X122 -> 2293658.8 | E17: =+'Analysis Table'!X123 -> 0.030582117 | F17: =+'Analysis Table'!Z122 -> 286267.54 | G17: =+'Analysis Table'!Z123 -> 0.0038169005
C19: 20-Year Levelized Annual Pre-2017 Solar Adder Compensation | D19: ='Analysis Table'!X178 -> 233199.33 | E19: ='Analysis Table'!X179 -> 0.0031093244 | F19: ='Analysis Table'!Z178 -> 0 | G19: ='Analysis Table'!Z179 -> 0
C20: 20-Year Levelized Annual REC Adder Compensation | D20: ='Analysis Table'!X180 -> -63557.941 | E20: ='Analysis Table'!X181 -> -0.00084743922 | F20: ='Analysis Table'!Z180 -> -32659.081 | G20: ='Analysis Table'!Z181 -> -0.00043545441
C21: 20-Year Levelized Annual Siting Adjuster Compensation | D21: ='Analysis Table'!X182 -> 25444.992 | E21: ='Analysis Table'!X183 -> 0.00033926657 | F21: ='Analysis Table'!Z182 -> 14099.69 | G21: ='Analysis Table'!Z183 -> 0.00018799586
C22: 20-Year Levelized Annual Excess Generation Compensation | D22: ='Analysis Table'!X184 -> 853670.69 | E22: ='Analysis Table'!X185 -> 0.011382276 | F22: ='Analysis Table'!Z184 -> 84002.453 | G22: ='Analysis Table'!Z185 -> 0.0011200327
C23: 20-Year Levelized Annual Reduced Sales Revenue (Margin) | D23: ='Analysis Table'!X186 -> 1491053.8 | E23: ='Analysis Table'!X187 -> 0.019880717 | F23: ='Analysis Table'!Z186 -> 259530.23 | G23: ='Analysis Table'!Z187 -> 0.0034604031
C24: 20-Year Levelized Annual Total Cost of Net Metering | D24: ='Analysis Table'!X188 -> 2539810.8 | E24: ='Analysis Table'!X189 -> 0.033864144 | F24: ='Analysis Table'!Z188 -> 324973.29 | G24: ='Analysis Table'!Z189 -> 0.0043329773
B26: Active and Pending Systems | C26: 20-Year Levelized Annual Pre-2017 Solar Adder Compensation | D26: ='Analysis Table'!X145 -> 233199.33 | E26: ='Analysis Table'!X146 -> 0.0031093244 | F26: ='Analysis Table'!Z145 -> 0 | G26: ='Analysis Table'!Z146 -> 0
C27: 20-Year Levelized Annual REC Adder Compensation | D27: ='Analysis Table'!X147 -> -211531.5 | E27: ='Analysis Table'!X148 -> -0.00282042 | F27: ='Analysis Table'!Z147 -> -67707.05 | G27: ='Analysis Table'!Z148 -> -0.00090276066
C28: 20-Year Levelized Annual Siting Adjuster Compensation | D28: ='Analysis Table'!X149 -> -10616.749 | E28: ='Analysis Table'!X150 -> -0.00014155665 | F28: ='Analysis Table'!Z149 -> 16314.391 | G28: ='Analysis Table'!Z150 -> 0.00021752521
C29: 20-Year Levelized Annual Excess Generation Compensation | D29: ='Analysis Table'!X151 -> 1512088.2 | E29: ='Analysis Table'!X152 -> 0.020161176 | F29: ='Analysis Table'!Z151 -> 217449.16 | G29: ='Analysis Table'!Z152 -> 0.0028993221
C30: 20-Year Levelized Annual Reduced Sales Revenue (Margin) | D30: ='Analysis Table'!X153 -> 1718610.3 | E30: ='Analysis Table'!X154 -> 0.022914803 | F30: ='Analysis Table'!Z153 -> 421455.83 | G30: ='Analysis Table'!Z154 -> 0.0056194111
C31: 20-Year Levelized Annual Total Cost of Net Metering | D31: ='Analysis Table'!X155 -> 3241749.5 | E31: ='Analysis Table'!X156 -> 0.043223327 | F31: ='Analysis Table'!Z155 -> 587512.33 | G31: ='Analysis Table'!Z156 -> 0.0078334977

Sheet Analysis Table
B4: Intranet list as of 10/1/19
C8: CPG Application 7/1/18 or later | L8: CPG Application 1/1/17 - 6/30/18
C9: Transferring RECs | H9: Retaining RECs | L9: Transferring RECs | P9: Retaining RECs
C10: Category I-A | D10: Category I-B | E10: Category II | F10: Category III | G10: Category IV | H10: Category I | I10: Category II | J10: Category III | K10: Category IV | L10: Category I | M10: Category II | N10: Category III | O10: Category IV | P10: Category I | Q10: Category II | R10: Category III | S10: Category IV | U10: 15 kw and smaller | V10: larger than 15 kw
C11: Capacity of 15 kW or less, CPG App 7/1/18-6/30/19 | D11: Capacity of 15 kW or less, CPG App 7/1/19 or later | E11: Capacity of more than 15 kW and less than or equal to 150 kW, and that is sited on a Preferred Site as defined in the Board's Rule 5.100 | F11: Capacity of more than 150 kW and less than or equal to 500 kW, and that is sited on a Preferred Site as defined in the Board's Rule 5.100 | G11: Capacity of more than 15 kW and less than or equal to 150 kW, and that is not located on a Preferred Site as defined in the Board's Rule 5.100 | H11: Capacity of 15 kW or less | I11: Capacity of more than 15 kW and less than or equal to 150 kW, and that is sited on a Preferred Site as defined in the Board's Rule 5.100 | J11: Capacity of more than 150 kW and less than or equal to 500 kW, and that is sited on a Preferred Site as defined in the Board's Rule 5.100 | K11: Capacity of more than 15 kW and less than or equal to 150 kW, and that is not located on a Preferred Site as defined in the Board's Rule 5.100 | L11: Capacity of 15 kW or less | M11: Capacity of more than 15 kW and less than or equal to 150 kW, and that is sited on a Preferred Site as defined in the Board's Rule 5.100 | N11: Capacity of more than 150 kW and less than or equal to 500 kW, and that is sited on a Preferred Site as defined in the Board's Rule 5.100 | O11: Capacity of more than 15 kW and less than or equal to 150 kW, and that is not located on a Preferred Site as defined in the Board's Rule 5.100 | P11: Capacity of 15 kW or less | Q11: Capacity of more than 15 kW and less than or equal to 150 kW, and that is sited on a Preferred Site as defined in the Board's Rule 5.100 | R11: Capacity of more than 150 kW and less than or equal to 500 kW, and that is sited on a Preferred Site as defined in the Board's Rule 5.100 | S11: Capacity of more than 15 kW and less than or equal to 150 kW, and that is not located on a Preferred Site as defined in the Board's Rule 5.100 | T11: Original | U11: 2014-2016 | X11: Total (All NM Rates) | Z11: Under Current Compensation System
B12: Solar Adder ($/kWh) | T12: 0.02882 | U12: 0.0238 | V12: 0.0138
B13: REC Adjuster for first 10 years ($/kWh) | C13: 0.02 | D13: 0.01 | E13: 0.01 | F13: 0.01 | G13: 0.01 | H13: -0.03 | I13: -0.03 | J13: -0.03 | K13: -0.03 | L13: 0.03 | M13: 0.03 | N13: 0.03 | O13: 0.03 | P13: -0.03 | Q13: -0.03 | R13: -0.03 | S13: -0.03
B14: Siting Adjuster for first 10 years ($/kWh) | C14: 0.01 | D14: 0.01 | E14: 0.01 | F14: -0.02 | G14: -0.03 | H14: 0.01 | I14: 0.01 | J14: -0.02 | K14: -0.03 | L14: 0.01 | M14: 0.01 | N14: -0.01 | O14: -0.03 | P14: 0.01 | Q14: 0.01 | R14: -0.01 | S14: -0.03
B15: REC Adjuster after 10 years ($/kWh) | C15: 0 | D15: 0 | E15: 0 | F15: 0 | G15: 0 | H15: -0.03 | I15: -0.03 | J15: -0.03 | K15: -0.03 | L15: 0 | M15: 0 | N15: 0 | O15: 0 | P15: -0.03 | Q15: -0.03 | R15: -0.03 | S15: -0.03
B16: Siting Adjuster after 10 years ($/kWh) | C16: 0 | D16: 0 | E16: 0 | F16: -0.02 | G16: -0.03 | H16: 0 | I16: 0 | J16: -0.02 | K16: -0.03 | L16: 0 | M16: 0 | N16: -0.01 | O16: -0.03 | P16: 0 | Q16: 0 | R16: -0.01 | S16: -0.03
B19: Rates
B20: First 10 Years Adder Rate for Total Generation ($/kWh)
B21: Second 10 Years Adder Rate for Total Generation ($/kWh)
B23: 2019 Excess Generation Rate ($/kWh) | C23: =+Rates!E7 -> 0.15417 | D23: =+C23 -> 0.15417 | E23: =+D23 -> 0.15417 | F23: =+E23 -> 0.15417 | G23: =+F23 -> 0.15417 | H23: =+G23 -> 0.15417 | I23: =+H23 -> 0.15417 | J23: =+I23 -> 0.15417 | K23: =+J23 -> 0.15417 | ... V23: =+U23 -> 0.15417
B24: 2020 Excess Generation Rate ($/kWh) | C24: =+Rates!E8 -> 0.1603368 | D24: =+C24 -> 0.1603368 | E24: =+D24 -> 0.1603368 | F24: =+E24 -> 0.1603368 | G24: =+F24 -> 0.1603368 | H24: =+G24 -> 0.1603368 | I24: =+H24 -> 0.1603368 | J24: =+I24 -> 0.1603368 | K24: =+J24 -> 0.1603368 | ... V24: =+U24 -> 0.1603368
B25: 20-Year Levelized Excess Generation Rate ($/kWh) | C25: =+Rates!E29 -> 0.1854733 | D25: =+C25 -> 0.1854733 | E25: =+D25 -> 0.1854733 | F25: =+E25 -> 0.1854733 | G25: =+F25 -> 0.1854733 | H25: =+G25 -> 0.1854733 | I25: =+H25 -> 0.1854733 | J25: =+I25 -> 0.1854733 | K25: =+J25 -> 0.1854733 | ... V25: =+U25 -> 0.1854733
B27: 2019 Retail Residential Rate ($/kWh) | C27: =+Rates!F7 -> 0.1762 | D27: =+C27 -> 0.1762 | E27: =+D27 -> 0.1762 | F27: =+E27 -> 0.1762 | G27: =+F27 -> 0.1762 | H27: =+G27 -> 0.1762 | I27: =+H27 -> 0.1762 | J27: =+I27 -> 0.1762 | K27: =+J27 -> 0.1762 | ... V27: =+U27 -> 0.1762
B28: 2020 Retail Residential Rate ($/kWh) | C28: =+Rates!F8 -> 0.177962 | D28: =+C28 -> 0.177962 | E28: =+D28 -> 0.177962 | F28: =+E28 -> 0.177962 | G28: =+F28 -> 0.177962 | H28: =+G28 -> 0.177962 | I28: =+H28 -> 0.177962 | J28: =+I28 -> 0.177962 | K28: =+J28 -> 0.177962 | ... V28: =+U28 -> 0.177962
B29: 20-Year Levelized Retail Residential Rate ($/kWh) | C29: =+Rates!F29 -> 0.19224961 | D29: =+C29 -> 0.19224961 | E29: =+D29 -> 0.19224961 | F29: =+E29 -> 0.19224961 | G29: =+F29 -> 0.19224961 | H29: =+G29 -> 0.19224961 | I29: =+H29 -> 0.19224961 | J29: =+I29 -> 0.19224961 | K29: =+J29 -> 0.19224961 | ... V29: =+U29 -> 0.19224961
B31: 2019 Retail Commercial Rate ($/kWh) | C31: =+Rates!H7 -> 0.1584 | D31: =+C31 -> 0.1584 | E31: =+D31 -> 0.1584 | F31: =+E31 -> 0.1584 | G31: =+F31 -> 0.1584 | H31: =+G31 -> 0.1584 | I31: =+H31 -> 0.1584 | J31: =+I31 -> 0.1584 | K31: =+J31 -> 0.1584 | ... V31: =+U31 -> 0.1584
B32: 2020 Retail Commercial Rate ($/kWh) | C32: =+Rates!H8 -> 0.159984 | D32: =+C32 -> 0.159984 | E32: =+D32 -> 0.159984 | F32: =+E32 -> 0.159984 | G32: =+F32 -> 0.159984 | H32: =+G32 -> 0.159984 | I32: =+H32 -> 0.159984 | J32: =+I32 -> 0.159984 | K32: =+J32 -> 0.159984 | ... V32: =+U32 -> 0.159984
B33: 20-Year Levelized Retail Commercial Rate ($/kWh) | C33: =+Rates!H29 -> 0.17282826 | D33: =+C33 -> 0.17282826 | E33: =+D33 -> 0.17282826 | F33: =+E33 -> 0.17282826 | G33: =+F33 -> 0.17282826 | H33: =+G33 -> 0.17282826 | I33: =+H33 -> 0.17282826 | J33: =+I33 -> 0.17282826 | K33: =+J33 -> 0.17282826 | ... V33: =+U33 -> 0.17282826
B36: Generation Assumptions
B37: Corresponding capacity installed under rate (kW) | C37: 2166.3 | D37: 111.09 | E37: 159.6 | F37: 0 | G37: 0 | H37: 20.2 | I37: 67.6 | J37: 0 | K37: 0 | L37: 3369.45 | M37: 623.79 | N37: 996 | O37: 0 | P37: 30.33 | Q37: 0 | R37: 0 | S37: 0 | T37: 3372.59 | U37: 2281.18 | V37: 4152.28 | X37: =SUM(C37:V37) -> 17350.41 | Z37: =SUM(C37:K37) -> 2524.79
B38: Corresponding capacity pending under rate (kW) | C38: 851.3 | D38: 285.69 | E38: 570.39 | F38: 360 | G38: 0 | H38: 35.2 | I38: 94 | J38: 0 | K38: 0 | L38: 478.59 | M38: 112 | N38: 785.9 | O38: 0 | P38: 25.16 | Q38: 100 | R38: 2999 | S38: 0 | T38: 0 | U38: 0 | V38: 0 | X38: =SUM(C38:V38) -> 6697.23 | Z38: =SUM(C38:K38) -> 2196.58
B40: Annual Capacity Factor | C40: 0.1275 | D40: =+C40 -> 0.1275 | E40: =+D40 -> 0.1275 | F40: =+E40 -> 0.1275 | G40: =+F40 -> 0.1275 | H40: =+G40 -> 0.1275 | I40: =+H40 -> 0.1275 | J40: =+I40 -> 0.1275 | K40: =+J40 -> 0.1275 | ... V40: =+U40 -> 0.1275
B41: Annual Generation from Active Projects (kWh) | C41: =+C37*8760*C$40 -> 2419540.5 | D41: =+D37*8760*D$40 -> 124076.42 | E41: =+E37*8760*E$40 -> 178257.24 | F41: =+F37*8760*F$40 -> 0 | G41: =+G37*8760*G$40 -> 0 | H41: =+H37*8760*H$40 -> 22561.38 | I41: =+I37*8760*I$40 -> 75502.44 | J41: =+J37*8760*J$40 -> 0 | ... V41: =+V37*8760*V$40 -> 4637681.5 | X41: =SUM(C41:V41) -> 19378673 | Z41: =SUM(C41:K41) -> 2819938
B42: Annual Generation from Pending Projects (kWh) | C42: =+C38*8760*C$40 -> 950816.97 | D42: =+D38*8760*D$40 -> 319087.16 | E42: =+E38*8760*E$40 -> 637068.59 | F42: =+F38*8760*F$40 -> 402084 | G42: =+G38*8760*G$40 -> 0 | H42: =+H38*8760*H$40 -> 39314.88 | I42: =+I38*8760*I$40 -> 104988.6 | J42: =+J38*8760*J$40 -> 0 | ... V42: =+V38*8760*V$40 -> 0 | X42: =SUM(C42:V42) -> 7480136.2 | Z42: =SUM(C42:K42) -> 2453360.2
B43: Annual Generation from Active and Pending Projects (kWh) | C43: =SUM(C41:C42) -> 3370357.4 | D43: =SUM(D41:D42) -> 443163.58 | E43: =SUM(E41:E42) -> 815325.83 | F43: =SUM(F41:F42) -> 402084 | G43: =SUM(G41:G42) -> 0 | H43: =SUM(H41:H42) -> 61876.26 | I43: =SUM(I41:I42) -> 180491.04 | J43: =SUM(J41:J42) -> 0 | ... V43: =SUM(V41:V42) -> 4637681.5 | X43: =SUM(C43:V43) -> 26858809 | Z43: =SUM(C43:K43) -> 5273298.2
B45: % Excess Generation | C45: 0.22 | D45: =+C45 -> 0.22 | E45: 0.61 | F45: 1 | G45: =+E45 -> 0.61 | H45: =+C45 -> 0.22 | I45: =+E45 -> 0.61 | J45: =+F45 -> 1 | K45: =+E45 -> 0.61 | L45: =+C45 -> 0.22 | M45: =+E45 -> 0.61 | N45: =+F45 -> 1 | O45: =+E45 -> 0.61 | P45: =+C45 -> 0.22 | Q45: =+E45 -> 0.61 | R45: =+F45 -> 1 | S45: =+E45 -> 0.61 | T45: =+C45 -> 0.22 | U45: =+C45 -> 0.22 | V45: =+E45 -> 0.61
B46: % Offset Sales | C46: =100%-C45 -> 0.78 | D46: =100%-D45 -> 0.78 | E46: =100%-E45 -> 0.39 | F46: =100%-F45 -> 0 | G46: =100%-G45 -> 0.39 | H46: =100%-H45 -> 0.78 | I46: =100%-I45 -> 0.39 | J46: =100%-J45 -> 0 | ... V46: =100%-V45 -> 0.39
B47: Excess Generation (kWh) - Active | C47: =+C41*C45 -> 532298.9 | D47: =+D41*D45 -> 27296.813 | E47: =+E41*E45 -> 108736.92 | F47: =+F41*F45 -> 0 | G47: =+G41*G45 -> 0 | H47: =+H41*H45 -> 4963.5036 | I47: =+I41*I45 -> 46056.488 | J47: =+J41*J45 -> 0 | ... V47: =+V41*V45 -> 2828985.7 | X47: =SUM(C47:V47) -> 7310384.7 | Z47: =SUM(C47:K47) -> 719352.62
B48: Excess Generation (kWh)- Pending | C48: =C42*C45 -> 209179.73 | D48: =D42*D45 -> 70199.175 | E48: =E42*E45 -> 388611.84 | F48: =F42*F45 -> 402084 | G48: =G42*G45 -> 0 | H48: =H42*H45 -> 8649.2736 | I48: =I42*I45 -> 64043.046 | J48: =J42*J45 -> 0 | ... V48: =V42*V45 -> 0 | X48: =SUM(C48:V48) -> 5638339.8 | Z48: =SUM(C48:K48) -> 1142767.1
B49: Offset Sales (kWh) - Active | C49: =C41*C46 -> 1887241.6 | D49: =D41*D46 -> 96779.608 | E49: =E41*E46 -> 69520.324 | F49: =F41*F46 -> 0 | G49: =G41*G46 -> 0 | H49: =H41*H46 -> 17597.876 | I49: =I41*I46 -> 29445.952 | J49: =J41*J46 -> 0 | ... V49: =V41*V46 -> 1808695.8 | X49: =SUM(C49:V49) -> 12068288 | Z49: =SUM(C49:K49) -> 2100585.3
B50: Offset Sales (kWh) - Pending | C50: =C42*C46 -> 741637.24 | D50: =D42*D46 -> 248887.99 | E50: =E42*E46 -> 248456.75 | F50: =F42*F46 -> 0 | G50: =G42*G46 -> 0 | H50: =H42*H46 -> 30665.606 | I50: =I42*I46 -> 40945.554 | J50: =J42*J46 -> 0 | ... V50: =V42*V46 -> 0 | X50: =SUM(C50:V50) -> 1841796.4 | Z50: =SUM(C50:K50) -> 1310593.1
B52: % Assumed Residential | C52: 1 | D52: 1 | E52: 1 | F52: 0 | G52: 1 | H52: 1 | I52: 1 | J52: 0 | K52: 1 | L52: 1 | M52: 1 | N52: 0 | O52: 1 | P52: 1 | Q52: 1 | R52: 0 | S52: 1 | T52: 1 | U52: 1 | V52: 1
B53: % Assumed Commercial | C53: =100%-C52 -> 0 | D53: =100%-D52 -> 0 | E53: =100%-E52 -> 0 | F53: =100%-F52 -> 1 | G53: =100%-G52 -> 0 | H53: =100%-H52 -> 0 | I53: =100%-I52 -> 0 | J53: =100%-J52 -> 1 | ... V53: =100%-V52 -> 0
B54: Offset Residential (kWh) - Active | C54: =C41*C46*C52 -> 1887241.6 | D54: =D41*D46*D52 -> 96779.608 | E54: =E41*E46*E52 -> 69520.324 | F54: =F41*F46*F52 -> 0 | G54: =G41*G46*G52 -> 0 | H54: =H41*H46*H52 -> 17597.876 | I54: =I41*I46*I52 -> 29445.952 | J54: =J41*J46*J52 -> 0 | ... V54: =V41*V46*V52 -> 1808695.8 | X54: =SUM(C54:V54) -> 12068288 | Z54: =SUM(C54:K54) -> 2100585.3
B55: Offset Residential (kWh) - Pending | C55: =C42*C46*C52 -> 741637.24 | D55: =D42*D46*D52 -> 248887.99 | E55: =E42*E46*E52 -> 248456.75 | F55: =F42*F46*F52 -> 0 | G55: =G42*G46*G52 -> 0 | H55: =H42*H46*H52 -> 30665.606 | I55: =I42*I46*I52 -> 40945.554 | J55: =J42*J46*J52 -> 0 | ... V55: =V42*V46*V52 -> 0 | X55: =SUM(C55:V55) -> 1841796.4 | Z55: =SUM(C55:K55) -> 1310593.1
B56: Offset Commercial (kWh) - Active | C56: =C42*C46*C53 -> 0 | D56: =D42*D46*D53 -> 0 | E56: =E42*E46*E53 -> 0 | F56: =F42*F46*F53 -> 0 | G56: =G42*G46*G53 -> 0 | H56: =H42*H46*H53 -> 0 | I56: =I42*I46*I53 -> 0 | J56: =J42*J46*J53 -> 0 | ... V56: =V42*V46*V53 -> 0 | X56: =SUM(C56:V56) -> 0 | Z56: =SUM(C56:K56) -> 0
...

Sheet Rates
E4: 0.04 | F4: 0.01 | G4: 0.01 | H4: 0.01
D6: Year | E6: Blended Residential Rate | F6: VEC Residential Rate | G6: VEC Blended Residential Rate | H6: VEC Small Commercial Rate
D7: 2019 | E7: 0.15417 | F7: 0.1762 | G7: 0.1615 | H7: 0.1584 | I7: 1
D8: 2020 | E8: =+E7*(1+$E$4) -> 0.1603368 | F8: =+F7*(1+F$4) -> 0.177962 | G8: =+G7*(1+G$4) -> 0.163115 | H8: =+H7*(1+H$4) -> 0.159984 | I8: 1
D9: 2021 | E9: =+E8 -> 0.1603368 | F9: =+F8*(1+F$4) -> 0.17974162 | G9: =+G8*(1+G$4) -> 0.16474615 | H9: =+H8*(1+H$4) -> 0.16158384 | I9: 1
D10: 2022 | E10: =+E9*(1+$E$4) -> 0.16675027 | F10: =+F9*(1+F$4) -> 0.18153904 | G10: =+G9*(1+G$4) -> 0.16639361 | H10: =+H9*(1+H$4) -> 0.16319968 | I10: 1
D11: 2023 | E11: =+E10 -> 0.16675027 | F11: =+F10*(1+F$4) -> 0.18335443 | G11: =+G10*(1+G$4) -> 0.16805755 | H11: =+H10*(1+H$4) -> 0.16483168 | I11: 1
D12: 2024 | E12: =+E11*(1+$E$4) -> 0.17342028 | F12: =+F11*(1+F$4) -> 0.18518797 | G12: =+G11*(1+G$4) -> 0.16973812 | H12: =+H11*(1+H$4) -> 0.16647999 | I12: 1
D13: 2025 | E13: =+E12 -> 0.17342028 | F13: =+F12*(1+F$4) -> 0.18703985 | G13: =+G12*(1+G$4) -> 0.1714355 | H13: =+H12*(1+H$4) -> 0.16814479 | I13: 1
D14: 2026 | E14: =+E13*(1+$E$4) -> 0.18035709 | F14: =+F13*(1+F$4) -> 0.18891025 | G14: =+G13*(1+G$4) -> 0.17314986 | H14: =+H13*(1+H$4) -> 0.16982624 | I14: 1
D15: 2027 | E15: =+E14 -> 0.18035709 | F15: =+F14*(1+F$4) -> 0.19079935 | G15: =+G14*(1+G$4) -> 0.17488136 | H15: =+H14*(1+H$4) -> 0.1715245 | I15: 1
D16: 2028 | E16: =+E15*(1+$E$4) -> 0.18757138 | F16: =+F15*(1+F$4) -> 0.19270735 | G16: =+G15*(1+G$4) -> 0.17663017 | H16: =+H15*(1+H$4) -> 0.17323975 | I16: 1
D17: 2029 | E17: =+E16 -> 0.18757138 | F17: =+F16*(1+F$4) -> 0.19463442 | G17: =+G16*(1+G$4) -> 0.17839647 | H17: =+H16*(1+H$4) -> 0.17497214 | I17: 1
D18: 2030 | E18: =+E17*(1+$E$4) -> 0.19507423 | F18: =+F17*(1+F$4) -> 0.19658076 | G18: =+G17*(1+G$4) -> 0.18018044 | H18: =+H17*(1+H$4) -> 0.17672187 | I18: 1
D19: 2031 | E19: =+E18 -> 0.19507423 | F19: =+F18*(1+F$4) -> 0.19854657 | G19: =+G18*(1+G$4) -> 0.18198224 | H19: =+H18*(1+H$4) -> 0.17848908 | I19: 1
D20: 2032 | E20: =+E19*(1+$E$4) -> 0.2028772 | F20: =+F19*(1+F$4) -> 0.20053204 | G20: =+G19*(1+G$4) -> 0.18380206 | H20: =+H19*(1+H$4) -> 0.18027398 | I20: 1
D21: 2033 | E21: =+E20 -> 0.2028772 | F21: =+F20*(1+F$4) -> 0.20253736 | G21: =+G20*(1+G$4) -> 0.18564009 | H21: =+H20*(1+H$4) -> 0.18207672 | I21: 1
D22: 2034 | E22: =+E21*(1+$E$4) -> 0.21099229 | F22: =+F21*(1+F$4) -> 0.20456273 | G22: =+G21*(1+G$4) -> 0.18749649 | H22: =+H21*(1+H$4) -> 0.18389748 | I22: 1
D23: 2035 | E23: =+E22 -> 0.21099229 | F23: =+F22*(1+F$4) -> 0.20660836 | G23: =+G22*(1+G$4) -> 0.18937145 | H23: =+H22*(1+H$4) -> 0.18573646 | I23: 1
D24: 2036 | E24: =+E23*(1+$E$4) -> 0.21943198 | F24: =+F23*(1+F$4) -> 0.20867444 | G24: =+G23*(1+G$4) -> 0.19126517 | H24: =+H23*(1+H$4) -> 0.18759382 | I24: 1
D25: 2037 | E25: =+E24 -> 0.21943198 | F25: =+F24*(1+F$4) -> 0.21076119 | G25: =+G24*(1+G$4) -> 0.19317782 | H25: =+H24*(1+H$4) -> 0.18946976 | I25: 1
D26: 2038 | E26: =+E25*(1+$E$4) -> 0.22820926 | F26: =+F25*(1+F$4) -> 0.2128688 | G26: =+G25*(1+G$4) -> 0.1951096 | H26: =+H25*(1+H$4) -> 0.19136446 | I26: 1
D27: 2039 | E27: =+E26 -> 0.22820926 | F27: =+F26*(1+F$4) -> 0.21499749 | G27: =+G26*(1+G$4) -> 0.19706069 | H27: =+H26*(1+H$4) -> 0.1932781 | I27: 1
A29: Discount Rate | B29: 0.06 | D29: 20-yr levelized | E29: =NPV($B$29,E8:E27)/NPV($B$29,I8:I27) -> 0.1854733 | F29: =NPV($B$29,F8:F27)/NPV($B$29,I8:I27) -> 0.19224961 | G29: =NPV($B$29,G8:G27)/NPV($B$29,I8:I27) -> 0.17621063 | H29: =NPV($B$29,H8:H27)/NPV($B$29,I8:I27) -> 0.17282826
