Workbook

Sheet Comments
A1: Participant | B1: Rule Sect. | C1: Subsect. | D1: Issue | E1: Issue (Revised) | F1: Comment
A2: Vermont Agency of Natural Resources | B2: 5.105 | D2: registration process | E2: Registrations | F2: Supports the proposed revision clarifying that ANR can comment on registrations.
A3: Vermont Agency of Natural Resources | B3: 5.105 | D3: registration process | E3: Registrations | F3: Requests that for hydroelectric facilities, the registration form require applicants to list all associated FERC authorization numbers (licenses, exemptions, permits) and dates.
A4: Vermont Agency of Natural Resources | B4: 5.108 | D4: amendments to pending registrations and applications | E4: Amendments | F4: Supports the proposed revisions because they remove a disincentive for applicants to incorporate ANR recommendations that would currently be considered a major amendment.
A5: Vermont Agency of Natural Resources | B5: 5.108 | D5: amendments to pending registrations and applications | E5: Amendments | F5: Recommends that this section clarify that parties will have 14 days to respond to a motion to amend, consistent with the VRCP.
A6: Vermont Agency of Natural Resources | B6: 5.108 | D6: amendments to pending registrations and applications | E6: Amendments | F6: Notes that a motion to amend filed during the 30-day comment period may introduce confusion; ANR recommends that the rule be revised to state that if a motion to amend is filed in the 30-day comment period, it will trigger an automatic stay of the 30-day comment period until the Commission rules on the motion and establishes a new comment deadline in its ruling.
A7: Vermont Agency of Natural Resources | B7: 5.109 | D7: amendments to approved systems | E7: Amendments | F7: Notes that the proposed changes remove the 10-day timeframe for filing objections; ANR requests that the rule provide a 14-day period for filing comments or objections.
A8: Vermont Agency of Natural Resources | B8: 5.109 | D8: amendments to approved systems | E8: Amendments | F8: Notes that by removing the major amendment distinction, there is no guarantee that interested persons that were not parties to the original proceeding will receive notice of the amendment request; this would be left to Commission discretion.
A9: Vermont Agency of Natural Resources | B9: 5.110 | D9: transfer | E9: Time to Construct Projects | F9: Supports extending the commissioning deadline from 1 to 2 years. This may provide CPG Holders additional time needed to comply with ANR conditions.
A10: Vermont Agency of Natural Resources | B10: 5.110 | C10: (B)(3) | D10: transfer form | E10: Transfers | F10: Recommends that the transfer form be revised to require CPG Holders to certify that they have read the application (and supporting materials) and the Commission's order and CPG. Otherwise, the new CPG Holder may not be aware of plans and evidence that are requirements of the approval, increasing the potential for non-compliance.
A11: Vermont Agency of Natural Resources | B11: 5.103 | C11: Definitions | D11: preferred sites | E11: Preferred Sites, Parking Lot Canopies, Brownfields, Landfills | F11: Agrees with the proposed revisions to preferred site definitions (2), (4), and (5). The revisions match recommendations made by ANR in past cases.
A12: Vermont Agency of Natural Resources | B12: 5.103 | C12: Definitions | D12: preferred sites | E12: Preferred Sites, Impervious Surfaces | F12: Contends that the revisions to preferred site definitions (1) and (3) make them very similar, such that they could possibly be consolidated into one definition. (1) requires that all facilities be located on existing surface or structure; (3) allows non-generation facilities to be located outside existing surface or structure. ANR recommends making (1) for rooftop structures only (may necessitate changes to 5.111(A)), and would consider excluding only RINA and necessary wildlife habitat for (3).
A13: Vermont Agency of Natural Resources | B13: 5.103 | C13: Definitions | D13: preferred sites | E13: Preferred Sites, Impervious Surfaces | F13: Recommends in definitions (1) and (3) inserting the work "constructed" before "impervious" to distinguish from naturally impervious surfaces such as rock outcrops.
A14: Vermont Agency of Natural Resources | B14: 5.103 | C14: Definitions | D14: preferred sites | E14: Preferred Sites, Extraction Sites | F14: Agrees with the proposed revisions to preferred site (6); the revisions address concerns raised by ANR in recent cases. ANR agrees with the 3-year provision of (6) but would like to discuss possible ambiguity that remains, and suggests deleting "developed" in (6)(a).
A15: Vermont Agency of Natural Resources | B15: 5.103 | C15: Definitions | D15: preferred sites | E15: Preferred Sites | F15: Supports the proposed elimination of the joint letter of support, but acknowledges concerns raised about reliance on the municipal planning process being limiting. Would support continuing the joint letter option provided the site is reviewed for "known" or "possible constraints" per the Department's certification standards (24 VSA 4352).
A16: Vermont Agency of Natural Resources | B16: 5.103 | C16: Definitions | D16: preferred sites | E16: Preferred Sites | F16: ANR has observed that some applicants are using (7) when (4) or (6) could have been used, possibly to circumvent the requirements of (4) and (6), and recommends that this be corrected in the revisions.
A17: Vermont Agency of Natural Resources | B17: 5.103 | C17: Definitions | D17: preferred sites - tree clearing | E17: Preferred Sites, Tree Clearing | F17: Is keenly interested in forest fragmentation and its effects on biological diversity and the social and ecological services forests provide. Has observed an increase in projects with clearing, including excessive clearing for shade management at sites with poor solar exposure. Contends that this is an ineffecient use of natural resources, and questions whether such sites should be given preferred status. Recommends workshop discussion on this topic.
A18: Vermont Agency of Natural Resources | B18: 5.103 | C18: Definitions | D18: preferred sites - tree clearing | E18: Preferred Sites, Tree Clearing | F18: Would support excluding from any of the preferred site categories projects that require X acres of forest clearing, or for which the proposed clearing is Y amount of the generation footprint, or a ratio of clearing to capacity.
A19: Vermont Agency of Natural Resources | B19: 5.103 | C19: Definitions | D19: limits of disturbance | E19: Limits of Disturbance | F19: Notes that the Rule's definition is not the same as DEC's definition for permitting, and recommends that "limits of disturbance" in the Rule be replaced with "project limits." Recommends a few edits to the proposed definition.
A20: Vermont Agency of Natural Resources | B20: 5.103 | C20: Definitions | D20: limits of disturbance | E20: Limits of Disturbance | F20: Recommends adding a definition for "earth disturbance" that refers to ANR's stormwater permitting rule.
A21: Vermont Agency of Natural Resources | B21: 5.106, 5.107 | C21: Application Requirements | D21: limits of disturbance | E21: Limits of Disturbance | F21: Recommends that (a) and (d) of 5.106(D)(5) and 5.107(C)(5) be revised to require the total project limits and earth disturbance areas be included in the site plans.
... A24: Vermont Agency of Natural Resources | B24: 5.106, 5.107 | C24: Application Requirements | D24: preferred sites - advance notice | E24: Preferred Sites, Advance Notice | F24: Recommends that applicants be required to identify the preferred site category in the advance notice.
A25: Vermont Agency of Natural Resources | B25: 5.103, 5.106, 5.107 | D25: solar canopies | E25: Parking Lot Canopies | F25: Maintains that solar canopies have potential for adverse environmental effects related to stormwater and hazardous sites. If the Commission implements a simplified process for canopies, recommends that it be more robust than the registration process. Recommends requiring a site plan and elevation drawings, a letter from an engineer regarding stormwater runoff, and including questions on the registration form regarding whether the site is a hazardous site.
A26: Vermont Agency of Natural Resources | B26: 5.127 | D26: rate structure, incentives, locational pricing | E26: Rates, Locational Pricing | F26: Has no specific comments but looks forward to participating in workshop discussion of these topics.
A27: Vermont Agency of Natural Resources | B27: 5.128 | D27: biennial updates | E27: Biennial Review | F27: Recommends that the Commission consider developing a process to track the number of systems that apply and are permitted each year, preferred site status, capacity, and REC disposition; this would assist greatly with implementing 5.128. This may require revisions to 5.128, such as making 5.128(D) an annual requirement. Recommends further discussion at a workshop.
A28: Vermont Agency of Natural Resources | B28: Rulemaking process | D28: workshops | E28: Process and Scheduling | F28: Recommends at least three workshops with the following clusters of topics: (a) preferred sites, (b) rate design, and (c) other issues such as registrations, amendments, and transfers.
A29: Vermont Agency of Natural Resources | B29: Rulemaking process | D29: comment periods | E29: Process and Scheduling | F29: Recommends that participants be given the opportunity to comment prior to each workshop, and in response to each revised draft of the Rule prepared by the Commission.
A30: Vermont Natural Resources Board | B30: 5.106 | C30: (D)(9)(b)(ii) | D30: Act 250 permit reclamation activities | E30: Act 250 | F30: Documentation of Act 250 reclamation activities should consist of an Act 250 District Coordinator Jurisdictional Opinion or Certificate of Compliance issued under Act 250 Rule 37. Absent this requirement, applicants may try to satisfy this requirement through less formal means, such as emails with the District Coordinators.
A31: Vermont Natural Resources Board | B31: 5.107 | C31: (C)(14)(ii) | D31: Act 250 permit reclamation activities | E31: Act 250 | F31: Documentation of Act 250 reclamation activities should consist of an Act 250 District Coordinator Jurisdictional Opinion or Certificate of Compliance issued under Act 250 Rule 37. Absent this requirement, applicants may try to satisfy this requirement through less formal means, such as emails with the District Coordinators.
A32: Vermont Natural Resources Board | B32: 5.103 | D32: Act 250 permit reclamation activities | E32: Act 250 | F32: Applicants should have to demonstrate that any other permits required for operation of the extraction site, including but not limited to Act 250 permits, were obtained and complied with. This addresses situations where a landowner should have obtained a permit that contained reclamation conditions, but did not.
A33: Vermont Natural Resources Board | B33: 5.106 | C33: (D)(9)(b)(ii) | D33: Act 250 permit reclamation activities | E33: Act 250 | F33: Applicants should have to demonstrate that any other permits required for operation of the extraction site, including but not limited to Act 250 permits, were obtained and complied with. This addresses situations where a landowner should have obtained a permit that contained reclamation conditions, but did not.
A34: Vermont Natural Resources Board | B34: 5.107 | C34: (C)(14)(ii) | D34: Act 250 permit reclamation activities | E34: Act 250 | F34: Applicants should have to demonstrate that any other permits required for operation of the extraction site, including but not limited to Act 250 permits, were obtained and complied with. This addresses situations where a landowner should have obtained a permit that contained reclamation conditions, but did not.
A35: Vermont Natural Resources Board | B35: 5.107 | C35: (C)(12) | D35: decommissioning plan | E35: Decommissioning | F35: The proposed revisions do not require applicants to submit a detailed reclamation plan for the extraction site. Such a requirement would ensure that the site is reclaimed even where the applicant fails to obtain a permit from the municipality or other state entity that would have contained reclamation requirements. [NOTE: Not clear if they are recommending this as a general addition to the rule for sites with Act 250 reclamation requirements, or specifically as part of decommissioning.]
A36: Vermont Natural Resources Board | B36: 5.103 | D36: definitions - preferred site | E36: Preferred Sites | F36: The definitions for preferred sites (1) and (2) should be revised to prevent situations where a developer constructed new impervious surface for the purpose of meeting the definition.
A37: Vermont Natural Resources Board | B37: 5.103 | D37: definitions - preferred site | E37: Preferred Sites | F37: The definition for preferred site (5) should be revised to specify how much of the plant must be located on the landfill cap. "Some portion" is ill-defined.
A38: Vermont Natural Resources Board | B38: 5.103 | D38: definitions - preferred site | E38: Preferred Sites | F38: The definition for preferred site (6) is ambiguous; NRB recommends revising the language to "the site was developed and used as an extraction site for at least three years. . ."
A39: Vermont Natural Resources Board | B39: 5.106 | D39: Application filing | E39: Application Filing | F39: The application filing requirements should include the case number from the advance notice.
A40: Vermont Natural Resources Board | B40: 5.107 | D40: Application filing | E40: Application Filing | F40: The application filing requirements should include the case number from the advance notice.
A41: Vermont Natural Resources Board | B41: 5.106 | D41: Act 250 Consistency Documents | E41: Act 250 | F41: The Act 250 Consistency Documents required in this section should be stand-alone documents, or they should be clearly identified in a table of contents for the application so they can be easily located for review.
A42: Vermont Natural Resources Board | B42: 5.107 | D42: Act 250 Consistency Documents | E42: Act 250 | F42: The Act 250 Consistency Documents required in this section should be stand-alone documents, or they should be clearly identified in a table of contents for the application so they can be easily located for review.
...

Sheet Changes in Issue Code
A1: Issue (Old) | C1: Issue (Streamlined)
A2: 45-Day Advance Notice | C2: Advance Notice | E2: =IF(A2=C2,1,0) -> 0
A3: Act 250 Consistency Documents | C3: Act 250 | E3: =IF(A3=C3,1,0) -> 0
A4: Act 250 permit reclamation activities | C4: Act 250 | E4: =IF(A4=C4,1,0) -> 0
A5: Amendment, Effect on Rates | C5: Amendments, Rates | E5: =IF(A5=C5,1,0) -> 0
A6: Amendment,Effect on Rates | C6: Amendments, Rates | E6: =IF(A6=C6,1,0) -> 0
A7: amendments to approved systems | C7: Amendments | E7: =IF(A7=C7,1,0) -> 0
A8: amendments to pending registrations and applications | C8: Amendments | E8: =IF(A8=C8,1,0) -> 0
A9: biennial updates | C9: Biennial Review | E9: =IF(A9=C9,1,0) -> 0
A10: brownfields | C10: Preferred Sites, Brownfields | E10: =IF(A10=C10,1,0) -> 0
A11: comment periods | C11: Process and Scheduling | E11: =IF(A11=C11,1,0) -> 0
A12: decommissioning plan | C12: Decommissioning | E12: =IF(A12=C12,1,0) -> 0
A13: definitions - preferred site | C13: Preferred Sites | E13: =IF(A13=C13,1,0) -> 0
... A36: Workshops and Comments | C36: Process and Scheduling | E36: =IF(A36=C36,1,0) -> 0

Sheet List of Issue Areas
A1: Issue Area | B1: # of Mentions
A2: Preferred Sites | B2: =COUNTIF(Comments!E:E,"*Preferred Sites*") -> 33
A3: Joint Letter of Support | B3: =COUNTIF(Comments!E:E,"*Joint Letter of Support*") -> 17
A4: Rates | B4: =COUNTIF(Comments!E:E,"*Rates*") -> 15
A5: Amendments | B5: =COUNTIF(Comments!E:E,"*Amendments*") -> 13
A6: Grid Constraints | B6: =COUNTIF(Comments!E:E,"*Grid Constraints*") -> 9
A7: Interconnection | B7: =COUNTIF(Comments!E:E,"*Interconnection*") -> 8
A8: Act 250 | B8: =COUNTIF(Comments!E:E,"*Act 250*") -> 7
A9: Parking Lot Canopies | B9: =COUNTIF(Comments!E:E,"*Parking Lot Canopies*") -> 7
A10: Process and Scheduling | B10: =COUNTIF(Comments!E:E,"*Process and Scheduling*") -> 7
A11: Extraction Sites | B11: =COUNTIF(Comments!E:E,"*Extraction Sites*") -> 6
A12: Tree Clearing | B12: =COUNTIF(Comments!E:E,"*Tree Clearing*") -> 5
A13: Registrations | B13: =COUNTIF(Comments!E:E,"*Registrations*") -> 4
A14: Aesthetics | B14: =COUNTIF(Comments!E:E,"*Aesthetics*") -> 3
A15: Beneficial Electriciation | B15: =COUNTIF(Comments!E:E,"*Beneficial Electriciation*") -> 3
A16: Energy Storage | B16: =COUNTIF(Comments!E:E,"*Energy Storage*") -> 3
A17: Group Net-Metering Systems | B17: =COUNTIF(Comments!E:E,"*Group Net-Metering Systems*") -> 3
A18: Impervious Surfaces | B18: =COUNTIF(Comments!E:E,"*Impervious Surfaces*") -> 3
A19: Limits of Disturbance | B19: =COUNTIF(Comments!E:E,"*Limits of Disturbance*") -> 3
A20: Locational Pricing | B20: =COUNTIF(Comments!E:E,"*Locational Pricing*") -> 3
A21: Time to Construct Projects | B21: =COUNTIF(Comments!E:E,"*Time to Construct Projects*") -> 3
A22: Advance Notice | B22: =COUNTIF(Comments!E:E,"*Advance Notice*") -> 2
A23: Application Filing | B23: =COUNTIF(Comments!E:E,"*Application Filing*") -> 2
A24: Biennial Review | B24: =COUNTIF(Comments!E:E,"*Biennial Review*") -> 2
A25: Brownfields | B25: =COUNTIF(Comments!E:E,"*Brownfields*") -> 2
A26: CPG Issuance Timeframe | B26: =COUNTIF(Comments!E:E,"*CPG Issuance Timeframe*") -> 2
A27: System Size | B27: =COUNTIF(Comments!E:E,"*System Size*") -> 2
A28: Transfers | B28: =COUNTIF(Comments!E:E,"*Transfers*") -> 2
A29: 50% Allocation | B29: =COUNTIF(Comments!E:E,"*50% Allocation*") -> 1
A30: Agricultural Lands | B30: =COUNTIF(Comments!E:E,"*Agricultural Lands*") -> 1
A31: Cap on Net-Metering | B31: =COUNTIF(Comments!E:E,"*Cap on Net-Metering*") -> 1
A32: Decommissioning | B32: =COUNTIF(Comments!E:E,"*Decommissioning*") -> 1
A33: Eliminate Category III Net-Metering Systems | B33: =COUNTIF(Comments!E:E,"*Eliminate Category III Net-Metering Systems*") -> 1
A34: Energy Efficiency Charge | B34: =COUNTIF(Comments!E:E,"*Energy Efficiency Charge*") -> 1
A35: Existing Net-Metering Sites | B35: =COUNTIF(Comments!E:E,"*Existing Net-Metering Sites*") -> 1
A36: Expand Category IV | B36: =COUNTIF(Comments!E:E,"*Expand Category IV *") -> 1
A37: Landfills | B37: =COUNTIF(Comments!E:E,"*Landfills*") -> 1
A38: Local Load | B38: =COUNTIF(Comments!E:E,"*Local Load*") -> 1
A39: Parking Lots | B39: =COUNTIF(Comments!E:E,"*Parking Lots*") -> 1
A40: Participation in ISO-NE Wholesale Markets | B40: =COUNTIF(Comments!E:E,"*Participation in ISO-NE Wholesale Markets*") -> 1
...

Sheet Rules Sections Referenced
A1: Rules Section | B1: # of Mentions
A2: 5.103 | B2: =COUNTIF(Comments!B:B,"*5.103*") -> 54
A3: 5.106 | B3: =COUNTIF(Comments!B:B,"*5.107*") -> 13
A4: 5.127 | B4: =COUNTIF(Comments!B:B,"*5.127*") -> 12
A5: 5.105 | B5: =COUNTIF(Comments!B:B,"*5.105*") -> 11
A6: 5.107 | B6: =COUNTIF(Comments!B:B,"*5.106*") -> 10
A7: 5.108 | B7: =COUNTIF(Comments!B:B,"*5.108*") -> 9
A8: 5.110 | B8: =COUNTIF(Comments!B:B,"*5.110*") -> 5
A9: 5.109 | B9: =COUNTIF(Comments!B:B,"*5.109*") -> 4
A10: 5.112 | B10: =COUNTIF(Comments!B:B,"*5.112*") -> 3
A11: Rulemaking process | B11: =COUNTIF(Comments!B:B,"*Rulemaking process*") -> 3
A12: 5.128 | B12: =COUNTIF(Comments!B:B,"*5.128*") -> 2
A13: 5.129 | B13: =COUNTIF(Comments!B:B,"*5.129*") -> 2
A14: 5.104 | B14: =COUNTIF(Comments!B:B,"*5.104*") -> 1
