Workbook

Sheet DPS Recommendation
A1: Attachment A: PSD DRP Recommendation | J1: Attachment A: PSD DRP Recommendation | S1: Attachment A: PSD DRP Recommendation
A2: Public Service Department EEU Program Budget Recommendation - April 16, 2014 | I2: Page 1 | R2: Page 2 | AA2: Page 3
C4: 2015 | D4: 2016 | E4: 2017 | F4: 3-yr Total | G4: 2018 | H4: 2019 | I4: 2020 | J4: 2021 | K4: 2022 | L4: 2023 | M4: 2024 | N4: 2025 | O4: 2026 | P4: 2027 | Q4: 2028 | R4: 2029 | S4: 2030 | T4: 2031 | U4: 2032 | V4: 2033 | W4: 2034 | X4: Total
A5: Funded via EEC
A6: Electric Resource Acquisition
B7: Efficiency Vermont | C7: ='VEIC RA Supplemental'!B4-'DPS Recommendation'!C11 -> 39351359 | D7: ='VEIC RA Supplemental'!C4-'DPS Recommendation'!D11 -> 42460068 | E7: ='VEIC RA Supplemental'!D4-'DPS Recommendation'!E11 -> 45555423 | F7: =SUM(C7:E7) -> 1.2736685e+08 | G7: ='VEIC RA Supplemental'!E4 -> 48034051 | H7: ='VEIC RA Supplemental'!F4 -> 49645840 | I7: ='VEIC RA Supplemental'!G4 -> 51279154 | J7: ='VEIC RA Supplemental'!H4 -> 52828643 | K7: ='VEIC RA Supplemental'!I4 -> 54549928 | L7: ='VEIC RA Supplemental'!J4 -> 56254913 | M7: ='VEIC RA Supplemental'!K4 -> 58069805 | N7: ='VEIC RA Supplemental'!L4 -> 59920919 | ... W7: ='VEIC RA Supplemental'!U4 -> 75969503 | X7: =SUM(F7:W7) -> 1.1779562e+09
B8: RA R&D | C8: =C7*0.035 -> 1377297.6 | D8: =D7*0.0425 -> 1804552.9 | E8: =E7*0.04 -> 1822216.9 | F8: =SUM(C8:E8) -> 5004067.4
B9: BED | C9: ='BED Scen 2'!C7 -> 2337666 | D9: ='BED Scen 2'!D7 -> 2513980 | E9: ='BED Scen 2'!E7 -> 2696148 | F9: =SUM(C9:E9) -> 7547794 | G9: ='BED Scen 2'!G7 -> 2780381.5 | H9: ='BED Scen 2'!H7 -> 2868773.1 | I9: ='BED Scen 2'!I7 -> 2966063.1 | J9: ='BED Scen 2'!J7 -> 3056968.3 | K9: ='BED Scen 2'!K7 -> 3149248.6 | L9: ='BED Scen 2'!L7 -> 3243315.1 | M9: ='BED Scen 2'!M7 -> 3349072.2 | N9: ='BED Scen 2'!N7 -> 3453508.3 | ... W9: ='BED Scen 2'!W7 -> 4533828.3 | X9: =SUM(F9:W9) -> 68640523
B10: RA R&D | C10: =C9*0.035 -> 81818.31 | D10: =D9*0.0425 -> 106844.15 | E10: =E9*0.04 -> 107845.92 | F10: =SUM(C10:E10) -> 296508.38
B11: Customer Credit Program Participant | C11: =970000*1.02 -> 989400 | D11: =C11*1.02 -> 1009188 | E11: =D11*1.02 -> 1029371.8 | F11: =SUM(C11:E11) -> 3027959.8 | G11: =E11*1.02 -> 1049959.2 | H11: =G11*1.02 -> 1070958.4 | I11: =H11*1.02 -> 1092377.5 | J11: =I11*1.02 -> 1114225.1 | K11: =J11*1.02 -> 1136509.6 | L11: =K11*1.02 -> 1159239.8 | M11: =L11*1.02 -> 1182424.6 | N11: =M11*1.02 -> 1206073.1 | O11: =N11*1.02 -> 1230194.5 | ... W11: =V11*1.02 -> 1441369 | X11: =SUM(F11:W11) -> 24039818
A12: Non-Resource Acquisition
B13: Efficiency Vermont | C13: ='Draft VEIC NRA'!C54 -> 4217048 | D13: ='Draft VEIC NRA'!D54 -> 4177272 | E13: ='Draft VEIC NRA'!E54 -> 4260432 | F13: =SUM(C13:E13) -> 12654752 | G13: ='Draft VEIC NRA'!G54 -> 4154568 | H13: ='Draft VEIC NRA'!H54 -> 4408888 | I13: ='Draft VEIC NRA'!I54 -> 4496888 | J13: ='Draft VEIC NRA'!J54 -> 4405720 | K13: ='Draft VEIC NRA'!K54 -> 4668488 | L13: ='Draft VEIC NRA'!L54 -> 4761680 | M13: ='Draft VEIC NRA'!M54 -> 4672184 | N13: ='Draft VEIC NRA'!N54 -> 4943840 | ... W13: ='Draft VEIC NRA'!W54 -> 5873824 | X13: =SUM(F13:W13) -> 97644536
B14: BED | C14: ='BED EEC NRA'!C48 -> 230076 | D14: ='BED EEC NRA'!D48 -> 234700 | E14: ='BED EEC NRA'!E48 -> 239300 | F14: =SUM(C14:E14) -> 704076 | G14: ='BED EEC NRA'!G48 -> 227500 | H14: ='BED EEC NRA'!H48 -> 231800 | I14: ='BED EEC NRA'!I48 -> 236200 | J14: ='BED EEC NRA'!J48 -> 240800 | K14: ='BED EEC NRA'!K48 -> 245600 | L14: ='BED EEC NRA'!L48 -> 250400 | M14: ='BED EEC NRA'!M48 -> 255300 | N14: ='BED EEC NRA'!N48 -> 260300 | ... W14: ='BED EEC NRA'!W48 -> 309100 | X14: =SUM(F14:W14) -> 5233776
A15: Operations Fee and QPI Award | C15: =(C7+C8+C13)*0.041 -> 1842773.9 | D15: =(D7+D8+D13)*0.041 -> 1986117.6 | E15: =(E7+E8+E13)*0.041 -> 2117160.9 | F15: =SUM(C15:E15) -> 5946052.4 | X15: =SUM(F15:W15) -> 5946052.4
A16: DPS Evaluation | C16: ='DPS Evaluation'!C98 -> 1319400 | D16: ='DPS Evaluation'!D98 -> 1319400 | E16: ='DPS Evaluation'!E98 -> 1319400 | F16: =SUM(C16:E16) -> 3958200 | G16: ='DPS Evaluation'!I32 -> 2023777.3 | H16: ='DPS Evaluation'!J32 -> 1105809.5 | I16: ='DPS Evaluation'!K32 -> 884928.07 | J16: ='DPS Evaluation'!L32 -> 2283765.7 | K16: ='DPS Evaluation'!M32 -> 1145669.7 | L16: ='DPS Evaluation'!N32 -> 941427.87 | M16: ='DPS Evaluation'!O32 -> 2387539.9 | N16: ='DPS Evaluation'!P32 -> 1222156.1 | ... W16: ='DPS Evaluation'!Y32 -> 1391374.5 | X16: =SUM(F16:W16) -> 31043658
A17: Fiscal Agent | C17: =27703.1690244*1.2 -> 33243.803 | D17: =27703.1690244*1.2 -> 33243.803 | E17: =27703.1690244*1.2 -> 33243.803 | F17: =SUM(C17:E17) -> 99731.408 | G17: =29920.6851459835*1.2 -> 35904.822 | H17: =29920.6851459835*1.2 -> 35904.822 | I17: =29920.6851459835*1.2 -> 35904.822 | J17: =29920.6851459835*1.2 -> 35904.822 | K17: =29920.6851459835*1.2 -> 35904.822 | L17: =29920.6851459835*1.2 -> 35904.822 | M17: =29920.6851459835*1.2 -> 35904.822 | N17: =29920.6851459835*1.2 -> 35904.822 | ... W17: =29920.6851459835*1.2 -> 35904.822 | X17: =SUM(F17:W17) -> 710113.39
A18: Fiscal Agent Audit | C18: =16621.90141464*1.2 -> 19946.282 | D18: =16621.90141464*1.2 -> 19946.282 | E18: =16621.90141464*1.2 -> 19946.282 | F18: =SUM(C18:E18) -> 59838.845 | G18: =17952.4110875901*1.2 -> 21542.893 | H18: =17952.4110875901*1.2 -> 21542.893 | I18: =17952.4110875901*1.2 -> 21542.893 | J18: =17952.4110875901*1.2 -> 21542.893 | K18: =17952.4110875901*1.2 -> 21542.893 | L18: =17952.4110875901*1.2 -> 21542.893 | M18: =17952.4110875901*1.2 -> 21542.893 | N18: =17952.4110875901*1.2 -> 21542.893 | ... W18: =17952.4110875901*1.2 -> 21542.893 | X18: =SUM(F18:W18) -> 426068.03
B20: EEC-Funded Subtotal | C20: =SUM(C7:C19) -> 51800029 | D20: =SUM(D7:D19) -> 55665313 | E20: =SUM(E7:E19) -> 59200489 | F20: =SUM(F7:F19) -> 1.6666583e+08 | G20: =SUM(G7:G19) -> 58327684 | H20: =SUM(H7:H19) -> 59389517 | I20: =SUM(I7:I19) -> 61013058 | J20: =SUM(J7:J19) -> 63987570 | ... W20: =SUM(W7:W19) -> 89576446 | X20: =SUM(F20:W20) -> 1.4169414e+09
A22: Funded via FCM and RGGI
A23: Heating-and-Process-Fuel Resource Acquisition
B24: Efficiency Vermont | C24: ='VEIC TEPF'!C19 -> 5349341.5 | D24: ='VEIC TEPF'!D19 -> 5856090.4 | E24: ='VEIC TEPF'!E19 -> 6256374.7 | F24: =SUM(C24:E24) -> 17461807 | G24: ='VEIC TEPF'!F19 -> 6625317.8 | H24: ='VEIC TEPF'!G19 -> 7192043.5 | I24: ='VEIC TEPF'!H19 -> 7500682.6 | J24: ='VEIC TEPF'!I19 -> 7707212.3 | K24: ='VEIC TEPF'!J19 -> 8049298.1 | L24: ='VEIC TEPF'!K19 -> 8037072.2 | M24: ='VEIC TEPF'!L19 -> 8615968.1 | X24: =SUM(F24:W24) -> 71189401
B25: BED | C25: ='BED TEPF RA'!B8 -> 96390 | D25: ='BED TEPF RA'!C8 -> 98317.8 | E25: ='BED TEPF RA'!D8 -> 100284.16 | F25: =SUM(C25:E25) -> 294991.96 | G25: ='BED TEPF RA'!F8 -> 102289.84 | H25: ='BED TEPF RA'!G8 -> 104335.64 | I25: ='BED TEPF RA'!H8 -> 106422.35 | J25: ='BED TEPF RA'!I8 -> 108550.8 | K25: ='BED TEPF RA'!J8 -> 110721.81 | L25: ='BED TEPF RA'!K8 -> 112936.25 | M25: ='BED TEPF RA'!L8 -> 115194.97 | X25: =SUM(F25:W25) -> 1055443.6
A26: Non-Resource Acquisition
B27: Efficiency Vermont | C27: ='Draft VEIC NRA'!C55 -> 575052 | D27: ='Draft VEIC NRA'!D55 -> 569628 | E27: ='Draft VEIC NRA'!E55 -> 580968 | F27: =SUM(C27:E27) -> 1725648 | G27: ='Draft VEIC NRA'!G55 -> 566532 | H27: ='Draft VEIC NRA'!H55 -> 601212 | I27: ='Draft VEIC NRA'!I55 -> 613212 | J27: ='Draft VEIC NRA'!J55 -> 600780 | K27: ='Draft VEIC NRA'!K55 -> 636612 | L27: ='Draft VEIC NRA'!L55 -> 649320 | M27: ='Draft VEIC NRA'!M55 -> 637116 | X27: =SUM(F27:W27) -> 6030432
B28: BED | C28: ='BED TEPF NRA'!B12 -> 10700 | D28: ='BED TEPF NRA'!C12 -> 11000 | E28: ='BED TEPF NRA'!D12 -> 11200 | F28: =SUM(C28:E28) -> 32900 | G28: ='BED TEPF NRA'!F12 -> 11400 | H28: ='BED TEPF NRA'!G12 -> 11600 | I28: ='BED TEPF NRA'!H12 -> 11800 | J28: ='BED TEPF NRA'!I12 -> 12000 | K28: ='BED TEPF NRA'!J12 -> 12200 | L28: ='BED TEPF NRA'!K12 -> 12400 | M28: ='BED TEPF NRA'!L12 -> 12600 | X28: =SUM(F28:W28) -> 116900
A29: Operations Fee and QPI Award | C29: =(C24+C27)*0.041 -> 242900.13 | D29: =(D24+D27)*0.041 -> 263454.45 | E29: =(E24+E27)*0.041 -> 280331.05 | F29: =SUM(C29:E29) -> 786685.64
A30: DPS Evaluation | C30: ='DPS Evaluation'!C99 -> 773600 | D30: ='DPS Evaluation'!D99 -> 773600 | E30: ='DPS Evaluation'!E99 -> 773600 | F30: =SUM(C30:E30) -> 2320800 | G30: ='DPS Evaluation'!I53+'DPS Evaluation'!I60 -> 875250.37 | H30: ='DPS Evaluation'!J53+'DPS Evaluation'!J60 -> 828553.65 | I30: ='DPS Evaluation'!K53+'DPS Evaluation'!K60 -> 714336.37 | J30: ='DPS Evaluation'!L53+'DPS Evaluation'!L60 -> 856355.75 | K30: ='DPS Evaluation'!M53+'DPS Evaluation'!M60 -> 788816.72 | L30: ='DPS Evaluation'!N53+'DPS Evaluation'!N60 -> 657671.13 | M30: ='DPS Evaluation'!O53+'DPS Evaluation'!O60 -> 870904.82 | X30: =SUM(F30:W30) -> 7912688.8
B32: FCM and RGGI-Funded Subtotal | C32: =SUM(C24:C30) -> 7047983.7 | D32: =SUM(D24:D30) -> 7572090.6 | E32: =SUM(E24:E30) -> 8002757.9 | F32: =SUM(F24:F30) -> 22622832 | G32: =SUM(G24:G30) -> 8180790 | H32: =SUM(H24:H30) -> 8737744.8 | I32: =SUM(I24:I30) -> 8946453.4 | J32: =SUM(J24:J30) -> 9284898.9 | ... M32: =SUM(M24:M30) -> 10251784 | X32: =SUM(F32:W32) -> 87091551
C34: Total 2015-2017 EEU Program Budget | F34: =F32+F20 -> 1.8928866e+08 | G34: =G32+G20 -> 66508474 | H34: =H32+H20 -> 68127262 | I34: =I32+I20 -> 69959512 | J34: =J32+J20 -> 73272469 | K34: =K32+K20 -> 74550541 | L34: =L32+L20 -> 76137823 | M34: =M32+M20 -> 80225557 | ... X34: =X32+X20 -> 1.5040329e+09
B44: Reference (EVT/ BED Share of total EEC RA)
B45: EVT RA 3 yr total | C45: =F7 -> 1.2736685e+08 | D45: EVT % Share | E45: =C45/C47 -> 0.94405504
B46: BED RA 3 yr total | C46: =F9 -> 7547794 | D46: BED % Share | E46: =C46/C47 -> 0.055944957
B47: Total | C47: =SUM(C45:C46) -> 1.3491464e+08
B49: Reference (EVT EEC/TEPF RA Split)
B50: EVT RA 3 yr total - EEC | C50: =F7 -> 1.2736685e+08 | D50: EEC % Share | E50: =C50/C52 -> 0.87943127
B51: EVT RA 3 yr total - TEPF | C51: =F24 -> 17461807 | D51: TEPF % Share | E51: =C51/C52 -> 0.12056873
B52: Total | C52: =SUM(C50:C51) -> 1.4482866e+08
F53: 2015-2017
B54: Reference (BED EEC/TEPF RA Split) | F54: EEC | G54: =C50+C55 -> 1.3491464e+08 | H54: EEC % of Total | I54: =G54/G56 -> 0.88350305
B55: BED RA 3 yr total - EEC | C55: =F9 -> 7547794 | D55: EEC % Share | E55: =C55/C57 -> 0.95838153 | F55: TEPF | G55: =C51+C56 -> 17789575 | H55: TEPF % of Total | I55: =G55/G56 -> 0.11649695
...

Sheet VEIC BED Summary Budgets
A3: VEIC EEU Budget 2015-2017
C4: 2015 | D4: 2016 | E4: 2017 | F4: 3-yr Total
A5: Funded via EEC
A6: Electric Resource Acquisition | C6: ='DPS Recommendation'!C7 -> 39351359 | D6: ='DPS Recommendation'!D7 -> 42460068 | E6: ='DPS Recommendation'!E7 -> 45555423 | F6: =SUM(C6:E6) -> 1.2736685e+08
A7: RA R&D | C7: ='DPS Recommendation'!C8 -> 1377297.6 | D7: ='DPS Recommendation'!D8 -> 1804552.9 | E7: ='DPS Recommendation'!E8 -> 1822216.9 | F7: =SUM(C7:E7) -> 5004067.4
A8: Non-Resource Acquisition | C8: ='DPS Recommendation'!C13 -> 4217048 | D8: ='DPS Recommendation'!D13 -> 4177272 | E8: ='DPS Recommendation'!E13 -> 4260432 | F8: =SUM(C8:E8) -> 12654752
A9: Operations Fee and QPI Award (4.1%) | C9: ='DPS Recommendation'!C15 -> 1842773.9 | D9: ='DPS Recommendation'!D15 -> 1986117.6 | E9: ='DPS Recommendation'!E15 -> 2117160.9 | F9: =SUM(C9:E9) -> 5946052.4
B10: EEC-Funded Subtotal | C10: =SUM(C6:C9) -> 46788478 | D10: =SUM(D6:D9) -> 50428011 | E10: =SUM(E6:E9) -> 53755233 | F10: =SUM(C10:E10) -> 1.5097172e+08
A12: Funded via FCM and RGGI
A13: Heating-and-Process-Fuel Resource Acquisition | C13: ='DPS Recommendation'!C24 -> 5349341.5 | D13: ='DPS Recommendation'!D24 -> 5856090.4 | E13: ='DPS Recommendation'!E24 -> 6256374.7 | F13: =SUM(C13:E13) -> 17461807
A14: Non-Resource Acquisition | C14: ='DPS Recommendation'!C27 -> 575052 | D14: ='DPS Recommendation'!D27 -> 569628 | E14: ='DPS Recommendation'!E27 -> 580968 | F14: =SUM(C14:E14) -> 1725648
A15: Operations and QPI Fees (4.1%) | C15: ='DPS Recommendation'!C29 -> 242900.13 | D15: ='DPS Recommendation'!D29 -> 263454.45 | E15: ='DPS Recommendation'!E29 -> 280331.05 | F15: =SUM(C15:E15) -> 786685.64
B16: FCM and RGGI-Funded Subtotal | C16: =SUM(C13:C15) -> 6167293.7 | D16: =SUM(D13:D15) -> 6689172.8 | E16: =SUM(E13:E15) -> 7117673.7 | F16: =SUM(C16:E16) -> 19974140
E18: VEIC 2015-2017 EEC & TEPF Total | F18: =F10+F16 -> 1.7094586e+08
A21: BED EEU Budget 2015-2017
C22: 2015 | D22: 2016 | E22: 2017 | F22: 3-yr Total
A23: Funded via EEC
A24: Electric Resource Acquisition | C24: ='DPS Recommendation'!C9 -> 2337666 | D24: ='DPS Recommendation'!D9 -> 2513980 | E24: ='DPS Recommendation'!E9 -> 2696148 | F24: =SUM(C24:E24) -> 7547794
A25: RA R&D | C25: ='DPS Recommendation'!C10 -> 81818.31 | D25: ='DPS Recommendation'!D10 -> 106844.15 | E25: ='DPS Recommendation'!E10 -> 107845.92 | F25: =SUM(C25:E25) -> 296508.38
A26: Non-Resource Acquisition | C26: ='DPS Recommendation'!C14 -> 230076 | D26: ='DPS Recommendation'!D14 -> 234700 | E26: ='DPS Recommendation'!E14 -> 239300 | F26: =SUM(C26:E26) -> 704076
B27: EEC-Funded Subtotal | C27: =SUM(C24:C26) -> 2649560.3 | D27: =SUM(D24:D26) -> 2855524.1 | E27: =SUM(E24:E26) -> 3043293.9 | F27: =SUM(C27:E27) -> 8548378.4
A29: Funded via FCM and RGGI
A30: Heating-and-Process-Fuel Resource Acquisition | C30: ='DPS Recommendation'!C25 -> 96390 | D30: ='DPS Recommendation'!D25 -> 98317.8 | E30: ='DPS Recommendation'!E25 -> 100284.16 | F30: =SUM(C30:E30) -> 294991.96
A31: Non-Resource Acquisition | C31: ='DPS Recommendation'!C28 -> 10700 | D31: ='DPS Recommendation'!D28 -> 11000 | E31: ='DPS Recommendation'!E28 -> 11200 | F31: =SUM(C31:E31) -> 32900
B32: FCM and RGGI-Funded Subtotal | C32: =SUM(C30:C31) -> 107090 | D32: =SUM(D30:D31) -> 109317.8 | E32: =SUM(E30:E31) -> 111484.16 | F32: =SUM(C32:E32) -> 327891.96
E34: BED 2015-2017 EEC & TEPF Total | F34: =F27+F32 -> 8876270.3

Sheet DPS Evaluation
B2: Evaluation Budget Summary
B3: 41739
B4: Task | C4: 2015 | D4: 2016 | E4: 2017 | F4: Total 2015-17 | G4: Proposed Carryover from 2012-2014 period | H4: Actual Budget Impact to Funding Source | I4: 2018 | J4: 2019 | K4: 2020 | L4: 2021 | M4: 2022 | N4: 2023 | O4: 2024 | P4: 2025 | Q4: 2026 | R4: 2027 | S4: 2028 | T4: 2029 | U4: 2030 | V4: 2031 | W4: 2032 | X4: 2033 | Y4: 2034
F5: [Note 11]] | G5: [Note 12] | H5: [Note 13]
B6: Core EEC Evaluation Activities | F6: =SUM(F7:F11) -> 2124000 | H6: =SUM(H7:H11) -> 892700
B7: Annual Savings Verification | C7: =[1]SVFCM!F36 -> 160113.34 | D7: =[1]SVFCM!G36 -> 160977.4 | E7: =[1]SVFCM!H36 -> 168006.2 | F7: =ROUND(SUM(C7:E7),-2) -> 489100 | H7: =F7 -> 489100 | I7: =E7*1.02 -> 171366.32 | J7: =I7*$C$68 -> 174793.65 | K7: =J7*$C$68 -> 178289.52 | L7: =K7*$C$68 -> 181855.31 | M7: =L7*$C$68 -> 185492.41 | N7: =M7*$C$68 -> 189202.26 | O7: =N7*$C$68 -> 192986.31 | P7: =O7*$C$68 -> 196846.03 | Q7: =P7*$C$68 -> 200782.96 | ... Y7: =X7*$C$68 -> 235249.23
B8: Geotargeting [2] | C8: =[1]GT!F16 -> 0 | D8: =[1]GT!G16 -> 4831.57 | E8: =[1]GT!H16 -> 168191.97 | F8: =ROUND(SUM(C8:E8),-2) -> 173000 | G8: 142078 | H8: =ROUND(SUM(F8-G8),-2) -> 30900 | I8: 0 | J8: =I8*$C$68 -> 0 | K8: =J8*$C$68 -> 0 | L8: =K8*$C$68 -> 0 | M8: =L8*$C$68 -> 0 | N8: =M8*$C$68 -> 0 | O8: =N8*$C$68 -> 0 | P8: =O8*$C$68 -> 0 | Q8: =P8*$C$68 -> 0 | ... Y8: =X8*$C$68 -> 0
B9: Technical Advisory Group and Technical Reference Manual | C9: =[1]TAGTRM!F16 -> 63930.065 | D9: =[1]TAGTRM!G16 -> 65290.385 | E9: =[1]TAGTRM!H16 -> 66700.3 | F9: =ROUND(SUM(C9:E9),-2) -> 195900 | H9: =F9 -> 195900 | I9: =E9*1.026 -> 68434.508 | J9: =I9*$C$68 -> 69803.198 | K9: =J9*$C$68 -> 71199.262 | L9: =K9*$C$68 -> 72623.247 | M9: =L9*$C$68 -> 74075.712 | N9: =M9*$C$68 -> 75557.226 | O9: =N9*$C$68 -> 77068.371 | P9: =O9*$C$68 -> 78609.738 | Q9: =P9*$C$68 -> 80181.933 | ... Y9: =X9*$C$68 -> 93945.914
B10: Market Characterizations* | C10: ='[1]Mkt Characterizations'!F19 -> 1177293.1 | D10: ='[1]Mkt Characterizations'!G19 -> 0 | E10: ='[1]Mkt Characterizations'!H19 -> 0 | F10: =ROUND(SUM(C10:E10),-2) -> 1177300 | G10: 1089248 | H10: =ROUND(SUM(F10-G10),-2) -> 88100 | I10: =C10*$C$68^3 -> 1249352.9 | J10: =D10*$C$68^3 -> 0 | K10: =E10*$C$68^3 -> 0 | L10: =I10*$C$68^3 -> 1325823.3 | M10: =J10*$C$68^3 -> 0 | N10: =K10*$C$68^3 -> 0 | O10: =L10*$C$68^3 -> 1406974.3 | P10: =M10*$C$68^3 -> 0 | Q10: =N10*$C$68^3 -> 0 | R10: =O10*$C$68^3 -> 1493092.3 | S10: =P10*$C$68^3 -> 0 | ... Y10: =V10*$C$68^3 -> 0
B11: Benchmarking | C11: =[1]Benchmarking!F16 -> 3831.2 | D11: =[1]Benchmarking!G16 -> 80690.15 | E11: =[1]Benchmarking!H16 -> 4144 | F11: =ROUND(SUM(C11:E11),-2) -> 88700 | H11: =F11 -> 88700 | I11: =C11*$C$68^3 -> 4065.7001 | J11: =D11*$C$68^3 -> 85629.033 | K11: =E11*$C$68^3 -> 4397.646 | L11: =I11*$C$68^3 -> 4314.5535 | M11: =J11*$C$68^3 -> 90870.215 | N11: =K11*$C$68^3 -> 4666.8171 | O11: =L11*$C$68^3 -> 4578.6386 | P11: =M11*$C$68^3 -> 96432.199 | Q11: =N11*$C$68^3 -> 4952.4636 | R11: =O11*$C$68^3 -> 4858.888 | S11: =P11*$C$68^3 -> 102334.62 | ... Y11: =V11*$C$68^3 -> 115245.4
B13: Supporting EEC Evaluation | F13: =SUM(F14:F19) -> 707200 | H13: =SUM(H14:H19) -> 604600
B14: Non-Resource Acquisition Initiatives* | C14: =[1]NRA!F19 -> 3371.456 | D14: =[1]NRA!G19 -> 8766.56 | E14: =[1]NRA!H19 -> 38868.368 | F14: =ROUND(SUM(C14:E14),-2) -> 51000 | H14: =F14 -> 51000 | I14: =C14*$C$68^3 -> 3577.8161 | J14: =D14*$C$68^3 -> 9303.1436 | K14: =E14*$C$68^3 -> 41247.423 | L14: =I14*$C$68^3 -> 3796.807 | M14: =J14*$C$68^3 -> 9872.5704 | N14: =K14*$C$68^3 -> 43772.095 | O14: =L14*$C$68^3 -> 4029.202 | P14: =M14*$C$68^3 -> 10476.851 | Q14: =N14*$C$68^3 -> 46451.298 | R14: =O14*$C$68^3 -> 4275.8214 | S14: =P14*$C$68^3 -> 11118.118 | ... Y14: =V14*$C$68^3 -> 12520.806
B15: Administrative Efficiency* | C15: ='[1]Admin Efficiency'!F16 -> 0 | D15: ='[1]Admin Efficiency'!G16 -> 139604.99 | E15: ='[1]Admin Efficiency'!H16 -> 0 | F15: =ROUND(SUM(C15:E15),-2) -> 139600 | H15: =F15 -> 139600 | I15: =C15*$C$68^3 -> 0 | J15: =D15*$C$68^3 -> 148149.93 | K15: =E15*$C$68^3 -> 0 | L15: =I15*$C$68^3 -> 0 | M15: =J15*$C$68^3 -> 157217.89 | N15: =K15*$C$68^3 -> 0 | O15: =L15*$C$68^3 -> 0 | P15: =M15*$C$68^3 -> 166840.89 | Q15: =N15*$C$68^3 -> 0 | R15: =O15*$C$68^3 -> 0 | S15: =P15*$C$68^3 -> 177052.88 | ... Y15: =V15*$C$68^3 -> 199390.3
B16: HPwES Evaluation (electric only ) [3] | C16: ='[1]HPwEs (elec)'!F15 -> 117615.7 | D16: ='[1]HPwEs (elec)'!G15 -> 0 | E16: ='[1]HPwEs (elec)'!H15 -> 0 | F16: =ROUND(SUM(C16:E16),-2) -> 117600 | G16: 102600 | H16: =F16-G16 -> 15000 | I16: 0 | J16: 0 | K16: 0 | L16: 0 | M16: 0 | N16: 0 | O16: 0 | P16: 0 | Q16: 0 | R16: 0 | S16: 0 | T16: 0 | U16: 0 | V16: 0 | W16: 0 | X16: 0 | Y16: 0
B17: Energy Savings Accounts & Customer Credit Program | C17: ='[1]ESA CCP'!C24 -> 8141.3 | D17: ='[1]ESA CCP'!D24 -> 8467.7 | E17: ='[1]ESA CCP'!E24 -> 15022 | F17: =ROUND(SUM(C17:E17),-2) -> 31600 | H17: =F17 -> 31600 | I17: =E17*$C$68 -> 15322.44 | J17: =F17*$C$68 -> 32232 | K17: =I17*$C$68 -> 15628.889 | L17: =J17*$C$68 -> 32876.64 | M17: =K17*$C$68 -> 15941.467 | N17: =L17*$C$68 -> 33534.173 | O17: =M17*$C$68 -> 16260.296 | P17: =N17*$C$68 -> 34204.856 | Q17: =O17*$C$68 -> 16585.502 | R17: =P17*$C$68 -> 34888.953 | ... Y17: =W17*$C$68 -> 17952.681
B18: Regional Coordination [4] | C18: =[1]Regional!F21 -> 58417.74 | D18: =[1]Regional!G21 -> 59649.6 | E18: =[1]Regional!H21 -> 60908.183 | F18: =ROUND(SUM(C18:E18),-2) -> 179000 | H18: =F18 -> 179000 | I18: =E18*$C$68 -> 62126.346 | J18: =F18*$C$68 -> 182580 | K18: =J18*$C$68 -> 186231.6 | L18: =K18*$C$68 -> 189956.23 | M18: =L18*$C$68 -> 193755.36 | N18: =M18*$C$68 -> 197630.46 | O18: =N18*$C$68 -> 201583.07 | P18: =O18*$C$68 -> 205614.73 | Q18: =P18*$C$68 -> 209727.03 | R18: =Q18*$C$68 -> 213921.57 | ... Y18: =X18*$C$68 -> 245728.64
B19: Overall Performace Assessment | C19: =[1]OPA!F20*0.88 -> 188352.34 | D19: =[1]OPA!G20*0.88 -> 0 | E19: =[1]OPA!H20*0.88 -> 0 | F19: =ROUND(SUM(C19:E19),-2) -> 188400 | H19: =F19 -> 188400 | I19: =C29*$C$68 -> 267138.68 | J19: =D29*$C$68 -> 264526.16 | K19: =E29*$C$68 -> 268129.75 | L19: =I19*$C$68 -> 272481.45 | M19: =I19*$C$68 -> 272481.45 | N19: =J19*$C$68 -> 269816.69 | O19: =K19*$C$68 -> 273492.34 | P19: =L19*$C$68 -> 277931.08 | Q19: =M19*$C$68 -> 277931.08 | R19: =N19*$C$68 -> 275213.02 | S19: =O19*$C$68 -> 278962.19 | T19: =P19*$C$68 -> 283489.7 | ... Y19: =U19*$C$68 -> 289159.5
B21: Planning and Management [5] | F21: =SUM(F22:F26) -> 201300 | H21: =SUM(H22:H26) -> 201300
B22: Evaluation Planning & Administration* | C22: ='[1]Plan&Mgmt'!C14 -> 8950.641 | D22: ='[1]Plan&Mgmt'!D14 -> 9309.489 | E22: ='[1]Plan&Mgmt'!E14 -> 16135.7 | F22: =ROUND(SUM(C22:E22),-2) -> 34400 | H22: =F22 -> 34400 | I22: =C22*$C$68^3 -> 9498.4918 | J22: =D22*$C$68^3 -> 9879.3042 | K22: =E22*$C$68^3 -> 17123.334 | L22: =I22*$C$68^3 -> 10079.876 | M22: =J22*$C$68^3 -> 10483.997 | N22: =K22*$C$68^3 -> 18171.419 | O22: =L22*$C$68^3 -> 10696.845 | P22: =M22*$C$68^3 -> 11125.701 | Q22: =N22*$C$68^3 -> 19283.655 | R22: =O22*$C$68^3 -> 11351.577 | S22: =P22*$C$68^3 -> 11806.683 | ... Y22: =V22*$C$68^3 -> 13296.243
B23: Expert Technical Assistance* | C23: ='[1]Plan&Mgmt'!C37 -> 27189.5 | D23: ='[1]Plan&Mgmt'!D37 -> 27189.5 | E23: ='[1]Plan&Mgmt'!E37 -> 27189.5 | F23: =ROUND(SUM(C23:E23),-2) -> 81600 | H23: =F23 -> 81600 | I23: =C23*$C$68^3 -> 28853.715 | J23: =D23*$C$68^3 -> 28853.715 | K23: =E23*$C$68^3 -> 28853.715 | L23: =I23*$C$68^3 -> 30619.793 | M23: =J23*$C$68^3 -> 30619.793 | N23: =K23*$C$68^3 -> 30619.793 | O23: =L23*$C$68^3 -> 32493.969 | P23: =M23*$C$68^3 -> 32493.969 | Q23: =N23*$C$68^3 -> 32493.969 | R23: =O23*$C$68^3 -> 34482.86 | S23: =P23*$C$68^3 -> 34482.86 | ... Y23: =V23*$C$68^3 -> 38833.301
B24: Evaulation Training & Development* | C24: ='[1]Plan&Mgmt'!F62 -> 21256.048 | D24: ='[1]Plan&Mgmt'!G62 -> 16608.592 | E24: ='[1]Plan&Mgmt'!H62 -> 21737.76 | F24: =ROUND(SUM(C24:E24),-2) -> 59600 | H24: =F24 -> 59600 | I24: =C23*$C$68^3 -> 28853.715 | J24: =D23*$C$68^3 -> 28853.715 | K24: =E23*$C$68^3 -> 28853.715 | L24: =I24*$C$68^3 -> 30619.793 | M24: =J24*$C$68^3 -> 30619.793 | N24: =K24*$C$68^3 -> 30619.793 | O24: =L24*$C$68^3 -> 32493.969 | P24: =M24*$C$68^3 -> 32493.969 | Q24: =N24*$C$68^3 -> 32493.969 | R24: =O24*$C$68^3 -> 34482.86 | S24: =P24*$C$68^3 -> 34482.86 | ... Y24: =V24*$C$68^3 -> 38833.301
B25: DRP | C25: ='[1]Plan&Mgmt'!F98 -> 0 | D25: ='[1]Plan&Mgmt'!G98 -> 13946.8 | E25: ='[1]Plan&Mgmt'!H98 -> 5801.6 | F25: =ROUND(SUM(C25:E25),-2) -> 19700 | H25: =F25 -> 19700 | I25: =C24*$C$68^3 -> 22557.088 | J25: =D24*$C$68^3 -> 17625.171 | K25: =E25*$C$68^3 -> 6156.7043 | L25: =I25*$C$68^3 -> 23937.762 | M25: =J25*$C$68^3 -> 18703.972 | N25: =K25*$C$68^3 -> 6533.5439 | O25: =L25*$C$68^3 -> 25402.945 | P25: =M25*$C$68^3 -> 19848.805 | Q25: =N25*$C$68^3 -> 6933.449 | R25: =O25*$C$68^3 -> 26957.808 | S25: =P25*$C$68^3 -> 21063.711 | ... Y25: =V25*$C$68^3 -> 23721.159
B26: Other Direct Costs* | C26: ='[1]Plan&Mgmt'!D72 -> 528 | D26: ='[1]Plan&Mgmt'!E72 -> 4928 | E26: ='[1]Plan&Mgmt'!F72 -> 528 | F26: =ROUND(SUM(C26:E26),-2) -> 6000 | H26: =F26 -> 6000 | I26: =C26*$C$68^3 -> 560.31782 | J26: =D26*$C$68^3 -> 5229.633 | K26: =E26*$C$68^3 -> 560.31782 | L26: =I26*$C$68^3 -> 594.61376 | M26: =J26*$C$68^3 -> 5549.7284 | N26: =K26*$C$68^3 -> 594.61376 | O26: =L26*$C$68^3 -> 631.00888 | P26: =M26*$C$68^3 -> 5889.4162 | Q26: =N26*$C$68^3 -> 631.00888 | R26: =O26*$C$68^3 -> 669.63167 | S26: =P26*$C$68^3 -> 6249.8956 | ... Y26: =V26*$C$68^3 -> 7038.3975
B28: Contingency [6] | C28: =(SUM(C7:C19))*0.05 -> 89053.313 | D28: =(SUM(D7:D19))*0.05 -> 26413.918 | E28: =(SUM(E7:E19))*0.05 -> 26092.051 | F28: =ROUND(SUM(C28:E28),-2) -> 141600 | H28: =F28 -> 141600 | I28: =(SUM(I7:I19))*0.05 -> 92069.235 | J28: =(SUM(J7:J19)+M6)*0.05 -> 48350.856 | K28: =(SUM(K7:K19)+N6)*0.05 -> 38256.204 | L28: =(SUM(L7:L19)+O6)*0.05 -> 104186.38 | M28: =(SUM(M7:M19)+P6)*0.05 -> 49985.354 | N28: =(SUM(N7:N19)+Q6)*0.05 -> 40708.986 | O28: =(SUM(O7:O19)+R6)*0.05 -> 108848.62 | P28: =(SUM(P7:P19)+S6)*0.05 -> 53347.819 | Q28: =(SUM(Q7:Q19)+T6)*0.05 -> 41830.613 | ... Y28: =(SUM(Y7:Y19)+AB6)*0.05 -> 60459.624
B29: Behavioral Evaluation [7] | C29: =[1]Behavioral!F18 -> 261900.67 | D29: =[1]Behavioral!G18 -> 259339.38 | E29: =[1]Behavioral!H18 -> 262872.3 | F29: =ROUND(SUM(C29:E29),-2) -> 784100 | H29: =F29 -> 784100
B31: Annual EEC Funded budget | C31: =SUM(C7:C30) -> 2189944.4 | D31: =SUM(D7:D30) -> 886014.03 | E31: =SUM(E7:E30) -> 882197.92
B32: Total 2015-2017 Energy Efficiency Charge Funded Budget | C32: =F28+F21+F13+F6+F29 -> 3958200 | H32: =SUM(H6+H13+H21+H28+H29) -> 2624300 | I32: =SUM(I7:I31) -> 2023777.3 | J32: =SUM(J7:J31) -> 1105809.5 | K32: =SUM(K7:K31) -> 884928.07 | L32: =SUM(L7:L31) -> 2283765.7 | M32: =SUM(M7:M31) -> 1145669.7 | N32: =SUM(N7:N31) -> 941427.87 | O32: =SUM(O7:O31) -> 2387539.9 | P32: =SUM(P7:P31) -> 1222156.1 | ... Y32: =SUM(Y7:Y31) -> 1391374.5
B34: Core Heating and Process Fuel Evaluation | F34: =F35+F36 -> 168000 | H34: =SUM(H35:H36) -> 104400
B35: HPwES Evaluation [8] | C35: =[1]HPwES!D32 -> 69035.735 | D35: =[1]HPwES!E32 -> 0 | E35: =[1]HPwES!F32 -> 0 | F35: =ROUND(SUM(C35:E35),-2) -> 69000 | G35: 63620 | H35: =ROUND(SUM(F35-G35),-2) -> 5400 | I35: 0 | J35: =[1]HPwES!G17*$C$68^3 -> 0 | K35: 0 | L35: =I35*$C$68^3 -> 0 | M35: =J35*$C$68^3 -> 0 | N35: =K35*$C$68^3 -> 0 | O35: =L35*$C$68^3 -> 0 | P35: =M35*$C$68^3 -> 0 | Q35: =N35*$C$68^3 -> 0 | R35: =O35*$C$68^3 -> 0 | S35: =P35*$C$68^3 -> 0 | ... Y35: =V35*$C$68^3 -> 0
B36: TEPF Potential Study | C36: ='[1]TEPF Potential'!F15 -> 0 | D36: ='[1]TEPF Potential'!G15 -> 99010.655 | E36: ='[1]TEPF Potential'!H15 -> 0 | F36: =ROUND(SUM(C36:E36),-2) -> 99000 | H36: =F36-G36 -> 99000 | I36: 0 | J36: =D36*1.02 -> 100990.87 | K36: 0 | L36: 0 | M36: =J36*1.02 -> 103010.69 | N36: 0 | O36: 0 | P36: =M36*1.02 -> 105070.9 | Q36: 0 | R36: 0 | S36: =P36*1.02 -> 107172.32 | T36: 0 | U36: 0 | V36: =S36*1.02 -> 109315.76 | W36: 0 | X36: 0 | Y36: =V36*1.02 -> 111502.08
B38: Shared Heating and Process Fuel Evaluation | F38: =F39+F40+F41+F42 -> 212200 | H38: =SUM(H39:H42) -> 77200
B39: Market Characterizations* | C39: ='[1]Mkt Characterizations'!F20 -> 160539.97 | D39: ='[1]Mkt Characterizations'!G20 -> 0 | E39: ='[1]Mkt Characterizations'!H20 -> 0 | F39: =ROUND(SUM(C39:E39),-2) -> 160500 | G39: 135000 | H39: =F39-G39 -> 25500 | I39: =C39*$C$68^3 -> 170366.3 | J39: =D39*$C$68^3 -> 0 | K39: =E39*$C$68^3 -> 0 | L39: =I39*$C$68^3 -> 180794.08 | M39: =J39*$C$68^3 -> 0 | N39: =K39*$C$68^3 -> 0 | O39: =L39*$C$68^3 -> 191860.13 | P39: =M39*$C$68^3 -> 0 | Q39: =N39*$C$68^3 -> 0 | R39: =O39*$C$68^3 -> 203603.5 | S39: =P39*$C$68^3 -> 0 | ... Y39: =V39*$C$68^3 -> 0
B40: Non-Resource Acquisition Initiatives* | C40: =[1]NRA!F20 -> 459.744 | D40: =[1]NRA!G20 -> 1195.44 | E40: =[1]NRA!H20 -> 5300.232 | F40: =ROUND(SUM(C40:E40),-2) -> 7000 | H40: =F40-G40 -> 7000 | I40: =C40*$C$68^3 -> 487.88401 | J40: =D40*$C$68^3 -> 1268.6105 | K40: =E40*$C$68^3 -> 5624.6486 | L40: =I40*$C$68^3 -> 517.74642 | M40: =J40*$C$68^3 -> 1346.2596 | N40: =K40*$C$68^3 -> 5968.9221 | O40: =L40*$C$68^3 -> 549.43664 | P40: =M40*$C$68^3 -> 1428.6615 | Q40: =N40*$C$68^3 -> 6334.2679 | R40: =O40*$C$68^3 -> 583.06656 | S40: =P40*$C$68^3 -> 1516.107 | ... Y40: =V40*$C$68^3 -> 1707.3827
B41: Administrative Efficiency* | C41: ='[1]Admin Efficiency'!F17 -> 0 | D41: ='[1]Admin Efficiency'!G17 -> 19037.044 | E41: ='[1]Admin Efficiency'!H17 -> 0 | F41: =ROUND(SUM(C41:E41),-2) -> 19000 | H41: =F41-G41 -> 19000 | I41: =C41*$C$68^3 -> 0 | J41: =D41*$C$68^3 -> 20202.264 | K41: =E41*$C$68^3 -> 0 | L41: =I41*$C$68^3 -> 0 | M41: =J41*$C$68^3 -> 21438.804 | N41: =K41*$C$68^3 -> 0 | O41: =L41*$C$68^3 -> 0 | P41: =M41*$C$68^3 -> 22751.03 | Q41: =N41*$C$68^3 -> 0 | R41: =O41*$C$68^3 -> 0 | S41: =P41*$C$68^3 -> 24143.575 | ... Y41: =V41*$C$68^3 -> 27189.587
B42: Overall Performace Assessment | C42: =[1]OPA!F20*0.12 -> 25684.41 | D42: =[1]OPA!G20*0.12 -> 0 | E42: =[1]OPA!H20*0.12 -> 0 | F42: =ROUND(SUM(C42:E42),-2) -> 25700 | H42: =F42-G42 -> 25700
B44: Shared Planning and Management | F44: =F45+F46+F47+F48 -> 23300 | H44: =SUM(H45:H48) -> 23300
B45: Evaluation Planning & Administration* | C45: ='[1]Plan&Mgmt'!C15 -> 1106.259 | D45: ='[1]Plan&Mgmt'!D15 -> 1150.611 | E45: ='[1]Plan&Mgmt'!E15 -> 1994.3 | F45: =ROUND(SUM(C45:E45),-2) -> 4300 | H45: =F45 -> 4300 | I45: =C45*$C$68^3 -> 1173.9709 | J45: =D45*$C$68^3 -> 1221.0376 | K45: =E45*$C$68^3 -> 2116.3671 | L45: =I45*$C$68^3 -> 1245.8273 | M45: =J45*$C$68^3 -> 1295.7749 | N45: =K45*$C$68^3 -> 2245.9057 | O45: =L45*$C$68^3 -> 1322.0819 | P45: =M45*$C$68^3 -> 1375.0867 | Q45: =N45*$C$68^3 -> 2383.3731 | R45: =O45*$C$68^3 -> 1403.0039 | S45: =P45*$C$68^3 -> 1459.253 | ... Y45: =V45*$C$68^3 -> 1643.3558
B46: Expert Technical Assistance* | C46: ='[1]Plan&Mgmt'!C38 -> 3360.5 | D46: ='[1]Plan&Mgmt'!D38 -> 3360.5 | E46: ='[1]Plan&Mgmt'!E38 -> 3360.5 | F46: =ROUND(SUM(C46:E46),-2) -> 10100 | H46: =F46 -> 10100 | I46: =C46*$C$68^3 -> 3566.1895 | J46: =D46*$C$68^3 -> 3566.1895 | K46: =E46*$C$68^3 -> 3566.1895 | L46: =I46*$C$68^3 -> 3784.4688 | M46: =J46*$C$68^3 -> 3784.4688 | N46: =K46*$C$68^3 -> 3784.4688 | O46: =L46*$C$68^3 -> 4016.1086 | P46: =M46*$C$68^3 -> 4016.1086 | Q46: =N46*$C$68^3 -> 4016.1086 | R46: =O46*$C$68^3 -> 4261.9266 | S46: =P46*$C$68^3 -> 4261.9266 | ... Y46: =V46*$C$68^3 -> 4799.6215
B47: Evaulation Training & Development* | C47: ='[1]Plan&Mgmt'!F63 -> 2898.552 | D47: ='[1]Plan&Mgmt'!G63 -> 2264.808 | E47: ='[1]Plan&Mgmt'!H63 -> 2964.24 | F47: =ROUND(SUM(C47:E47),-2) -> 8100 | H47: =F47 -> 8100 | I47: =C47*$C$68^3 -> 3075.9666 | J47: =D47*$C$68^3 -> 2403.4324 | K47: =E47*$C$68^3 -> 3145.6752 | L47: =I47*$C$68^3 -> 3264.2403 | M47: =J47*$C$68^3 -> 2550.5417 | N47: =K47*$C$68^3 -> 3338.2157 | O47: =L47*$C$68^3 -> 3464.038 | P47: =M47*$C$68^3 -> 2706.6552 | Q47: =N47*$C$68^3 -> 3542.5412 | R47: =O47*$C$68^3 -> 3676.0648 | S47: =P47*$C$68^3 -> 2872.3242 | ... Y47: =V47*$C$68^3 -> 3234.7035
B48: Other Direct Costs* | C48: ='[1]Plan&Mgmt'!D73 -> 72 | D48: ='[1]Plan&Mgmt'!E73 -> 672 | E48: ='[1]Plan&Mgmt'!F73 -> 72 | F48: =ROUND(SUM(C48:E48),-2) -> 800 | H48: =F48 -> 800 | I48: =C48*$C$68^3 -> 76.406976 | J48: =D48*$C$68^3 -> 713.13178 | K48: =E48*$C$68^3 -> 76.406976 | L48: =I48*$C$68^3 -> 81.083694 | M48: =J48*$C$68^3 -> 756.78115 | N48: =K48*$C$68^3 -> 81.083694 | O48: =L48*$C$68^3 -> 86.046665 | P48: =M48*$C$68^3 -> 803.10221 | Q48: =N48*$C$68^3 -> 86.046665 | R48: =O48*$C$68^3 -> 91.313409 | S48: =P48*$C$68^3 -> 852.25849 | ... Y48: =V48*$C$68^3 -> 959.78148
...

Sheet FA and Fund Audit
A2: EEC Budget 2015-2017
C3: 2015 | D3: 2016 | E3: 2017 | F3: 3-yr Total
A4: Funded via EEC
A5: Fiscal Agent | C5: ='DPS Recommendation'!C17 -> 33243.803 | D5: ='DPS Recommendation'!D17 -> 33243.803 | E5: ='DPS Recommendation'!E17 -> 33243.803 | F5: =SUM(C5:E5) -> 99731.408
A6: Fiscal Agent Audit | C6: ='DPS Recommendation'!C18 -> 19946.282 | D6: ='DPS Recommendation'!D18 -> 19946.282 | E6: ='DPS Recommendation'!E18 -> 19946.282 | F6: =SUM(C6:E6) -> 59838.845
C7: =SUM(C5:C6) -> 53190.085 | D7: =SUM(D5:D6) -> 53190.085 | E7: =SUM(E5:E6) -> 53190.085 | F7: =SUM(C7:E7) -> 159570.25

Sheet BED VEIC % Change
C2: Table X: Annual Percent Rate Increase
D3: BED RA Budget | E3: % Change | F3: EVT RA Budget | G3: % Change
C4: 2014 | D4: 2168414.2 | E4: - | F4: 37367789 | G4: -
C5: 2015 | D5: =2337666.32+'DPS Recommendation'!C10 -> 2419484.6 | E5: =(D5-D4)/D4 -> 0.11578528 | F5: =39351358.8121601+'DPS Recommendation'!C8 -> 40728656 | G5: =(F5-F4)/F4 -> 0.089940232
C6: 2016 | D6: =2513980+'DPS Recommendation'!D10 -> 2620824.1 | E6: =(D6-D5)/D5 -> 0.083215871 | F6: =42460068.07904+'DPS Recommendation'!D8 -> 44264621 | G6: =(F6-F5)/F5 -> 0.08681761
C7: 2017 | D7: =2696148+'DPS Recommendation'!E10 -> 2803993.9 | E7: =(D7-D6)/D6 -> 0.069890141 | F7: =45555422.9614688+'DPS Recommendation'!E8 -> 47377640 | G7: =(F7-F6)/F6 -> 0.070327472
C8: 2018 | D8: 2780381.5 | E8: =(D8-D7)/D7 -> -0.0084209919 | F8: 48034051 | G8: =(F8-F7)/F7 -> 0.013854868 | H8: Note: no RA R&D included from 2018 and beyond
C9: 2019 | D9: 2868773.1 | E9: =(D9-D8)/D8 -> 0.031791189 | F9: 49645840 | G9: =(F9-F8)/F8 -> 0.03355514
C10: 2020 | D10: 2966063.1 | E10: =(D10-D9)/D9 -> 0.033913439 | F10: 51279154 | G10: =(F10-F9)/F9 -> 0.032899308
C11: 2021 | D11: 3056968.3 | E11: =(D11-D10)/D10 -> 0.030648431 | F11: 52828643 | G11: =(F11-F10)/F10 -> 0.030216749
C12: 2022 | D12: 3149248.6 | E12: =(D12-D11)/D11 -> 0.030186884 | F12: 54549928 | G12: =(F12-F11)/F11 -> 0.032582422
C13: 2023 | D13: 3243315.1 | E13: =(D13-D12)/D12 -> 0.029869484 | F13: 56254913 | G13: =(F13-F12)/F12 -> 0.031255495
C14: 2024 | D14: 3349072.2 | E14: =(D14-D13)/D13 -> 0.032607741 | F14: 58069805 | G14: =(F14-F13)/F13 -> 0.032261921
C15: 2025 | D15: 3453508.3 | E15: =(D15-D14)/D14 -> 0.031183576 | F15: 59920919 | G15: =(F15-F14)/F14 -> 0.031877394
C16: 2026 | D16: 3568529.7 | E16: =(D16-D15)/D15 -> 0.033305661 | F16: 61707337 | G16: =(F16-F15)/F15 -> 0.029812921
C17: 2027 | D17: 3648110.6 | E17: =(D17-D16)/D16 -> 0.02230076 | F17: 63157477 | G17: =(F17-F16)/F16 -> 0.023500297
C18: 2028 | D18: 3764670.9 | E18: =(D18-D17)/D17 -> 0.031950875 | F18: 65086641 | G18: =(F18-F17)/F17 -> 0.030545294
C19: 2029 | D19: 3881651.4 | E19: =(D19-D18)/D18 -> 0.031073241 | F19: 66982240 | G19: =(F19-F18)/F18 -> 0.029124244
C20: 2030 | D20: 4004169.2 | E20: =(D20-D19)/D19 -> 0.03156331 | F20: 69058751 | G20: =(F20-F19)/F19 -> 0.031000916
... C24: 2034 | D24: 4533828.3 | E24: =(D24-D23)/D23 -> 0.03 | F24: 75969503 | G24: =(F24-F23)/F23 -> 0.023872075

Sheet BED Scen 2
A2: BED EEU DRP Electric Budgets and Savings Recommendations for 2015-2034
A3: Scenario 2 - Sustained Growth -Inaugural DRP Extended (budget constrained) | B3: (Acquisition of all economically achievable potential through the extension of the current 2012-2031 DRP through 2034, with 2032-2034 annual budgets increased at the same rate as the average year 2018-2031).
C5: 2015 | D5: =+C5+1 -> 2016 | E5: =+D5+1 -> 2017 | F5: 3-yr Total | G5: 2018 | H5: =+G5+1 -> 2019 | I5: =+H5+1 -> 2020 | J5: =+I5+1 -> 2021 | K5: =+J5+1 -> 2022 | L5: =+K5+1 -> 2023 | M5: =+L5+1 -> 2024 | N5: =+M5+1 -> 2025 | O5: =+N5+1 -> 2026 | ... W5: =+V5+1 -> 2034 | X5: Total
B6: Electric Resource Acquisition
B7: BED Delivery Budget | C7: =+(2337666*0)+2337666 -> 2337666 | D7: 2513980 | E7: 2696148 | F7: 7594547.3 | G7: 2780381.5 | H7: 2868773.1 | I7: 2966063.1 | J7: 3056968.3 | K7: 3149248.6 | L7: 3243315.1 | M7: 3349072.2 | N7: 3453508.3 | O7: 3568529.7 | P7: 3648110.6 | Q7: 3764670.9 | R7: 3881651.4 | S7: 4004169.2 | T7: 4149095.2 | U7: 4273568 | V7: 4401775.1 | W7: 4533828.3 | X7: 68687276
B8: mWh Goal | C8: 6769.0462 | D8: 6777.3801 | E8: 6784.1495 | F8: 20330.576 | G8: 6512.5448 | H8: 5841.319 | I8: 6226.7991 | J8: 6177.7961 | K8: 5488.2329 | L8: 5686.4028 | M8: 5339.5594 | N8: 5076.0582 | O8: 5038.683 | P8: 4801.4181 | Q8: 5035.2184 | R8: 4981.3114 | S8: 4655.2133 | T8: 4566.373 | U8: 4548.0269 | V8: 4336.9908 | W8: 4383.3985 | X8: 109025.92
B10: Proposed Budgets
B11: Commercial | C11: 1753250 | D11: 1885485 | E11: 2022111 | F11: 5695910.5 | G11: 2085286.1 | H11: 2151579.9 | I11: 2224547.3 | J11: 2292726.2 | K11: 2361936.5 | L11: 2432486.3 | M11: 2511804.2 | N11: 2590131.2 | O11: 2676397.2 | P11: 2736082.9 | Q11: 2823503.2 | R11: 2911238.6 | S11: 3003126.9 | T11: 3111821.4 | U11: 3205176 | V11: 3301331.3 | W11: 3400371.3 | X11: 51515457
B12: Residential | C12: 584417 | D12: 628495 | E12: 674037 | F12: 1898636.8 | G12: 695095.38 | H12: 717193.29 | I12: 741515.78 | J12: 764242.07 | K12: 787312.16 | L12: 810828.77 | M12: 837268.06 | N12: 863377.07 | O12: 892132.42 | P12: 912027.65 | Q12: 941167.73 | R12: 970412.86 | S12: 1001042.3 | T12: 1037273.8 | U12: 1068392 | V12: 1100443.8 | W12: 1133457.1 | X12: 17171819
B13: Total | C13: =SUM(C11:C12) -> 2337667 | D13: 2513980 | E13: 2696148 | F13: 7594547.3 | G13: 2780381.5 | H13: 2868773.1 | I13: 2966063.1 | J13: 3056968.3 | K13: 3149248.6 | L13: 3243315.1 | M13: 3349072.2 | N13: 3453508.3 | O13: 3568529.7 | P13: 3648110.6 | Q13: 3764670.9 | R13: 3881651.4 | S13: 4004169.2 | T13: 4149095.2 | U13: 4273568 | V13: 4401775.1 | W13: 4533828.3 | X13: 68687276
B15: Proposed mWh Savings
B16: Commercial | C16: 5076.7846 | D16: 5083.0351 | E16: 5088.1121 | F16: 15247.932 | G16: 5210.0359 | H16: 4673.0552 | I16: 4981.4393 | J16: 4942.2369 | K16: 4390.5863 | L16: 4549.1222 | M16: 4271.6475 | N16: 4060.8466 | O16: 4030.9464 | P16: 3841.1345 | Q16: 4028.1747 | R16: 3985.0491 | S16: 3724.1706 | T16: 3653.0984 | U16: 3638.4215 | V16: 3469.5927 | W16: 3506.7188
B17: Residential | C17: 1692.2615 | D17: 1694.345 | E17: 1696.0374 | F17: 5082.6439 | G17: 1302.509 | H17: 1168.2638 | I17: 1245.3598 | J17: 1235.5592 | K17: 1097.6466 | L17: 1137.2806 | M17: 1067.9119 | N17: 1015.2116 | O17: 1007.7366 | P17: 960.28362 | Q17: 1007.0437 | R17: 996.26228 | S17: 931.04266 | T17: 913.27461 | U17: 909.60538 | V17: 867.39817 | W17: 876.6797
B18: Total | C18: 6769.0462 | D18: 6777.3801 | E18: 6784.1495 | F18: 20330.576 | G18: 6512.5448 | H18: 5841.319 | I18: 6226.7991 | J18: 6177.7961 | K18: 5488.2329 | L18: 5686.4028 | M18: 5339.5594 | N18: 5076.0582 | O18: 5038.683 | P18: 4801.4181 | Q18: 5035.2184 | R18: 4981.3114 | S18: 4655.2133 | T18: 4566.373 | U18: 4548.0269 | V18: 4336.9908 | W18: 4383.3985 | X18: 109025.92
B20: Yield Rate ($/mWh)
C21: 345 | D21: 370.93685 | E21: 397.41872 | F21: 373.55299 | G21: 426.92704 | H21: 491.11736 | I21: 476.33834 | J21: 494.83153 | K21: 573.81833 | L21: 570.36323 | M21: 627.21884 | N21: 680.35238 | O21: 708.22667 | P21: 759.79857 | Q21: 747.66785 | R21: 779.24288 | S21: 860.14731 | T21: 908.61941 | U21: 939.65321 | V21: 1014.9376 | W21: 1034.3181 | X21: 630.00867
B23: Proposed Summer CP-KW Goal | C23: 972.4347 | D23: 972.4347 | E23: 968.98635 | F23: 2913.8557 | G23: 923.00835 | H23: 826.45455 | I23: 836.7996 | J23: 826.45455 | K23: 660 | L23: 752.88975 | M23: 737.9469 | N23: 649.43925 | O23: 642.54255 | P23: 627.5997 | Q23: 625.3008 | R23: 621.85245 | S23: 481.61955 | T23: 478.1712 | U23: 474.72285 | V23: 460.92945 | W23: 458.63055 | X23: 13826.734
B24: Commercial | C24: 729.32603 | D24: 729.32603 | E24: 726.73976 | G24: 692.25626 | H24: 619.84091 | I24: 627.5997 | J24: 619.84091 | K24: 366.38719 | L24: 564.66731 | M24: 553.46018 | N24: 487.07944 | O24: 481.90691 | P24: 470.69977 | Q24: 468.9756 | R24: 466.38934 | S24: 361.21466 | T24: 358.6284 | U24: 356.04214 | V24: 345.69709 | W24: 343.97291
B25: Residential | C25: 243.10868 | D25: 243.10868 | E25: 242.24659 | G25: 230.75209 | H25: 206.61364 | I25: 209.1999 | J25: 206.61364 | K25: 122.12906 | L25: 188.22244 | M25: 184.48673 | N25: 162.35981 | O25: 160.63564 | P25: 156.89992 | Q25: 156.3252 | R25: 155.46311 | S25: 120.40489 | T25: 119.5428 | U25: 118.68071 | V25: 115.23236 | W25: 114.65764
B27: Proposed Winter CP-KW | C27: 1002.3204 | D27: 1003.5544 | E27: 1004.5568 | F27: 3010.4316 | G27: 964.3392 | H27: 864.94804 | I27: 922.02765 | J27: 914.77158 | K27: 812.66513 | L27: 842.00896 | M27: 790.65044 | N27: 751.63274 | O27: 746.09843 | P27: 710.96565 | Q27: 745.58541 | R27: 737.60318 | S27: 689.3165 | T27: 676.16156 | U27: 673.44497 | V27: 642.196 | W27: 640.88075 | X27: 16135.728
B28: Commercial | C28: 751.7403 | D28: 752.66583 | E28: 753.4176 | G28: 723.2544 | H28: 648.71103 | I28: 691.52074 | J28: 686.07868 | K28: 609.49884 | L28: 631.50672 | M28: 592.98783 | N28: 563.72455 | O28: 559.57382 | P28: 533.22423 | Q28: 559.18906 | R28: 553.20239 | S28: 516.98738 | T28: 507.12117 | U28: 505.08373 | V28: 481.647 | W28: 480.66057
B29: Residential | C29: 250.5801 | D29: 250.88861 | E29: 251.1392 | G29: 241.0848 | H29: 216.23701 | I29: 230.50691 | J29: 228.69289 | K29: 203.16628 | L29: 210.50224 | M29: 197.66261 | N29: 187.90818 | O29: 186.52461 | P29: 177.74141 | Q29: 186.39635 | R29: 184.4008 | S29: 172.32913 | T29: 169.04039 | U29: 168.36124 | V29: 160.549 | W29: 160.22019
B31: Total Resource Benefits (TRB)
B32: Commercial | C32: 6015989.8 | D32: 6023396.5 | E32: 6029412.8 | G32: 6173892.5 | H32: 5537570.4 | I32: 5903005.5 | J32: 5856550.7 | K32: 5202844.8 | L32: 5390709.9 | M32: 5061902.3 | N32: 4812103.2 | O32: 4776671.4 | P32: 4551744.3 | Q32: 4773387 | R32: 4722283.2 | S32: 4413142.2 | T32: 4328921.6 | U32: 4311529.5 | V32: 4111467.3 | W32: 4155461.8
B33: Residential | C33: 1561957.4 | D33: 1563880.5 | E33: 1565442.5 | G33: 1202215.8 | H33: 1078307.5 | I33: 1149467.1 | J33: 1140421.2 | K33: 1013127.8 | L33: 1049710 | M33: 985682.67 | N33: 937040.35 | O33: 930140.87 | P33: 886341.78 | Q33: 929501.31 | R33: 919550.08 | S33: 859352.37 | T33: 842952.46 | U33: 839565.76 | V33: 800608.51 | W33: 809175.36
B34: Total TRB | C34: 7577947.2 | D34: 7587277 | E34: 7594855.3 | F34: 22760080 | G34: 7376108.3 | H34: 6615877.9 | I34: 7052472.6 | J34: 6996971.8 | K34: 6215972.6 | L34: 6440419.8 | M34: 6047585 | N34: 5749143.6 | O34: 5706812.3 | P34: 5438086.1 | Q34: 5702888.3 | R34: 5641833.3 | S34: 5272494.6 | T34: 5171874.1 | U34: 5151095.2 | V34: 4912075.8 | W34: 4964637.1 | X34: 1.2321643e+08
C36: 2015 | D36: 2016 | E36: 2017 | G36: 2018 | H36: 2019 | I36: 2020 | J36: 2021 | K36: 2022 | L36: 2023 | M36: 2024 | N36: 2025 | O36: 2026 | P36: 2027 | Q36: 2028 | R36: 2029 | S36: 2030 | T36: 2031 | U36: 2032 | V36: 2033 | W36: 2034 | X36: Total
B37: Incr. Ann. MWh Saved at gen (Net)
B38: Residential
B39: Residential New Construction | C39: 67.690462 | D39: 67.773801 | E39: 67.841495 | G39: 52.100359 | H39: 46.730552 | I39: 49.814393 | J39: 49.422369 | K39: 43.905863 | L39: 45.491222 | M39: 42.716475 | N39: 40.608466 | O39: 40.309464 | P39: 38.411345 | Q39: 40.281747 | R39: 39.850491 | S39: 37.241706 | T39: 36.530984 | U39: 36.384215 | V39: 34.695927 | W39: 35.067188
B40: Efficient Products | C40: 1286.1188 | D40: 1287.7022 | E40: 1288.9884 | G40: 989.90682 | H40: 887.88049 | I40: 946.47346 | J40: 939.025 | K40: 834.2114 | L40: 864.33323 | M40: 811.61303 | N40: 771.56085 | O40: 765.87981 | P40: 729.81555 | Q40: 765.35319 | R40: 757.15933 | S40: 707.59242 | T40: 694.0887 | U40: 691.30009 | V40: 659.22261 | W40: 666.27657
B41: Existing Homes (inc. Market Rate MF) | C41: 253.83923 | D41: 254.15175 | E41: 254.40561 | G41: 195.37635 | H41: 175.23957 | I41: 186.80397 | J41: 185.33388 | K41: 164.64699 | L41: 170.59208 | M41: 160.18678 | N41: 152.28175 | O41: 151.16049 | P41: 144.04254 | Q41: 151.05655 | R41: 149.43934 | S41: 139.6564 | T41: 136.99119 | U41: 136.44081 | V41: 130.10973 | W41: 131.50195
B42: Low Income Single & Multi Family | C42: 84.613077 | D42: 84.717251 | E42: 84.801868 | G42: 65.125448 | H42: 58.41319 | I42: 62.267991 | J42: 61.777961 | K42: 54.882329 | L42: 56.864028 | M42: 53.395594 | N42: 50.760582 | O42: 50.38683 | P42: 48.014181 | Q42: 50.352184 | R42: 49.813114 | S42: 46.552133 | T42: 45.66373 | U42: 45.480269 | V42: 43.369908 | W42: 43.833985
B43: TOTAL RES | C43: 1692.2615 | D43: 1694.345 | E43: 1696.0374 | F43: 5082.6439 | G43: 1302.509 | H43: 1168.2638 | I43: 1245.3598 | J43: 1235.5592 | K43: 1097.6466 | L43: 1137.2806 | M43: 1067.9119 | N43: 1015.2116 | O43: 1007.7366 | P43: 960.28362 | Q43: 1007.0437 | R43: 996.26228 | S43: 931.04266 | T43: 913.27461 | U43: 909.60538 | V43: 867.39817 | W43: 876.6797
B45: Commercial
B46: Business New Construction | C46: 761.5177 | D46: 762.45526 | E46: 763.21682 | G46: 781.50538 | H46: 700.95828 | I46: 747.21589 | J46: 741.33553 | K46: 658.58795 | L46: 682.36834 | M46: 640.74713 | N46: 609.12699 | O46: 604.64195 | P46: 576.17017 | Q46: 604.2262 | R46: 597.75737 | S46: 558.62559 | T46: 547.96476 | U46: 545.76323 | V46: 520.4389 | W46: 526.00782
B47: Business Existing Facilities | C47: 4315.2669 | D47: 4320.5798 | E47: 4324.8953 | G47: 4428.5305 | H47: 3972.0969 | I47: 4234.2234 | J47: 4200.9013 | K47: 3731.9984 | L47: 3866.7539 | M47: 3630.9004 | N47: 3451.7196 | O47: 3426.3044 | P47: 3264.9643 | Q47: 3423.9485 | R47: 3387.2917 | S47: 3165.545 | T47: 3105.1337 | U47: 3092.6583 | V47: 2949.1538 | W47: 2980.711
B48: TOTAL COMMERCIAL | C48: 5076.7846 | D48: 5083.0351 | E48: 5088.1121 | F48: 15247.932 | G48: 5210.0359 | H48: 4673.0552 | I48: 4981.4393 | J48: 4942.2369 | K48: 4390.5863 | L48: 4549.1222 | M48: 4271.6475 | N48: 4060.8466 | O48: 4030.9464 | P48: 3841.1345 | Q48: 4028.1747 | R48: 3985.0491 | S48: 3724.1706 | T48: 3653.0984 | U48: 3638.4215 | V48: 3469.5927 | W48: 3506.7188
B50: Total Res & Com | C50: 6769.0462 | D50: 6777.3801 | E50: 6784.1495 | F50: 20330.576 | G50: 6512.5448 | H50: 5841.319 | I50: 6226.7991 | J50: 6177.7961 | K50: 5488.2329 | L50: 5686.4028 | M50: 5339.5594 | N50: 5076.0582 | O50: 5038.683 | P50: 4801.4181 | Q50: 5035.2184 | R50: 4981.3114 | S50: 4655.2133 | T50: 4566.373 | U50: 4548.0269 | V50: 4336.9908 | W50: 4383.3985 | X50: 109025.92
B52: Incr. Ann. Summer CP-KW Saved at gen (Net)
...

Sheet BED EEC RA Table
B2: Annual BED Budgets (nominal) and Modeled Savings
C3: RA Budget | D3: MWh | E3: Summer KW | F3: Winter KW
B4: 2015 | C4: ='BED Scen 2'!C7+'DPS Recommendation'!C10 -> 2419484.3 | D4: 6769.0462 | E4: ='BED Scen 2'!C23 -> 972.4347 | F4: ='BED Scen 2'!C27 -> 1002.3204
B5: 2016 | C5: ='BED Scen 2'!D7+'DPS Recommendation'!D10 -> 2620824.1 | D5: 6777.3801 | E5: ='BED Scen 2'!D23 -> 972.4347 | F5: ='BED Scen 2'!D27 -> 1003.5544
B6: 2017 | C6: ='BED Scen 2'!E7+'DPS Recommendation'!E10 -> 2803993.9 | D6: 6784.1495 | E6: ='BED Scen 2'!E23 -> 968.98635 | F6: ='BED Scen 2'!E27 -> 1004.5568
B7: 2018 | C7: ='BED Scen 2'!G7 -> 2780381.5 | D7: 6512.5448 | E7: ='BED Scen 2'!G23 -> 923.00835 | F7: ='BED Scen 2'!G27 -> 964.3392
B8: 2019 | C8: ='BED Scen 2'!H7 -> 2868773.1 | D8: 5841.319 | E8: ='BED Scen 2'!H23 -> 826.45455 | F8: ='BED Scen 2'!H27 -> 864.94804
B9: 2020 | C9: ='BED Scen 2'!I7 -> 2966063.1 | D9: 6226.7991 | E9: ='BED Scen 2'!I23 -> 836.7996 | F9: ='BED Scen 2'!I27 -> 922.02765
B10: 2021 | C10: ='BED Scen 2'!J7 -> 3056968.3 | D10: 6177.7961 | E10: ='BED Scen 2'!J23 -> 826.45455 | F10: ='BED Scen 2'!J27 -> 914.77158
B11: 2022 | C11: ='BED Scen 2'!K7 -> 3149248.6 | D11: 5488.2329 | E11: ='BED Scen 2'!K23 -> 660 | F11: ='BED Scen 2'!K27 -> 812.66513
B12: 2023 | C12: ='BED Scen 2'!L7 -> 3243315.1 | D12: 5686.4028 | E12: ='BED Scen 2'!L23 -> 752.88975 | F12: ='BED Scen 2'!L27 -> 842.00896
B13: 2024 | C13: ='BED Scen 2'!M7 -> 3349072.2 | D13: 5339.5594 | E13: ='BED Scen 2'!M23 -> 737.9469 | F13: ='BED Scen 2'!M27 -> 790.65044
B14: 2025 | C14: ='BED Scen 2'!N7 -> 3453508.3 | D14: 5076.0582 | E14: ='BED Scen 2'!N23 -> 649.43925 | F14: ='BED Scen 2'!N27 -> 751.63274
B15: 2026 | C15: ='BED Scen 2'!O7 -> 3568529.7 | D15: 5038.683 | E15: ='BED Scen 2'!O23 -> 642.54255 | F15: ='BED Scen 2'!O27 -> 746.09843
B16: 2027 | C16: ='BED Scen 2'!P7 -> 3648110.6 | D16: 4801.4181 | E16: ='BED Scen 2'!P23 -> 627.5997 | F16: ='BED Scen 2'!P27 -> 710.96565
B17: 2028 | C17: ='BED Scen 2'!Q7 -> 3764670.9 | D17: 5035.2184 | E17: ='BED Scen 2'!Q23 -> 625.3008 | F17: ='BED Scen 2'!Q27 -> 745.58541
B18: 2029 | C18: ='BED Scen 2'!R7 -> 3881651.4 | D18: 4981.3114 | E18: ='BED Scen 2'!R23 -> 621.85245 | F18: ='BED Scen 2'!R27 -> 737.60318
B19: 2030 | C19: ='BED Scen 2'!S7 -> 4004169.2 | D19: 4655.2133 | E19: ='BED Scen 2'!S23 -> 481.61955 | F19: ='BED Scen 2'!S27 -> 689.3165
B20: 2031 | C20: ='BED Scen 2'!T7 -> 4149095.2 | D20: 4566.373 | E20: ='BED Scen 2'!T23 -> 478.1712 | F20: ='BED Scen 2'!T27 -> 676.16156
B21: 2032 | C21: ='BED Scen 2'!U7 -> 4273568 | D21: 4548.0269 | E21: ='BED Scen 2'!U23 -> 474.72285 | F21: ='BED Scen 2'!U27 -> 673.44497
B22: 2033 | C22: ='BED Scen 2'!V7 -> 4401775.1 | D22: 4336.9908 | E22: ='BED Scen 2'!V23 -> 460.92945 | F22: ='BED Scen 2'!V27 -> 642.196
B23: 2034 | C23: ='BED Scen 2'!W7 -> 4533828.3 | D23: 4383.3985 | E23: ='BED Scen 2'!W23 -> 458.63055 | F23: ='BED Scen 2'!W27 -> 640.88075

Sheet BED TEPF RA
A2: BED EEU DRP Thermal Energy Process Fuels Program Budgets and Savings Recommendations for 2015-2034
A3: (no natural gas customers are included in these figures)
A5: Years | B5: 2015 | C5: 2016 | D5: 2017 | E5: 3 Yr. Total | F5: 2018 | G5: 2019 | H5: 2020 | I5: 2021 | J5: 2022 | K5: 2023 | L5: 2024
A6: RA and NRA per DPS 1/10/2014 Filing | B6: 107100 | C6: 109242 | D6: 111426.84 | E6: 327768.84 | F6: 113655.38 | G6: 115928.48 | H6: 118247.05 | I6: 120612 | J6: 123024.24 | K6: 125484.72 | L6: 127994.41
A8: Total BED TEPF RA Implementation Budget | B8: 96390 | C8: 98317.8 | D8: 100284.16 | E8: 294991.96 | F8: 102289.84 | G8: 104335.64 | H8: 106422.35 | I8: 108550.8 | J8: 110721.81 | K8: 112936.25 | L8: 115194.97
A9: Residential (95%) | B9: 91570.5 | C9: 93401.91 | D9: 95269.948 | E9: 280242.36 | F9: 97175.347 | G9: 99118.854 | H9: 101101.23 | I9: 103123.26 | J9: 105185.72 | K9: 107289.44 | L9: 109435.22
A10: Commercial (5%) | B10: 4819.5 | C10: 4915.89 | D10: 5014.2078 | E10: 14749.598 | F10: 5114.492 | G10: 5216.7818 | H10: 5321.1174 | I10: 5427.5398 | J10: 5536.0906 | K10: 5646.8124 | L10: 5759.7486
A12: Residential Services
A13: Number of Projects
A14: Single-Family | B14: 20 | C14: 18 | D14: 16 | E14: =SUM(B14:D14) -> 54 | F14: 15 | G14: 15 | H14: 15 | I14: 15 | J14: 15 | K14: 15 | L14: 15
A16: Average MMBTU per Project
A17: Single-Family | B17: 25 | C17: 25 | D17: 25 | F17: 25 | G17: 25 | H17: 25 | I17: 25 | J17: 25 | K17: 25 | L17: 25
A19: MMBTU
A20: RES Total | B20: 500 | C20: 450 | D20: 400 | E20: =SUM(B20:D20) -> 1350 | F20: 375 | G20: 375 | H20: 375 | I20: 375 | J20: 375 | K20: 375 | L20: 375
A22: Yield (MMBTU/$1000)
A23: Single-Family HPwES | B23: 5.4602738 | C23: 4.8178886 | D23: 4.1985958 | E23: 4.8294348 | F23: 3.8590035 | G23: 3.7833367 | H23: 3.7091536 | I23: 3.6364251 | J23: 3.5651227 | K23: 3.4952183 | L23: 3.4266846
A26: Commercial Services
A27: Number of Projects
A28: Commercial Heating | B28: 1 | C28: 0 | D28: 1 | E28: 2 | F28: 0 | G28: 1 | H28: 0 | I28: 1 | J28: 0 | K28: 1 | L28: 0
A29: Building Performance - Small Business | B29: 0 | C29: 1 | D29: 0 | E29: 1 | F29: 1 | G29: 0 | H29: 1 | I29: 0 | J29: 1 | K29: 0 | L29: 1
A30: Commercial Subtotal | B30: 1 | C30: 1 | D30: 1 | E30: 3 | F30: 1 | G30: 1 | H30: 1 | I30: 1 | J30: 1 | K30: 1 | L30: 1
A32: Average MMBTU per Project
A33: Commercial Heating | B33: 42 | C33: 42 | D33: 42 | F33: 42 | G33: 42 | H33: 42 | I33: 42 | J33: 42 | K33: 42 | L33: 42
A34: Building Performance - Small Business | B34: 36 | C34: 36 | D34: 36 | F34: 36 | G34: 36 | H34: 36 | I34: 36 | J34: 36 | K34: 36 | L34: 36
A36: MMBTU
A37: Commercial Heating | B37: 42 | C37: 0 | D37: 42 | E37: 84 | F37: 0 | G37: 42 | H37: 0 | I37: 42 | J37: 0 | K37: 42 | L37: 0
A38: Building Performance - Small Business | B38: 0 | C38: 36 | D38: 0 | E38: 36 | F38: 36 | G38: 0 | H38: 36 | I38: 0 | J38: 36 | K38: 0 | L38: 36
A39: Commercial Total | B39: 42 | C39: 36 | D39: 42 | E39: 120 | F39: 36 | G39: 42 | H39: 36 | I39: 42 | J39: 36 | K39: 42 | L39: 36
A41: Yield (MMBTU/$1000)
A42: Commercial Heating | B42: 31.111111 | C42: 31.111111 | D42: 31.111111 | E42: 31.111111 | F42: 31.111111 | G42: 31.111111 | H42: 31.111111 | I42: 31.111111 | J42: 31.111111 | K42: 31.111111 | L42: 31.111111
A43: Building Performance - Small Business | B43: 8 | C43: 8 | D43: 8 | E43: 8 | F43: 8 | G43: 8 | H43: 8 | I43: 8 | J43: 8 | K43: 8 | L43: 8
A47: Res. and Com TEPF Services MMBTU Total | B47: 542 | C47: 486 | D47: 442 | E47: 1470 | F47: 411 | G47: 417 | H47: 411 | I47: 417 | J47: 411 | K47: 417 | L47: 411
A49: BED TEPF Budget Total
A50: Residential Implementation Budget | B50: 82413.45 | C50: 84061.719 | D50: 85742.953 | E50: 252218.12 | F50: 87457.812 | G50: 89206.969 | H50: 90991.108 | I50: 92810.93 | J50: 94667.149 | K50: 96560.492 | L50: 98491.702
A51: Residential Support Services | B51: 9157.05 | C51: 9340.191 | D51: 9526.9948 | E51: 28024.236 | F51: 9717.5347 | G51: 9911.8854 | H51: 10110.123 | I51: 10312.326 | J51: 10518.572 | K51: 10728.944 | L51: 10943.522
A52: Total Residential Budget | B52: 91570.5 | C52: 93401.91 | D52: 95269.948 | E52: 280242.36 | F52: 97175.347 | G52: 99118.854 | H52: 101101.23 | I52: 103123.26 | J52: 105185.72 | K52: 107289.44 | L52: 109435.22
A54: Commercial Implementation Budget | B54: 4337.55 | C54: 4424.301 | D54: 4512.787 | E54: 13274.638 | F54: 4603.0428 | G54: 4695.1036 | H54: 4789.0057 | I54: 4884.7858 | J54: 4982.4815 | K54: 5082.1311 | L54: 5183.7738
A55: Commercial Support Services | B55: 481.95 | C55: 491.589 | D55: 501.42078 | E55: 1474.9598 | F55: 511.4492 | G55: 521.67818 | H55: 532.11174 | I55: 542.75398 | J55: 553.60906 | K55: 564.68124 | L55: 575.97486
A56: Total Commercial Budget | B56: 4819.5 | C56: 4915.89 | D56: 5014.2078 | E56: 14749.598 | F56: 5114.492 | G56: 5216.7818 | H56: 5321.1174 | I56: 5427.5398 | J56: 5536.0906 | K56: 5646.8124 | L56: 5759.7486
A58: BED's Total TEPF RA Budget | B58: 96390 | C58: 98317.8 | D58: 100284.16 | E58: =SUM(B58:D58) -> 294991.96 | F58: 102289.84 | G58: 104335.64 | H58: 106422.35 | I58: 108550.8 | J58: 110721.81 | K58: 112936.25 | L58: 115194.97

Sheet BED TEPF RA Table
B3: BED TEPF Budget and Modeled Savings
C4: RA Budget | D4: MMBtu
B5: 2015 | C5: ='BED TEPF RA'!B8 -> 96390 | D5: ='BED TEPF RA'!B47 -> 542
B6: 2016 | C6: ='BED TEPF RA'!C8 -> 98317.8 | D6: ='BED TEPF RA'!C47 -> 486
B7: 2017 | C7: ='BED TEPF RA'!D8 -> 100284.16 | D7: ='BED TEPF RA'!D47 -> 442
B8: 2018 | C8: ='BED TEPF RA'!F8 -> 102289.84 | D8: ='BED TEPF RA'!F47 -> 411
B9: 2019 | C9: ='BED TEPF RA'!G8 -> 104335.64 | D9: ='BED TEPF RA'!G47 -> 417
B10: 2020 | C10: ='BED TEPF RA'!H8 -> 106422.35 | D10: ='BED TEPF RA'!H47 -> 411
B11: 2021 | C11: ='BED TEPF RA'!I8 -> 108550.8 | D11: ='BED TEPF RA'!I47 -> 417
B12: 2022 | C12: ='BED TEPF RA'!J8 -> 110721.81 | D12: ='BED TEPF RA'!J47 -> 411
B13: 2023 | C13: ='BED TEPF RA'!K8 -> 112936.25 | D13: ='BED TEPF RA'!K47 -> 417
B14: 2024 | C14: ='BED TEPF RA'!L8 -> 115194.97 | D14: ='BED TEPF RA'!L47 -> 411

Sheet BED EEC NRA
A1: BED EEU DRP Electric NRA Budgets Recommendations for 2015-2034
C4: 2015 | D4: 2016 | E4: 2017 | F4: 3 Year Total | G4: 2018 | H4: =+G4+1 -> 2019 | I4: =+H4+1 -> 2020 | J4: =+I4+1 -> 2021 | K4: =+J4+1 -> 2022 | L4: =+K4+1 -> 2023 | M4: =+L4+1 -> 2024 | N4: =+M4+1 -> 2025 | O4: =+N4+1 -> 2026 | ... W4: =+V4+1 -> 2034
A5: 1. Education & Training
A6: 1 | B6: Energy Code and Standards Support | C6: 2100 | D6: =+ROUND(C6*1.02,-2) -> 2100 | E6: =+ROUND(D6*1.02,-2) -> 2100 | F6: =SUM(C6:E6) -> 6300 | G6: =+ROUND(E6*1.02,-2) -> 2100 | H6: =+ROUND(G6*1.02,-2) -> 2100 | I6: =+ROUND(H6*1.02,-2) -> 2100 | J6: =+ROUND(I6*1.02,-2) -> 2100 | K6: =+ROUND(J6*1.02,-2) -> 2100 | L6: =+ROUND(K6*1.02,-2) -> 2100 | M6: =+ROUND(L6*1.02,-2) -> 2100 | N6: =+ROUND(M6*1.02,-2) -> 2100 | O6: =+ROUND(N6*1.02,-2) -> 2100 | ... W6: =+ROUND(V6*1.02,-2) -> 2100
A7: 2 | B7: Energy Literacy Project | C7: 15176 | D7: =+ROUND(C7*1.02,-2) -> 15500 | E7: =+ROUND(D7*1.02,-2) -> 15800 | F7: =SUM(C7:E7) -> 46476 | G7: =+ROUND(E7*1.02,-2) -> 16100 | H7: =+ROUND(G7*1.02,-2) -> 16400 | I7: =+ROUND(H7*1.02,-2) -> 16700 | J7: =+ROUND(I7*1.02,-2) -> 17000 | K7: =+ROUND(J7*1.02,-2) -> 17300 | L7: =+ROUND(K7*1.02,-2) -> 17600 | M7: =+ROUND(L7*1.02,-2) -> 18000 | N7: =+ROUND(M7*1.02,-2) -> 18400 | O7: =+ROUND(N7*1.02,-2) -> 18800 | ... W7: =+ROUND(V7*1.02,-2) -> 22000
A8: 3 | B8: General Public Energy Efficiency Education | C8: 20400 | D8: =+ROUND(C8*1.02,-2) -> 20800 | E8: =+ROUND(D8*1.02,-2) -> 21200 | F8: =SUM(C8:E8) -> 62400 | G8: =+ROUND(E8*1.02,-2) -> 21600 | H8: =+ROUND(G8*1.02,-2) -> 22000 | I8: =+ROUND(H8*1.02,-2) -> 22400 | J8: =+ROUND(I8*1.02,-2) -> 22800 | K8: =+ROUND(J8*1.02,-2) -> 23300 | L8: =+ROUND(K8*1.02,-2) -> 23800 | M8: =+ROUND(L8*1.02,-2) -> 24300 | N8: =+ROUND(M8*1.02,-2) -> 24800 | O8: =+ROUND(N8*1.02,-2) -> 25300 | ... W8: =+ROUND(V8*1.02,-2) -> 29600
A9: 4 | B9: Better Buildings by Design Conference | C9: 3800 | D9: =+ROUND(C9*1.02,-2) -> 3900 | E9: =+ROUND(D9*1.02,-2) -> 4000 | F9: =SUM(C9:E9) -> 11700 | G9: =+ROUND(E9*1.02,-2) -> 4100 | H9: =+ROUND(G9*1.02,-2) -> 4200 | I9: =+ROUND(H9*1.02,-2) -> 4300 | J9: =+ROUND(I9*1.02,-2) -> 4400 | K9: =+ROUND(J9*1.02,-2) -> 4500 | L9: =+ROUND(K9*1.02,-2) -> 4600 | M9: =+ROUND(L9*1.02,-2) -> 4700 | N9: =+ROUND(M9*1.02,-2) -> 4800 | O9: =+ROUND(N9*1.02,-2) -> 4900 | ... W9: =+ROUND(V9*1.02,-2) -> 5700
B10: Annual Total | C10: =SUM(C6:C9) -> 41476 | D10: =SUM(D6:D9) -> 42300 | E10: =SUM(E6:E9) -> 43100 | F10: =SUM(F6:F9) -> 126876 | G10: =SUM(G6:G9) -> 43900 | H10: =SUM(H6:H9) -> 44700 | I10: =SUM(I6:I9) -> 45500 | J10: =SUM(J6:J9) -> 46300 | ... W10: =SUM(W6:W9) -> 59400
A12: 2. Smart Grid & AMI
A13: 1 | B13: UVM/BED Testing In-Home Devices with Students Living Off-campus | C13: 15500 | D13: =+ROUND(C13*1.02,-2) -> 15800 | E13: =+ROUND(D13*1.02,-2) -> 16100 | F13: =SUM(C13:E13) -> 47400 | G13: 0 | H13: =+ROUND(G13*1.02,-2) -> 0 | I13: =+ROUND(H13*1.02,-2) -> 0 | J13: =+ROUND(I13*1.02,-2) -> 0 | K13: =+ROUND(J13*1.02,-2) -> 0 | L13: =+ROUND(K13*1.02,-2) -> 0 | M13: =+ROUND(L13*1.02,-2) -> 0 | N13: =+ROUND(M13*1.02,-2) -> 0 | O13: =+ROUND(N13*1.02,-2) -> 0 | ... W13: =+ROUND(V13*1.02,-2) -> 0
A14: 2 | B14: UVM Energy Minder Study/Peer Exchange Platforms | C14: 20500 | D14: =+ROUND(C14*1.02,-2) -> 20900 | E14: =+ROUND(D14*1.02,-2) -> 21300 | F14: =SUM(C14:E14) -> 62700 | G14: =+ROUND(E14*1.02,-2) -> 21700 | H14: =+ROUND(G14*1.02,-2) -> 22100 | I14: =+ROUND(H14*1.02,-2) -> 22500 | J14: =+ROUND(I14*1.02,-2) -> 23000 | K14: =+ROUND(J14*1.02,-2) -> 23500 | L14: =+ROUND(K14*1.02,-2) -> 24000 | M14: =+ROUND(L14*1.02,-2) -> 24500 | N14: =+ROUND(M14*1.02,-2) -> 25000 | O14: =+ROUND(N14*1.02,-2) -> 25500 | ... W14: =+ROUND(V14*1.02,-2) -> 29900
B15: =+B20 -> Annual Total | C15: =SUM(C13:C14) -> 36000 | D15: =SUM(D13:D14) -> 36700 | E15: =SUM(E13:E14) -> 37400 | F15: =SUM(F13:F14) -> 110100 | G15: =SUM(G13:G14) -> 21700 | H15: =SUM(H13:H14) -> 22100 | I15: =SUM(I13:I14) -> 22500 | J15: =SUM(J13:J14) -> 23000 | ... W15: =SUM(W13:W14) -> 29900
A17: 3. Applied Research &Demonstration
A18: 1 | B18: Technology Demonstrations | C18: 18500 | D18: =+ROUND(C18*1.02,-2) -> 18900 | E18: =+ROUND(D18*1.02,-2) -> 19300 | F18: =SUM(C18:E18) -> 56700 | G18: =+ROUND(E18*1.02,-2) -> 19700 | H18: =+ROUND(G18*1.02,-2) -> 20100 | I18: =+ROUND(H18*1.02,-2) -> 20500 | J18: =+ROUND(I18*1.02,-2) -> 20900 | K18: =+ROUND(J18*1.02,-2) -> 21300 | L18: =+ROUND(K18*1.02,-2) -> 21700 | M18: =+ROUND(L18*1.02,-2) -> 22100 | N18: =+ROUND(M18*1.02,-2) -> 22500 | O18: =+ROUND(N18*1.02,-2) -> 23000 | ... W18: =+ROUND(V18*1.02,-2) -> 27000
A19: 2 | B19: Emerging Data Services and Analytics | C19: 10500 | D19: =+ROUND(C19*1.02,-2) -> 10700 | E19: =+ROUND(D19*1.02,-2) -> 10900 | F19: =SUM(C19:E19) -> 32100 | G19: =+ROUND(E19*1.02,-2) -> 11100 | H19: =+ROUND(G19*1.02,-2) -> 11300 | I19: =+ROUND(H19*1.02,-2) -> 11500 | J19: =+ROUND(I19*1.02,-2) -> 11700 | K19: =+ROUND(J19*1.02,-2) -> 11900 | L19: =+ROUND(K19*1.02,-2) -> 12100 | M19: =+ROUND(L19*1.02,-2) -> 12300 | N19: =+ROUND(M19*1.02,-2) -> 12500 | O19: =+ROUND(N19*1.02,-2) -> 12800 | ... W19: =+ROUND(V19*1.02,-2) -> 15200
B20: Annual Total | C20: =SUM(C18:C19) -> 29000 | D20: =SUM(D18:D19) -> 29600 | E20: =SUM(E18:E19) -> 30200 | F20: =SUM(F18:F19) -> 88800 | G20: =SUM(G18:G19) -> 30800 | H20: =SUM(H18:H19) -> 31400 | I20: =SUM(I18:I19) -> 32000 | J20: =SUM(J18:J19) -> 32600 | ... W20: =SUM(W18:W19) -> 42200
A22: 4. Planning and Reporting Related to BED EEU Matters
A23: 1 | B23: Annual Plan | C23: 2800 | D23: =+ROUND(C23*1.02,-2) -> 2900 | E23: =+ROUND(D23*1.02,-2) -> 3000 | F23: =SUM(C23:E23) -> 8700 | G23: =+ROUND(E23*1.02,-2) -> 3100 | H23: =+ROUND(G23*1.02,-2) -> 3200 | I23: =+ROUND(H23*1.02,-2) -> 3300 | J23: =+ROUND(I23*1.02,-2) -> 3400 | K23: =+ROUND(J23*1.02,-2) -> 3500 | L23: =+ROUND(K23*1.02,-2) -> 3600 | M23: =+ROUND(L23*1.02,-2) -> 3700 | N23: =+ROUND(M23*1.02,-2) -> 3800 | O23: =+ROUND(N23*1.02,-2) -> 3900 | ... W23: =+ROUND(V23*1.02,-2) -> 4700
