Workbook
Name \P: #REF!
Name \P: #REF!
Name _TAB5: [1]J:K!$A$35:$L$47
Name a: #REF!
Name a: #REF!
Name aaa: [1]results!#REF!
Name aaa: [1]results!#REF!
Name aaaa: [1]results!#REF!
Name aaaa: [1]results!#REF!
Name Annual_Avoid_Cost: [1]results!#REF!
Name Annual_Avoid_Cost: [1]results!#REF!
Name Annual_avoided_cost: #REF!
Name Annual_avoided_cost: #REF!
Name Annual_Savings: #REF!
Name Annual_Savings: #REF!
Name ap: [1]results!#REF!
Name ap: [1]results!#REF!
Name avoid_cost: #REF!
Name avoid_cost: #REF!
Name B_LOAD: #REF!
Name B_LOAD: #REF!
Name BASE: #REF!
Name BASE: #REF!
Name baseinc: '[2]Use per DD'!#REF!
Name baseinc: '[2]Use per DD'!#REF!
Name CER: #REF!
Name CER: #REF!
Name CNC: #REF!
Name CNC: #REF!
Name CP_Labor: #REF!
Name CP_Labor: #REF!
Name CSR: #REF!
Name CSR: #REF!
Name CurrentYr1: [3]Ref!$E$35
Name CurrentYr2: [3]Ref!$E$36
Name CurrentYr3: [3]Ref!$E$37
Name CURTAIL: #REF!
Name CURTAIL: #REF!
Name Date_of_Filing: [3]Ref!$E$9
Name dd: [1]results!#REF!
Name dd: [1]results!#REF!
Name Dist_Comp: [3]Ref!$E$7
Name ECM_Database: #REF!
Name ECM_Database: #REF!
Name Enduse_Lookup: #REF!
Name Enduse_Lookup: #REF!
Name FB_LOAD: #REF!
Name FB_LOAD: #REF!
Name FH_FACTOR: #REF!
Name FH_FACTOR: #REF!
Name GNP: [1]M!$H$3
Name H_FACTOR: #REF!
Name H_FACTOR: #REF!
Name IB_LOAD: #REF!
Name IB_LOAD: #REF!
Name IH_FACTOR: #REF!
Name IH_FACTOR: #REF!
Name JG_Labor: #REF!
Name JG_Labor: #REF!
Name JSP_Labor: #REF!

Sheet Prop EEC 2023 Rates
A1: Attachment: VGS Proposed 2023 EEC rates | H1: VGS Proposal
B2: Forecasted 2023 Mcf | C2: Current GEEC Rates | D2: Projected GEEC Revenues at Current Rates | E2: Class Share GEEC Revenues at Current Rates | F2: GEEC To Be Billed by Rate Class | G2: Proposed GEEC Rates per MCf | H2: Proposed GEEC Rates per CCf | I2: Percent Change GEEC
S3: VGS 2023 Proposed Rates Per Ccf
L5: Projected Avg | M5: Projected Avg | N5: Average Annual | P5: Proposed 2023 EEC | T5: 2022 | U5: 2023
L6: # customers | M6: Mcf/Part | N6: EEC 2022 Current | O6: EEC 2023 Proposed | P6: Annual Variance | Q6: Monthly Variance | T6: Per Ccf | U6: Per Ccf
A7: Residential | B7: ='VGS forecast'!BV20-'AVG Liap customers'!C24 -> 3778154.4 | C7: ='VGS rates'!BQ7 -> 0.0514 | D7: =C7*B7*10 -> 1941971.4 | E7: =D7/$D$14 -> 0.52204918 | F7: =E7*$C$42 -> 1910304.7 | G7: =ROUND(F7/B7,4) -> 0.5056 | H7: =G7/10 -> 0.05056 | I7: =H7/C7-1 -> -0.016342412 | K7: =A7 -> Residential | L7: ='VGS forecast'!BU33-2043 -> 46587.75 | M7: =B7/L7 -> 81.097593 | N7: =M7*10*C7 -> 41.684163 | O7: =$M7*10*$H7 -> 41.002943 | P7: =O7-N7 -> -0.68121978 | Q7: =P7/12 -> -0.056768315 | S7: =K7 -> Residential | T7: =C7 -> 0.0514 | U7: =H7 -> 0.05056
A8: Low Income | B8: ='AVG Liap customers'!C24 -> 189266.6 | C8: =C7*0.8 -> 0.04112 | D8: =C8*B8*10 -> 77826.425 | E8: =D8/$D$14 -> 0.020921638 | F8: =E8*$C$42 -> 76557.353 | G8: =ROUND(F8/B8,4) -> 0.4045 | H8: =G8/10 -> 0.04045 | I8: =H8/C8-1 -> -0.016293774 | K8: =A8 -> Low Income | L8: 2043 | M8: =B8/L8 -> 92.641507 | N8: =M8*10*C8 -> 38.094188 | O8: =$M8*10*$H8 -> 37.473489 | P8: =O8-N8 -> -0.62069809 | Q8: =P8/12 -> -0.051724841 | S8: =K8 -> Low Income | T8: =C8 -> 0.04112 | U8: =H8 -> 0.04045
A9: G1 Class | B9: ='VGS forecast'!BV21 -> 618771 | C9: ='VGS rates'!BQ14 -> 0.0486 | D9: =C9*B9*10 -> 300722.71 | E9: =D9/$D$14 -> 0.080841585 | F9: =E9*$C$42 -> 295818.99 | G9: =ROUND(F9/B9,4) -> 0.4781 | H9: =G9/10 -> 0.04781 | I9: =H9/C9-1 -> -0.016255144 | K9: =A9 -> G1 Class | L9: ='VGS forecast'!BU34 -> 4034.0833 | M9: =B9/L9 -> 153.38578 | N9: =M9*10*C9 -> 74.545487 | O9: =$M9*10*$H9 -> 73.333739 | P9: =O9-N9 -> -1.2117476 | Q9: =P9/12 -> -0.10097897 | S9: =K9 -> G1 Class | T9: =C9 -> 0.0486 | U9: =H9 -> 0.04781
A10: G2 Class | B10: ='VGS forecast'!BV22 -> 201626 | C10: ='VGS rates'!BQ21 -> 0.0377 | D10: =C10*B10*10 -> 76013.002 | E10: =D10/$D$14 -> 0.020434146 | F10: =E10*$C$42 -> 74773.5 | G10: =ROUND(F10/B10,4) -> 0.3709 | H10: =G10/10 -> 0.03709 | I10: =H10/C10-1 -> -0.016180371 | K10: =A10 -> G2 Class | L10: ='VGS forecast'!BU35 -> 1063.4167 | M10: =B10/L10 -> 189.60207 | N10: =M10*10*C10 -> 71.47998 | O10: =$M10*10*$H10 -> 70.323407 | P10: =O10-N10 -> -1.1565726 | Q10: =P10/12 -> -0.096381052 | S10: =K10 -> G2 Class | T10: =C10 -> 0.0377 | U10: =H10 -> 0.03709
A11: G3 Class | B11: ='VGS forecast'!BV23 -> 754508 | C11: ='VGS rates'!BQ28 -> 0.0379 | D11: =C11*B11*10 -> 285958.53 | E11: =D11/$D$14 -> 0.076872615 | F11: =E11*$C$42 -> 281295.56 | G11: =ROUND(F11/B11,4) -> 0.3728 | H11: =G11/10 -> 0.03728 | I11: =H11/C11-1 -> -0.016358839 | K11: =A11 -> G3 Class | L11: ='VGS forecast'!BU36 -> 520.91667 | M11: =B11/L11 -> 1448.4236 | N11: =M11*10*C11 -> 548.95255 | O11: =$M11*10*$H11 -> 539.97232 | P11: =O11-N11 -> -8.9802264 | Q11: =P11/12 -> -0.7483522 | S11: =K11 -> G3 Class | T11: =C11 -> 0.0379 | U11: =H11 -> 0.03728
A12: G4 Class | B12: ='VGS forecast'!BV24 -> 1579257 | C12: ='VGS rates'!BQ35 -> 0.0292 | D12: =C12*B12*10 -> 461143.04 | E12: =D12/$D$14 -> 0.12396648 | F12: =E12*$C$42 -> 453623.44 | G12: =ROUND(F12/B12,4) -> 0.2872 | H12: =G12/10 -> 0.02872 | I12: =H12/C12-1 -> -0.016438356 | K12: =A12 -> G4 Class | L12: ='VGS forecast'!BU37 -> 561.66667 | M12: =B12/L12 -> 2811.7335 | N12: =M12*10*C12 -> 821.02619 | O12: =$M12*10*$H12 -> 807.52987 | P12: =O12-N12 -> -13.496321 | Q12: =P12/12 -> -1.1246934 | S12: =K12 -> G4 Class | T12: =C12 -> 0.0292 | U12: =H12 -> 0.02872
A13: Interruptible | B13: ='VGS forecast'!BV28 -> 2731119 | C13: 0.0211 | D13: =C13*B13*10 -> 576266.11 | E13: =D13/$D$14 -> 0.15491436 | F13: =E13*$C$42 -> 566869.26 | G13: =ROUND(F13/B13,4) -> 0.2076 | H13: =G13/10 -> 0.02076 | I13: =H13/C13-1 -> -0.016113744 | K13: =A13 -> Interruptible | L13: ='VGS forecast'!BU41 -> 41.916667 | M13: =B13/L13 -> 65155.92 | N13: =M13*10*C13 -> 13747.899 | O13: =$M13*10*$H13 -> 13526.369 | P13: =O13-N13 -> -221.53013 | Q13: =P13/12 -> -18.460844 | S13: =K13 -> Interruptible | T13: =C13 -> 0.0211 | U13: =H13 -> 0.02076
A14: Totals | B14: =SUM(B7:B13) -> 9852702 | C14: =(B7*C7+B8*C8+B9*C9+B10*C10+B11*C11+B12*C12+B13*C13)/B14 -> 0.037755137 | D14: =SUM(D7:D13) -> 3719901.2 | E14: =SUM(E7:E13) -> 1 | F14: =SUM(F7:F13) -> 3659242.8 | G14: =ROUND(F14/B14,4) -> 0.3714 | H14: =(B7*H7+B8*H8+B9*H9+B10*H10+B11*H11+B12*H12+B13*H13)/B14 -> 0.037139398 | I14: =H14/C14-1 -> -0.016308761
A16: VGS Total Budget 2022 Rule 5.305 D | C16: ='PSD Budget Inves Totals 21-23'!D4 -> 5765226
A17: Projected 2022 Underspent | C17: ='PSD Budget Inves Totals 21-23'!C4-'PSD Budget Inves Totals 21-23'!C12 -> 164792 | D17: Not included in 2022 projected loan
A18: 2021 Actual Underspent | C18: ='PSD Budget Inves Totals 21-23'!B4-'PSD Budget Inves Totals 21-23'!B12 -> 654469.87 | D18: Not included in 2021 loan
A19: Total NG EEU Fund | C19: =SUM(C16:C18) -> 6584487.9
A21: Reallocation of unspent funds (2018-2020)
A22: Give back per Case 21-1616-PET (credit) | C22: =251387*0.5 -> 125693.5 | D22: Half applied to 2022 EEC of the $251,087 to mitigate rate impact
A24: Under Collections of funds Rule 5.300 section (D)
A25: Estimate of Collections 2022 | C25: ='Over Under True Up'!I42 -> -23507.839 | D25: Actuals through August of 2022
A26: True up actual collections 2021 | C26: ='Over Under True Up'!F49 -> -32622.1
C27: =SUM(C25:C26) -> -56129.939
A29: CY2023 Funding requirements 5.305 (B) | C29: =C16+C17+C18-C22+C27 -> 6402664.4 | D29: Total NG EEU FUND not including loan mechanism projections and true up
A32: VGS Finance Mechanism Amortization only
A33: Loan 1 | C33: ='Loan Amortization'!K11 -> 70705.201 | D33: True up of 2021 based on actual loan amount carrying costs and amortization
A34: Loan 2 | C34: ='Loan Amortization'!W11 -> 240722.72 | D34: 2022 Projected Investment with true up from EEC 2022 Estimate
A35: Loan 3 | C35: ='Loan Amortization'!AI11 -> 163237.1 | D35: 2023 Projected Investment, amortization principal only
A36: Total carrying costs and principal | C36: =SUM(C33:C35) -> 474665.03
A38: Funding including amortization and carrying costs | C38: =C29+C36 -> 6877329.5 | D38: Funding requirements plus estimated amortization of loans and carrying costs
A40: Projected 2023 Investment | C40: =-'Loan Amortization'!AB3 -> -3264742
A42: Total EEC Collection for 2023 for smooth rate path | C42: =C44/(1-C48) -> 3659242.8 | D42: Adjusted for GRT and Weatherization
A44: Collections minus GRT and Wx | C44: =C38+C40 -> 3612587.5 | D44: Excluding GRT and Wx
A46: GRT and Wx | C46: =C42-C44 -> 46655.346
A48: GRT and Wx combined | C48: =C50+C51 -> 0.01275 | D48: GRT increased to .00525 effective 7/1/19. DPS/PUC remains at .003. Wx .0075
A50: Gross Receipts | C50: 0.00525 | D50: GRT .00525 effective 7/1/19
A51: Weatherization Tax | C51: 0.0075 | D51: Wx .0075

Sheet Potential EEC 2024 Rates VGS
A1: Attachment: VGS Proposed 2024 EEC rates | H1: VGS Proposal
B2: Forecasted 2024 Mcf | C2: Current GEEC Rates | D2: Projected GEEC Revenues at Current Rates | E2: Class Share GEEC Revenues at Current Rates | F2: GEEC To Be Billed by Rate Class | G2: Proposed GEEC Rates per MCf | H2: Proposed GEEC Rates per CCf | I2: Percent Change GEEC
L5: Projected Avg | M5: Projected Avg | N5: Average Annual | P5: Proposed 2024 EEC
L6: # customers | M6: Mcf/Part | N6: EEC 2023 Current | O6: EEC 2024 Proposed | P6: Annual Variance | Q6: Monthly Variance
A7: Residential | B7: ='15 years_PSD Surrebuttal'!H14-'AVG Liap customers'!C24 -> 3818083.4 | C7: ='Prop EEC 2023 Rates'!H7 -> 0.05056 | D7: =C7*B7*10 -> 1930423 | E7: =D7/$D$14 -> 0.52554124 | F7: =E7*$C$45 -> 2003800.2 | G7: =ROUND(F7/B7,4) -> 0.5248 | H7: =G7/10 -> 0.05248 | I7: =H7/C7-1 -> 0.037974684 | K7: =A7 -> Residential | L7: ='VGS forecast'!BU33-2043 -> 46587.75 | M7: =B7/L7 -> 81.954664 | N7: =M7*10*C7 -> 41.436278 | O7: =$M7*10*$H7 -> 43.009808 | P7: =O7-N7 -> 1.5735296 | Q7: =P7/12 -> 0.13112746
A8: Low Income | B8: ='AVG Liap customers'!C24 -> 189266.6 | C8: ='Prop EEC 2023 Rates'!H8 -> 0.04045 | D8: =C8*B8*10 -> 76558.339 | E8: =D8/$D$14 -> 0.020842357 | F8: =E8*$C$45 -> 79468.397 | G8: =ROUND(F8/B8,4) -> 0.4199 | H8: =G8/10 -> 0.04199 | I8: =H8/C8-1 -> 0.038071693 | K8: =A8 -> Low Income | L8: 2043 | M8: =B8/L8 -> 92.641507 | N8: =M8*10*C8 -> 37.473489 | O8: =$M8*10*$H8 -> 38.900169 | P8: =O8-N8 -> 1.4266792 | Q8: =P8/12 -> 0.11888993
A9: G1 Class | B9: 639276 | C9: ='Prop EEC 2023 Rates'!H9 -> 0.04781 | D9: =C9*B9*10 -> 305637.86 | E9: =D9/$D$14 -> 0.083207308 | F9: =E9*$C$45 -> 317255.45 | G9: =ROUND(F9/B9,4) -> 0.4963 | H9: =G9/10 -> 0.04963 | I9: =H9/C9-1 -> 0.03806735 | K9: =A9 -> G1 Class | L9: ='VGS forecast'!BU34 -> 4034.0833 | M9: =B9/L9 -> 158.46871 | N9: =M9*10*C9 -> 75.763892 | O9: =$M9*10*$H9 -> 78.648023 | P9: =O9-N9 -> 2.8841306 | Q9: =P9/12 -> 0.24034422
A10: G2 Class | B10: 199494 | C10: ='Prop EEC 2023 Rates'!H10 -> 0.03709 | D10: =C10*B10*10 -> 73992.325 | E10: =D10/$D$14 -> 0.020143781 | F10: =E10*$C$45 -> 76804.846 | G10: =ROUND(F10/B10,4) -> 0.385 | H10: =G10/10 -> 0.0385 | I10: =H10/C10-1 -> 0.038015638 | K10: =A10 -> G2 Class | L10: ='VGS forecast'!BU35 -> 1063.4167 | M10: =B10/L10 -> 187.59721 | N10: =M10*10*C10 -> 69.579805 | O10: =$M10*10*$H10 -> 72.224926 | P10: =O10-N10 -> 2.6451207 | Q10: =P10/12 -> 0.22042672
A11: G3 Class | B11: 707709 | C11: ='Prop EEC 2023 Rates'!H11 -> 0.03728 | D11: =C11*B11*10 -> 263833.92 | E11: =D11/$D$14 -> 0.07182654 | F11: =E11*$C$45 -> 273862.5 | G11: =ROUND(F11/B11,4) -> 0.387 | H11: =G11/10 -> 0.0387 | I11: =H11/C11-1 -> 0.038090129 | K11: =A11 -> G3 Class | L11: ='VGS forecast'!BU36 -> 520.91667 | M11: =B11/L11 -> 1358.5839 | N11: =M11*10*C11 -> 506.48008 | O11: =$M11*10*$H11 -> 525.77197 | P11: =O11-N11 -> 19.291891 | Q11: =P11/12 -> 1.6076576
A12: G4 Class | B12: 1508413 | C12: ='Prop EEC 2023 Rates'!H12 -> 0.02872 | D12: =C12*B12*10 -> 433216.21 | E12: =D12/$D$14 -> 0.11793943 | F12: =E12*$C$45 -> 449683.19 | G12: =ROUND(F12/B12,4) -> 0.2981 | H12: =G12/10 -> 0.02981 | I12: =H12/C12-1 -> 0.037952646 | K12: =A12 -> G4 Class | L12: ='VGS forecast'!BU37 -> 561.66667 | M12: =B12/L12 -> 2685.6018 | N12: =M12*10*C12 -> 771.30483 | O12: =$M12*10*$H12 -> 800.57789 | P12: =O12-N12 -> 29.273059 | Q12: =P12/12 -> 2.4394216
A13: Interruptible | B13: 2839825 | C13: ='Prop EEC 2023 Rates'!H13 -> 0.02076 | D13: =C13*B13*10 -> 589547.67 | E13: =D13/$D$14 -> 0.16049934 | F13: =E13*$C$45 -> 611956.96 | G13: =ROUND(F13/B13,4) -> 0.2155 | H13: =G13/10 -> 0.02155 | I13: =H13/C13-1 -> 0.03805395 | K13: =A13 -> Interruptible | L13: ='VGS forecast'!BU41 -> 41.916667 | M13: =B13/L13 -> 67749.304 | N13: =M13*10*C13 -> 14064.756 | O13: =$M13*10*$H13 -> 14599.975 | P13: =O13-N13 -> 535.2195 | Q13: =P13/12 -> 44.601625
A14: Totals | B14: =SUM(B7:B13) -> 9902067 | C14: ='Prop EEC 2023 Rates'!H14 -> 0.037139398 | D14: =SUM(D7:D13) -> 3673209.3 | E14: =SUM(E7:E13) -> 1 | F14: =SUM(F7:F13) -> 3812831.6 | G14: =ROUND(F14/B14,4) -> 0.3851 | H14: =(B7*H7+B8*H8+B9*H9+B10*H10+B11*H11+B12*H12+B13*H13)/B14 -> 0.038505139 | I14: =H14/C14-1 -> 0.036773379
A16: This modeling was done to see what impact 2023 might have to 2024 - no budgets have been approved yet and assumed no over/under on collections
A17: Forecasts will have to be updated along with over/under projections, reallocations of funds, true up on investment amounts and newly approved PUC approved budgets from DRP 2024-2026 proceedings
A19: VGS Total Budget 2024 Rule 5.305 D | C19: ='PSD Budget Inves Totals 21-23'!E4 -> 6267878.3 | D19: 2024 budget will be reviewed/discussed during DRP 2024-2026 Proceedings
A24: Give back per Case 21-1616-PET (credit)
A26: Under Collections of funds Rule 5.300 section (D)
A27: Estimate of Collections 2022
A28: True up actual collections 2021 | D28: Assumes net collections | O28: 0 | P28: =C28-O28 -> 0
C29: =SUM(C27:C28) -> 0 | O29: 0 | P29: =C29-O29 -> 0
P30: =C30-O30 -> 0
A31: CY2023 Funding requirements 5.305 (B) | C31: =C19+C20+C21+C24+C29 -> 6267878.3 | D31: Total NG EEU FUND minus Under collections minus reallocation | O31: 6267878.3 | P31: =C31-O31 -> 0
P32: =C32-O32 -> 0
P33: =C33-O33 -> 0
A34: VGS Finance Mechanism Amortization only | P34: =C34-O34 -> 0
A35: Loan 1 | C35: ='Loan Amortization'!K12 -> 80482.723 | O35: 80482.723 | P35: =C35-O35 -> 0
A36: Loan 2 | C36: ='Loan Amortization'!W12 -> 256245.59 | O36: 326669.66 | P36: =C36-O36 -> -70424.072
A37: Loan 3 | C37: ='Loan Amortization'!AI12 -> 444458.26 | O37: 353228.98 | P37: =C37-O37 -> 91229.279
A38: Loan 4 (2024 est principle only) | C38: ='PSD Budget Inves Totals 21-23'!E5/15*0.5 -> 113270.58 | D38: 2024 est loan (div 15 times .5 partial year) | O38: 113270.58 | P38: =C38-O38 -> 0
P39: =C39-O39 -> 0
P40: =C40-O40 -> 0
A41: Total carrying costs and principal | C41: =SUM(C35:C38) -> 894457.15 | O41: 873651.95 | P41: =C41-O41 -> 20805.206
P42: =C42-O42 -> 0
A43: Funding including amortization and carrying costs | C43: =C31+C41 -> 7162335.4 | D43: Funding requirements plus estimated amortization of loans and carrying costs | O43: 7141530.2 | P43: =C43-O43 -> 20805.206
A44: Less Loan | C44: =-'PSD Budget Inves Totals 21-23'!E5 -> -3398117.4 | D44: Projected 2024 Investment Amount | O44: -3398117.4 | P44: =C44-O44 -> 0
A45: Total EEC Collection for 2024 for smooth rate path | C45: =C47/(1-C54) -> 3812831.6 | D45: Adjusted for GRT and Weatherization | O45: 3791757.7 | P45: =C45-O45 -> 21073.899
P46: =C46-O46 -> 0
A47: Collections minus GRT and Wx | C47: =C43+C44 -> 3764218 | D47: Excluding GRT and Wx | O47: 3743412.8 | P47: =C47-O47 -> 20805.206
P48: =C48-O48 -> 0
A49: GRT and Wx | C49: =C45-C47 -> 48613.603 | O49: 48344.911 | P49: =C49-O49 -> 268.69221
...

Sheet PSD Budget Inves Totals 21-23
A2: PSD Recommendations - VGS Budgets, EEC Collections, Investment Levels
B3: 2021 | C3: 2022 | D3: 2023 | E3: 2024 | F3: 2025 | G3: 2026 | H3: 2027 | I3: 2028 | J3: 2029 | K3: 2030
A4: Total VGS Budget | B4: 4593333 | C4: 5262600 | D4: 5765226 | E4: 6267878.3 | F4: 6270557 | G4: 5773262.6 | H4: 5275995.2 | I4: 4778755.2 | J4: 4531542.7 | K4: 4284358.2 | M4: =SUM(B4:D4) -> 15621159
A5: VGS Investment Level | B5: 1205755.4 | C5: 2006848.2 | D5: 2659473.5 | E5: 3398117.4 | F5: 3660721.7 | G5: 3336927.3 | H5: 2913286.9 | I5: 2414799.9 | J5: 2091465.5 | K5: 1693283.2 | M5: =SUM(B5:D5) -> 5872077.2
A7: Actual/Forecasted Loan | B7: ='Loan Amortization'!D5 -> 642301 | C7: ='Loan Amortization'!P5 -> 1965034 | D7: ='Loan Amortization'!AB5 -> 3264742
A8: Rate Change Actual/Forecasted | B8: 0.031 | C8: 0.038 | D8: ='Prop EEC 2023 Rates'!I14 -> -0.016308761 | E8: ='Potential EEC 2024 Rates VGS'!I14 -> 0.036773379
A10: Budgeted Rate Change (TJ Forecast) | B10: 0.029 | C10: 0.038 | D10: 0.052
A12: Actual/Forecast Spend (no GRT/Wx tax) | B12: =3446149.27+199225.95+293487.91 -> 3938863.1 | C12: =C46 -> 5097808 | D12: =(B4+C4+D4)-C12-B12 -> 6584487.9 | E12: =E4 -> 6267878.3
B15: 2031 | C15: 2032 | D15: 2033 | E15: 2034 | F15: 2035 | G15: 2036 | H15: 2037 | I15: 2038 | J15: 2039 | K15: 2040
A16: Total VGS Budget | B16: 4407201.8 | C16: 4533673.8 | D16: 4663882.5 | E16: 4797939.5 | F16: 4935959.6 | G16: 5078061.1 | H16: 5224365.9 | I16: 5374999.5 | J16: 5530091.1 | K16: 5689773.8
A17: VGS Investment Level | B17: 1645404 | C17: 1551248.3 | D17: 1435923.7 | E17: 1324541 | F17: 1167214.6 | G17: 914062.13 | H17: 665204.79 | I17: 320767.48 | J17: -0.13306955 | K17: 0.47710153
B18: =B4-B12 -> 654469.87 | C18: =C4-C12 -> 164792
A20: Budget
A21: By Category | B21: 44197 | C21: 44592 | D21: 44957 | E21: 45322 | F21: 45688 | G21: 46053 | H21: 46418 | I21: 46783 | J21: 47149 | K21: 47514 | L21: 47879 | M21: 48244 | N21: 48610 | O21: 48975 | P21: 49340 | Q21: 49705 | R21: 50071 | S21: 50436 | T21: 50801 | U21: 51166
A22: RA | B22: 4047752.8 | C22: 4731869.8 | D22: 5332595.8 | E22: 5780669.7 | F22: 5651563.5 | G22: 5286803 | H22: 4760966.2 | I22: 4159325.9 | J22: 4017204.1 | K22: 3770899 | L22: 3757159.1 | M22: 4009673 | N22: 4121852.5 | O22: 4146612.8 | P22: 4383098.4 | Q22: 4536827.6 | R22: 4541551.5 | S22: 4822636.3 | T22: 4959488.9 | U22: 5004774.6
A23: DSS | B23: 260000.21 | C23: 262600.21 | D23: 265226.21 | E23: 267878.47 | F23: 270557.26 | G23: 273262.83 | H23: 275995.46 | I23: 278755.41 | J23: 281542.97 | K23: 284358.4 | L23: 287201.98 | M23: 290074 | N23: 292974.74 | O23: 295904.49 | P23: 298863.53 | Q23: 301852.17 | R23: 304870.69 | S23: 307919.4 | T23: 310998.59 | U23: 314108.58
A24: DPS Evaluation | B24: 260700 | C24: 257930 | D24: 142120 | E24: 208718 | F24: 322732 | G24: 202156 | H24: 212892 | I24: 329187 | J24: 206199.12 | K24: 217149.84 | L24: 335770.74 | M24: 221493 | N24: 221492.84 | O24: 342486.15 | P24: 225922.86 | Q24: 225922.69 | R24: 349335.88 | S24: 230441.32 | T24: 230441.15 | U24: 356322.6
A25: TEPF Clearing House | B25: 14880 | C25: 0 | D25: 14880 | E25: 0 | F25: 14880 | G25: 0 | H25: 14880 | I25: 0 | J25: 14880 | K25: 0 | L25: 14880 | M25: 0 | N25: 14880 | O25: 0 | P25: 14880 | Q25: 0 | R25: 14880 | S25: 0 | T25: 14880 | U25: 0
A26: Fiscal Agent | B26: 2500 | C26: 2550 | D26: 2601 | E26: 2653.02 | F26: 2706.0804 | G26: 2760.202 | H26: 2815.406 | I26: 2871.7142 | J26: 2929.1485 | K26: 2987.7314 | L26: 3047.486 | M26: 3108.4358 | N26: 3170.6045 | O26: 3234.0166 | P26: 3298.6969 | Q26: 3364.6708 | R26: 3431.9643 | S26: 3500.6035 | T26: 3570.6156 | U26: 3642.0279
A27: Fiscal Agent Audit | B27: 7500 | C27: 7650 | D27: 7803 | E27: 7959.06 | F27: 8118.2412 | G27: 8280.606 | H27: 8446.2181 | I27: 8615.1425 | J27: 8787.4454 | K27: 8963.1943 | L27: 9142.4581 | M27: 9325.3073 | N27: 9511.8135 | O27: 9702.0497 | P27: 9896.0907 | Q27: 10094.013 | R27: 10295.893 | S27: 10501.811 | T27: 10711.847 | U27: 10926.084
A28: Total Other Costs | B28: 285580 | C28: 268130 | D28: 167404 | E28: 219330.08 | F28: 348436.32 | G28: 213196.81 | H28: 239033.62 | I28: 340673.86 | J28: 232795.71 | K28: 229100.77 | L28: 362840.68 | M28: 233926.74 | N28: 249055.25 | O28: 355422.22 | P28: 253997.65 | Q28: 239381.38 | R28: 377943.73 | S28: 244443.73 | T28: 259603.61 | U28: 370890.71
A29: Total EEU | B29: 4593333 | C29: 5262600 | D29: 5765226 | E29: 6267878.3 | F29: 6270557 | G29: 5773262.6 | H29: 5275995.2 | I29: 4778755.2 | J29: 4531542.7 | K29: 4284358.2 | L29: 4407201.8 | M29: 4533673.8 | N29: 4663882.5 | O29: 4797939.5 | P29: 4935959.6 | Q29: 5078061.1 | R29: 5224365.9 | S29: 5374999.5 | T29: 5530091.1 | U29: 5689773.8
B30: =B22+B23+B28 -> 4593333 | C30: =C22+C23+C28 -> 5262600 | D30: =D22+D23+D28 -> 5765226 | E30: =E22+E23+E28 -> 6267878.3 | F30: =F22+F23+F28 -> 6270557 | G30: =G22+G23+G28 -> 5773262.6 | H30: =H22+H23+H28 -> 5275995.2 | I30: =I22+I23+I28 -> 4778755.2 | ... U30: =U22+U23+U28 -> 5689773.8
A32: Invest ment | B32: =B5 -> 1205755.4 | C32: =C5 -> 2006848.2 | D32: =D5 -> 2659473.5 | E32: =E5 -> 3398117.4 | F32: =F5 -> 3660721.7 | G32: =G5 -> 3336927.3 | H32: =H5 -> 2913286.9 | I32: =I5 -> 2414799.9 | ... K32: =K5 -> 1693283.2 | L32: =B17 -> 1645404 | M32: =C17 -> 1551248.3 | N32: =D17 -> 1435923.7 | O32: =E17 -> 1324541 | P32: =F17 -> 1167214.6 | Q32: =G17 -> 914062.13 | R32: =H17 -> 665204.79 | S32: =I17 -> 320767.48 | ... U32: =K17 -> 0.47710153
A33: Per TJ DRP file, VGS collections based on load with no EEC change | B33: 3462577.6 | C33: 3480751.8 | D33: 3505752.5 | E33: 3529760.8 | F33: 3534835.4 | G33: 3536335.3 | H33: 3537708.3 | I33: 3538955.3 | J33: 3540077.2 | K33: 3541075 | L33: 3536797.7 | M33: 3532425.5 | N33: 3527958.8 | O33: 3523398.5 | P33: 3518745 | Q33: 3513999 | R33: 3509161.1 | S33: 3504232 | T33: 3499212.2 | U33: 3494102.4
A35: Add'l added on to BAU (hard keyed by TJ) | B35: 75000 | C35: 225000 | D35: 400000 | E35: 660000 | F35: 925000 | G35: 1100000 | H35: 1175000 | I35: 1175000 | J35: 1100000 | K35: 950000 | L35: 775000 | M35: 550000 | N35: 300000 | O35: 50000 | P35: -250000 | Q35: -650000 | R35: -1050000 | S35: -1550000 | T35: -2030879 | U35: -2195671
A37: Per TJ Formula- Investment Level | B37: =B30-B33+B35 -> 1205755.4 | C37: =C30-C33+C35 -> 2006848.2 | D37: =D30-D33+D35 -> 2659473.5 | E37: =E30-E33+E35 -> 3398117.4 | F37: =F30-F33+F35 -> 3660721.7 | G37: =G30-G33+G35 -> 3336927.3 | H37: =H30-H33+H35 -> 2913286.9 | I37: =I30-I33+I35 -> 2414799.9 | ... U37: =U30-U33+U35 -> 0.47710153
A40: Year | B40: 2021 | C40: 2022
A41: Actual | B41: =3446149.27+199225.95+293487.91 -> 3938863.1 | C41: 2497808
A42: Estimated $500K per month Sept-Dec 2022 | C42: =500000*4 -> 2000000
A43: Commercial incentives (under contract and assumed to be paid out prior to end of 2022) not included in estiamted in row 42 | C43: 600000
A46: Total | B46: =SUM(B41:B45) -> 3938863.1 | C46: =SUM(C41:C45) -> 5097808

Sheet Loan Amortization
A1: True up of Loan Amortization by Year
B2: CY 2021 Loan/Reg Asset | N2: CY 2022 Loan/Reg Asset | Z2: CY 2023 Loan/Reg Asset | AK2: Tota Loan in DRP
C3: Estimated Amount | D3: 925071 | O3: Estimated Amount | P3: 2348169 | AA3: Estimated Amount | AB3: =5872077-P4-D5 -> 3264742 | AC3: defaulting to budget (for 3 year period) | AK3: =AB5+P5+D5 -> 5872077
C4: Estimated Amount Y2 | D4: 690132 | O4: Estimated Amount Y2 | P4: 1965034 | AA4: Estimated Amount Y2 | AB4: =AB3 -> 3264742
C5: Actual Amount | D5: 642301 | O5: Actual Amount | P5: 1965034 | AA5: Actual Amount | AB5: =AB4 -> 3264742
C6: Term | D6: 15 | O6: Term | P6: 15 | AA6: Term | AB6: 15
AA7: Yr1 | AB7: 0.75 | AD7: assumed only needed for year
B8: Year | C8: Beg Bal | D8: True Up of principal | E8: 1/15th of true up | F8: Principal Recovery | G8: Ending Bal | H8: WACC % | I8: WACC $ | J8: Y2 WACC True up | K8: Total Recovery | N8: Year | O8: Beg Bal | P8: True Up of principal | Q8: 1/15th of true up | R8: Principal Recovery | S8: Ending Bal | T8: WACC % | U8: WACC $ | V8: Y2 WACC True up | W8: Total Recovery | Z8: Year | AA8: Beg Bal | AB8: True Up of principal | AC8: 1/15th of true up | AD8: Principal Recovery | AE8: Ending Bal | AF8: WACC % | AG8: WACC $ | AH8: Y2 WACC True up | AI8: Total Recovery | AK8: Total
A9: Y1 | B9: 2021 | C9: =D3 -> 925071 | F9: =D3/$D$6 -> 61671.4 | G9: =C9-D9-F9 -> 863399.6 | K9: =E9+F9+I9 -> 61671.4
A10: Y2 | B10: 2022 | C10: =G9 -> 863399.6 | D10: =D4-D3 -> -234939 | E10: =(D4-D3)/15 -> -15662.6 | F10: =D4/($D$6) -> 46008.8 | G10: =C10+D10-F10-E10 -> 598114.4 | H10: 0.074953102 | I10: =AVERAGE(690132,644123)*H10 -> 50003.276 | K10: =E10+F10+I10 -> 80349.476 | M10: Y1 | N10: 2022 | O10: =P3 -> 2348169 | R10: =P3/$D$6 -> 156544.6 | S10: =O10-P10-R10 -> 2191624.4 | W10: =Q10+R10+U10 -> 156544.6
A11: Y3 | B11: 2023 | C11: =G10 -> 598114.4 | D11: =D5-D4 -> -47831 | E11: =(D5-D4)/15*2 -> -6377.4667 | F11: =D$5/15 -> 42820.067 | G11: =C11+D11-F11-E11 -> 513840.8 | H11: ='15 years_PSD Surrebuttal'!C70 -> 0.07648315 | I11: =AVERAGE(((D5-(D5/15)*2)),((D5-(D5/15)*3)))*H11 -> 40937.67 | J11: =AVERAGE((D5-(D5/D6)),((D5-(D5/D6)*2)))*H10-I10 -> -6675.0685 | K11: =E11+F11+I11+J11 -> 70705.201 | M11: Y2 | N11: 2023 | O11: =S10 -> 2191624.4 | P11: =P4-P3 -> -383135 | Q11: =(P4-P3)/15 -> -25542.333 | R11: =P4/($P$6) -> 131002.27 | S11: =O11+P11-R11-Q11 -> 1703029.5 | T11: =H11 -> 0.07648315 | U11: =AVERAGE((P4-P4/P6),S11)*T11 -> 135262.79 | W11: =Q11+R11+U11 -> 240722.72 | Y11: Y1 | Z11: 2023 | AA11: =AB3 -> 3264742 | AD11: =((AB3/$AB$6))*AB7 -> 163237.1 | AE11: =AA11-AB11-AD11 -> 3101504.9 | AI11: =AC11+AD11+AG11 -> 163237.1 | AK11: =AI11+W11+K11 -> 474665.03
A12: Y4 | B12: 2024 | C12: =G11 -> 513840.8 | E12: =D12/15 -> 0 | F12: =D$5/D$6 -> 42820.067 | G12: =C12+D12-F12 -> 471020.73 | H12: =H11 -> 0.07648315 | I12: =AVERAGE(G11:G12)*H12 -> 37662.656 | K12: =E12+F12+I12 -> 80482.723 | M12: Y3 | N12: 2024 | O12: =S11 -> 1703029.5 | P12: =P5-P4 -> 0 | Q12: =(P5-P4)/15*2 -> 0 | R12: =P$5/P6 -> 131002.27 | S12: =O12+P12-R12-Q12 -> 1572027.2 | T12: =T11 -> 0.07648315 | U12: =AVERAGE(((P5-(P5/15)*2)),((P5-(P5/15)*3)))*T12 -> 125243.33 | V12: =AVERAGE((P5-(P5/P6)),((P5-(P5/P6)*2)))*T11-U11 -> 0 | W12: =Q12+R12+U12+V12 -> 256245.59 | Y12: Y2 | Z12: 2024 | AA12: =AE11 -> 3101504.9 | AB12: =AB4-AB3 -> 0 | AC12: =(AB4-AB3)/15 -> 0 | AD12: =AB4/($AB$6) -> 217649.47 | AE12: =AA12+AB12-AD12-AC12 -> 2883855.4 | AF12: =T12 -> 0.07648315 | AG12: =AVERAGE((AB4-AB4/AB6),AE12)*AF12 -> 226808.79 | AI12: =AC12+AD12+AG12 -> 444458.26 | AK12: =AI12+W12+K12 -> 781186.57
A13: Y5 | B13: 2025 | C13: =G12 -> 471020.73 | E13: =D13/15 -> 0 | F13: =D$5/D$6 -> 42820.067 | G13: =C13+D13-F13 -> 428200.67 | I13: =AVERAGE(G12:G13)*H13 -> 0 | K13: =E13+F13+I13 -> 42820.067 | M13: Y4 | N13: 2025 | O13: =S12 -> 1572027.2 | Q13: =P13/15 -> 0 | R13: =P$5/15 -> 131002.27 | S13: =O13+P13-R13 -> 1441024.9 | U13: =AVERAGE(S12:S13)*T13 -> 0 | W13: =Q13+R13+U13 -> 131002.27 | Y13: Y3 | Z13: 2025 | AA13: =AE12 -> 2883855.4 | AB13: =AB5-AB4 -> 0 | AC13: =(AB5-AB4)/15*2 -> 0 | AD13: =AB$5/$AB$6 -> 217649.47 | AE13: =AA13+AB13-AD13-AC13 -> 2666206 | AG13: =AVERAGE(((AB5-(AB5/15)*2)),((AB5-(AB5/15)*3)))*AF13 -> 0 | AH13: =AVERAGE((AB5-(AB5/AB6*AB7)),((AB5-(AB5/AB6)*2)))*AF12-AG12 -> 0 | AI13: =AC13+AD13+AG13+AH13 -> 217649.47
A14: Y6 | B14: 2026 | C14: =G13 -> 428200.67 | E14: =D14/15 -> 0 | F14: =D$5/D$6 -> 42820.067 | G14: =C14+D14-F14 -> 385380.6 | I14: =AVERAGE(G13:G14)*H14 -> 0 | K14: =E14+F14+I14 -> 42820.067 | M14: Y5 | N14: 2026 | O14: =S13 -> 1441024.9 | Q14: =P14/15 -> 0 | R14: =P$5/15 -> 131002.27 | S14: =O14+P14-R14 -> 1310022.7 | U14: =AVERAGE(S13:S14)*T14 -> 0 | W14: =Q14+R14+U14 -> 131002.27 | Y14: Y4 | Z14: 2025 | AA14: =AE13 -> 2666206 | AC14: =AB14/15 -> 0 | AD14: =AB$5/$AB$6 -> 217649.47 | AE14: =AA14+AB14-AD14 -> 2448556.5 | AG14: =AVERAGE(AE13:AE14)*AF14 -> 0 | AI14: =AC14+AD14+AG14 -> 217649.47
A15: Y7 | B15: 2027 | C15: =G14 -> 385380.6 | E15: =D15/15 -> 0 | F15: =D$5/D$6 -> 42820.067 | G15: =C15+D15-F15 -> 342560.53 | I15: =AVERAGE(G14:G15)*H15 -> 0 | K15: =E15+F15+I15 -> 42820.067 | M15: Y6 | N15: 2027 | O15: =S14 -> 1310022.7 | Q15: =P15/15 -> 0 | R15: =P$5/15 -> 131002.27 | S15: =O15+P15-R15 -> 1179020.4 | U15: =AVERAGE(S14:S15)*T15 -> 0 | W15: =Q15+R15+U15 -> 131002.27 | Y15: Y5 | Z15: 2026 | AA15: =AE14 -> 2448556.5 | AC15: =AB15/15 -> 0 | AD15: =AB$5/$AB$6 -> 217649.47 | AE15: =AA15+AB15-AD15 -> 2230907 | AG15: =AVERAGE(AE14:AE15)*AF15 -> 0 | AI15: =AC15+AD15+AG15 -> 217649.47
A16: Y8 | B16: 2028 | C16: =G15 -> 342560.53 | E16: =D16/15 -> 0 | F16: =D$5/D$6 -> 42820.067 | G16: =C16+D16-F16 -> 299740.47 | I16: =AVERAGE(G15:G16)*H16 -> 0 | K16: =E16+F16+I16 -> 42820.067 | M16: Y7 | N16: 2028 | O16: =S15 -> 1179020.4 | Q16: =P16/15 -> 0 | R16: =P$5/15 -> 131002.27 | S16: =O16+P16-R16 -> 1048018.1 | U16: =AVERAGE(S15:S16)*T16 -> 0 | W16: =Q16+R16+U16 -> 131002.27 | Y16: Y6 | Z16: 2027 | AA16: =AE15 -> 2230907 | AC16: =AB16/15 -> 0 | AD16: =AB$5/$AB$6 -> 217649.47 | AE16: =AA16+AB16-AD16 -> 2013257.6 | AG16: =AVERAGE(AE15:AE16)*AF16 -> 0 | AI16: =AC16+AD16+AG16 -> 217649.47
A17: Y9 | B17: 2029 | C17: =G16 -> 299740.47 | E17: =D17/15 -> 0 | F17: =D$5/D$6 -> 42820.067 | G17: =C17+D17-F17 -> 256920.4 | I17: =AVERAGE(G16:G17)*H17 -> 0 | K17: =E17+F17+I17 -> 42820.067 | M17: Y8 | N17: 2029 | O17: =S16 -> 1048018.1 | Q17: =P17/15 -> 0 | R17: =P$5/15 -> 131002.27 | S17: =O17+P17-R17 -> 917015.87 | U17: =AVERAGE(S16:S17)*T17 -> 0 | W17: =Q17+R17+U17 -> 131002.27 | Y17: Y7 | Z17: 2028 | AA17: =AE16 -> 2013257.6 | AC17: =AB17/15 -> 0 | AD17: =AB$5/$AB$6 -> 217649.47 | AE17: =AA17+AB17-AD17 -> 1795608.1 | AG17: =AVERAGE(AE16:AE17)*AF17 -> 0 | AI17: =AC17+AD17+AG17 -> 217649.47
A18: Y10 | B18: 2030 | C18: =G17 -> 256920.4 | E18: =D18/15 -> 0 | F18: =D$5/D$6 -> 42820.067 | G18: =C18+D18-F18 -> 214100.33 | I18: =AVERAGE(G17:G18)*H18 -> 0 | K18: =E18+F18+I18 -> 42820.067 | M18: Y9 | N18: 2030 | O18: =S17 -> 917015.87 | Q18: =P18/15 -> 0 | R18: =P$5/15 -> 131002.27 | S18: =O18+P18-R18 -> 786013.6 | U18: =AVERAGE(S17:S18)*T18 -> 0 | W18: =Q18+R18+U18 -> 131002.27 | Y18: Y8 | Z18: 2029 | AA18: =AE17 -> 1795608.1 | AC18: =AB18/15 -> 0 | AD18: =AB$5/$AB$6 -> 217649.47 | AE18: =AA18+AB18-AD18 -> 1577958.6 | AG18: =AVERAGE(AE17:AE18)*AF18 -> 0 | AI18: =AC18+AD18+AG18 -> 217649.47
A19: Y11 | B19: 2031 | C19: =G18 -> 214100.33 | E19: =D19/15 -> 0 | F19: =D$5/D$6 -> 42820.067 | G19: =C19+D19-F19 -> 171280.27 | I19: =AVERAGE(G18:G19)*H19 -> 0 | K19: =E19+F19+I19 -> 42820.067 | M19: Y10 | N19: 2031 | O19: =S18 -> 786013.6 | Q19: =P19/15 -> 0 | R19: =P$5/15 -> 131002.27 | S19: =O19+P19-R19 -> 655011.33 | U19: =AVERAGE(S18:S19)*T19 -> 0 | W19: =Q19+R19+U19 -> 131002.27 | Y19: Y9 | Z19: 2030 | AA19: =AE18 -> 1577958.6 | AC19: =AB19/15 -> 0 | AD19: =AB$5/$AB$6 -> 217649.47 | AE19: =AA19+AB19-AD19 -> 1360309.2 | AG19: =AVERAGE(AE18:AE19)*AF19 -> 0 | AI19: =AC19+AD19+AG19 -> 217649.47
A20: Y12 | B20: 2032 | C20: =G19 -> 171280.27 | E20: =D20/15 -> 0 | F20: =D$5/D$6 -> 42820.067 | G20: =C20+D20-F20 -> 128460.2 | I20: =AVERAGE(G19:G20)*H20 -> 0 | K20: =E20+F20+I20 -> 42820.067 | M20: Y11 | N20: 2032 | O20: =S19 -> 655011.33 | Q20: =P20/15 -> 0 | R20: =P$5/15 -> 131002.27 | S20: =O20+P20-R20 -> 524009.07 | U20: =AVERAGE(S19:S20)*T20 -> 0 | W20: =Q20+R20+U20 -> 131002.27 | Y20: Y10 | Z20: 2031 | AA20: =AE19 -> 1360309.2 | AC20: =AB20/15 -> 0 | AD20: =AB$5/$AB$6 -> 217649.47 | AE20: =AA20+AB20-AD20 -> 1142659.7 | AG20: =AVERAGE(AE19:AE20)*AF20 -> 0 | AI20: =AC20+AD20+AG20 -> 217649.47
A21: Y13 | B21: 2033 | C21: =G20 -> 128460.2 | E21: =D21/15 -> 0 | F21: =D$5/D$6 -> 42820.067 | G21: =C21+D21-F21 -> 85640.133 | I21: =AVERAGE(G20:G21)*H21 -> 0 | K21: =E21+F21+I21 -> 42820.067 | M21: Y12 | N21: 2033 | O21: =S20 -> 524009.07 | Q21: =P21/15 -> 0 | R21: =P$5/15 -> 131002.27 | S21: =O21+P21-R21 -> 393006.8 | U21: =AVERAGE(S20:S21)*T21 -> 0 | W21: =Q21+R21+U21 -> 131002.27 | Y21: Y11 | Z21: 2032 | AA21: =AE20 -> 1142659.7 | AC21: =AB21/15 -> 0 | AD21: =AB$5/$AB$6 -> 217649.47 | AE21: =AA21+AB21-AD21 -> 925010.23 | AG21: =AVERAGE(AE20:AE21)*AF21 -> 0 | AI21: =AC21+AD21+AG21 -> 217649.47
A22: Y14 | B22: 2034 | C22: =G21 -> 85640.133 | E22: =D22/15 -> 0 | F22: =D$5/D$6 -> 42820.067 | G22: =C22+D22-F22 -> 42820.067 | I22: =AVERAGE(G21:G22)*H22 -> 0 | K22: =E22+F22+I22 -> 42820.067 | M22: Y13 | N22: 2034 | O22: =S21 -> 393006.8 | Q22: =P22/15 -> 0 | R22: =P$5/15 -> 131002.27 | S22: =O22+P22-R22 -> 262004.53 | U22: =AVERAGE(S21:S22)*T22 -> 0 | W22: =Q22+R22+U22 -> 131002.27 | Y22: Y12 | Z22: 2033 | AA22: =AE21 -> 925010.23 | AC22: =AB22/15 -> 0 | AD22: =AB$5/$AB$6 -> 217649.47 | AE22: =AA22+AB22-AD22 -> 707360.77 | AG22: =AVERAGE(AE21:AE22)*AF22 -> 0 | AI22: =AC22+AD22+AG22 -> 217649.47
A23: Y15 | B23: 2035 | C23: =G22 -> 42820.067 | E23: =D23/15 -> 0 | F23: =D$5/D$6 -> 42820.067 | G23: =C23+D23-F23 -> 5.8207661e-11 | I23: =AVERAGE(G22:G23)*H23 -> 0 | K23: =E23+F23+I23 -> 42820.067 | M23: Y14 | N23: 2035 | O23: =S22 -> 262004.53 | Q23: =P23/15 -> 0 | R23: =P$5/15 -> 131002.27 | S23: =O23+P23-R23 -> 131002.27 | U23: =AVERAGE(S22:S23)*T23 -> 0 | W23: =Q23+R23+U23 -> 131002.27 | Y23: Y13 | Z23: 2034 | AA23: =AE22 -> 707360.77 | AC23: =AB23/15 -> 0 | AD23: =AB$5/$AB$6 -> 217649.47 | AE23: =AA23+AB23-AD23 -> 489711.3 | AG23: =AVERAGE(AE22:AE23)*AF23 -> 0 | AI23: =AC23+AD23+AG23 -> 217649.47
F24: =SUM(F9:F23)+SUM(E9:E23)-D5 -> 0 | M24: Y15 | N24: 2036 | O24: =S23 -> 131002.27 | Q24: =P24/15 -> 0 | R24: =P$5/15 -> 131002.27 | S24: =O24+P24-R24 -> 4.0745363e-10 | U24: =AVERAGE(S23:S24)*T24 -> 0 | W24: =Q24+R24+U24 -> 131002.27 | Y24: Y14 | Z24: 2035 | AA24: =AE23 -> 489711.3 | AC24: =AB24/15 -> 0 | AD24: =AB$5/$AB$6 -> 217649.47 | AE24: =AA24+AB24-AD24 -> 272061.83 | AG24: =AVERAGE(AE23:AE24)*AF24 -> 0 | AI24: =AC24+AD24+AG24 -> 217649.47
Y25: Y15 | Z25: 2036 | AA25: =AE24 -> 272061.83 | AC25: =AB25/15 -> 0 | AD25: =AB$5/$AB$6 -> 217649.47 | AE25: =AA25+AB25-AD25 -> 54412.367 | AG25: =AVERAGE(AE24:AE25)*AF25 -> 0 | AI25: =AC25+AD25+AG25 -> 217649.47
Y26: Y16 | Z26: 2037 | AA26: =AE25 -> 54412.367 | AB26: {=+AB25:AE26} -> 0 | AC26: =AB26/15 -> 0 | AD26: =(AB$5/$AB$6)*(1-AB7) -> 54412.367 | AE26: =AA26+AB26-AD26 -> -1.1350494e-09 | AG26: =AVERAGE(AE25:AE26)*AF26 -> #VALUE! | AI26: =AC26+AD26+AG26 -> 43493.712

Sheet VGS forecast
B1: Base on Aug 18 FY19 excel file from LH | N1: Based on Sept FY20 from Todd L | AB1: Based on Sept FY20 from Todd L
A2: Estimated EEU Revenues | AL2: Taken from Oct PGA to get one calendar year on most recent rate case | BN2: Taken from Oct PGA to get one calendar year on most recent rate case
B3: 2018 | C3: 2018 | D3: 2018 | E3: 2019 | F3: 2019 | G3: 2019 | H3: 2019 | I3: 2019 | J3: 2019 | K3: 2019 | L3: 2019 | M3: 2019 | N3: 2019 | O3: 2019 | P3: 2019 | Q3: 2020 | R3: 2020 | S3: 2020 | T3: 2020 | U3: 2020 | V3: 2020 | W3: 2020 | X3: 2020 | Y3: 2020 | Z3: 2020 | AA3: 2020 | AB3: 2020 | AC3: 2021 | AD3: 2021 | AE3: 2021 | AF3: 2021 | AG3: 2021 | AH3: 2021 | AI3: 2021 | AJ3: 2021 | AK3: 2021 | AL3: 2021 | AM3: 2021 | AN3: 2021 | AO3: 2022 | AP3: 2022 | AQ3: 2022 | AR3: 2022 | AS3: 2022 | AT3: 2022 | AU3: 2022 | AV3: 2022 | AW3: 2022 | AX3: 2022 | AY3: 2022 | AZ3: 2022 | BA3: 2023 | BB3: 2023 | BC3: 2023 | BD3: 2023 | BE3: 2023 | BF3: 2023 | BG3: 2023 | BH3: 2023 | BI3: 2023 | BJ3: 2023 | BK3: 2023 | BL3: 2023 | BN3: 0 | BO3: 0 | BP3: Oct-Sep
A4: Forecasted Revenue | B4: October | C4: November | D4: December | E4: January | F4: February | G4: March | H4: April | I4: May | J4: June | K4: July | L4: August | M4: September | N4: October | O4: November | P4: December | Q4: January | R4: February | S4: March | T4: April | U4: May | V4: June | W4: July | X4: August | Y4: September | Z4: October | AA4: November | AB4: December | AC4: January | AD4: February | AE4: March | AF4: April | AG4: May | AH4: June | AI4: July | AJ4: August | AK4: September | AL4: October | AM4: November | AN4: December | AO4: January | AP4: February | AQ4: March | AR4: April | AS4: May | AT4: June | AU4: July | AV4: August | AW4: September | AX4: October | AY4: November | AZ4: December | BA4: January | BB4: February | BC4: March | BD4: April | BE4: May | BF4: June | BG4: July | BH4: August | BI4: September | BJ4: October | BK4: November | BL4: December | BN4: 2020-21 | BO4: 0 | BP4: 2020-21 | BR4: CY 2019 total | BS4: CY 2020 Total | BT4: CY 2021 Total | BU4: CY 2022 Total | BV4: CY 2023 Total | BZ4: CY 2020 Total | CA4: CY 2021 Total | CB4: CY 2022 Total
A5: R | B5: 2228356.8 | C5: 4322996.7 | D5: 6264470.8 | E5: 7791553.6 | F5: 8081722.8 | G5: 7226871.9 | H5: 5586925.6 | I5: 3467225 | J5: 2337983.1 | K5: 1981042.6 | L5: 1915559.3 | M5: 1912627.6 | N5: 2188463 | O5: 3751217.5 | P5: 5574170.9 | Q5: 7435211.4 | R5: 7424386.7 | S5: 6598419.6 | T5: 5122393.3 | U5: 3365302 | V5: 2231402.8 | W5: 1877569.1 | X5: 1874707.1 | Y5: 1870360.1 | Z5: 2260982.5 | AA5: 3935469.6 | AB5: 5871827.2 | AC5: 7752040.7 | AD5: 7757332.8 | AE5: 6760332.1 | AF5: 5448413.3 | AG5: 3572735 | AH5: 2351956.8 | AI5: 1967245.4 | AJ5: 1920318.2 | AK5: 1916478.7 | AL5: 2319292.9 | AM5: 3939698.8 | AN5: 5828709.8 | AO5: 8083541.7 | AP5: 8307063.9 | AQ5: 7177777.3 | AR5: 5775763.3 | AS5: 3895795 | AT5: 2451290.9 | AU5: 2016957.4 | AV5: 1986752.8 | AW5: 1990201.9 | AX5: 2882257.1 | AY5: 5083625 | AZ5: 7737000.2 | BA5: 9913097 | BB5: 10149183 | BC5: 8956681.7 | BD5: 7100910.5 | BE5: 4625841.2 | BF5: 2856166.7 | BG5: 2348335.7 | BH5: 2266599.1 | BI5: 2265809.3 | BJ5: 2900233.6 | BK5: 5005906.4 | BL5: 7602319.7 | BN5: 54410793 | BO5: 0 | BP5: 51534554 | BR5: 51815363 | BS5: 49868031 | BT5: 51534554 | BU5: 57388026 | BV5: 65991084 | BZ5: 49868031 | CA5: 51534554 | CB5: 54617864
A6: G1 | B6: 229394.64 | C6: 500908.44 | D6: 909074.24 | E6: 1356274.5 | F6: 1416753.8 | G6: 1224854 | H6: 825481.11 | I6: 389917.92 | J6: 220691.66 | K6: 184260.97 | L6: 178615.93 | M6: 180465.41 | N6: 229323.97 | O6: 494639.25 | P6: 864908.1 | Q6: 1278800 | R6: 1253340.3 | S6: 1049796.2 | T6: 731637.59 | U6: 381440.02 | V6: 212677.29 | W6: 180521.32 | X6: 177448.48 | Y6: 172910.04 | Z6: 237864.98 | AA6: 526037.75 | AB6: 923174.83 | AC6: 1290140.8 | AD6: 1289598.9 | AE6: 1055422.5 | AF6: 765328.9 | AG6: 399190.38 | AH6: 215035.41 | AI6: 187903.94 | AJ6: 186567.64 | AK6: 175228.42 | AL6: 238915.26 | AM6: 520957.65 | AN6: 903169.45 | AO6: 1366162 | AP6: 1381593.1 | AQ6: 1146017.5 | AR6: 806844.95 | AS6: 444139.04 | AT6: 219921.03 | AU6: 187982.37 | AV6: 185896.98 | AW6: 178533.87 | AX6: 298645.25 | AY6: 717812.23 | AZ6: 1311564.2 | BA6: 1780030.6 | BB6: 1850880.4 | BC6: 1554921.9 | BD6: 1044996.9 | BE6: 543494.13 | BF6: 249404.01 | BG6: 209212.43 | BH6: 206189.97 | BI6: 217456.71 | BJ6: 300711.67 | BK6: 704606.35 | BL6: 1277444.8 | BN6: 7432037.2 | BO6: 0 | BP6: 7227459.3 | BR6: 7566186.6 | BS6: 7125648.9 | BT6: 7227459.3 | BU6: 8245112.5 | BV6: 9939349.9 | BZ6: 7125648.9 | CA6: 7227459.3 | CB6: 7684740.7
A7: G2 | B7: 105729.74 | C7: 132340.29 | D7: 167540.33 | E7: 203204.14 | F7: 215885.94 | G7: 204729.63 | H7: 174204.87 | I7: 133383.8 | J7: 108478.97 | K7: 101608.42 | L7: 98109.302 | M7: 106061.22 | N7: 111898.31 | O7: 140479.76 | P7: 178459.98 | Q7: 212243.58 | R7: 213327.44 | S7: 196764.58 | T7: 170717.65 | U7: 135523.75 | V7: 110913.52 | W7: 100934.55 | X7: 103523.6 | Y7: 107747.56 | Z7: 115738.08 | AA7: 146626.09 | AB7: 187296.74 | AC7: 226713.67 | AD7: 232797.68 | AE7: 206483.78 | AF7: 184377.74 | AG7: 139850.7 | AH7: 112771.58 | AI7: 93860.074 | AJ7: 102502.76 | AK7: 108833.24 | AL7: 114371.02 | AM7: 144915.29 | AN7: 188080.58 | AO7: 241831.68 | AP7: 251003.28 | AQ7: 228763.95 | AR7: 170284.03 | AS7: 146609.89 | AT7: 107889.73 | AU7: 86106.721 | AV7: 101779.41 | AW7: 104555.17 | AX7: 132824.14 | AY7: 179594.31 | AZ7: 241491.2 | BA7: 302473.23 | BB7: 316969.44 | BC7: 295686.15 | BD7: 216929.24 | BE7: 178370.36 | BF7: 136099.23 | BG7: 106258 | BH7: 121975.19 | BI7: 140640.17 | BJ7: 135154.41 | BK7: 178062.54 | BL7: 239919.76 | BN7: 1908614.4 | BO7: 0 | BP7: 1855558.1 | BR7: 1776504.3 | BS7: 1801357.1 | BT7: 1855558.1 | BU7: 1992733.5 | BV7: 2368537.7 | BZ7: 1801357.1 | CA7: 1855558.1 | CB7: 1933180.6
A8: G3 | B8: 198977.53 | C8: 487209.72 | D8: 862927.51 | E8: 1261770 | F8: 1297702.1 | G8: 1109222.5 | H8: 762829.79 | I8: 355123.67 | J8: 162466.31 | K8: 118724.18 | L8: 109160.65 | M8: 125726.03 | N8: 178597.05 | O8: 436292.59 | P8: 745241.59 | Q8: 1059401.3 | R8: 1040535.6 | S8: 870311.3 | T8: 605967.54 | U8: 309471.68 | V8: 141059.28 | W8: 100239.55 | X8: 98195.556 | Y8: 99397.888 | Z8: 187277.16 | AA8: 466218.14 | AB8: 798624.24 | AC8: 1116936.3 | AD8: 1127695.8 | AE8: 915536.01 | AF8: 664502.39 | AG8: 332064.46 | AH8: 145251.95 | AI8: 101486.94 | AJ8: 100553.7 | AK8: 104426.63 | AL8: 190984.96 | AM8: 477200.85 | AN8: 803904.49 | AO8: 1241910.5 | AP8: 1278557.3 | AQ8: 1056096.9 | AR8: 756831.25 | AS8: 395065.71 | AT8: 158814.08 | AU8: 103902.45 | AV8: 104616.41 | AW8: 114704.48 | AX8: 286955.97 | AY8: 761938.08 | AZ8: 1326479.1 | BA8: 1754517.3 | BB8: 1798611.2 | BC8: 1510175.9 | BD8: 1077144.3 | BE8: 540774 | BF8: 214746.28 | BG8: 133103.74 | BH8: 135077.44 | BI8: 177158.69 | BJ8: 293253.03 | BK8: 753610.27 | BL8: 1308021.4 | BN8: 6653985.2 | BO8: 0 | BP8: 6080544.4 | BR8: 6662856.4 | BS8: 5776699.2 | BT8: 6080544.4 | BU8: 7585872.3 | BV8: 9696193.5 | BZ8: 5776699.2 | CA8: 6080544.4 | CB8: 6891075.7
A9: G4 | B9: 643290.31 | C9: 805387.15 | D9: 975285.87 | E9: 1156243.7 | F9: 1194717.3 | G9: 1132021.4 | H9: 970554.97 | I9: 749003.74 | J9: 624733.9 | K9: 572068.52 | L9: 560011.1 | M9: 628450.02 | N9: 605975.65 | O9: 775405.15 | P9: 921472.2 | Q9: 1108130.6 | R9: 1084132.5 | S9: 1021134.1 | T9: 888393.89 | U9: 729617.94 | V9: 601413.9 | W9: 532459.9 | X9: 551097.06 | Y9: 593986.28 | Z9: 642083.75 | AA9: 830501.02 | AB9: 986963.54 | AC9: 1166288.4 | AD9: 1157440.3 | AE9: 1072767.9 | AF9: 952608.9 | AG9: 764772.17 | AH9: 630324.2 | AI9: 523768.12 | AJ9: 581834.9 | AK9: 591953.77 | AL9: 634556.96 | AM9: 813943.27 | AN9: 983202.72 | AO9: 1296161 | AP9: 1295571.9 | AQ9: 1176892.5 | AR9: 1019139.7 | AS9: 837192.61 | AT9: 663624.48 | AU9: 530046.91 | AV9: 627519.2 | AW9: 666145.62 | AX9: 910545.68 | AY9: 1236466.4 | AZ9: 1498111.6 | BA9: 1743274.5 | BB9: 1757977.5 | BC9: 1602936.3 | BD9: 1418942.6 | BE9: 1099285.8 | BF9: 881456.62 | BG9: 727768.25 | BH9: 818010.84 | BI9: 910209.63 | BJ9: 914979.66 | BK9: 1202599.8 | BL9: 1456094.6 | BN9: 10870012 | BO9: 0 | BP9: 9873461.5 | BR9: 9890657.7 | BS9: 9569914.5 | BT9: 9873461.5 | BU9: 11757418 | BV9: 14533536 | BZ9: 9569914.5 | CA9: 9873461.5 | CB9: 11046937
A10: Firm Revenues | B10: 3405749 | C10: 6248842.3 | D10: 9179298.7 | E10: 11769046 | F10: 12206782 | G10: 10897699 | H10: 8319996.3 | I10: 5094654.2 | J10: 3454354 | K10: 2957704.7 | L10: 2861456.2 | M10: 2953330.3 | N10: 3314258 | O10: 5598034.2 | P10: 8284252.7 | Q10: 11093787 | R10: 11015723 | S10: 9736425.8 | T10: 7519110 | U10: 4921355.4 | V10: 3297466.8 | W10: 2791724.4 | X10: 2804971.8 | Y10: 2844401.9 | Z10: 3443946.4 | AA10: 5904852.6 | AB10: 8767886.5 | AC10: 11552120 | AD10: 11564865 | AE10: 10010542 | AF10: 8015231.3 | AG10: 5208612.7 | AH10: 3455340 | AI10: 2874264.5 | AJ10: 2891777.2 | AK10: 2896920.7 | AL10: 3498121.1 | AM10: 5896715.9 | AN10: 8707067 | AO10: 12229607 | AP10: 12513789 | AQ10: 10785548 | AR10: 8528863.3 | AS10: 5718802.2 | AT10: 3601540.2 | AU10: 2924995.8 | AV10: 3006564.8 | AW10: 3054141.1 | AX10: 4511228.2 | AY10: 7979436.1 | AZ10: 12114646 | BA10: 15493393 | BB10: 15873622 | BC10: 13920402 | BD10: 10858924 | BE10: 6987765.5 | BF10: 4337872.8 | BG10: 3524678.1 | BH10: 3547852.6 | BI10: 3711274.5 | BJ10: 4544332.4 | BK10: 7844785.4 | BL10: 11883800 | BN10: 81275441 | BO10: 0 | BP10: 76571578 | BR10: 77711568 | BS10: 74141651 | BT10: 76571578 | BU10: 86969162 | BV10: 1.025287e+08 | BZ10: 74141651 | CA10: 76571578 | CB10: 82173798
A11: Total Interruptible | B11: 1978922.5 | C11: 2440066.4 | D11: 2890888.9 | E11: 3237858 | F11: 2726486.4 | G11: 2676638.3 | H11: 1581482.3 | I11: 1450962.8 | J11: 1487478.9 | K11: 1440975.9 | L11: 1521973.7 | M11: 1597565.4 | N11: 1700708 | O11: 2515863.4 | P11: 3031365.8 | Q11: 3103875.5 | R11: 2504513.4 | S11: 2461932.4 | T11: 1819535.5 | U11: 1301664.3 | V11: 1428772.5 | W11: 1442419.3 | X11: 1489045.6 | Y11: 1519428.3 | Z11: 1700151.2 | AA11: 2512252.1 | AB11: 3083452.3 | AC11: 3511815.1 | AD11: 3353357.6 | AE11: 2958824.9 | AF11: 1822004.1 | AG11: 1408439.4 | AH11: 1608214.4 | AI11: 1648739.6 | AJ11: 1639618.8 | AK11: 1579630.4 | AL11: 1656449.6 | AM11: 2268636.5 | AN11: 3404902.4 | AO11: 3451884.6 | AP11: 3167492.3 | AQ11: 2747240.2 | AR11: 1653040.4 | AS11: 1347277.1 | AT11: 1509331.9 | AU11: 1562658.2 | AV11: 1540449.3 | AW11: 1534404.1 | AX11: 4796081.4 | AY11: 6099112.8 | AZ11: 6663089.7 | BA11: 7269456.2 | BB11: 6326495.1 | BC11: 5415724.3 | BD11: 3223575.9 | BE11: 2747119.2 | BF11: 2759273 | BG11: 2765424.5 | BH11: 3147423.4 | BI11: 2665829.7 | BJ11: 3136093.6 | BK11: 4006774 | BL11: 4557760.3 | BN11: 26860633 | BO11: 0 | BP11: 26860633 | BR11: 24969359 | BS11: 24367043 | BT11: 26860633 | BU11: 36072062 | BV11: 48020949 | BZ11: 24367043 | CA11: 26860633 | CB11: 25491479
A12: Less Exempt Interruptible Customers | B12: 963197.6 | C12: 1278193.7 | D12: 1570295.7 | E12: 1841910.7 | F12: 1484261.2 | G12: 1386459.1 | H12: 724830.23 | I12: 658454.3 | J12: 687409.81 | K12: 629519.57 | L12: 687435.45 | M12: 737447.9 | N12: 852974.58 | O12: 1544355.4 | P12: 1882543.6 | Q12: 1782838.7 | R12: 1377960.4 | S12: 1358933 | T12: 992012.11 | U12: 557729.38 | V12: 729552.24 | W12: 678260.89 | X12: 718461.58 | Y12: 779509.4 | Z12: 853660.02 | AA12: 1528480 | AB12: 1887309.6 | AC12: 2073200.9 | AD12: 2033817.2 | AE12: 1684304.1 | AF12: 846951.99 | AG12: 562290.12 | AH12: 774335.09 | AI12: 800008.21 | AJ12: 788812.01 | AK12: 807299.53 | AL12: 817011.29 | AM12: 1187623.2 | AN12: 2090546.1 | AO12: 1386845.8 | AP12: 1236339 | AQ12: 1157529.7 | AR12: 849907.54 | AS12: 793506.69 | AT12: 782834.6 | AU12: 808107.24 | AV12: 796318.7 | AW12: 766898.31 | AX12: 2702942.7 | AY12: 3398235.3 | AZ12: 3932541.2 | BA12: 4216248.5 | BB12: 3763512.4 | BC12: 3082654.9 | BD12: 1756910.1 | BE12: 1509565.6 | BF12: 1351868.4 | BG12: 1481402.4 | BH12: 1564254.6 | BI12: 1530672.7 | BJ12: 1765119 | BK12: 2249535.6 | BL12: 2743405.3 | BN12: 14466200 | BO12: 0 | BP12: 0 | BR12: 13117602 | BS12: 13244707 | BT12: 14466200 | BU12: 18612007 | BV12: 27015150 | BZ12: 13244707 | CA12: 14466200 | CB12: 11656798
A13: Net Interruptibles | B13: 1015724.9 | C13: 1161872.7 | D13: 1320593.2 | E13: 1395947.3 | F13: 1242225.3 | G13: 1290179.2 | H13: 856652.07 | I13: 792508.54 | J13: 800069.05 | K13: 811456.34 | L13: 834538.27 | M13: 860117.47 | N13: 847733.4 | O13: 971507.95 | P13: 1148822.2 | Q13: 1321036.8 | R13: 1126553 | S13: 1102999.5 | T13: 827523.42 | U13: 743934.96 | V13: 699220.28 | W13: 764158.45 | X13: 770583.97 | Y13: 739918.95 | Z13: 846491.15 | AA13: 983772.16 | AB13: 1196142.7 | AC13: 1438614.2 | AD13: 1319540.4 | AE13: 1274520.8 | AF13: 975052.07 | AG13: 846149.27 | AH13: 833879.32 | AI13: 848731.34 | AJ13: 850806.77 | AK13: 772330.88 | AL13: 839438.32 | AM13: 1081013.3 | AN13: 1314356.3 | AO13: 2065038.7 | AP13: 1931153.3 | AQ13: 1589710.5 | AR13: 803132.87 | AS13: 553770.39 | AT13: 726497.31 | AU13: 754550.92 | AV13: 744130.6 | AW13: 767505.83 | AX13: 2093138.7 | AY13: 2700877.6 | AZ13: 2730548.6 | BA13: 3053207.7 | BB13: 2562982.7 | BC13: 2333069.3 | BD13: 1466665.7 | BE13: 1237553.6 | BF13: 1407404.6 | BG13: 1284022.1 | BH13: 1583168.7 | BI13: 1135157 | BJ13: 1370974.6 | BK13: 1757238.3 | BL13: 1814355 | BN13: 12394433 | BO13: 0 | BP13: 26860633 | BR13: 11851757 | BS13: 11122335 | BT13: 12394433 | BU13: 17460055 | BV13: 21005800 | BZ13: 11122335 | CA13: 12394433 | CB13: 13834681
A14: SUB-TOTAL: Firm + Interruptible | B14: 4421473.9 | C14: 7410715 | D14: 10499892 | E14: 13164993 | F14: 13449007 | G14: 12187878 | H14: 9176648.4 | I14: 5887162.7 | J14: 4254423 | K14: 3769161 | L14: 3695994.5 | M14: 3813447.7 | N14: 4161991.4 | O14: 6569542.2 | P14: 9433074.9 | Q14: 12414824 | R14: 12142276 | S14: 10839425 | T14: 8346633.4 | U14: 5665290.3 | V14: 3996687.1 | W14: 3555882.9 | X14: 3575555.7 | Y14: 3584320.8 | Z14: 4290437.6 | AA14: 6888624.7 | AB14: 9964029.3 | AC14: 12990734 | AD14: 12884406 | AE14: 11285063 | AF14: 8990283.3 | AG14: 6054761.9 | AH14: 4289219.3 | AI14: 3722995.8 | AJ14: 3742583.9 | AK14: 3669251.6 | AL14: 4337559.5 | AM14: 6977729.2 | AN14: 10021423 | AO14: 14294646 | AP14: 14444943 | AQ14: 12375259 | AR14: 9331996.1 | AS14: 6272572.6 | AT14: 4328037.5 | AU14: 3679546.7 | AV14: 3750695.4 | AW14: 3821646.9 | AX14: 6604366.8 | AY14: 10680314 | AZ14: 14845195 | BA14: 18546600 | BB14: 18436605 | BC14: 16253471 | BD14: 12325589 | BE14: 8225319.1 | BF14: 5745277.4 | BG14: 4808700.2 | BH14: 5131021.3 | BI14: 4846431.5 | BJ14: 5915307.1 | BK14: 9602023.7 | BL14: 13698155 | BN14: 93669874 | BO14: 0 | BP14: 1.0343221e+08 | BR14: 89563325 | BS14: 85263986 | BT14: 88966011 | BU14: 1.0442922e+08 | BV14: 1.235345e+08 | BZ14: 85263986 | CA14: 88966011 | CB14: 96008479
CB16: 0 | CE16: #REF! | CF16: #REF! | CG16: #REF! | CH16: #REF!
CB17: 4033258 | CE17: #REF! | CF17: #REF! | CG17: #REF! | CH17: #REF!
B18: 2018 | C18: 2018 | D18: 2018 | E18: 2019 | F18: 2019 | G18: 2019 | H18: 2019 | I18: 2019 | J18: 2019 | K18: 2019 | L18: 2019 | M18: 2019 | N18: 2019 | O18: 2019 | P18: 2019 | Q18: 2020 | R18: 2020 | S18: 2020 | T18: 2020 | U18: 2020 | V18: 2020 | W18: 2020 | X18: 2020 | Y18: 2020 | Z18: 2020 | AA18: 2020 | AB18: 2020 | AC18: 2021 | AD18: 2021 | AE18: 2021 | AF18: 2021 | AG18: 2021 | AH18: 2021 | AI18: 2021 | AJ18: 2021 | AK18: 2021 | AL18: 2021 | AM18: 2021 | AN18: 2021 | AO18: 2022 | AP18: 2022 | AQ18: 2022 | AR18: 2022 | AS18: 2022 | AT18: 2022 | AU18: 2022 | AV18: 2022 | AW18: 2022 | AX18: 2022 | AY18: 2022 | AZ18: 2022 | BA18: 2023 | BB18: 2023 | BC18: 2023 | BD18: 2023 | BE18: 2023 | BF18: 2023 | BG18: 2023 | BH18: 2023 | BI18: 2023 | BJ18: 2023 | BK18: 2023 | BL18: 2023 | BN18: 0 | BO18: 0 | BP18: Oct-Sep | BR18: Projected | BS18: Projected | BT18: Projected | BU18: Projected | BV18: Projected | BW18: Projected Ccf | BZ18: Projected | CA18: Projected | CB18: Projected | CC18: Projected Ccf | CE18: #REF! | CF18: #REF! | CG18: #REF! | CH18: #REF!
A19: MCF SALES | B19: October | C19: November | D19: December | E19: January | F19: February | G19: March | H19: April | I19: May | J19: June | K19: July | L19: August | M19: September | N19: October | O19: November | P19: December | Q19: January | R19: February | S19: March | T19: April | U19: May | V19: June | W19: July | X19: August | Y19: September | Z19: October | AA19: November | AB19: December | AC19: January | AD19: February | AE19: March | AF19: April | AG19: May | AH19: June | AI19: July | AJ19: August | AK19: September | AL19: October | AM19: November | AN19: December | AO19: January | AP19: February | AQ19: March | AR19: April | AS19: May | AT19: June | AU19: July | AV19: August | AW19: September | AX19: October | AY19: November | AZ19: December | BA19: January | BB19: February | BC19: March | BD19: April | BE19: May | BF19: June | BG19: July | BH19: August | BI19: September | BJ19: October | BK19: November | BL19: December | BN19: 2020-21 | BO19: 0 | BP19: 2020-21 | BR19: CY 2019 total | BS19: CY 2020 Total | BT19: CY 2021 Total | BU19: CY 2022 Total | BV19: CY 2023 Total | BW19: CY 2023 Total | BZ19: CY 2020 Total | CA19: CY 2021 Total | CB19: CY 2022 Total | CC19: CY 2023 Total | CE19: #REF! | CF19: #REF! | CG19: #REF! | CH19: #REF! | CJ19: #REF!
A20: R | B20: 120518 | C20: 318873 | D20: 501814 | E20: 648588 | F20: 688125 | G20: 595590 | H20: 440533 | I20: 235062 | J20: 129046 | K20: 91814 | L20: 85498 | M20: 88346 | N20: 121157 | O20: 289124 | P20: 478014 | Q20: 675005 | R20: 695640 | S20: 595377 | T20: 440088 | U20: 242313 | V20: 127060 | W20: 86961 | X20: 83913 | Y20: 86816 | Z20: 122429 | AA20: 292554 | AB20: 483830 | AC20: 693189 | AD20: 705211 | AE20: 588941 | AF20: 455229 | AG20: 255006 | AH20: 131517 | AI20: 88127 | AJ20: 83422 | AK20: 86711 | AL20: 125799 | AM20: 298335 | AN20: 491858 | AO20: 680660 | AP20: 713399 | AQ20: 591429 | AR20: 457416 | AS20: 269414 | AT20: 131742 | AU20: 85991 | AV20: 83144 | AW20: 89250.25 | AX20: 135372.25 | AY20: 299385.25 | AZ20: 496055.25 | BA20: 657433 | BB20: 686958 | BC20: 587956 | BD20: 450410 | BE20: 265467 | BF20: 132172 | BG20: 90400 | BH20: 84558 | BI20: 87307 | BJ20: 133139 | BK20: 297297 | BL20: 494324 | BN20: 4003392 | BO20: 0 | BP20: 4003345 | BR20: 3890897 | BS20: 3931986 | BT20: 4003345 | BU20: 4033258 | BV20: 3967421 | BW20: 39674210 | BX20: 29913 | BZ20: 3931986 | CA20: 4003345 | CB20: 4033258 | CC20: 3967421 | CD20: R | CE20: #REF! | CF20: #REF! | CG20: #REF! | CH20: #REF! | CI20: #REF! | CJ20: #REF! | CK20: #REF! | CL20: #REF!
A21: G1 | B21: 9190 | C21: 36622 | D21: 78086 | E21: 124169 | F21: 132361 | G21: 110930 | H21: 70068 | I21: 24864 | J21: 7939 | K21: 3801 | L21: 3270 | M21: 3945 | N21: 9666 | O21: 40600 | P21: 82987 | Q21: 131097 | R21: 132473 | S21: 106478 | T21: 69218 | U21: 26415 | V21: 7772 | W21: 3693 | X21: 3268 | Y21: 3270 | Z21: 9762 | AA21: 41233 | AB21: 83997 | AC21: 131597 | AD21: 133294 | AE21: 104194 | AF21: 71000 | AG21: 27878 | AH21: 7339 | AI21: 3816 | AJ21: 3747 | AK21: 3227 | AL21: 10046 | AM21: 42960 | AN21: 86667 | AO21: 129206 | AP21: 132483 | AQ21: 105594 | AR21: 69844 | AS21: 30568 | AT21: 7345 | AU21: 3616 | AV21: 3464 | AW21: 3421 | AX21: 11131 | AY21: 43730 | AZ21: 84842 | BA21: 128054 | BB21: 131290 | BC21: 104609 | BD21: 69390 | BE21: 30171 | BF21: 7261 | BG21: 3580 | BH21: 3426 | BI21: 3382 | BJ21: 10965 | BK21: 43026 | BL21: 83617 | BN21: 593761 | BO21: 0 | BP21: 625765 | BR21: 614600 | BS21: 618676 | BT21: 625765 | BU21: 625244 | BV21: 618771 | BW21: 6187710 | BX21: -521 | BZ21: 618676 | CA21: 625765 | CB21: 625244 | CC21: 618771 | CD21: RLI | CE21: #REF! | CF21: #REF! | CG21: #REF! | CH21: #REF! | CI21: #REF! | CJ21: #REF! | CK21: #REF! | CL21: #REF!
A22: G2 | B22: 9815 | C22: 13190 | D22: 17658 | E22: 22342 | F22: 24510 | G22: 22609 | H22: 18720 | I22: 13342 | J22: 10188 | K22: 9134 | L22: 8658 | M22: 9886 | N22: 11080 | O22: 15437 | P22: 20839 | Q22: 25809 | R22: 27001 | S22: 23989 | T22: 20264 | U22: 14436 | V22: 11023 | W22: 9399 | X22: 9389 | Y22: 10159 | Z22: 11100 | AA22: 15408 | AB22: 20878 | AC22: 27333 | AD22: 28789 | AE22: 24365 | AF22: 21313 | AG22: 14612 | AH22: 10863 | AI22: 7922 | AJ22: 9190 | AK22: 10035 | AL22: 10914 | AM22: 15540 | AN22: 21665 | AO22: 27122 | AP22: 28901 | AQ22: 25339 | AR22: 17596 | AS22: 14223 | AT22: 9190 | AU22: 6086 | AV22: 8217 | AW22: 8527 | AX22: 11022 | AY22: 16296 | AZ22: 22299 | BA22: 28125 | BB22: 29826 | BC22: 26157 | BD22: 18241 | BE22: 14745 | BF22: 9526 | BG22: 6314 | BH22: 8518 | BI22: 8825 | BJ22: 11411 | BK22: 16871 | BL22: 23067 | BN22: 192343 | BO22: 0 | BP22: 202541 | BR22: 186745 | BS22: 198855 | BT22: 202541 | BU22: 194818 | BV22: 201626 | BW22: 2016260 | BX22: -7723 | BZ22: 198855 | CA22: 202541 | CB22: 194818 | CC22: 201626 | CD22: G1 | CE22: #REF! | CF22: #REF! | CG22: #REF! | CH22: #REF! | CI22: #REF! | CJ22: #REF! | CK22: #REF! | CL22: #REF!
A23: G3 | B23: 16909 | C23: 51067 | D23: 95473 | E23: 142875 | F23: 148401 | G23: 125185 | H23: 84050 | I23: 35575 | J23: 12526 | K23: 6980 | L23: 5818 | M23: 8095 | N23: 16626 | O23: 51976 | P23: 93797 | Q23: 136611 | R23: 137902 | S23: 113365 | T23: 76751 | U23: 34044 | V23: 11564 | W23: 5804 | X23: 5229 | Y23: 5638 | Z23: 16718 | AA23: 52164 | AB23: 94125 | AC23: 144506 | AD23: 146807 | AE23: 116900 | AF23: 82832 | AG23: 36908 | AH23: 11614 | AI23: 5403 | AJ23: 5275 | AK23: 6197 | AL23: 17661 | AM23: 57126 | AN23: 101572 | AO23: 146652 | AP23: 151996 | AQ23: 123489 | AR23: 86522 | AS23: 41149 | AT23: 12005 | AU23: 4978 | AV23: 5067 | AW23: 6627 | AX23: 20117 | AY23: 60532 | AZ23: 104843 | BA23: 145193 | BB23: 150486 | BC23: 122181 | BD23: 85571 | BE23: 40703 | BF23: 11844 | BG23: 4890 | BH23: 4965 | BI23: 6502 | BJ23: 19781 | BK23: 59501 | BL23: 102891 | BN23: 732797 | BO23: 0 | BP23: 732801 | BR23: 731904 | BS23: 689915 | BT23: 732801 | BU23: 763977 | BV23: 754508 | BW23: 7545080 | BX23: 31176 | BZ23: 689915 | CA23: 732801 | CB23: 763977 | CC23: 754508 | CD23: G2 | CE23: #REF! | CF23: #REF! | CG23: #REF! | CH23: #REF! | CI23: #REF! | CJ23: #REF! | CK23: #REF! | CL23: #REF!
A24: G4 | B24: 87642 | C24: 111387 | D24: 136446 | E24: 163453 | F24: 170671 | G24: 160357 | H24: 136474 | I24: 104211 | J24: 85726 | K24: 77394 | L24: 75324 | M24: 85981 | N24: 92234 | O24: 121353 | P24: 145820 | Q24: 177539 | R24: 178314 | S24: 166268 | T24: 143563 | U24: 112293 | V24: 91074 | W24: 79101 | X24: 78408 | Y24: 85668 | Z24: 93062 | AA24: 122131 | AB24: 146660 | AC24: 187150 | AD24: 186764 | AE24: 171175 | AF24: 151038 | AG24: 118570 | AH24: 96080 | AI24: 77521 | AJ24: 87384 | AK24: 89390 | AL24: 96591 | AM24: 127548 | AN24: 155960 | AO24: 190948 | AP24: 191901 | AQ24: 172348 | AR24: 148108 | AS24: 119427 | AT24: 92742 | AU24: 71597 | AV24: 81769 | AW24: 87668 | AX24: 100901 | AY24: 135168 | AZ24: 161861 | BA24: 193913 | BB24: 194846 | BC24: 175041 | BD24: 150496 | BE24: 121459 | BF24: 94375 | BG24: 72982 | BH24: 83265 | BI24: 89215 | BJ24: 102615 | BK24: 137015 | BL24: 164035 | BN24: 1545332 | BO24: 0 | BP24: 1545171 | BR24: 1418998 | BS24: 1474081 | BT24: 1545171 | BU24: 1554438 | BV24: 1579257 | BW24: 15792570 | BX24: 9267 | BZ24: 1474081 | CA24: 1545171 | CB24: 1554438 | CC24: 1579257 | CD24: G3 | CE24: #REF! | CF24: #REF! | CG24: #REF! | CH24: #REF! | CI24: #REF! | CJ24: #REF! | CK24: #REF! | CL24: #REF!
A25: Total Firm | B25: 244074 | C25: 531139 | D25: 829477 | E25: 1101427 | F25: 1164068 | G25: 1014671 | H25: 749845 | I25: 413054 | J25: 245425 | K25: 189123 | L25: 178568 | M25: 196253 | N25: 250763 | O25: 518490 | P25: 821457 | Q25: 1146061 | R25: 1171330 | S25: 1005477 | T25: 749884 | U25: 429501 | V25: 248493 | W25: 184958 | X25: 180207 | Y25: 191551 | Z25: 253071 | AA25: 523490 | AB25: 829490 | AC25: 1183775 | AD25: 1200865 | AE25: 1005575 | AF25: 781412 | AG25: 452974 | AH25: 257413 | AI25: 182789 | AJ25: 189018 | AK25: 195560 | AL25: 261011 | AM25: 541509 | AN25: 857722 | AO25: 1174588 | AP25: 1218680 | AQ25: 1018199 | AR25: 779486 | AS25: 474781 | AT25: 253024 | AU25: 172268 | AV25: 181661 | AW25: 195493.25 | AX25: 278543.25 | AY25: 555111.25 | AZ25: 869900.25 | BA25: 1152718 | BB25: 1193406 | BC25: 1015944 | BD25: 774108 | BE25: 472545 | BF25: 255178 | BG25: 178166 | BH25: 184732 | BI25: 195231 | BJ25: 277911 | BK25: 553710 | BL25: 867934 | BN25: 7067625 | BO25: 0 | BP25: 7109623 | BR25: 6843144 | BS25: 6913513 | BT25: 7109623 | BU25: 7171735 | BV25: 7121583 | BW25: 71215830 | BX25: 62112 | BZ25: 6913513 | CA25: 7109623 | CB25: 7171735 | CC25: 7121583 | CD25: G4 | CE25: #REF! | CF25: #REF! | CG25: #REF! | CH25: #REF! | CI25: #REF! | CJ25: #REF! | CK25: #REF! | CL25: #REF!
A26: Interuptible Sales | B26: 476924 | C26: 561831 | D26: 622645 | E26: 690420 | F26: 581872 | G26: 581569 | H26: 406794 | I26: 380665 | J26: 398603 | K26: 379282 | L26: 404222 | M26: 426467 | N26: 510113 | O26: 684692 | P26: 754364 | Q26: 754724 | R26: 609943 | S26: 612894 | T26: 548714 | U26: 378130 | V26: 432003 | W26: 429007 | X26: 444910 | Y26: 459197 | Z26: 510805 | AA26: 684279 | AB26: 756810 | AC26: 774990 | AD26: 716045 | AE26: 651653 | AF26: 470251 | AG26: 361805 | AH26: 427391 | AI26: 434369 | AJ26: 430210 | AK26: 418538 | AL26: 497889 | AM26: 554633 | AN26: 756049 | AO26: 767124 | AP26: 713333 | AQ26: 641265 | AR26: 453945 | AS26: 368257 | AT26: 428037 | AU26: 439116 | AV26: 430992 | AW26: 438597.5 | AX26: 508899.5 | AY26: 615780.5 | AZ26: 659221.5 | BA26: 717950 | BB26: 651666 | BC26: 644028 | BD26: 516620 | BE26: 453520 | BF26: 446117 | BG26: 448215 | BH26: 506205 | BI26: 435049 | BJ26: 502489 | BK26: 609370 | BL26: 652811 | BN26: 6493823 | BO26: 6493823 | BP26: 6493823 | BR26: 6199063 | BS26: 6621416 | BT26: 6493823 | BU26: 6464568 | BV26: 6584040 | BW26: 65840400 | BX26: -29255 | BZ26: 6621416 | CA26: 6493823 | CB26: 6464568 | CC26: 6584040 | CD26: In | CE26: #REF! | CF26: #REF! | CG26: #REF! | CH26: #REF! | CI26: #REF! | CJ26: #REF! | CK26: #REF! | CL26: #REF!
