Workbook

Sheet 2019 Detailed True-up
A5: Commercial Efficiency Charge b | B5: Commercial Efficiency Charge | C5: 75209 | D5: 0.01091 | E5: 820.51
A6: Commercial Efficiency Charge c | B6: Commercial Efficiency Charge | C6: 203174 | D6: 0.00707 | E6: 1436.42 | I6: 2019 Actual Revenue | K6: 2019 Approved Budgets
A7: Commercial Efficiency Charge d | B7: Commercial Efficiency Charge | C7: 566 | D7: 1.13827 | E7: 644.26 | H7: Sector | I7: With Tax | J7: No Tax | K7: Rates | L7: Consumption | M7: Revenue | N7: Variance
A8: Street and Area Light Efficienc | B8: Street and Area Light Efficiency Charge | C8: 10441 | D8: 0.00966 | E8: 100.83 | G8: Residential Efficiency Charge | H8: Residential | I8: =SUMIF(A$5:A$1086,G8,E$5:E$1086) -> 27007336 | J8: =I8*0.99 -> 26737262 | K8: 0.01371 | L8: 1931666733 | M8: =L8*K8 -> 26483151 | N8: =I8-M8 -> 524184.92 | P8: =J8/J$16 -> 0.52180992 | Q8: =J21/J$29 -> 0.51643048
A9: Residential Efficiency Charge | B9: Residential Efficiency Charge | C9: 998607 | D9: 0.01413 | E9: 14110.32 | G9: Commercial Efficiency Charge b | H9: Commercial Non-Demand | I9: =SUMIF(A$5:A$1086,G9,E$5:E$1086) -> 3408238.7 | J9: =I9*0.99 -> 3374156.3 | K9: 0.01091 | L9: 3.1943173e+08 | M9: =L9*K9 -> 3485000.2 | N9: =I9-M9 -> -76761.495 | P9: =J9/J$16 -> 0.065850729 | Q9: =J22/J$29 -> 0.065406663
A10: Residential Efficiency Charge | B10: Residential Efficiency Charge | C10: 994345 | D10: 0.0130206 | E10: 12946.97 | G10: Commercial Efficiency Charge c | H10: Commecrial Demand kWh | I10: =SUMIF(A$5:A$1086,G10,E$5:E$1086) -> 10441994 | J10: =I10*0.99 -> 10337574 | K10: 0.00707 | L10: 1.5205517e+09 | M10: =L10*K10 -> 10750300 | N10: =I10-M10 -> -308306.22 | P10: =J10/J$16 -> 0.20175023 | Q10: =J23/J$29 -> 0.20176219
A11: Commercial Efficiency Charge b | B11: Commercial Efficiency Charge | C11: 79216 | D11: 0.01091 | E11: 864.25 | G11: Commercial Efficiency Charge d | H11: Commercial Demand kW | I11: =SUMIF(A$5:A$1086,G11,E$5:E$1086) -> 4919859.1 | J11: =I11*0.99 -> 4870660.5 | K11: 1.1383 | L11: 4836803.5 | M11: =L11*K11 -> 5505733.4 | N11: =I11-M11 -> -585874.32 | P11: =J11/J$16 -> 0.095056814 | Q11: =J24/J$29 -> 0.10333189
A12: Commercial Efficiency Charge c | B12: Commercial Efficiency Charge | C12: 190447 | D12: 0.00707 | E12: 1346.46 | G12: Industrial Efficiency Charge e | H12: Industrial Non-Demand | I12: =SUMIF(A$5:A$1086,G12,E$5:E$1086) -> 45196.46 | J12: =I12*0.99 -> 44744.495 | K12: 0.0077 | L12: 9972776 | M12: =L12*K12 -> 76790.375 | N12: =I12-M12 -> -31593.915 | P12: =J12/J$16 -> 0.00087324279 | Q12: =J25/J$29 -> 0.0015877346
A13: Street and Area Light Efficienc | B13: Street and Area Light Efficiency Charge | C13: 10441 | D13: 0.00966 | E13: 100.83 | G13: Industrial Efficiency Charge f | H13: Industrial Demand kWh | I13: =SUMIF(A$5:A$1086,G13,E$5:E$1086) -> 3814580.8 | J13: =I13*0.99 -> 3776435 | K13: 0.00522 | L13: 703687893 | M13: =L13*K13 -> 3673250.8 | N13: =I13-M13 -> 141330 | P13: =J13/J$16 -> 0.073701683 | Q13: =J26/J$29 -> 0.075948936
A14: Commercial Efficiency Charge d | B14: Commercial Efficiency Charge | C14: 600 | D14: 1.13827 | E14: 682.96 | G14: Industrial Efficiency Charge g | H14: Industrial Demand kW | I14: =SUMIF(A$5:A$1086,G14,E$5:E$1086) -> 1975622.3 | J14: =I14*0.99 -> 1955866.1 | K14: 1.2132 | L14: 1416502.9 | M14: =L14*K14 -> 1718501.3 | N14: =I14-M14 -> 257121.04 | P14: =J14/J$16 -> 0.038171086 | Q14: =J27/J$29 -> 0.035532108
A15: Residential Efficiency Charge | B15: Residential Efficiency Charge | C15: 855969 | D15: 0.01371 | E15: 11735.33 | G15: Street and Area Light Efficienc | H15: Street Lights | I15: =SUMIF(A$5:A$1086,G15,E$5:E$1086) -> 144210.33 | J15: =I15*0.99 -> 142768.23 | K15: =K9 -> 0.01091 | N15: =I15-M15 -> 144210.33
A16: Commercial Efficiency Charge b | B16: Commercial Efficiency Charge | C16: 86482 | D16: 0.01091 | E16: 943.52 | H16: Total Collections | I16: =SUM(I8:I15) -> 51757038 | J16: =SUM(J8:J15) -> 51239467 | M16: =SUM(M8:M15) -> 51692727 | N16: =SUM(N8:N15) -> 64310.337
A17: Commercial Efficiency Charge c | B17: Commercial Efficiency Charge | C17: 173739 | D17: 0.00707 | E17: 1228.34
A18: Commercial Efficiency Charge d | B18: Commercial Efficiency Charge | C18: 578 | D18: 1.1383 | E18: 657.94
A19: Street and Area Light Efficienc | B19: Street and Area Light Efficiency Charge | C19: 10703 | D19: 0.0096506 | E19: 103.29 | I19: 2020 Actual Revenue | K19: 2020 Approved Budgets | P19: 2021
A20: Residential Efficiency Charge | B20: Residential Efficiency Charge | C20: 757868 | D20: 0.01371 | E20: 10390.37 | H20: Sector | I20: With Tax | J20: No Tax | K20: Rates | L20: Consumption | M20: Revenue | N20: Variance | P20: Budgets
A21: Commercial Efficiency Charge b | B21: Commercial Efficiency Charge | C21: 69236 | D21: 0.01091 | E21: 755.36 | H21: Residential | I21: =J21/0.99 -> 23639021 | J21: 23402630 | K21: 0.01188 | L21: 2017249821 | M21: =L21*K21 -> 23964928 | N21: =I21-M21 -> -325907.27
A22: Commercial Efficiency Charge c | B22: Commercial Efficiency Charge | C22: 181164 | D22: 0.00707 | E22: 1280.83 | H22: Commercial Non-Demand | I22: =J22/0.99 -> 2993916 | J22: =M34*J$34 -> 2963976.8 | K22: 0.01024 | L22: 3.2159515e+08 | M22: =L22*K22 -> 3293134.3 | N22: =I22-M22 -> -299218.39
A23: Commercial Efficiency Charge d | B23: Commercial Efficiency Charge | C23: 574 | D23: 1.1383 | E23: 653.38 | H23: Commecrial Demand kWh | I23: =J23/0.99 -> 9235436 | J23: =M35*J$34 -> 9143081.6 | K23: 0.00662 | L23: 1.5331313e+09 | M23: =L23*K23 -> 10149329 | N23: =I23-M23 -> -913893.38
A24: Street and Area Light Efficienc | B24: Street and Area Light Efficiency Charge | C24: 9206 | D24: 0.01091 | E24: 100.44 | H24: Commercial Demand kW | I24: =J24/0.99 -> 4729900.2 | J24: =M36*J$34 -> 4682601.2 | K24: 1.13825 | L24: 4871856.8 | M24: =L24*K24 -> 5545391 | N24: =I24-M24 -> -815490.73
A25: Street and Area Light Efficienc | B25: Street and Area Light Efficiency Charge | C25: 9206 | D25: 0.01091 | E25: 100.44 | H25: Industrial Non-Demand | I25: =J25/0.99 -> 72676.753 | J25: =J$35*M37 -> 71949.985 | K25: 0.00757 | L25: 8702978 | M25: =L25*K25 -> 65881.543 | N25: =I25-M25 -> 6795.2093
A26: Commercial Efficiency Charge d | B26: Commercial Efficiency Charge | C26: 626 | D26: 1.1383 | E26: 712.58 | H26: Industrial Demand kWh | I26: =J26/0.99 -> 3476476.6 | J26: =J$35*M38 -> 3441711.8 | K26: 0.00521 | L26: 714469990 | M26: =L26*K26 -> 3722388.6 | N26: =I26-M26 -> -245912.08
A27: Commercial Efficiency Charge c | B27: Commercial Efficiency Charge | C27: 218053 | D27: 0.00707 | E27: 1541.64 | H27: Industrial Demand kW | I27: =J27/0.99 -> 1626442 | J27: =J$35*M39 -> 1610177.6 | K27: 1.21316 | L27: 1390845.4 | M27: =L27*K27 -> 1687318 | N27: =I27-M27 -> -60876.008
A28: Commercial Efficiency Charge b | B28: Commercial Efficiency Charge | C28: 127295 | D28: 0.01091 | E28: 1388.79 | H28: Street Lights | I28: 0 | J28: =I28*0.99 -> 0 | K28: =K22 -> 0.01024 | N28: =I28-M28 -> 0
A29: Residential Efficiency Charge | B29: Residential Efficiency Charge | C29: 839500 | D29: 0.01371 | E29: 11509.54 | H29: Total Collections | I29: =SUM(I21:I28) -> 45773868 | J29: =SUM(J21:J28) -> 45316129 | M29: =SUM(M21:M28) -> 48428371 | N29: =SUM(N21:N28) -> -2654502.6
A30: Commercial Efficiency Charge d | B30: Commercial Efficiency Charge | C30: 564 | D30: 1.1383156 | E30: 642.01
A31: Street and Area Light Efficienc | B31: Street and Area Light Efficiency Charge | C31: 9503 | D31: 0.01091 | E31: 103.68
A32: Commercial Efficiency Charge c | B32: Commercial Efficiency Charge | C32: 163173 | D32: 0.00707 | E32: 1153.63
A33: Commercial Efficiency Charge b | B33: Commercial Efficiency Charge | C33: 101117 | D33: 0.01091 | E33: 1103.19
A34: Residential Efficiency Charge | B34: Residential Efficiency Charge | C34: 804055 | D34: 0.01371 | E34: 11023.6 | J34: 16789660 | L34: CND | M34: =M9/SUM(M$9:M$11) -> 0.17653585
A35: Residential Efficiency Charge | B35: Residential Efficiency Charge | C35: 674248 | D35: 0.01371 | E35: 9243.94 | J35: 5123839.4 | L35: CD kWh | M35: =M10/SUM(M$9:M$11) -> 0.54456623
A36: Commercial Efficiency Charge b | B36: Commercial Efficiency Charge | C36: 99176 | D36: 0.01091 | E36: 1082.01 | L36: CD kW | M36: =M11/SUM(M$9:M$11) -> 0.27889792
A37: Commercial Efficiency Charge c | B37: Commercial Efficiency Charge | C37: 165212 | D37: 0.00707 | E37: 1168.05 | L37: I ND | M37: =M12/SUM(M$12:M$14) -> 0.014042201
A38: Commercial Efficiency Charge d | B38: Commercial Efficiency Charge | C38: 626 | D38: 1.1383156 | E38: 712.59 | L38: I D kWh | M38: =M13/SUM(M$12:M$14) -> 0.67170564
A39: Street and Area Light Efficienc | B39: Street and Area Light Efficiency Charge | C39: 9206 | D39: 0.01091 | E39: 100.44 | L39: I D kW | M39: =M14/SUM(M$12:M$14) -> 0.31425216
A40: Commercial Efficiency Charge d | B40: Commercial Efficiency Charge | C40: 727 | D40: 1.1383156 | E40: 827.56
A41: Street and Area Light Efficienc | B41: Street and Area Light Efficiency Charge | C41: 9269 | D41: 0.0109106 | E41: 101.13
A42: Commercial Efficiency Charge c | B42: Commercial Efficiency Charge | C42: 268808 | D42: 0.00707 | E42: 1900.47
A43: Commercial Efficiency Charge b | B43: Commercial Efficiency Charge | C43: 79597 | D43: 0.01091 | E43: 868.4
A44: Residential Efficiency Charge | B44: Residential Efficiency Charge | C44: 774225 | D44: 0.01371 | E44: 10614.62
...

Sheet Sheet1
C5: 2019 Electric Sales | I5: 2021 EEC Rate Calculation
A6: Sector | B6: Units | C6: Revenue | D6: % Revenue by Sector | E6: Consumption | F6: % Consumption by Sector | I6: Budget | J6: Collections by Sector | K6: Consumption | L6: Rates | P6: 2020 Rates | Q6: % Change
A7: Residential | B7: kWh | C7: ='Util Rev and Load Data'!C40 -> 3.4412037e+08 | D7: =C7/C$16 -> 0.49641665 | E7: ='Util Rev and Load Data'!C86 -> 2163164825 | F7: =E7/E16 -> #DIV/0! | I7: ='EEC Calculation'!B50 -> 45965402 | J7: =I$7*D7 -> 22817991 | K7: ='EEC Calculation'!C78 -> 2163164825 | L7: =J7/K7 -> 0.010548429 | P7: ='EEC Rates Report'!C8 -> 0.010874646 | Q7: =L7/P7-1 -> -0.029997968
A8: Commercial
A9: Non Demand | B9: kWh | C9: ='Util Rev and Load Data'!G40+'Util Rev and Load Data'!H40 -> 75045922 | D9: =C9/C$16 -> 0.10825876 | E9: ='Util Rev and Load Data'!I86 -> 436959017 | F9: =E9/E$16 -> #DIV/0! | J9: =I$7*D9 -> 4976157.5 | K9: ='EEC Calculation'!C108 -> 436959017 | L9: =J9/K9 -> 0.011388156 | P9: ='EEC Rates Report'!C9 -> 0.0097371259 | Q9: =L9/P9-1 -> 0.16956032
A10: Demand | B10: kWh | C10: ='Util Rev and Load Data'!K40 -> 1.2696262e+08 | D10: =C10/C$16 -> 0.18315207 | E10: ='Util Rev and Load Data'!K86 -> 1.3287612e+09 | F10: =E10/E$16 -> #DIV/0! | J10: =I$7*D10 -> 8418658.6 | K10: ='EEC Calculation'!B113 -> 1.3287612e+09 | L10: =J10/K10 -> 0.0063357197 | P10: ='EEC Rates Report'!C13 -> 0.0062050954 | Q10: =L10/P10-1 -> 0.02105113
A11: Demand | B11: kW | C11: ='Util Rev and Load Data'!L40 -> 64119021 | D11: =C11/C$16 -> 0.092495976 | E11: ='Util Rev and Load Data'!L86 -> 4003586.9 | F11: =E11/E$16 -> #DIV/0! | J11: =I$7*D11 -> 4251614.7 | K11: ='EEC Calculation'!B116 -> 4003586.9 | L11: =J11/K11 -> 1.0619514 | P11: ='EEC Rates Report'!C14 -> 1.1722551 | Q11: =L11/P11-1 -> -0.094095298
A12: Industrial
A13: Non Demand | B13: kWh | C13: ='Util Rev and Load Data'!S40 -> 784030 | D13: =C13/C$16 -> 0.0011310157 | E13: ='Util Rev and Load Data'!S86 -> 5557123 | F13: =E13/E$16 -> #DIV/0! | J13: =I$7*D13 -> 51987.592 | K13: ='EEC Calculation'!C125 -> 5557123 | L13: =J13/K13 -> 0.0093551271 | P13: ='EEC Rates Report'!C10 -> 0.0072798137 | Q13: =L13/P13-1 -> 0.28507781
A14: Demand | B14: kWh | C14: ='Util Rev and Load Data'!V40 -> 58191599 | D14: =C14/C$16 -> 0.083945274 | E14: ='Util Rev and Load Data'!V86 -> 699115184 | F14: =E14/E$16 -> #DIV/0! | J14: =I$7*D14 -> 3858578.3 | K14: ='EEC Calculation'!B130 -> 699115184 | L14: =J14/K14 -> 0.0055192311 | P14: ='EEC Rates Report'!C16 -> 0.0048941202 | Q14: =L14/P14-1 -> 0.12772691
A15: Demand | B15: kW | C15: ='Util Rev and Load Data'!W40 -> 23985198 | D15: =C15/C$16 -> 0.034600253 | E15: ='Util Rev and Load Data'!W86 -> 1527046.5 | F15: =E15/E$16 -> #DIV/0! | J15: =I$7*D15 -> 1590414.5 | K15: ='EEC Calculation'!B133 -> 1527046.5 | L15: =J15/K15 -> 1.0414971 | P15: ='EEC Rates Report'!C17 -> 1.0922225 | Q15: =L15/P15-1 -> -0.04644236
A16: Totals | C16: =SUM(C7:C15) -> 6.9320876e+08 | D16: =SUM(D7:D15) -> 1 | F16: =SUM(F7:F15) -> #DIV/0! | J16: =SUM(J7:J15) -> 45965402
C19: 2019 EEC Sales | I19: 2021 EEC Rate Calculation
A20: Sector | B20: Units | C20: Revenue | D20: % Revenue by Sector | E20: Consumption | I20: Budget | J20: Collections by Sector | K20: Consumption | L20: Rates | M20: Consumption Change % | P20: 2020 Rates | Q20: % Change | T20: Sector Shifts | U20: Intra-Sector Shifts
A21: Residential | B21: kWh | C21: ='2019 Detailed True-up'!J8 -> 26737262 | D21: =C21/C$30 -> 0.52180992 | E21: =E7 -> 2163164825 | F21: =C21*M21 -> 25400399 | G21: =F21/F$30 -> 0.51992471 | I21: =I7 -> 45965402 | J21: =I$21*G21 -> 23898548 | K21: =K7 -> 2163164825 | L21: =J21/K21 -> 0.011047955 | M21: =1-2.5*2% -> 0.95 | P21: =P7 -> 0.010874646 | Q21: =L21/P21-1 -> 0.015936965 | S21: =L21-P21 -> 0.00017330886 | T21: =-S21*K21 -> -374895.63 | V21: =(J21+T21)/K21 -> 0.010874646 | W21: =V21/P21-1 -> 0
A22: Commercial
A23: Non Demand | B23: kWh | C23: ='2019 Detailed True-up'!J9+'2019 Detailed True-up'!J15 -> 3516924.5 | D23: =C23/C$30 -> 0.068637024 | E23: =E9 -> 436959017 | F23: =C23*M23 -> 3319976.8 | G23: =F23/F$30 -> 0.067957119 | J23: =I$21*G23 -> 3123676.3 | K23: =K9 -> 436959017 | L23: =J23/K23 -> 0.0071486711 | M23: =1-0.028*2 -> 0.944 | P23: =P9 -> 0.0097371259 | Q23: =L23/P23-1 -> -0.26583356 | S23: =J23/SUM(J$23:J$29) -> 0.14155513 | T23: =-T$21*S23 -> 53068.399 | V23: =(T23+J23)/K23 -> 0.0072701204 | W23: =V23/P23-1 -> -0.25336074
A24: Demand | B24: kWh | C24: ='2019 Detailed True-up'!J10 -> 10337574 | D24: =C24/C$30 -> 0.20175023 | E24: =E10 -> 1.3287612e+09 | F24: =C24*M24 -> 9758670.1 | G24: =F24/F$30 -> 0.19975173 | J24: =I$21*G24 -> 9181668.6 | K24: =K10 -> 1.3287612e+09 | L24: =J24/K24 -> 0.0069099463 | M24: =1-0.028*2 -> 0.944 | P24: =P10 -> 0.0062050954 | Q24: =L24/P24-1 -> 0.11359227 | S24: =J24/SUM(J$23:J$29) -> 0.41608417 | T24: =-T$21*S24 -> 155988.14 | V24: =(T24+J24)/K24 -> 0.00702734 | W24: =V24/P24-1 -> 0.13251119
A25: Demand | B25: kW | C25: ='2019 Detailed True-up'!J11 -> 4870660.5 | D25: =C25/C$30 -> 0.095056814 | E25: =E11 -> 4003586.9 | F25: =C25*M25 -> 4597903.5 | G25: =F25/F$30 -> 0.0941152 | J25: =I$21*G25 -> 4326043 | K25: =K11 -> 4003586.9 | L25: =J25/K25 -> 1.0805418 | M25: =1-0.028*2 -> 0.944 | P25: =P11 -> 1.1722551 | Q25: =L25/P25-1 -> -0.078236634 | S25: =J25/SUM(J$23:J$29) -> 0.19604258 | T25: =-T$21*S25 -> 73495.508 | V25: =(T25+J25)/K25 -> 1.0988992 | W25: =V25/P25-1 -> -0.062576718
A26: Industrial
A27: Non Demand | B27: kWh | C27: ='2019 Detailed True-up'!J12 -> 44744.495 | D27: =C27/C$30 -> 0.00087324279 | E27: =E13 -> 5557123 | F27: =C27*M27 -> 44744.495 | G27: =F27/F$30 -> 0.00091588201 | J27: =I$21*G27 -> 42098.885 | K27: =K13 -> 5557123 | L27: =J27/K27 -> 0.0075756619 | M27: 1 | P27: =P13 -> 0.0072798137 | Q27: =L27/P27-1 -> 0.04063952 | S27: =J27/SUM(J$23:J$29) -> 0.0019077883 | T27: =-T$21*S27 -> 715.22149 | V27: =(T27+J27)/K27 -> 0.0077043654 | W27: =V27/P27-1 -> 0.058319032
A28: Demand | B28: kWh | C28: ='2019 Detailed True-up'!J13 -> 3776435 | D28: =C28/C$30 -> 0.073701683 | E28: =E14 -> 699115184 | F28: =C28*M28 -> 3776435 | G28: =F28/F$30 -> 0.077300433 | J28: =I$21*G28 -> 3553145.5 | K28: =K14 -> 699115184 | L28: =J28/K28 -> 0.0050823463 | M28: 1 | P28: =P14 -> 0.0048941202 | Q28: =L28/P28-1 -> 0.038459638 | S28: =J28/SUM(J$23:J$29) -> 0.16101731 | T28: =-T$21*S28 -> 60364.687 | V28: =(T28+J28)/K28 -> 0.0051686907 | W28: =V28/P28-1 -> 0.056102116
A29: Demand | B29: kW | C29: ='2019 Detailed True-up'!J14 -> 1955866.1 | D29: =C29/C$30 -> 0.038171086 | E29: =E15 -> 1527046.5 | F29: =C29*M29 -> 1955866.1 | G29: =F29/F$30 -> 0.040034926 | J29: =I$21*G29 -> 1840221.5 | K29: =K15 -> 1527046.5 | L29: =J29/K29 -> 1.2050855 | M29: 1 | P29: =P15 -> 1.0922225 | Q29: =L29/P29-1 -> 0.10333327 | S29: =J29/SUM(J$23:J$29) -> 0.083393016 | T29: =-T$21*S29 -> 31263.677 | V29: =(T29+J29)/K29 -> 1.2255587 | W29: =V29/P29-1 -> 0.12207789
A30: Totals | C30: =SUM(C21:C29) -> 51239467 | D30: =SUM(D21:D29) -> 1 | F30: =SUM(F21:F29) -> 48853995 | J30: =SUM(J21:J29) -> 45965402
K31: =K21+K23+K24+K27+K28 -> 4.6335574e+09
K32: =K25+K29 -> 5530633.4

Sheet 2018-2019 Comp
B5: Residential | F5: Commercial (less than 1,000 kw) | R5: Industrial (1,000 or greater kW)
A6: 2019 | G6: Non Demand Customers | K6: Demand Customers | R6: Non Demand | U6: Demand Customers | AA6: Total | AB6: Other
C7: Energy and | G7: Energy & | L7: Capacity (Billed) | P7: Total | S7: Energy & | W7: Capacity (Billed) | AA7: Industrial | AB7: Revenue | AC7: Total Company
A8: Company | C8: Capacity | G8: Capacity | H8: Lights | I8: Total | K8: Energy | L8: On-Peak | M8: Off Peak | N8: Total | P8: Commercial | S8: Capacity | V8: Energy | W8: On-Peak | X8: Off Peak | Y8: Total
A9: Unit of Measure | C9: kWh | G9: kWh | H9: kWh | I9: kWh | K9: kWh | L9: kW | M9: kW | N9: kW | P9: kWh | S9: kWh | V9: kWh | W9: kW | X9: kW | Y9: kW | AA9: kWh | AB9: kWh | AC9: kWh | AD9: kW
A10: Cell Formula | I10: G+H | N10: L+M | P10: I+K | Y10: W+X | AA10: S+V | AC10: C+P+AA+AB | AD10: N+Y
A11: Authorized EEC Exclusions
A13: GMP | C13: 0 | G13: 0 | H13: 0 | I13: =+G13+H13 -> 0 | K13: 0 | L13: 0 | M13: 0 | N13: =+L13+M13 -> 0 | O13: 0 | P13: =+I13+K13 -> 0 | S13: 0 | V13: 404984526 | W13: 639781 | X13: 604649 | Y13: =+W13+X13 -> 1244430 | AA13: =+S13+V13 -> 404984526 | AB13: 0 | AC13: =+C13+P13+AA13+AB13 -> 404984526 | AD13: =+N13+Y13 -> 1244430
V14: 186523954 | W14: 318851 | X14: 312790 | Y14: =+W14+X14 -> 631641 | AA14: =+S14+V14 -> 186523954 | AB14: 0 | AC14: =+C14+P14+AA14+AB14 -> 186523954 | AD14: =+N14+Y14 -> 631641
A16: Total Exclusions (see Note 2) | C16: =+C13 -> 0 | I16: =+G16+H16 -> 0 | N16: =+L16+M16 -> 0 | P16: =+I16+K16 -> 0 | S16: =+S13 -> 0 | V16: =SUM(V13:V15) -> 591508480 | W16: =SUM(W13:W15) -> 958632 | X16: =SUM(X13:X15) -> 917439 | Y16: =SUM(Y13:Y15) -> 1876071 | Z16: =SUM(Z13:Z15) -> 0 | AA16: =SUM(AA13:AA15) -> 591508480 | AC16: =SUM(AC13:AC15) -> 591508480 | AD16: =SUM(AD13:AD15) -> 1876071
A18: kWh and kW Subject To EEC Charge:
A19: Barton | C19: 10176904 | G19: 1020967.9 | H19: 115951 | I19: =+G19+H19 -> 1136918.9 | K19: 2332694 | L19: 7531 | M19: 0 | N19: =+L19+M19 -> 7531 | P19: =+I19+K19 -> 3469612.9 | S19: 0 | V19: =VLOOKUP($A19,#REF!,8) -> #REF! | W19: =VLOOKUP($A19,#REF!,9) -> #REF! | X19: 0 | Y19: =+W19+X19 -> #REF! | AA19: =+S19+V19 -> #REF! | AB19: 0 | AC19: =+C19+P19+AA19+AB19 -> #REF! | AD19: =+N19+Y19 -> #REF!
A20: Enosburg Falls | C20: 13735692 | G20: 2330953.8 | H20: 126686 | I20: =+G20+H20 -> 2457639.8 | K20: 10154065 | L20: 23474.8 | M20: 0 | N20: =+L20+M20 -> 23474.8 | P20: =+I20+K20 -> 12611705 | S20: 0 | V20: =VLOOKUP($A20,#REF!,8) -> #REF! | W20: =VLOOKUP($A20,#REF!,9) -> #REF! | X20: 0 | Y20: =+W20+X20 -> #REF! | AA20: =+S20+V20 -> #REF! | AB20: 0 | AC20: =+C20+P20+AA20+AB20 -> #REF! | AD20: =+N20+Y20 -> #REF!
A21: Green Mountain Power | C21: 1.5281645e+09 | G21: 1.9209057e+08 | H21: 9592000 | I21: =+G21+H21 -> 2.0168257e+08 | K21: 1277876137 | L21: 4092514 | M21: 2353651 | N21: =+L21+M21 -> 6446165 | P21: =+I21+K21 -> 1.4795587e+09 | S21: 0 | V21: 587276733 | W21: 1433190 | X21: 1563793 | Y21: =+W21+X21 -> 2996983 | AA21: =+S21+V21 -> 587276733 | AB21: 0 | AC21: =+C21+P21+AA21+AB21 -> 3.595e+09 | AD21: =+N21+Y21 -> 9443148
A22: Hardwick | C22: 23596599 | G22: 10343.985 | H22: 104191.48 | I22: =+G22+H22 -> 114535.46 | K22: =VLOOKUP($A22,#REF!,5) -> #REF! | L22: =VLOOKUP($A22,#REF!,6) -> #REF! | M22: 0 | N22: =+L22+M22 -> #REF! | P22: =+I22+K22 -> #REF! | S22: =VLOOKUP($A22,#REF!,7) -> #REF! | V22: =VLOOKUP($A22,#REF!,8) -> #REF! | W22: =VLOOKUP($A22,#REF!,9) -> #REF! | X22: 0 | Y22: =+W22+X22 -> #REF! | AA22: =+S22+V22 -> #REF! | AB22: 0 | AC22: =+C22+P22+AA22+AB22 -> #REF! | AD22: =+N22+Y22 -> #REF!
A23: Hyde Park | C23: 7586337 | G23: 2256753 | H23: 43984 | I23: =+G23+H23 -> 2300737 | K23: =3754074-G23 -> 1497321 | L23: 47639 | M23: 0 | N23: =+L23+M23 -> 47639 | P23: =+I23+K23 -> 3798058 | S23: =VLOOKUP($A23,#REF!,7) -> #REF! | V23: =VLOOKUP($A23,#REF!,8) -> #REF! | W23: =VLOOKUP($A23,#REF!,9) -> #REF! | X23: 0 | Y23: =+W23+X23 -> #REF! | AA23: =+S23+V23 -> #REF! | AB23: 0 | AC23: =+C23+P23+AA23+AB23 -> #REF! | AD23: =+N23+Y23 -> #REF!
A24: Jacksonville | C24: 3494439 | G24: 556319.02 | H24: 52164 | I24: =+G24+H24 -> 608483.02 | K24: 865613 | L24: 4748 | M24: 0 | N24: =+L24+M24 -> 4748 | P24: =+I24+K24 -> 1474096 | S24: =VLOOKUP($A24,#REF!,7) -> #REF! | V24: =VLOOKUP($A24,#REF!,8) -> #REF! | W24: =VLOOKUP($A24,#REF!,9) -> #REF! | X24: 0 | Y24: =+W24+X24 -> #REF! | AA24: =+S24+V24 -> #REF! | AB24: 0 | AC24: =+C24+P24+AA24+AB24 -> #REF! | AD24: =+N24+Y24 -> #REF!
A25: Johnson | C25: 5088001.6 | G25: 1462518.4 | H25: 62979 | I25: =+G25+H25 -> 1525497.4 | K25: 1632596 | L25: 3996 | M25: 0 | N25: =+L25+M25 -> 3996 | P25: =+I25+K25 -> 3158093.4 | S25: =VLOOKUP($A25,#REF!,7) -> #REF! | V25: =VLOOKUP($A25,#REF!,8) -> #REF! | W25: =VLOOKUP($A25,#REF!,9) -> #REF! | X25: 0 | Y25: =+W25+X25 -> #REF! | AA25: =+S25+V25 -> #REF! | AB25: 0 | AC25: =+C25+P25+AA25+AB25 -> #REF! | AD25: =+N25+Y25 -> #REF!
A26: Ludlow | C26: 16841095 | G26: 5492248.2 | H26: 347690 | I26: =+G26+H26 -> 5839938.2 | K26: 11814012 | L26: 42958 | M26: 0 | N26: =+L26+M26 -> 42958 | P26: =+I26+K26 -> 17653950 | S26: =VLOOKUP($A26,#REF!,7) -> #REF! | V26: 20863595 | W26: 76731 | X26: 0 | Y26: =+W26+X26 -> 76731 | AA26: =+S26+V26 -> #REF! | AB26: 0 | AC26: =+C26+P26+AA26+AB26 -> #REF! | AD26: =+N26+Y26 -> 119689
A27: Lyndonville | C27: 28570156 | G27: 7953.2702 | H27: 477435 | I27: =+G27+H27 -> 485388.27 | K27: =VLOOKUP($A27,#REF!,5) -> #REF! | L27: =VLOOKUP($A27,#REF!,6) -> #REF! | M27: 0 | N27: =+L27+M27 -> #REF! | P27: =+I27+K27 -> #REF! | S27: =VLOOKUP($A27,#REF!,7) -> #REF! | V27: =VLOOKUP($A27,#REF!,8) -> #REF! | W27: =VLOOKUP($A27,#REF!,9) -> #REF! | X27: 0 | Y27: =+W27+X27 -> #REF! | AA27: =+S27+V27 -> #REF! | AB27: 0 | AC27: =+C27+P27+AA27+AB27 -> #REF! | AD27: =+N27+Y27 -> #REF!
A28: Morrisville | C28: 21688732 | G28: 5449607.3 | H28: 38145 | I28: =+G28+H28 -> 5487752.3 | K28: 18243106 | L28: 52354 | M28: 0 | N28: =+L28+M28 -> 52354 | P28: =+I28+K28 -> 23730858 | S28: =VLOOKUP($A28,#REF!,7) -> #REF! | V28: =VLOOKUP($A28,#REF!,8) -> #REF! | W28: =VLOOKUP($A28,#REF!,9) -> #REF! | X28: 0 | Y28: =+W28+X28 -> #REF! | AA28: =+S28+V28 -> #REF! | AB28: 0 | AC28: =+C28+P28+AA28+AB28 -> #REF! | AD28: =+N28+Y28 -> #REF!
A29: Northfield | C29: 10272090 | G29: 3931.246 | H29: 89430 | I29: =+G29+H29 -> 93361.246 | K29: =VLOOKUP($A29,#REF!,5) -> #REF! | L29: =VLOOKUP($A29,#REF!,6) -> #REF! | M29: 0 | N29: =+L29+M29 -> #REF! | P29: =+I29+K29 -> #REF! | S29: =VLOOKUP($A29,#REF!,7) -> #REF! | V29: =VLOOKUP($A29,#REF!,8) -> #REF! | W29: =VLOOKUP($A29,#REF!,9) -> #REF! | X29: 0 | Y29: =+W29+X29 -> #REF! | AA29: =+S29+V29 -> #REF! | AB29: 0 | AC29: =+C29+P29+AA29+AB29 -> #REF! | AD29: =+N29+Y29 -> #REF!
A30: Orleans | C30: 3947026.8 | G30: 2001897.2 | H30: 124446 | I30: =+G30+H30 -> 2126343.2 | K30: =VLOOKUP($A30,#REF!,5) -> #REF! | L30: =VLOOKUP($A30,#REF!,6) -> #REF! | M30: 0 | N30: =+L30+M30 -> #REF! | P30: =+I30+K30 -> #REF! | S30: =VLOOKUP($A30,#REF!,7) -> #REF! | V30: 6624000 | W30: =VLOOKUP($A30,#REF!,9) -> #REF! | X30: 0 | Y30: =+W30+X30 -> #REF! | AA30: =+S30+V30 -> #REF! | AB30: 0 | AC30: =+C30+P30+AA30+AB30 -> #REF! | AD30: =+N30+Y30 -> #REF!
A31: Stowe | C31: 24609956 | G31: 7041489 | H31: 47599 | I31: =+G31+H31 -> 7089088 | K31: =VLOOKUP($A31,#REF!,5) -> #REF! | L31: =VLOOKUP($A31,#REF!,6) -> #REF! | M31: 0 | N31: =+L31+M31 -> #REF! | P31: =+I31+K31 -> #REF! | S31: =VLOOKUP($A31,#REF!,7) -> #REF! | V31: =VLOOKUP($A31,#REF!,8) -> #REF! | W31: =VLOOKUP($A31,#REF!,9) -> #REF! | X31: 0 | Y31: =+W31+X31 -> #REF! | AA31: =+S31+V31 -> #REF! | AB31: 0 | AC31: =+C31+P31+AA31+AB31 -> #REF! | AD31: =+N31+Y31 -> #REF!
A32: Swanton | C32: 26231935 | G32: 3174334.7 | H32: 126916 | I32: =+G32+H32 -> 3301250.7 | K32: 23698018 | L32: 88468 | M32: 0 | N32: =+L32+M32 -> 88468 | P32: =+I32+K32 -> 26999269 | S32: =VLOOKUP($A32,#REF!,7) -> #REF! | V32: =VLOOKUP($A32,#REF!,8) -> #REF! | W32: =VLOOKUP($A32,#REF!,9) -> #REF! | X32: 0 | Y32: =+W32+X32 -> #REF! | AA32: =+S32+V32 -> #REF! | AB32: 0 | AC32: =+C32+P32+AA32+AB32 -> #REF! | AD32: =+N32+Y32 -> #REF!
A33: Vermont Electric Coop (VEC). | C33: 2.2741676e+08 | G33: 65097069 | H33: 1639471 | I33: =+G33+H33 -> 66736540 | K33: 71719171 | L33: 297499 | M33: 0 | N33: =+L33+M33 -> 297499 | P33: =+I33+K33 -> 1.3845571e+08 | S33: 5578093 | V33: 93458257 | W33: 147739 | X33: 0 | Y33: =+W33+X33 -> 147739 | AA33: =+S33+V33 -> 99036350 | AB33: 0 | AC33: =+C33+P33+AA33+AB33 -> 4.6490882e+08 | AD33: =+N33+Y33 -> 445238
A34: Washington Electric Coop (WEC) | C34: 57231916 | G34: 5045134 | H34: 159479 | I34: =+G34+H34 -> 5204613 | K34: 0 | L34: 0 | M34: 0 | N34: =+L34+M34 -> 0 | P34: =+I34+K34 -> 5204613 | S34: =VLOOKUP($A34,#REF!,7) -> #REF! | V34: 3641765 | W34: 11604.848 | X34: 0 | Y34: =+W34+X34 -> 11604.848 | AA34: =+S34+V34 -> #REF! | AB34: 0 | AC34: =+C34+P34+AA34+AB34 -> #REF! | AD34: =+N34+Y34 -> 11604.848
A35: Total Subject to EEC Charge | C35: =SUM(C19:C34) -> 2.0086522e+09 | G35: =SUM(G19:G34) -> 2.9304209e+08 | H35: =SUM(H19:H34) -> 13148566 | I35: =G35+H35 -> 3.0619065e+08 | K35: =SUM(K19:K34) -> #REF! | L35: =SUM(L19:L34) -> #REF! | M35: =SUM(M19:M34) -> 2353651 | N35: =+L35+M35 -> #REF! | P35: =SUM(P19:P34) -> #REF! | S35: =SUM(S19:S34) -> #REF! | V35: =SUM(V19:V34) -> #REF! | W35: =SUM(W19:W34) -> #REF! | X35: =SUM(X19:X34) -> 1563793 | Y35: =SUM(Y19:Y34) -> #REF! | AA35: =SUM(AA19:AA34) -> #REF! | AB35: =SUM(AB19:AB34) -> 0 | AC35: =SUM(AC19:AC34) -> #REF! | AD35: =SUM(AD19:AD34) -> #REF!
A37: Total Statewide | C37: =C16+C35 -> 2.0086522e+09 | G37: =G16+G35 -> 2.9304209e+08 | H37: =H16+H35 -> 13148566 | I37: =I16+I35 -> 3.0619065e+08 | K37: =K16+K35 -> #REF! | L37: =L16+L35 -> #REF! | M37: =M16+M35 -> 2353651 | N37: =N16+N35 -> #REF! | P37: =P16+P35 -> #REF! | S37: =S16+S35 -> #REF! | V37: =V16+V35 -> #REF! | W37: =W16+W35 -> #REF! | X37: =X16+X35 -> 2481232 | Y37: =Y16+Y35 -> #REF! | AA37: =AA16+AA35 -> #REF! | AB37: =AB16+AB35 -> 0 | AC37: =AC16+AC35 -> #REF! | AD37: =AD16+AD35 -> #REF!
B40: Residential | F40: Commercial (less than 1,000 kw) | R40: Industrial (1,000 or greater kW)
A41: 2018 | G41: Non Demand Customers | K41: Demand Customers | R41: Non Demand | U41: Demand Customers | AA41: Total | AB41: Other
C42: Energy and | G42: Energy & | L42: Capacity (Billed) | P42: Total | S42: Energy & | W42: Capacity (Billed) | AA42: Industrial | AB42: Revenue | AC42: Total Company
A43: Company | C43: Capacity | G43: Capacity | H43: Lights | I43: Total | K43: Energy | L43: On-Peak | M43: Off Peak | N43: Total | P43: Commercial | S43: Capacity | V43: Energy | W43: On-Peak | X43: Off Peak | Y43: Total
A44: Unit of Measure | C44: kWh | G44: kWh | H44: kWh | I44: kWh | K44: kWh | L44: kW | M44: kW | N44: kW | P44: kWh | S44: kWh | V44: kWh | W44: kW | X44: kW | Y44: kW | AA44: kWh | AB44: kWh | AC44: kWh | AD44: kW
A45: Cell Formula | I45: G+H | N45: L+M | P45: I+K | Y45: W+X | AA45: S+V | AC45: C+P+AA+AB | AD45: N+Y
A46: Authorized EEC Exclusions
A48: GMP | C48: 0 | G48: 0 | H48: 0 | I48: =+G48+H48 -> 0 | K48: 0 | L48: 0 | M48: 0 | N48: =+L48+M48 -> 0 | O48: 0 | P48: =+I48+K48 -> 0 | S48: 0 | V48: 404984526 | W48: 639781 | X48: 604649 | Y48: =+W48+X48 -> 1244430 | AA48: =+S48+V48 -> 404984526 | AB48: 0 | AC48: =+C48+P48+AA48+AB48 -> 404984526 | AD48: =+N48+Y48 -> 1244430
V49: 186523954 | W49: 318851 | X49: 312790 | Y49: =+W49+X49 -> 631641 | AA49: =+S49+V49 -> 186523954 | AB49: 0 | AC49: =+C49+P49+AA49+AB49 -> 186523954 | AD49: =+N49+Y49 -> 631641
A51: Total Exclusions (see Note 2) | C51: =+C48 -> 0 | I51: =+G51+H51 -> 0 | N51: =+L51+M51 -> 0 | P51: =+I51+K51 -> 0 | S51: =+S48 -> 0 | V51: =SUM(V48:V50) -> 591508480 | W51: =SUM(W48:W50) -> 958632 | X51: =SUM(X48:X50) -> 917439 | Y51: =SUM(Y48:Y50) -> 1876071 | Z51: =SUM(Z48:Z50) -> 0 | AA51: =SUM(AA48:AA50) -> 591508480 | AC51: =SUM(AC48:AC50) -> 591508480 | AD51: =SUM(AD48:AD50) -> 1876071
A53: kWh and kW Subject To EEC Charge:
...

Sheet Util Rev and Load Data
A1: EFFICIENCY VERMONT
A2: ENERGY EFFICIENCY CHARGE
A3: RATE CALCULATION
A4: RATE YEAR 2023
A5: INFORMATION REQUIREMENT SUMMARY
A6: PER PUC RULE 5.300
A7: STATEWIDE SUMMARY
A8: A | B8: B | C8: C | D8: D | E8: E | F8: F | G8: G | H8: H | I8: I | J8: J | K8: K | L8: L | M8: M | N8: N | O8: O | P8: P | Q8: Q | R8: R | S8: S | T8: T | U8: U | V8: V. | W8: W | X8: X | Y8: Y | Z8: Z | AA8: AA | AB8: AB | AC8: AC | AD8: AD
A9: 2021 REVENUES (See Note 1)
B10: Residential | F10: Commercial (less than 1,000 kW) | R10: Industrial (1,000 or greater kW)
F11: Non Demand Customers | J11: Demand Customers | R11: Non Demand Customers | U11: Demand Customers | AD11: Annual
B12: Customer | C12: Energy and | F12: Customer | G12: Energy & | J12: Customer | L12: Capacity (Billed) | P12: Total | R12: Customer | S12: Energy & | U12: Customer | W12: Capacity (Billed) | AA12: Total | AB12: Other | AC12: Total | AD12: Report and or
A13: Company | B13: Charge | C13: Capacity | D13: Total | F13: Charge | G13: Capacity | H13: Lights | I13: Total | J13: Charge | K13: Energy | L13: On-Peak | M13: Off Peak | N13: Total | O13: Total Demand | P13: Commercial | R13: Charge | S13: Capacity | T13: Total | U13: Charge | V13: Energy | W13: On-Peak | X13: Off Peak | Y13: Total | Z13: Total Demand | AA13: Industrial | AB13: Revenue | AC13: Company | AD13: FERC Form 1
A14: Unit of Measure | B14: $ | C14: $ | D14: $ | F14: $ | G14: $ | H14: $ | I14: $ | J14: $ | K14: $ | L14: $ | M14: $ | N14: $ | O14: $ | P14: $ | R14: $ | S14: $ | T14: $ | U14: $ | V14: $ | W14: $ | X14: $ | Y14: $ | Z14: $ | AA14: $ | AB14: $ | AC14: $ | AD14: $
A15: Cell Formula | D15: B+C | I15: F+G+H | N15: L+M | O15: J+K+N | P15: I+O | T15: R+S | Y15: W+X | Z15: U+V+Y | AA15: T+Z | AC15: D+P+AA+AB
A16: Authorized EEC Exclusions
A18: GMP Customers | B18: 0 | C18: 0 | D18: =+C18+B18 -> 0 | F18: 0 | G18: 0 | H18: 0 | I18: =+F18+G18+H18 -> 0 | J18: 0 | K18: 0 | L18: 0 | M18: 0 | N18: =+L18+M18 -> 0 | O18: =+J18+K18+N18 -> 0 | P18: =+I18+O18 -> 0 | R18: 0 | S18: 0 | T18: =+S18+R18 -> 0 | U18: 61016 | V18: 41134063 | W18: 5851358 | X18: 2610320 | Y18: =+W18+X18 -> 8461678 | Z18: =+U18+V18+Y18 -> 49656757 | AA18: =+T18+Z18 -> 49656757 | AC18: =D18+P18+AA18+AB18 -> 49656757
A19: GMP Customer 2 | B19: 0 | C19: 0 | D19: =+C19+B19 -> 0 | F19: 0 | G19: 0 | H19: 0 | I19: =+F19+G19+H19 -> 0 | J19: 0 | K19: 0 | L19: 0 | M19: 0 | N19: =+L19+M19 -> 0 | O19: =+J19+K19+N19 -> 0 | P19: =+I19+O19 -> 0 | R19: 0 | S19: 0 | T19: =+S19+R19 -> 0 | Y19: =+W19+X19 -> 0 | Z19: =+U19+V19+Y19 -> 0 | AA19: =+T19+Z19 -> 0 | AC19: =D19+P19+AA19+AB19 -> 0
A21: Total Exclusions (see Note 2) | D21: =+D18 -> 0 | I21: =+I18 -> 0 | N21: =+N18 -> 0 | O21: =+O18 -> 0 | P21: =+P18 -> 0 | T21: =+T18 -> 0 | Y21: =+Y19+Y18 -> 8461678 | Z21: =+Z19+Z18 -> 49656757 | AA21: =+AA19+AA18 -> 49656757 | AC21: =+AC19+AC18 -> 49656757
A23: Retail Sales Subject To EEC Charge:
A24: Barton | B24: 249891.04 | C24: 1842184.5 | D24: =+C24+B24 -> 2092075.5 | F24: 24409.44 | G24: 179896.35 | H24: 30637.25 | I24: =+F24+G24+H24 -> 234943.04 | J24: 25178.88 | K24: 319146.22 | L24: 83749.6 | M24: 0 | N24: =+L24+M24 -> 83749.6 | O24: =+J24+K24+N24 -> 428074.7 | P24: =+I24+O24 -> 663017.74 | R24: 0 | S24: 0 | T24: =+S24+R24 -> 0 | U24: 0 | V24: 0 | W24: 0 | X24: 0 | Y24: =+W24+X24 -> 0 | Z24: =+U24+V24+Y24 -> 0 | AA24: =+T24+Z24 -> 0 | AB24: 0 | AC24: =D24+P24+AA24+AB24 -> 2755093.3
A25: Enosburg Falls | B25: 182700 | C25: 2238103 | D25: =+C25+B25 -> 2420803 | F25: 33834.68 | G25: 349677.98 | H25: 14763.5 | I25: =+F25+G25+H25 -> 398276.16 | J25: 13985.6 | K25: 1173031 | L25: 316575.75 | M25: 0 | N25: =+L25+M25 -> 316575.75 | O25: =+J25+K25+N25 -> 1503592.4 | P25: =+I25+O25 -> 1901868.5 | R25: 0 | S25: 0 | T25: =+S25+R25 -> 0 | U25: 0 | V25: 0 | W25: 0 | X25: 0 | Y25: =+W25+X25 -> 0 | Z25: =+U25+V25+Y25 -> 0 | AA25: =+T25+Z25 -> 0 | AB25: 0 | AC25: =D25+P25+AA25+AB25 -> 4322671.5
A26: Green Mountain Power | B26: 42477968 | C26: 264165988 | D26: =+C26+B26 -> 306643956 | F26: 8846966 | G26: 50607699 | H26: 4531696 | I26: =+F26+G26+H26 -> 63986361 | J26: 7057016 | K26: 107217921 | L26: 55476578 | M26: 8149948 | N26: =+L26+M26 -> 63626526 | O26: =+J26+K26+N26 -> 177901463 | P26: =+I26+O26 -> 241887824 | R26: 0 | S26: 0 | T26: =+S26+R26 -> 0 | U26: 386615 | V26: 47900428 | W26: 20003338 | X26: 4380946 | Y26: =+W26+X26 -> 24384284 | Z26: =+U26+V26+Y26 -> 72671327 | AA26: =+T26+Z26 -> 72671327 | AB26: 0 | AC26: =D26+P26+AA26+AB26 -> 621203107 | AE26: =AA26/'[1]Util Rev and Load Data'!$AA$26-1 -> 0.010036525
A27: Hardwick | B27: 540680 | C27: 3706136.1 | D27: =+C27+B27 -> 4246816.1 | F27: 75741 | G27: 824832.48 | H27: 42892 | I27: =+F27+G27+H27 -> 943465.48 | J27: 57880.59 | K27: 522551.63 | L27: 366387.95 | M27: 0 | N27: =+L27+M27 -> 366387.95 | O27: =+J27+K27+N27 -> 946820.17 | P27: =+I27+O27 -> 1890285.6 | R27: 0 | S27: 0 | T27: =+S27+R27 -> 0 | U27: 0 | V27: 0 | W27: 0 | X27: 0 | Y27: =+W27+X27 -> 0 | Z27: =+U27+V27+Y27 -> 0 | AA27: =+T27+Z27 -> 0 | AB27: 0 | AC27: =D27+P27+AA27+AB27 -> 6137101.8
A28: Hyde Park | B28: 227017.54 | C28: 1327581.3 | D28: =+C28+B28 -> 1554598.9 | F28: 38977.2 | G28: 573963.62 | H28: 12018.87 | I28: =+F28+G28+H28 -> 624959.69 | J28: 10052.64 | K28: 161472.9 | L28: 103972.89 | M28: 0 | N28: =+L28+M28 -> 103972.89 | O28: =+J28+K28+N28 -> 275498.43 | P28: =+I28+O28 -> 900458.12 | R28: 0 | S28: 0 | T28: =+S28+R28 -> 0 | U28: 0 | V28: 0 | W28: 0 | X28: 0 | Y28: =+W28+X28 -> 0 | Z28: =+U28+V28+Y28 -> 0 | AA28: =+T28+Z28 -> 0 | AB28: 0 | AC28: =D28+P28+AA28+AB28 -> 2455057
A29: Jacksonville | B29: 64094.74 | C29: 583655.25 | D29: =+C29+B29 -> 647749.99 | F29: 4365.21 | G29: 108544.17 | H29: 3444.86 | I29: =+F29+G29+H29 -> 116354.24 | J29: 984.96 | K29: 77904.35 | L29: 61485.28 | M29: 0 | N29: =+L29+M29 -> 61485.28 | O29: =+J29+K29+N29 -> 140374.59 | P29: =+I29+O29 -> 256728.83 | R29: 0 | S29: 0 | T29: =+S29+R29 -> 0 | U29: 0 | V29: 0 | W29: 0 | X29: 0 | Y29: =+W29+X29 -> 0 | Z29: =+U29+V29+Y29 -> 0 | AA29: =+T29+Z29 -> 0 | AB29: 0 | AC29: =D29+P29+AA29+AB29 -> 904478.82
A30: Johnson | B30: 119081 | C30: 817908 | D30: =+C30+B30 -> 936989 | F30: 32851 | G30: 221392 | H30: 15227 | I30: =+F30+G30+H30 -> 269470 | J30: 13487 | K30: 565684 | L30: 291873 | M30: 0 | N30: =+L30+M30 -> 291873 | O30: =+J30+K30+N30 -> 871044 | P30: =+I30+O30 -> 1140514 | R30: 0 | S30: 0 | T30: =+S30+R30 -> 0 | U30: 0 | V30: 0 | W30: 0 | X30: 0 | Y30: =+W30+X30 -> 0 | Z30: =+U30+V30+Y30 -> 0 | AA30: =+T30+Z30 -> 0 | AB30: 0 | AC30: =D30+P30+AA30+AB30 -> 2077503
A31: Ludlow | B31: 349281 | C31: 1976487 | D31: =+C31+B31 -> 2325768 | F31: 157055 | G31: 526442 | H31: 92365 | I31: =+F31+G31+H31 -> 775862 | J31: 156884 | K31: 1067959 | L31: 668101 | M31: 0 | N31: =+L31+M31 -> 668101 | O31: =+J31+K31+N31 -> 1892944 | P31: =+I31+O31 -> 2668806 | R31: 0 | S31: 0 | T31: =+S31+R31 -> 0 | U31: 54362 | V31: 1369775 | W31: 1106851 | X31: 0 | Y31: =+W31+X31 -> 1106851 | Z31: =+U31+V31+Y31 -> 2530988 | AA31: =+T31+Z31 -> 2530988 | AB31: 0 | AC31: =D31+P31+AA31+AB31 -> 7525562
A32: Lyndonville | B32: 549504.35 | C32: 4498387.8 | D32: =+C32+B32 -> 5047892.1 | F32: 173450.05 | G32: 1662562.5 | H32: 100727.97 | I32: =+F32+G32+H32 -> 1936740.5 | J32: 87552.76 | K32: 1297561.4 | L32: 954812.72 | M32: 0 | N32: =+L32+M32 -> 954812.72 | O32: =+J32+K32+N32 -> 2339926.9 | P32: =+I32+O32 -> 4276667.4 | R32: 0 | S32: 0 | T32: =+S32+R32 -> 0 | U32: 0 | V32: 0 | W32: 0 | X32: 0 | Y32: =+W32+X32 -> 0 | Z32: =+U32+V32+Y32 -> 0 | AA32: =+T32+Z32 -> 0 | AB32: 0 | AC32: =D32+P32+AA32+AB32 -> 9324559.6
A33: Morrisville | B33: 378432.73 | C33: 3235247.3 | D33: =+C33+B33 -> 3613680 | F33: 76332.03 | G33: 668013.12 | H33: 22555.86 | I33: =+F33+G33+H33 -> 766901.01 | J33: 64773.24 | K33: 2102544.7 | L33: 553231.9 | M33: 0 | N33: =+L33+M33 -> 553231.9 | O33: =+J33+K33+N33 -> 2720549.8 | P33: =+I33+O33 -> 3487450.9 | R33: 0 | S33: 0 | T33: =+S33+R33 -> 0 | U33: 0 | V33: 0 | W33: 0 | X33: 0 | Y33: =+W33+X33 -> 0 | Z33: =+U33+V33+Y33 -> 0 | AA33: =+T33+Z33 -> 0 | AB33: 0 | AC33: =D33+P33+AA33+AB33 -> 7101130.8
A34: Northfield | B34: 155866.59 | C34: 1303225.4 | D34: =+C34+B34 -> 1459092 | F34: 37296.62 | G34: 322098.49 | H34: 25476.22 | I34: =+F34+G34+H34 -> 384871.33 | J34: 5928.12 | K34: 672030.57 | L34: 172031.21 | M34: 0 | N34: =+L34+M34 -> 172031.21 | O34: =+J34+K34+N34 -> 849989.9 | P34: =+I34+O34 -> 1234861.2 | R34: 0 | S34: 0 | T34: =+S34+R34 -> 0 | U34: 6088.68 | V34: 871534.83 | W34: 111414.68 | X34: 0 | Y34: =+W34+X34 -> 111414.68 | Z34: =+U34+V34+Y34 -> 989038.19 | AA34: =+T34+Z34 -> 989038.19 | AB34: 0 | AC34: =D34+P34+AA34+AB34 -> 3682991.4
A35: Orleans | B35: 68784.95 | C35: 456910.5 | D35: =+C35+B35 -> 525695.45 | F35: 25111.2 | G35: 270853.24 | H35: 15797 | I35: =+F35+G35+H35 -> 311761.44 | J35: 0 | K35: 0 | L35: 0 | M35: 0 | N35: =+L35+M35 -> 0 | O35: =+J35+K35+N35 -> 0 | P35: =+I35+O35 -> 311761.44 | R35: 0 | S35: 0 | T35: =+S35+R35 -> 0 | U35: 15816.53 | V35: 666907.28 | W35: 309978.44 | X35: 0 | Y35: =+W35+X35 -> 309978.44 | Z35: =+U35+V35+Y35 -> 992702.25 | AA35: =+T35+Z35 -> 992702.25 | AB35: 0 | AC35: =D35+P35+AA35+AB35 -> 1830159.1
A36: Stowe | B36: 624351.24 | C36: 4288324 | D36: =+C36+B36 -> 4912675.2 | F36: 126206.64 | G36: 1234740.6 | H36: 2418.52 | I36: =+F36+G36+H36 -> 1363365.8 | J36: 195027.84 | K36: 3028967.2 | L36: 1501125.8 | M36: 0 | N36: =+L36+M36 -> 1501125.8 | O36: =+J36+K36+N36 -> 4725120.9 | P36: =+I36+O36 -> 6088486.6 | R36: 0 | S36: 0 | T36: =+S36+R36 -> 0 | U36: 108181.08 | V36: 588721.15 | W36: 497496.12 | X36: 0 | Y36: =+W36+X36 -> 497496.12 | Z36: =+U36+V36+Y36 -> 1194398.4 | AA36: =+T36+Z36 -> 1194398.4 | AB36: 0 | AC36: =D36+P36+AA36+AB36 -> 12195560
A37: Swanton | B37: 277399.01 | C37: 3333602.2 | D37: =+C37+B37 -> 3611001.2 | F37: 32456.16 | G37: 415920.45 | H37: 26887.01 | I37: =+F37+G37+H37 -> 475263.62 | J37: 31779.44 | K37: 1498611.9 | L37: 1264423.1 | M37: 0 | N37: =+L37+M37 -> 1264423.1 | O37: =+J37+K37+N37 -> 2794814.5 | P37: =+I37+O37 -> 3270078.1 | R37: 0 | S37: 0 | T37: =+S37+R37 -> 0 | U37: 0 | V37: 0 | W37: 0 | X37: 0 | Y37: =+W37+X37 -> 0 | Z37: =+U37+V37+Y37 -> 0 | AA37: =+T37+Z37 -> 0 | AB37: 0 | AC37: =D37+P37+AA37+AB37 -> 6881079.3
A38: Vermont Electric Coop (VEC). | B38: 7595721 | C38: 37892280 | D38: =+C38+B38 -> 45488001 | F38: 1041266 | G38: 10377746 | H38: 674399 | I38: =+F38+G38+H38 -> 12093411 | J38: 56063 | K38: 6935498 | L38: 2122502 | M38: 0 | N38: =+L38+M38 -> 2122502 | O38: =+J38+K38+N38 -> 9114063 | P38: =+I38+O38 -> 21207474 | R38: 11528 | S38: 784030 | T38: =+S38+R38 -> 795558 | U38: 28819 | V38: 6794233 | W38: 1956120 | X38: 0 | Y38: =+W38+X38 -> 1956120 | Z38: =+U38+V38+Y38 -> 8779172 | AA38: =+T38+Z38 -> 9574730 | AB38: 0 | AC38: =D38+P38+AA38+AB38 -> 76270205
A39: Washington Electric Coop (WEC) | B39: 2619522 | C39: 12454351 | D39: =+C39+B39 -> 15073873 | F39: 181079 | G39: 1006879 | H39: 83355 | I39: =+F39+G39+H39 -> 1271313 | J39: 4504 | K39: 321736 | L39: 182170.47 | M39: 0 | N39: =+L39+M39 -> 182170.47 | O39: =+J39+K39+N39 -> 508410.47 | P39: =+I39+O39 -> 1779723.5 | R39: 0 | S39: 0 | T39: =+S39+R39 -> 0 | U39: 0 | V39: 0 | W39: 0 | X39: 0 | Y39: =+W39+X39 -> 0 | Z39: =+U39+V39+Y39 -> 0 | AA39: =+T39+Z39 -> 0 | AB39: 0 | AC39: =D39+P39+AA39+AB39 -> 16853596
A40: Total Subject to EEC Charge | B40: =SUM(B24:B39) -> 56480295 | C40: =SUM(C24:C39) -> 3.4412037e+08 | D40: =B40+C40 -> 4.0060067e+08 | F40: =SUM(F24:F39) -> 10907397 | G40: =SUM(G24:G39) -> 69351261 | H40: =SUM(H24:H39) -> 5694661.1 | I40: =F40+G40+H40 -> 85953319 | J40: =SUM(J24:J39) -> 7781098.1 | K40: =SUM(K24:K39) -> 1.2696262e+08 | L40: =SUM(L24:L39) -> 64119021 | M40: =SUM(M24:M39) -> 8149948 | N40: =L40+M40 -> 72268969 | O40: =J40+K40+N40 -> 2.0701269e+08 | P40: =I40+O40 -> 2.9296601e+08 | R40: =SUM(R24:R39) -> 11528 | S40: =SUM(S24:S39) -> 784030 | T40: =R40+S40 -> 795558 | U40: =SUM(U24:U39) -> 599882.29 | V40: =SUM(V24:V39) -> 58191599 | W40: =SUM(W24:W39) -> 23985198 | X40: =SUM(X24:X39) -> 4380946 | Y40: =W40+X40 -> 28366144 | Z40: =U40+V40+Y40 -> 87157626 | AA40: =T40+Z40 -> 87953184 | AB40: =SUM(AB24:AB39) -> 0 | AC40: =SUM(AC24:AC39) -> 7.8151986e+08 | AD40: =SUM(AD24:AD39) -> 0
A42: All Other Utilities | B42: =B40 -> 56480295 | C42: =C40 -> 3.4412037e+08 | D42: =D40 -> 4.0060067e+08 | F42: =F40 -> 10907397 | G42: =G40 -> 69351261 | H42: =H40 -> 5694661.1 | I42: =I40 -> 85953319 | J42: =J40 -> 7781098.1 | K42: =K40 -> 1.2696262e+08 | L42: =L40 -> 64119021 | M42: =M40 -> 8149948 | ... P42: =P40 -> 2.9296601e+08 | R42: =R40 -> 11528 | S42: =S40 -> 784030 | T42: =T40 -> 795558 | U42: =U40 -> 599882.29 | V42: =V40 -> 58191599 | W42: =W40 -> 23985198 | X42: =X40 -> 4380946 | Y42: =Y40 -> 28366144 | ... AD42: =AD40 -> 0
A44: Total Statewide | B44: xxx | C44: xxx | D44: =D40+D21 -> 4.0060067e+08 | F44: xxx | G44: xxx | H44: =H40+H21 -> 5694661.1 | I44: xxx | J44: xxx | K44: xxx | L44: xxx | M44: xxx | N44: xxx | O44: xxx | P44: =P40+P21 -> 2.9296601e+08 | R44: xxx | S44: xxx | T44: xxx | U44: xxx | V44: xxx | W44: xxx | X44: xxx | Y44: xxx | Z44: xxx | AA44: =AA40+AA21 -> 1.3760994e+08 | AC44: =AC40+AC21 -> 8.3117661e+08
A46: As Reported To FERC/Annual Report | B46: xxx | C46: xxx | F46: xxx | G46: xxx | I46: xxx | J46: xxx | K46: xxx | L46: xxx | M46: xxx | N46: xxx | O46: xxx | R46: xxx | S46: xxx | T46: xxx | U46: xxx | V46: xxx | W46: xxx | X46: xxx | Y46: xxx | Z46: xxx
...

Sheet Retail Sales v EEC
B3: DU $ | C3: EEC $ | D3: DU % | E3: EEC % | F3: Diff | H3: DU | I3: EEC
A4: Residential | B4: ='Util Rev and Load Data'!D40 -> 4.0060067e+08 | C4: 25261412 | D4: =B4/B$12 -> 0.5125918 | E4: =C4/C$12 -> 0.52453539 | F4: =E4-D4 -> 0.011943589 | G4: R | H4: =D4 -> 0.5125918 | I4: =E4 -> 0.52453539
A5: Commercial | B5: ='Util Rev and Load Data'!F40+'Util Rev and Load Data'!G40 -> 80258658 | C5: 4170701.9 | D5: =B5/B$12 -> 0.10269561 | E5: =C5/C$12 -> 0.08660168 | F5: =E5-D5 -> -0.01609393 | G5: C | H5: =SUM(D5:D7,D11) -> 0.374867 | I5: =SUM(E5:E7,E11) -> 0.36093917
A6: Commercial Demand kWh | B6: ='Util Rev and Load Data'!J40+'Util Rev and Load Data'!K40 -> 1.3474372e+08 | C6: 8875804.5 | D6: =B6/B$12 -> 0.17241241 | E6: =C6/C$12 -> 0.18429981 | F6: =E6-D6 -> 0.01188741 | G6: I | H6: =SUM(D8:D10) -> 0.1125412 | I6: =SUM(E8:E10) -> 0.11452545
A7: Commercial Demand kW | B7: ='Util Rev and Load Data'!L40+'Util Rev and Load Data'!M40 -> 72268969 | C7: 4213743.1 | D7: =B7/B$12 -> 0.092472339 | E7: =C7/C$12 -> 0.087495402 | F7: =E7-D7 -> -0.0049769368
A8: Industrial | B8: ='Util Rev and Load Data'!T40 -> 795558 | C8: 43355.81 | D8: =B8/B$12 -> 0.0010179626 | E8: =C8/C$12 -> 0.00090025279 | F8: =E8-D8 -> -0.00011770983
A9: Industrial Demand kWh | B9: ='Util Rev and Load Data'!U40+'Util Rev and Load Data'!V40 -> 58791482 | C9: 3601741 | D9: =B9/B$12 -> 0.075227112 | E9: =C9/C$12 -> 0.07478761 | F9: =E9-D9 -> -0.00043950178
A10: Industrial Demand kW | B10: ='Util Rev and Load Data'!Y40 -> 28366144 | C10: 1870402.4 | D10: =B10/B$12 -> 0.036296127 | E10: =C10/C$12 -> 0.038837585 | F10: =E10-D10 -> 0.0025414576
A11: Street & Area | B11: ='Util Rev and Load Data'!H40 -> 5694661.1 | C11: 122434.72 | D11: =B11/B$12 -> 0.0072866492 | E11: =C11/C$12 -> 0.0025422705 | F11: =E11-D11 -> -0.0047443787
A12: Total | B12: =SUM(B4:B11) -> 7.8151986e+08 | C12: =SUM(C4:C11) -> 48159595 | D12: =SUM(D4:D11) -> 1 | E12: =SUM(E4:E11) -> 1
A17: 2021 EEC Collections | B17: Budget | C17: Actual
A18: Residential | B18: 23971459 | C18: =C4 -> 25261412 | D18: =C18/B18-1 -> 0.053812032 | E18: =C18/C21 -> 0.52453539
A19: Commercial | B19: 16887622 | C19: =SUM(C5:C7,C11) -> 17382684 | D19: =C19/B19-1 -> 0.029315106 | E19: =C19/C21 -> 0.36093917
A20: Industrial | B20: 5554813.6 | C20: =SUM(C8:C10) -> 5515499.2 | D20: =C20/B20-1 -> -0.0070775411 | E20: =C20/C21 -> 0.11452545
A21: Total | B21: =SUM(B18:B20) -> 46413894 | C21: =SUM(C18:C20) -> 48159595 | D21: =C21-B21 -> 1745700.9
I40: 2022 EEC Collections | J40: Budget | K40: Estimated
I41: Residential | J41: ='EEC Collection True-Up'!C30 -> 23402002 | K41: ='EEC Collection True-Up'!I30 -> 23951137 | L41: =K41/J41-1 -> 0.023465338 | M41: =K41/K44 -> 0.51258922
I42: Commercial | J42: ='EEC Collection True-Up'!C31 -> 17473824 | K42: ='EEC Collection True-Up'!I31 -> 17343508 | L42: =K42/J42-1 -> -0.007457798 | M42: =K42/K44 -> 0.37117633
I43: Industrial | J43: ='EEC Collection True-Up'!C32 -> 5388233.5 | K43: ='EEC Collection True-Up'!I32 -> 5431146.5 | L43: =K43/J43-1 -> 0.0079642056 | M43: =K43/K44 -> 0.11623444
I44: Total | J44: =SUM(J41:J43) -> 46264059 | K44: =SUM(K41:K43) -> 46725792 | L44: =K44-J44 -> 461732.62

Sheet DU Totals
B2: Data from Utility Monthly | F2: Data from Utility Annual | I2: Variance between Monthly and Annual
A3: Customer Class | B3: 2020 kWh and kW | C3: 2020 EEC Rates | D3: Calculated 2020 EEC Revenue | E3: Actual 2020 EEC Revenue | F3: 2020 kWh and kW | G3: 2020 EEC Rates | H3: 2020 EEC Revenue | I3: 2020 kWh and kW | J3: 2020 EEC Rates | K3: 2020 EEC Revenue
A4: Res-Kilowatt Hours | B4: 2.0729719e+09 | C4: 0.01188 | D4: =C4*B4 -> 24626906 | E4: 24643402 | F4: =B32 -> 1858999797 | G4: 0.01188 | H4: =G4*F4 -> 22084918 | I4: =F4-B4 -> -2.1397212e+08 | J4: 0.01188 | K4: =J4*I4 -> -2541988.8 | L4: =K4/D4 -> -0.10321998
A5: Com-Non-Demand Customer - Sales | B5: 3.1378175e+08 | C5: 0.01024 | D5: =C5*B5 -> 3213125.1 | E5: 3213831.3 | F5: =C32 -> 356299843 | G5: 0.01024 | H5: =G5*F5 -> 3648510.4 | I5: =F5-B5 -> 42518090 | J5: 0.01024 | K5: =J5*I5 -> 435385.25 | L5: =K5/D5 -> 0.13550211
A6: Com-Demand Customer - Sales | B6: 1.3626634e+09 | C6: 0.00662 | D6: =C6*B6 -> 9020831.6 | E6: 9021625.8 | F6: =D32 -> 1.2788682e+09 | G6: 0.00662 | H6: =G6*F6 -> 8466107.3 | I6: =F6-B6 -> -83795223 | J6: 0.00662 | K6: =J6*I6 -> -554724.38 | L6: =K6/D6 -> -0.061493707
A7: Com-Demand Customer - Billed Capacity | B7: 4016376.3 | C7: 1.13825 | D7: =C7*B7 -> 4571640.4 | E7: 4571640.7 | F7: ='Util Rev and Load Data'!L86 -> 4003586.9 | G7: 1.13825 | H7: =G7*F7 -> 4557082.8 | I7: =F7-B7 -> -12789.429 | J7: 1.13825 | K7: =J7*I7 -> -14557.568 | L7: =K7/D7 -> -0.0031843204
A8: Ind-Non-Demand Customer - Sales | B8: 5262254 | C8: 0.00757 | D8: =C8*B8 -> 39835.263 | E8: 39835.26 | F8: =E32 -> 0 | G8: 0.00757 | H8: =G8*F8 -> 0 | I8: =F8-B8 -> -5262254 | J8: 0.00757 | K8: =J8*I8 -> -39835.263 | L8: =K8/D8 -> -1
A9: Ind-Demand Customer - Sales | B9: 6.8317764e+08 | C9: 0.00521 | D9: =C9*B9 -> 3559355.5 | E9: 3559384.3 | F9: =F32 -> 611144614 | G9: 0.00521 | H9: =G9*F9 -> 3184063.4 | I9: =F9-B9 -> -72033026 | J9: 0.00521 | K9: =J9*I9 -> -375292.07 | L9: =K9/D9 -> -0.10543821
A10: Ind-Demand Customer - Billed Capacity | B10: 1552366.7 | C10: 1.21316 | D10: =C10*B10 -> 1883269.2 | E10: 1883269.6 | F10: ='Util Rev and Load Data'!W86 -> 1527046.5 | G10: 1.21316 | H10: =G10*F10 -> 1852551.7 | I10: =F10-B10 -> -25320.222 | J10: 1.21316 | K10: =J10*I10 -> -30717.481 | L10: =K10/D10 -> -0.016310722
A11: Street & Area - Kilowatt Hours | B11: 12425151 | C11: 0.01024 | D11: =C11*B11 -> 127233.55 | E11: 127265.33 | F11: ='Util Rev and Load Data'!H86 -> 12160856 | G11: 0.01024 | H11: =G11*F11 -> 124527.17 | I11: =F11-B11 -> -264294.95 | J11: 0.01024 | K11: =J11*I11 -> -2706.3803 | L11: =K11/D11 -> -0.021270965
A12: Total | D12: =SUM(D4:D11) -> 47042197 | E12: =SUM(E4:E11) -> 47060254 | H12: =SUM(H4:H11) -> 43917760 | K12: =SUM(K4:K11) -> -3124436.7
F13: =F11+F5 -> 368460699
A15: Utility Sales without Net Meter Gross Consumption | B15: Residential | C15: Commercial Non-Demand | D15: Commercial Demand | E15: Industrial Non-Demand | F15: Industrial Demand | H15: Utility Sales Year w/o NM | I15: Commercial Non-Demand MWh | J15: Commercial Demand MWh | K15: Commercial Demand On- Peak MW | L15: Sum MWh | O15: Utility Sales Year w/o NM | P15: Industrial Non-Demand MWh | Q15: Industrial Demand MWh | R15: Industrial Demand On- Peak MW | S15: Sum MWh | V15: Utility Sales Year w/o NM | W15: Residential
A16: Barton | B16: ='Sales by DU'!$F5 -> 10997382 | C16: ='Sales by DU'!$F6 -> 969661 | D16: ='Sales by DU'!$F7 -> 2207167 | E16: ='Sales by DU'!$F9 -> 0 | F16: ='Sales by DU'!$F10 -> 0 | H16: Actual 2017 | I16: =319403731/1000 -> 319403.73 | J16: =1520551690/1000 -> 1520551.7 | K16: =4836804/1000 -> 4836.804 | L16: =J16+I16 -> 1839955.4 | O16: Actual 2017 | P16: =9972776/1000 -> 9972.776 | Q16: =703687893/1000 -> 703687.89 | R16: =1416503/1000 -> 1416.503 | S16: =Q16+P16 -> 713660.67 | V16: Actual 2017 | W16: =1931666733/1000 -> 1931666.7
A17: Enosburg Falls | B17: ='Sales by DU'!$F15 -> 14368020 | C17: ='Sales by DU'!$F16 -> 2226114 | D17: ='Sales by DU'!$F17 -> 9946096 | E17: ='Sales by DU'!$F19 -> 0 | F17: ='Sales by DU'!$F20 -> 0 | H17: Actual 2018 | I17: 321561 | J17: 1533131 | K17: 4871 | L17: =J17+I17 -> 1854692 | M17: =J17/J16-1 -> 0.0082728592 | O17: Actual 2018 | P17: 8703 | Q17: 714470 | R17: 1391 | S17: 1854692 | T17: =Q17/Q16-1 -> 0.015322286 | V17: Actual 2018 | W17: =2017249821/1000 -> 2017249.8 | X17: =W17/W16-1 -> 0.044305307
A18: Green Mountain Power | B18: ='Sales by DU'!$F25 -> 1575342639 | C18: ='Sales by DU'!$F26 -> 299238733 | D18: ='Sales by DU'!$F27 -> 1117343690 | E18: ='Sales by DU'!$F29 -> 0 | F18: ='Sales by DU'!$F30 -> 570383515 | H18: Actual 2019 | I18: =325235488/1000 -> 325235.49 | J18: =1494771203/1000 -> 1494771.2 | K18: =4837870/1000 -> 4837.87 | L18: =J18+I18 -> 1820006.7 | M18: =J18/J17-1 -> -0.025020561 | O18: Actual 2019 | P18: =5578093/1000 -> 5578.093 | Q18: =723823600/1000 -> 723823.6 | R18: =1734103/1000 -> 1734.103 | S18: 1815137 | T18: =Q18/Q17-1 -> 0.013091662 | V18: Actual 2019 | W18: =1983006159/1000 -> 1983006.2 | X18: =W18/W17-1 -> -0.01697542
A19: Hardwick | B19: ='Sales by DU'!$F35 -> 25059496 | C19: ='Sales by DU'!$F36 -> 4972597 | D19: ='Sales by DU'!$F37 -> 5527444 | E19: ='Sales by DU'!$F39 -> 0 | F19: ='Sales by DU'!$F40 -> 0 | H19: Actual 2020 | I19: =('Sales by DU'!F175+'Sales by DU'!F181)/1000 -> 367077 | J19: ='Sales by DU'!F176/1000 -> 1278868.2 | K19: ='Sales by DU'!F177/1000 -> 4068.2579 | L19: =J19+I19 -> 1645945.2 | M19: =J19/J18-1 -> -0.14443885 | O19: Actual 2020 | P19: ='Sales by DU'!F178/1000 -> 0 | Q19: ='Sales by DU'!F179/1000 -> 611144.61 | R19: ='Sales by DU'!F180/1000 -> 1203.2105 | S19: 1697380 | T19: =Q19/Q18-1 -> -0.15567189 | V19: Actual 2020 | W19: ='Sales by DU'!F174/1000 -> 1858999.8 | X19: =W19/W18-1 -> -0.062534532
A20: Hyde Park | B20: ='Sales by DU'!$F45 -> 8776342 | C20: ='Sales by DU'!$F46 -> 2280911 | D20: ='Sales by DU'!$F47 -> 1600286 | E20: ='Sales by DU'!$F49 -> 0 | F20: ='Sales by DU'!$F50 -> 0 | H20: Est 2021 | I20: =(329279856+82000000)/1000 -> 411279.86 | J20: =(1494771203-82000000)/1000 -> 1412771.2 | K20: =(4837870-265.334)/1000 -> 4837.6047 | L20: =J20+I20 -> 1824051.1 | M20: =J20/J19-1 -> 0.10470433 | O20: Est 2021 | P20: =5578093/1000 -> 5578.093 | Q20: =723823600/1000 -> 723823.6 | R20: =1734103/1000 -> 1734.103 | S20: 1697380 | T20: =Q20/Q19-1 -> 0.18437369 | V20: Est 2021 | W20: =2055526658.23817/1000 -> 2055526.7 | X20: =W20/W19-1 -> 0.10571645
A21: Jacksonville | B21: ='Sales by DU'!$F55 -> 3799281 | C21: ='Sales by DU'!$F56 -> 593617 | D21: ='Sales by DU'!$F57 -> 790907 | E21: ='Sales by DU'!$F59 -> 0 | F21: ='Sales by DU'!$F60 -> 0 | H21: 2022 Basis | I21: =('Sales by DU'!D175+'Sales by DU'!D181)/1000 -> 370797.38 | J21: ='Sales by DU'!D176/1000 -> 1284560.1 | K21: ='Sales by DU'!D177/1000 -> 4068.2579 | L21: =J21+I21 -> 1655357.5 | M21: =J21/J20-1 -> -0.090751482 | O21: 2022 Basis | P21: ='Sales by DU'!D178/1000 -> 0 | Q21: ='Sales by DU'!D179/1000 -> 611922.53 | R21: ='Sales by DU'!D180/1000 -> 1203.2105 | S21: 1697380 | T21: =Q21/Q20-1 -> -0.15459716 | V21: 2022 Basis | W21: ='Sales by DU'!D174/1000 -> 1951196.2 | X21: =W21/W20-1 -> -0.050756079
A22: Johnson | B22: ='Sales by DU'!$F65 -> 5398757 | C22: ='Sales by DU'!$F66 -> 1302901 | D22: ='Sales by DU'!$F67 -> 5334938 | E22: ='Sales by DU'!$F69 -> 0 | F22: ='Sales by DU'!$F70 -> 0
A23: Ludlow | B23: ='Sales by DU'!$F75 -> 17370883 | C23: ='Sales by DU'!$F76 -> 4303561 | D23: ='Sales by DU'!$F77 -> 12257955 | E23: ='Sales by DU'!$F79 -> 0 | F23: ='Sales by DU'!$F80 -> 17097580
A24: Lyndonville | B24: ='Sales by DU'!$F85 -> 31885040 | C24: ='Sales by DU'!$F86 -> 11903747 | D24: ='Sales by DU'!$F87 -> 16943526 | E24: ='Sales by DU'!$F89 -> 0 | F24: ='Sales by DU'!$F90 -> 0 | I24: 2020 kWh | J24: 2019 kWh | K24: Delta
A25: Morrisville | B25: ='Sales by DU'!$F95 -> 23066422 | C25: ='Sales by DU'!$F96 -> 5432394 | D25: ='Sales by DU'!$F97 -> 17820955 | E25: ='Sales by DU'!$F99 -> 0 | F25: ='Sales by DU'!$F100 -> 0 | H25: GMP CND kWh | I25: =274392520 -> 274392520 | J25: 191542863 | K25: =I25-J25 -> 82849657
A26: Northfield | B26: ='Sales by DU'!$F105 -> 10615108 | C26: ='Sales by DU'!$F106 -> 2565391 | D26: ='Sales by DU'!$F107 -> 7218841.1 | E26: ='Sales by DU'!$F109 -> 0 | F26: ='Sales by DU'!$F110 -> 7896119 | H26: GMP D kWh | J26: 1277876137 | L26: =K25/J26 -> 0.064833871
A27: Orleans | B27: ='Sales by DU'!$F115 -> 4071694 | C27: ='Sales by DU'!$F116 -> 2064666 | D27: ='Sales by DU'!$F117 -> 0 | E27: ='Sales by DU'!$F119 -> 0 | F27: ='Sales by DU'!$F120 -> 6616800 | H27: GMP D kW | I27: =J27*(1-L26) -> 3827180.5 | J27: 4092514 | K27: =I27-J27 -> -265333.53
A28: Stowe | B28: ='Sales by DU'!$F125 -> 26332152 | C28: ='Sales by DU'!$F126 -> 7554608 | D28: ='Sales by DU'!$F127 -> 33445067 | E28: ='Sales by DU'!$F129 -> 0 | F28: ='Sales by DU'!$F130 -> 9150600
A29: Swanton | B29: ='Sales by DU'!$F135 -> 27273418 | C29: ='Sales by DU'!$F136 -> 2941004 | D29: ='Sales by DU'!$F137 -> 22233586 | E29: ='Sales by DU'!$F139 -> 0 | F29: ='Sales by DU'!$F140 -> 0
A30: Vermont Electric Coop (VEC) | B30: ='Sales by DU'!$F145 -> 18826828 | C30: ='Sales by DU'!$F146 -> 2659320 | D30: ='Sales by DU'!$F147 -> 21969666 | E30: ='Sales by DU'!$F149 -> 0 | F30: ='Sales by DU'!$F150 -> 0
A31: Washington Electric Coop (WEC) | B31: ='Sales by DU'!$F155 -> 55816335 | C31: ='Sales by DU'!$F156 -> 5290618 | D31: ='Sales by DU'!$F157 -> 4228042 | E31: ='Sales by DU'!$F159 -> 0 | F31: ='Sales by DU'!$F160 -> 0
A32: Total | B32: =SUM(B16:B31) -> 1858999797 | C32: =SUM(C16:C31) -> 356299843 | D32: =SUM(D16:D31) -> 1.2788682e+09 | E32: =SUM(E16:E31) -> 0 | F32: =SUM(F16:F31) -> 611144614

Sheet Sales by DU
A1: 2020 Reported Sales
A3: Utility | B3: Units | C3: Monthly w/o Net Meter | D3: Annual with Net Meter | E3: Net Meter Gross Cosumption | F3: Annual Net of Gross Consumption | G3: kWh or kW Variance | H3: Jan 2020 Rates | I3: Feb-Dec 2020 Rates | J3: Monthly Revenue | K3: Annual Revenue | L3: Annual vs Monthly
A4: Barton
A5: Res-Kilowatt Hours | B5: kWh | C5: 10789566 | D5: ='Util Rev and Load Data'!C70 -> 11205544 | E5: 208162 | F5: =D5-E5 -> 10997382 | G5: =F5-C5 -> 207816.12 | H5: 0.01371 | I5: 0.01188 | J5: =C5*I5 -> 128180.04 | K5: =I5*F5 -> 130648.9 | L5: =K5-J5 -> 2468.8555 | M5: =G5/C5 -> 0.019260842
A6: Com-Non-Demand Customer - Sales | B6: kWh | C6: 941907.6 | D6: ='Util Rev and Load Data'!G70 -> 969661 | E6: 0 | F6: =D6-E6 -> 969661 | G6: =F6-C6 -> 27753.4 | H6: 0.01091 | I6: 0.01024 | J6: =C6*I6 -> 9645.1338 | K6: =I6*F6 -> 9929.3286 | L6: =K6-J6 -> 284.19482 | M6: =G6/C6 -> 0.029465098
A7: Com-Demand Customer - Sales | B7: kWh | C7: 2133084.8 | D7: ='Util Rev and Load Data'!K70 -> 2207167 | E7: 0 | F7: =D7-E7 -> 2207167 | G7: =F7-C7 -> 74082.2 | H7: 0.00707 | I7: 0.00662 | J7: =C7*I7 -> 14121.021 | K7: =I7*F7 -> 14611.446 | L7: =K7-J7 -> 490.42416 | M7: =G7/C7 -> 0.034730077
A8: Com-Demand Customer - Billed Capacity | B8: kW | C8: 6769 | D8: ='Util Rev and Load Data'!L70 -> 6820 | E8: 0 | F8: =D8-E8 -> 6820 | G8: =F8-C8 -> 51 | H8: 1.1383 | I8: 1.13825 | J8: =C8*I8 -> 7704.8142 | K8: =I8*F8 -> 7762.865 | L8: =K8-J8 -> 58.05075 | M8: =G8/C8 -> 0.0075343478
A9: Ind-Non-Demand Customer - Sales | B9: kWh | C9: 0 | D9: ='Util Rev and Load Data'!S70 -> 0 | E9: 0 | F9: =D9-E9 -> 0 | G9: =F9-C9 -> 0 | H9: 0.0077 | I9: 0.00757 | J9: =C9*I9 -> 0 | K9: =I9*F9 -> 0 | L9: =K9-J9 -> 0 | M9: =G9/C9 -> #DIV/0!
A10: Ind-Demand Customer - Sales | B10: kWh | C10: 0 | D10: ='Util Rev and Load Data'!V70 -> 0 | E10: 0 | F10: =D10-E10 -> 0 | G10: =F10-C10 -> 0 | H10: 0.00522 | I10: 0.00521 | J10: =C10*I10 -> 0 | K10: =I10*F10 -> 0 | L10: =K10-J10 -> 0 | M10: =G10/C10 -> #DIV/0!
A11: Ind-Demand Customer - Billed Capacity | B11: kW | C11: 0 | D11: ='Util Rev and Load Data'!W70 -> 0 | E11: 0 | F11: =D11-E11 -> 0 | G11: =F11-C11 -> 0 | H11: 1.2132 | I11: 1.21316 | J11: =C11*I11 -> 0 | K11: =I11*F11 -> 0 | L11: =K11-J11 -> 0 | M11: =G11/C11 -> #DIV/0!
A12: Street & Area - Kilowatt Hours | B12: kWh | C12: 114744.36 | D12: ='Util Rev and Load Data'!H70 -> 118088 | E12: 0 | F12: =D12-E12 -> 118088 | G12: =F12-C12 -> 3343.64 | H12: 0.01091 | I12: 0.01024 | J12: =C12*I12 -> 1174.9822 | K12: =I12*F12 -> 1209.2211 | L12: =K12-J12 -> 34.238874 | M12: =G12/C12 -> 0.029139907
J13: =SUM(J5:J12) -> 160825.99 | K13: =SUM(K5:K12) -> 164161.76 | L13: =SUM(L5:L12) -> 3335.7641 | M13: =L13/J13 -> 0.020741449
A14: Enosburg Falls
A15: Res-Kilowatt Hours | B15: kWh | C15: 14441385 | D15: =VLOOKUP(A14,'Util Rev and Load Data'!A$70:W$85,3) -> 14673998 | E15: 305978 | F15: =D15-E15 -> 14368020 | G15: =F15-C15 -> -73364.51 | H15: 0.01371 | I15: 0.01188 | J15: =C15*I15 -> 171563.65 | K15: =I15*F15 -> 170692.08 | L15: =K15-J15 -> -871.57038 | M15: =G15/C15 -> -0.0050801577
A16: Com-Non-Demand Customer - Sales | B16: kWh | C16: 2160113.6 | D16: =VLOOKUP(A14,'Util Rev and Load Data'!A$70:W$85,7) -> 2226114 | E16: 0 | F16: =D16-E16 -> 2226114 | G16: =F16-C16 -> 66000.45 | H16: 0.01091 | I16: 0.01024 | J16: =C16*I16 -> 22119.563 | K16: =I16*F16 -> 22795.407 | L16: =K16-J16 -> 675.84461 | M16: =G16/C16 -> 0.030554158
A17: Com-Demand Customer - Sales | B17: kWh | C17: 9836149.6 | D17: =VLOOKUP(A14,'Util Rev and Load Data'!A$70:W$85,11) -> 9946096 | E17: 0 | F17: =D17-E17 -> 9946096 | G17: =F17-C17 -> 109946.43 | H17: 0.00707 | I17: 0.00662 | J17: =C17*I17 -> 65115.31 | K17: =I17*F17 -> 65843.156 | L17: =K17-J17 -> 727.84537 | M17: =G17/C17 -> 0.011177792
A18: Com-Demand Customer - Billed Capacity | B18: kW | C18: 23226.04 | D18: =VLOOKUP(A14,'Util Rev and Load Data'!A$70:W$85,12) -> 23767.33 | E18: 0 | F18: =D18-E18 -> 23767.33 | G18: =F18-C18 -> 541.29 | H18: 1.1383 | I18: 1.13825 | J18: =C18*I18 -> 26437.04 | K18: =I18*F18 -> 27053.163 | L18: =K18-J18 -> 616.12334 | M18: =G18/C18 -> 0.023305307
A19: Ind-Non-Demand Customer - Sales | B19: kWh | C19: 0 | D19: =VLOOKUP(A14,'Util Rev and Load Data'!A$70:W$85,19) -> 0 | E19: 0 | F19: =D19-E19 -> 0 | G19: =F19-C19 -> 0 | H19: 0.0077 | I19: 0.00757 | J19: =C19*I19 -> 0 | K19: =I19*F19 -> 0 | L19: =K19-J19 -> 0 | M19: =G19/C19 -> #DIV/0!
A20: Ind-Demand Customer - Sales | B20: kWh | C20: 0 | D20: =VLOOKUP(A14,'Util Rev and Load Data'!A$70:W$85,22) -> 0 | E20: 0 | F20: =D20-E20 -> 0 | G20: =F20-C20 -> 0 | H20: 0.00522 | I20: 0.00521 | J20: =C20*I20 -> 0 | K20: =I20*F20 -> 0 | L20: =K20-J20 -> 0 | M20: =G20/C20 -> #DIV/0!
A21: Ind-Demand Customer - Billed Capacity | B21: kW | C21: 0 | D21: =VLOOKUP(A14,'Util Rev and Load Data'!A$70:W$85,23) -> 0 | E21: 0 | F21: =D21-E21 -> 0 | G21: =F21-C21 -> 0 | H21: 1.2132 | I21: 1.21316 | J21: =C21*I21 -> 0 | K21: =I21*F21 -> 0 | L21: =K21-J21 -> 0 | M21: =G21/C21 -> #DIV/0!
